{"text_format":"1","workbook":"xlsx","n_sheets":8,"sheets":["Instructions","Data","Ordinary Hours","Double Time","250%","300%","Meal Allowance","Travel Allowance"],"not_rendered":{"charts":0,"images":0,"macros":1,"external_links":0,"defined_names":0,"comments":0,"pivot_tables":0},"unopened":[],"bounds":{"document_bytes":16777216,"sheet_cells":100000,"rows_first":2000,"rows_last":500,"rows_between":2000,"halvings":0,"cell_chars":16384,"cell_head_chars":4096},"cells_cut":0,"cells_raw":0,"read":"whole","date_system":"1900"}

{"sheet":"Instructions","index":0,"n_rows":35,"n_cols":2,"rows_kept":35,"cut":false,"hidden":false,"merged":[]}
[]
[null,"To use this template"]
[]
[null,"1. Open the file and allow macros if prompted"]
[]
[null,"2. Paste your data into the Data tab"]
[]
[null,"3. Run the macro CTL + SHIFT + U, or Tools> Macros> Run it manually - A sheet called UpSheetsExport will be created"]
[]
[null,"4. Click File> Save As and choose CSV UTF-8 (Comma-delimited) (.csv)"]
[]
[null,"5. Import the file UpSheetsExport.csv into UpSheets"]
[]
[]
[null,"About the Tabs"]
[]
[null,"A separate tab is required for each earnings rate to be uploaded"]
[]
[null,"The name of the tab is the name of the earnings rate"]
[]
[null,"The Data and Instructions tabs are ignored by the macro when merging the data"]
[]
[null,"The tabs are set up for a maximum of 1000 rows. If more are required, just fill the formulas down on each tab to contain the required data"]
[]
[null,"The formula in the cell D1 needs to reference the column on the data tab that contains the value"]
[null,"Example to use the value in Column F the formula would be:"]
[null,"=IF(AND(Data!G2<>\"\",Data!F2 > 0),Data!F2,\"\")"]
[null,"It can be updated and filled down to row 1000"]
[]
[null,"To remove a tab, just delete it. "]
[]
[null,"To add a tab/earnings rate:"]
[null,"copy one of the other tabs (use one other than Ordinary Hours so the headings aren't duplicated)"]
[null,"Rename the new tab to the appropriate earnings  rate (e.g. Time and a half, etc)"]
[null,"Update the formula in column D to reference the column on the Data tab and fill it down to row 1000"]

{"sheet":"Data","index":1,"n_rows":15,"n_cols":8,"rows_kept":15,"cut":false,"hidden":false,"merged":[]}
["Full Name","Date","Ordinary Hours","Double Time",2.5,3,"Meal Allowance","Travel Allowance"]
["John Smith","2023-05-01",8,0,null,null,0,1]
["John Smith","2023-05-02",8,0,null,null,0,1]
["John Smith","2023-05-03",8,1.5,null,null,1,1]
["John Smith","2023-05-04",8,0,1,null,0,1]
["John Smith","2023-05-05",8,0,null,null,0,1]
["John Smith","2023-05-06",0,4,null,null,0,1]
["John Smith","2023-05-07",0,null,null,8.5,0,1]
["Jane Jones","2023-05-01",8,0,null,null,0,1]
["Jane Jones","2023-05-02",8,0,null,null,0,1]
["Jane Jones","2023-05-03",8,1.5,null,null,1,1]
["Jane Jones","2023-05-04",8,0,1,null,0,1]
["Jane Jones","2023-05-05",8,0,null,null,0,1]
["Jane Jones","2023-05-06",0,4,null,null,0,1]
["Jane Jones","2023-05-07",0,null,null,8.5,0,1]

{"sheet":"Ordinary Hours","index":2,"n_rows":1001,"n_cols":4,"rows_kept":1001,"cut":false,"hidden":false,"merged":[]}
["full_name","date","type","hours"]
[{"$f":"IF(D2<>\"\",Data!A2,\"\")","v":"John Smith"},{"$f":"IF(D2<>\"\",Data!B2,\"\")","v":"2023-05-01"},{"$f":"IF(D2<>\"\",MID(CELL(\"filename\",B1),FIND(\"]\",CELL(\"filename\",B1))+1,32),\"\")","v":"Ordinary Hours"},{"$f":"IF(AND(Data!C2<>\"\",Data!C2 > 0),Data!C2,\"\")","v":8}]
[{"$f":"IF(D3<>\"\",Data!A3,\"\")","v":"John Smith"},{"$f":"IF(D3<>\"\",Data!B3,\"\")","v":"2023-05-02"},{"$f":"IF(D3<>\"\",MID(CELL(\"filename\",B2),FIND(\"]\",CELL(\"filename\",B2))+1,32),\"\")","v":"Ordinary Hours"},{"$f":"IF(AND(Data!C3<>\"\",Data!C3 > 0),Data!C3,\"\")","v":8}]
[{"$f":"IF(D4<>\"\",Data!A4,\"\")","v":"John Smith"},{"$f":"IF(D4<>\"\",Data!B4,\"\")","v":"2023-05-03"},"Ordinary Hours",{"$f":"IF(AND(Data!C4<>\"\",Data!C4 > 0),Data!C4,\"\")","v":8}]
[{"$f":"IF(D5<>\"\",Data!A5,\"\")","v":"John Smith"},{"$f":"IF(D5<>\"\",Data!B5,\"\")","v":"2023-05-04"},"Ordinary Hours",{"$f":"IF(AND(Data!C5<>\"\",Data!C5 > 0),Data!C5,\"\")","v":8}]
[{"$f":"IF(D6<>\"\",Data!A6,\"\")","v":"John Smith"},{"$f":"IF(D6<>\"\",Data!B6,\"\")","v":"2023-05-05"},"Ordinary Hours",{"$f":"IF(AND(Data!C6<>\"\",Data!C6 > 0),Data!C6,\"\")","v":8}]
[{"$f":"IF(D7<>\"\",Data!A7,\"\")","v":""},{"$f":"IF(D7<>\"\",Data!B7,\"\")","v":""},"",{"$f":"IF(AND(Data!C7<>\"\",Data!C7 > 0),Data!C7,\"\")","v":""}]
[{"$f":"IF(D8<>\"\",Data!A8,\"\")","v":""},{"$f":"IF(D8<>\"\",Data!B8,\"\")","v":""},"",{"$f":"IF(AND(Data!C8<>\"\",Data!C8 > 0),Data!C8,\"\")","v":""}]
[{"$f":"IF(D9<>\"\",Data!A9,\"\")","v":"Jane Jones"},{"$f":"IF(D9<>\"\",Data!B9,\"\")","v":"2023-05-01"},"Ordinary Hours",{"$f":"IF(AND(Data!C9<>\"\",Data!C9 > 0),Data!C9,\"\")","v":8}]
[{"$f":"IF(D10<>\"\",Data!A10,\"\")","v":"Jane Jones"},{"$f":"IF(D10<>\"\",Data!B10,\"\")","v":"2023-05-02"},"Ordinary Hours",{"$f":"IF(AND(Data!C10<>\"\",Data!C10 > 0),Data!C10,\"\")","v":8}]
[{"$f":"IF(D11<>\"\",Data!A11,\"\")","v":"Jane Jones"},{"$f":"IF(D11<>\"\",Data!B11,\"\")","v":"2023-05-03"},"Ordinary Hours",{"$f":"IF(AND(Data!C11<>\"\",Data!C11 > 0),Data!C11,\"\")","v":8}]
[{"$f":"IF(D12<>\"\",Data!A12,\"\")","v":"Jane Jones"},{"$f":"IF(D12<>\"\",Data!B12,\"\")","v":"2023-05-04"},"Ordinary Hours",{"$f":"IF(AND(Data!C12<>\"\",Data!C12 > 0),Data!C12,\"\")","v":8}]
[{"$f":"IF(D13<>\"\",Data!A13,\"\")","v":"Jane Jones"},{"$f":"IF(D13<>\"\",Data!B13,\"\")","v":"2023-05-05"},"Ordinary Hours",{"$f":"IF(AND(Data!C13<>\"\",Data!C13 > 0),Data!C13,\"\")","v":8}]
[{"$f":"IF(D14<>\"\",Data!A14,\"\")","v":""},{"$f":"IF(D14<>\"\",Data!B14,\"\")","v":""},"",{"$f":"IF(AND(Data!C14<>\"\",Data!C14 > 0),Data!C14,\"\")","v":""}]
[{"$f":"IF(D15<>\"\",Data!A15,\"\")","v":""},{"$f":"IF(D15<>\"\",Data!B15,\"\")","v":""},"",{"$f":"IF(AND(Data!C15<>\"\",Data!C15 > 0),Data!C15,\"\")","v":""}]
[{"$f":"IF(D16<>\"\",Data!A16,\"\")","v":""},{"$f":"IF(D16<>\"\",Data!B16,\"\")","v":""},"",{"$f":"IF(AND(Data!C16<>\"\",Data!C16 > 0),Data!C16,\"\")","v":""}]
[{"$f":"IF(D17<>\"\",Data!A17,\"\")","v":""},{"$f":"IF(D17<>\"\",Data!B17,\"\")","v":""},"",{"$f":"IF(AND(Data!C17<>\"\",Data!C17 > 0),Data!C17,\"\")","v":""}]
[{"$f":"IF(D18<>\"\",Data!A18,\"\")","v":""},{"$f":"IF(D18<>\"\",Data!B18,\"\")","v":""},"",{"$f":"IF(AND(Data!C18<>\"\",Data!C18 > 0),Data!C18,\"\")","v":""}]
[{"$f":"IF(D19<>\"\",Data!A19,\"\")","v":""},{"$f":"IF(D19<>\"\",Data!B19,\"\")","v":""},"",{"$f":"IF(AND(Data!C19<>\"\",Data!C19 > 0),Data!C19,\"\")","v":""}]
[{"$f":"IF(D20<>\"\",Data!A20,\"\")","v":""},{"$f":"IF(D20<>\"\",Data!B20,\"\")","v":""},"",{"$f":"IF(AND(Data!C20<>\"\",Data!C20 > 0),Data!C20,\"\")","v":""}]
[{"$f":"IF(D21<>\"\",Data!A21,\"\")","v":""},{"$f":"IF(D21<>\"\",Data!B21,\"\")","v":""},"",{"$f":"IF(AND(Data!C21<>\"\",Data!C21 > 0),Data!C21,\"\")","v":""}]
[{"$f":"IF(D22<>\"\",Data!A22,\"\")","v":""},{"$f":"IF(D22<>\"\",Data!B22,\"\")","v":""},"",{"$f":"IF(AND(Data!C22<>\"\",Data!C22 > 0),Data!C22,\"\")","v":""}]
[{"$f":"IF(D23<>\"\",Data!A23,\"\")","v":""},{"$f":"IF(D23<>\"\",Data!B23,\"\")","v":""},"",{"$f":"IF(AND(Data!C23<>\"\",Data!C23 > 0),Data!C23,\"\")","v":""}]
[{"$f":"IF(D24<>\"\",Data!A24,\"\")","v":""},{"$f":"IF(D24<>\"\",Data!B24,\"\")","v":""},"",{"$f":"IF(AND(Data!C24<>\"\",Data!C24 > 0),Data!C24,\"\")","v":""}]
[{"$f":"IF(D25<>\"\",Data!A25,\"\")","v":""},{"$f":"IF(D25<>\"\",Data!B25,\"\")","v":""},"",{"$f":"IF(AND(Data!C25<>\"\",Data!C25 > 0),Data!C25,\"\")","v":""}]
[{"$f":"IF(D26<>\"\",Data!A26,\"\")","v":""},{"$f":"IF(D26<>\"\",Data!B26,\"\")","v":""},"",{"$f":"IF(AND(Data!C26<>\"\",Data!C26 > 0),Data!C26,\"\")","v":""}]
[{"$f":"IF(D27<>\"\",Data!A27,\"\")","v":""},{"$f":"IF(D27<>\"\",Data!B27,\"\")","v":""},"",{"$f":"IF(AND(Data!C27<>\"\",Data!C27 > 0),Data!C27,\"\")","v":""}]
[{"$f":"IF(D28<>\"\",Data!A28,\"\")","v":""},{"$f":"IF(D28<>\"\",Data!B28,\"\")","v":""},"",{"$f":"IF(AND(Data!C28<>\"\",Data!C28 > 0),Data!C28,\"\")","v":""}]
[{"$f":"IF(D29<>\"\",Data!A29,\"\")","v":""},{"$f":"IF(D29<>\"\",Data!B29,\"\")","v":""},"",{"$f":"IF(AND(Data!C29<>\"\",Data!C29 > 0),Data!C29,\"\")","v":""}]
[{"$f":"IF(D30<>\"\",Data!A30,\"\")","v":""},{"$f":"IF(D30<>\"\",Data!B30,\"\")","v":""},"",{"$f":"IF(AND(Data!C30<>\"\",Data!C30 > 0),Data!C30,\"\")","v":""}]
[{"$f":"IF(D31<>\"\",Data!A31,\"\")","v":""},{"$f":"IF(D31<>\"\",Data!B31,\"\")","v":""},"",{"$f":"IF(AND(Data!C31<>\"\",Data!C31 > 0),Data!C31,\"\")","v":""}]
[{"$f":"IF(D32<>\"\",Data!A32,\"\")","v":""},{"$f":"IF(D32<>\"\",Data!B32,\"\")","v":""},"",{"$f":"IF(AND(Data!C32<>\"\",Data!C32 > 0),Data!C32,\"\")","v":""}]
[{"$f":"IF(D33<>\"\",Data!A33,\"\")","v":""},{"$f":"IF(D33<>\"\",Data!B33,\"\")","v":""},"",{"$f":"IF(AND(Data!C33<>\"\",Data!C33 > 0),Data!C33,\"\")","v":""}]
[{"$f":"IF(D34<>\"\",Data!A34,\"\")","v":""},{"$f":"IF(D34<>\"\",Data!B34,\"\")","v":""},"",{"$f":"IF(AND(Data!C34<>\"\",Data!C34 > 0),Data!C34,\"\")","v":""}]
[{"$f":"IF(D35<>\"\",Data!A35,\"\")","v":""},{"$f":"IF(D35<>\"\",Data!B35,\"\")","v":""},"",{"$f":"IF(AND(Data!C35<>\"\",Data!C35 > 0),Data!C35,\"\")","v":""}]
[{"$f":"IF(D36<>\"\",Data!A36,\"\")","v":""},{"$f":"IF(D36<>\"\",Data!B36,\"\")","v":""},"",{"$f":"IF(AND(Data!C36<>\"\",Data!C36 > 0),Data!C36,\"\")","v":""}]
[{"$f":"IF(D37<>\"\",Data!A37,\"\")","v":""},{"$f":"IF(D37<>\"\",Data!B37,\"\")","v":""},"",{"$f":"IF(AND(Data!C37<>\"\",Data!C37 > 0),Data!C37,\"\")","v":""}]
[{"$f":"IF(D38<>\"\",Data!A38,\"\")","v":""},{"$f":"IF(D38<>\"\",Data!B38,\"\")","v":""},"",{"$f":"IF(AND(Data!C38<>\"\",Data!C38 > 0),Data!C38,\"\")","v":""}]
[{"$f":"IF(D39<>\"\",Data!A39,\"\")","v":""},{"$f":"IF(D39<>\"\",Data!B39,\"\")","v":""},"",{"$f":"IF(AND(Data!C39<>\"\",Data!C39 > 0),Data!C39,\"\")","v":""}]
[{"$f":"IF(D40<>\"\",Data!A40,\"\")","v":""},{"$f":"IF(D40<>\"\",Data!B40,\"\")","v":""},"",{"$f":"IF(AND(Data!C40<>\"\",Data!C40 > 0),Data!C40,\"\")","v":""}]
[{"$f":"IF(D41<>\"\",Data!A41,\"\")","v":""},{"$f":"IF(D41<>\"\",Data!B41,\"\")","v":""},"",{"$f":"IF(AND(Data!C41<>\"\",Data!C41 > 0),Data!C41,\"\")","v":""}]
[{"$f":"IF(D42<>\"\",Data!A42,\"\")","v":""},{"$f":"IF(D42<>\"\",Data!B42,\"\")","v":""},"",{"$f":"IF(AND(Data!C42<>\"\",Data!C42 > 0),Data!C42,\"\")","v":""}]
[{"$f":"IF(D43<>\"\",Data!A43,\"\")","v":""},{"$f":"IF(D43<>\"\",Data!B43,\"\")","v":""},"",{"$f":"IF(AND(Data!C43<>\"\",Data!C43 > 0),Data!C43,\"\")","v":""}]
[{"$f":"IF(D44<>\"\",Data!A44,\"\")","v":""},{"$f":"IF(D44<>\"\",Data!B44,\"\")","v":""},"",{"$f":"IF(AND(Data!C44<>\"\",Data!C44 > 0),Data!C44,\"\")","v":""}]
[{"$f":"IF(D45<>\"\",Data!A45,\"\")","v":""},{"$f":"IF(D45<>\"\",Data!B45,\"\")","v":""},"",{"$f":"IF(AND(Data!C45<>\"\",Data!C45 > 0),Data!C45,\"\")","v":""}]
[{"$f":"IF(D46<>\"\",Data!A46,\"\")","v":""},{"$f":"IF(D46<>\"\",Data!B46,\"\")","v":""},"",{"$f":"IF(AND(Data!C46<>\"\",Data!C46 > 0),Data!C46,\"\")","v":""}]
[{"$f":"IF(D47<>\"\",Data!A47,\"\")","v":""},{"$f":"IF(D47<>\"\",Data!B47,\"\")","v":""},"",{"$f":"IF(AND(Data!C47<>\"\",Data!C47 > 0),Data!C47,\"\")","v":""}]
[{"$f":"IF(D48<>\"\",Data!A48,\"\")","v":""},{"$f":"IF(D48<>\"\",Data!B48,\"\")","v":""},"",{"$f":"IF(AND(Data!C48<>\"\",Data!C48 > 0),Data!C48,\"\")","v":""}]
[{"$f":"IF(D49<>\"\",Data!A49,\"\")","v":""},{"$f":"IF(D49<>\"\",Data!B49,\"\")","v":""},"",{"$f":"IF(AND(Data!C49<>\"\",Data!C49 > 0),Data!C49,\"\")","v":""}]
[{"$f":"IF(D50<>\"\",Data!A50,\"\")","v":""},{"$f":"IF(D50<>\"\",Data!B50,\"\")","v":""},"",{"$f":"IF(AND(Data!C50<>\"\",Data!C50 > 0),Data!C50,\"\")","v":""}]
[{"$f":"IF(D51<>\"\",Data!A51,\"\")","v":""},{"$f":"IF(D51<>\"\",Data!B51,\"\")","v":""},"",{"$f":"IF(AND(Data!C51<>\"\",Data!C51 > 0),Data!C51,\"\")","v":""}]
[{"$f":"IF(D52<>\"\",Data!A52,\"\")","v":""},{"$f":"IF(D52<>\"\",Data!B52,\"\")","v":""},"",{"$f":"IF(AND(Data!C52<>\"\",Data!C52 > 0),Data!C52,\"\")","v":""}]
[{"$f":"IF(D53<>\"\",Data!A53,\"\")","v":""},{"$f":"IF(D53<>\"\",Data!B53,\"\")","v":""},"",{"$f":"IF(AND(Data!C53<>\"\",Data!C53 > 0),Data!C53,\"\")","v":""}]
[{"$f":"IF(D54<>\"\",Data!A54,\"\")","v":""},{"$f":"IF(D54<>\"\",Data!B54,\"\")","v":""},"",{"$f":"IF(AND(Data!C54<>\"\",Data!C54 > 0),Data!C54,\"\")","v":""}]
[{"$f":"IF(D55<>\"\",Data!A55,\"\")","v":""},{"$f":"IF(D55<>\"\",Data!B55,\"\")","v":""},"",{"$f":"IF(AND(Data!C55<>\"\",Data!C55 > 0),Data!C55,\"\")","v":""}]
[{"$f":"IF(D56<>\"\",Data!A56,\"\")","v":""},{"$f":"IF(D56<>\"\",Data!B56,\"\")","v":""},"",{"$f":"IF(AND(Data!C56<>\"\",Data!C56 > 0),Data!C56,\"\")","v":""}]
[{"$f":"IF(D57<>\"\",Data!A57,\"\")","v":""},{"$f":"IF(D57<>\"\",Data!B57,\"\")","v":""},"",{"$f":"IF(AND(Data!C57<>\"\",Data!C57 > 0),Data!C57,\"\")","v":""}]
[{"$f":"IF(D58<>\"\",Data!A58,\"\")","v":""},{"$f":"IF(D58<>\"\",Data!B58,\"\")","v":""},"",{"$f":"IF(AND(Data!C58<>\"\",Data!C58 > 0),Data!C58,\"\")","v":""}]
[{"$f":"IF(D59<>\"\",Data!A59,\"\")","v":""},{"$f":"IF(D59<>\"\",Data!B59,\"\")","v":""},"",{"$f":"IF(AND(Data!C59<>\"\",Data!C59 > 0),Data!C59,\"\")","v":""}]
[{"$f":"IF(D60<>\"\",Data!A60,\"\")","v":""},{"$f":"IF(D60<>\"\",Data!B60,\"\")","v":""},"",{"$f":"IF(AND(Data!C60<>\"\",Data!C60 > 0),Data!C60,\"\")","v":""}]
[{"$f":"IF(D61<>\"\",Data!A61,\"\")","v":""},{"$f":"IF(D61<>\"\",Data!B61,\"\")","v":""},"",{"$f":"IF(AND(Data!C61<>\"\",Data!C61 > 0),Data!C61,\"\")","v":""}]
[{"$f":"IF(D62<>\"\",Data!A62,\"\")","v":""},{"$f":"IF(D62<>\"\",Data!B62,\"\")","v":""},"",{"$f":"IF(AND(Data!C62<>\"\",Data!C62 > 0),Data!C62,\"\")","v":""}]
[{"$f":"IF(D63<>\"\",Data!A63,\"\")","v":""},{"$f":"IF(D63<>\"\",Data!B63,\"\")","v":""},"",{"$f":"IF(AND(Data!C63<>\"\",Data!C63 > 0),Data!C63,\"\")","v":""}]
[{"$f":"IF(D64<>\"\",Data!A64,\"\")","v":""},{"$f":"IF(D64<>\"\",Data!B64,\"\")","v":""},"",{"$f":"IF(AND(Data!C64<>\"\",Data!C64 > 0),Data!C64,\"\")","v":""}]
[{"$f":"IF(D65<>\"\",Data!A65,\"\")","v":""},{"$f":"IF(D65<>\"\",Data!B65,\"\")","v":""},"",{"$f":"IF(AND(Data!C65<>\"\",Data!C65 > 0),Data!C65,\"\")","v":""}]
[{"$f":"IF(D66<>\"\",Data!A66,\"\")","v":""},{"$f":"IF(D66<>\"\",Data!B66,\"\")","v":""},"",{"$f":"IF(AND(Data!C66<>\"\",Data!C66 > 0),Data!C66,\"\")","v":""}]
[{"$f":"IF(D67<>\"\",Data!A67,\"\")","v":""},{"$f":"IF(D67<>\"\",Data!B67,\"\")","v":""},{"$f":"IF(D67<>\"\",MID(CELL(\"filename\",B66),FIND(\"]\",CELL(\"filename\",B66))+1,32),\"\")","v":""},{"$f":"IF(AND(Data!C67<>\"\",Data!C67 > 0),Data!C67,\"\")","v":""}]
[{"$f":"IF(D68<>\"\",Data!A68,\"\")","v":""},{"$f":"IF(D68<>\"\",Data!B68,\"\")","v":""},"",{"$f":"IF(AND(Data!C68<>\"\",Data!C68 > 0),Data!C68,\"\")","v":""}]
[{"$f":"IF(D69<>\"\",Data!A69,\"\")","v":""},{"$f":"IF(D69<>\"\",Data!B69,\"\")","v":""},"",{"$f":"IF(AND(Data!C69<>\"\",Data!C69 > 0),Data!C69,\"\")","v":""}]
[{"$f":"IF(D70<>\"\",Data!A70,\"\")","v":""},{"$f":"IF(D70<>\"\",Data!B70,\"\")","v":""},"",{"$f":"IF(AND(Data!C70<>\"\",Data!C70 > 0),Data!C70,\"\")","v":""}]
[{"$f":"IF(D71<>\"\",Data!A71,\"\")","v":""},{"$f":"IF(D71<>\"\",Data!B71,\"\")","v":""},"",{"$f":"IF(AND(Data!C71<>\"\",Data!C71 > 0),Data!C71,\"\")","v":""}]
[{"$f":"IF(D72<>\"\",Data!A72,\"\")","v":""},{"$f":"IF(D72<>\"\",Data!B72,\"\")","v":""},"",{"$f":"IF(AND(Data!C72<>\"\",Data!C72 > 0),Data!C72,\"\")","v":""}]
[{"$f":"IF(D73<>\"\",Data!A73,\"\")","v":""},{"$f":"IF(D73<>\"\",Data!B73,\"\")","v":""},"",{"$f":"IF(AND(Data!C73<>\"\",Data!C73 > 0),Data!C73,\"\")","v":""}]
[{"$f":"IF(D74<>\"\",Data!A74,\"\")","v":""},{"$f":"IF(D74<>\"\",Data!B74,\"\")","v":""},"",{"$f":"IF(AND(Data!C74<>\"\",Data!C74 > 0),Data!C74,\"\")","v":""}]
[{"$f":"IF(D75<>\"\",Data!A75,\"\")","v":""},{"$f":"IF(D75<>\"\",Data!B75,\"\")","v":""},"",{"$f":"IF(AND(Data!C75<>\"\",Data!C75 > 0),Data!C75,\"\")","v":""}]
[{"$f":"IF(D76<>\"\",Data!A76,\"\")","v":""},{"$f":"IF(D76<>\"\",Data!B76,\"\")","v":""},"",{"$f":"IF(AND(Data!C76<>\"\",Data!C76 > 0),Data!C76,\"\")","v":""}]
[{"$f":"IF(D77<>\"\",Data!A77,\"\")","v":""},{"$f":"IF(D77<>\"\",Data!B77,\"\")","v":""},"",{"$f":"IF(AND(Data!C77<>\"\",Data!C77 > 0),Data!C77,\"\")","v":""}]
[{"$f":"IF(D78<>\"\",Data!A78,\"\")","v":""},{"$f":"IF(D78<>\"\",Data!B78,\"\")","v":""},"",{"$f":"IF(AND(Data!C78<>\"\",Data!C78 > 0),Data!C78,\"\")","v":""}]
[{"$f":"IF(D79<>\"\",Data!A79,\"\")","v":""},{"$f":"IF(D79<>\"\",Data!B79,\"\")","v":""},"",{"$f":"IF(AND(Data!C79<>\"\",Data!C79 > 0),Data!C79,\"\")","v":""}]
[{"$f":"IF(D80<>\"\",Data!A80,\"\")","v":""},{"$f":"IF(D80<>\"\",Data!B80,\"\")","v":""},"",{"$f":"IF(AND(Data!C80<>\"\",Data!C80 > 0),Data!C80,\"\")","v":""}]
[{"$f":"IF(D81<>\"\",Data!A81,\"\")","v":""},{"$f":"IF(D81<>\"\",Data!B81,\"\")","v":""},"",{"$f":"IF(AND(Data!C81<>\"\",Data!C81 > 0),Data!C81,\"\")","v":""}]
[{"$f":"IF(D82<>\"\",Data!A82,\"\")","v":""},{"$f":"IF(D82<>\"\",Data!B82,\"\")","v":""},"",{"$f":"IF(AND(Data!C82<>\"\",Data!C82 > 0),Data!C82,\"\")","v":""}]
[{"$f":"IF(D83<>\"\",Data!A83,\"\")","v":""},{"$f":"IF(D83<>\"\",Data!B83,\"\")","v":""},"",{"$f":"IF(AND(Data!C83<>\"\",Data!C83 > 0),Data!C83,\"\")","v":""}]
[{"$f":"IF(D84<>\"\",Data!A84,\"\")","v":""},{"$f":"IF(D84<>\"\",Data!B84,\"\")","v":""},"",{"$f":"IF(AND(Data!C84<>\"\",Data!C84 > 0),Data!C84,\"\")","v":""}]
[{"$f":"IF(D85<>\"\",Data!A85,\"\")","v":""},{"$f":"IF(D85<>\"\",Data!B85,\"\")","v":""},"",{"$f":"IF(AND(Data!C85<>\"\",Data!C85 > 0),Data!C85,\"\")","v":""}]
[{"$f":"IF(D86<>\"\",Data!A86,\"\")","v":""},{"$f":"IF(D86<>\"\",Data!B86,\"\")","v":""},"",{"$f":"IF(AND(Data!C86<>\"\",Data!C86 > 0),Data!C86,\"\")","v":""}]
[{"$f":"IF(D87<>\"\",Data!A87,\"\")","v":""},{"$f":"IF(D87<>\"\",Data!B87,\"\")","v":""},"",{"$f":"IF(AND(Data!C87<>\"\",Data!C87 > 0),Data!C87,\"\")","v":""}]
[{"$f":"IF(D88<>\"\",Data!A88,\"\")","v":""},{"$f":"IF(D88<>\"\",Data!B88,\"\")","v":""},"",{"$f":"IF(AND(Data!C88<>\"\",Data!C88 > 0),Data!C88,\"\")","v":""}]
[{"$f":"IF(D89<>\"\",Data!A89,\"\")","v":""},{"$f":"IF(D89<>\"\",Data!B89,\"\")","v":""},"",{"$f":"IF(AND(Data!C89<>\"\",Data!C89 > 0),Data!C89,\"\")","v":""}]
[{"$f":"IF(D90<>\"\",Data!A90,\"\")","v":""},{"$f":"IF(D90<>\"\",Data!B90,\"\")","v":""},"",{"$f":"IF(AND(Data!C90<>\"\",Data!C90 > 0),Data!C90,\"\")","v":""}]
[{"$f":"IF(D91<>\"\",Data!A91,\"\")","v":""},{"$f":"IF(D91<>\"\",Data!B91,\"\")","v":""},"",{"$f":"IF(AND(Data!C91<>\"\",Data!C91 > 0),Data!C91,\"\")","v":""}]
[{"$f":"IF(D92<>\"\",Data!A92,\"\")","v":""},{"$f":"IF(D92<>\"\",Data!B92,\"\")","v":""},"",{"$f":"IF(AND(Data!C92<>\"\",Data!C92 > 0),Data!C92,\"\")","v":""}]
[{"$f":"IF(D93<>\"\",Data!A93,\"\")","v":""},{"$f":"IF(D93<>\"\",Data!B93,\"\")","v":""},"",{"$f":"IF(AND(Data!C93<>\"\",Data!C93 > 0),Data!C93,\"\")","v":""}]
[{"$f":"IF(D94<>\"\",Data!A94,\"\")","v":""},{"$f":"IF(D94<>\"\",Data!B94,\"\")","v":""},"",{"$f":"IF(AND(Data!C94<>\"\",Data!C94 > 0),Data!C94,\"\")","v":""}]
[{"$f":"IF(D95<>\"\",Data!A95,\"\")","v":""},{"$f":"IF(D95<>\"\",Data!B95,\"\")","v":""},"",{"$f":"IF(AND(Data!C95<>\"\",Data!C95 > 0),Data!C95,\"\")","v":""}]
[{"$f":"IF(D96<>\"\",Data!A96,\"\")","v":""},{"$f":"IF(D96<>\"\",Data!B96,\"\")","v":""},"",{"$f":"IF(AND(Data!C96<>\"\",Data!C96 > 0),Data!C96,\"\")","v":""}]
[{"$f":"IF(D97<>\"\",Data!A97,\"\")","v":""},{"$f":"IF(D97<>\"\",Data!B97,\"\")","v":""},"",{"$f":"IF(AND(Data!C97<>\"\",Data!C97 > 0),Data!C97,\"\")","v":""}]
[{"$f":"IF(D98<>\"\",Data!A98,\"\")","v":""},{"$f":"IF(D98<>\"\",Data!B98,\"\")","v":""},"",{"$f":"IF(AND(Data!C98<>\"\",Data!C98 > 0),Data!C98,\"\")","v":""}]
[{"$f":"IF(D99<>\"\",Data!A99,\"\")","v":""},{"$f":"IF(D99<>\"\",Data!B99,\"\")","v":""},"",{"$f":"IF(AND(Data!C99<>\"\",Data!C99 > 0),Data!C99,\"\")","v":""}]
[{"$f":"IF(D100<>\"\",Data!A100,\"\")","v":""},{"$f":"IF(D100<>\"\",Data!B100,\"\")","v":""},"",{"$f":"IF(AND(Data!C100<>\"\",Data!C100 > 0),Data!C100,\"\")","v":""}]
[{"$f":"IF(D101<>\"\",Data!A101,\"\")","v":""},{"$f":"IF(D101<>\"\",Data!B101,\"\")","v":""},"",{"$f":"IF(AND(Data!C101<>\"\",Data!C101 > 0),Data!C101,\"\")","v":""}]
[{"$f":"IF(D102<>\"\",Data!A102,\"\")","v":""},{"$f":"IF(D102<>\"\",Data!B102,\"\")","v":""},"",{"$f":"IF(AND(Data!C102<>\"\",Data!C102 > 0),Data!C102,\"\")","v":""}]
[{"$f":"IF(D103<>\"\",Data!A103,\"\")","v":""},{"$f":"IF(D103<>\"\",Data!B103,\"\")","v":""},"",{"$f":"IF(AND(Data!C103<>\"\",Data!C103 > 0),Data!C103,\"\")","v":""}]
[{"$f":"IF(D104<>\"\",Data!A104,\"\")","v":""},{"$f":"IF(D104<>\"\",Data!B104,\"\")","v":""},"",{"$f":"IF(AND(Data!C104<>\"\",Data!C104 > 0),Data!C104,\"\")","v":""}]
[{"$f":"IF(D105<>\"\",Data!A105,\"\")","v":""},{"$f":"IF(D105<>\"\",Data!B105,\"\")","v":""},"",{"$f":"IF(AND(Data!C105<>\"\",Data!C105 > 0),Data!C105,\"\")","v":""}]
[{"$f":"IF(D106<>\"\",Data!A106,\"\")","v":""},{"$f":"IF(D106<>\"\",Data!B106,\"\")","v":""},"",{"$f":"IF(AND(Data!C106<>\"\",Data!C106 > 0),Data!C106,\"\")","v":""}]
[{"$f":"IF(D107<>\"\",Data!A107,\"\")","v":""},{"$f":"IF(D107<>\"\",Data!B107,\"\")","v":""},"",{"$f":"IF(AND(Data!C107<>\"\",Data!C107 > 0),Data!C107,\"\")","v":""}]
[{"$f":"IF(D108<>\"\",Data!A108,\"\")","v":""},{"$f":"IF(D108<>\"\",Data!B108,\"\")","v":""},"",{"$f":"IF(AND(Data!C108<>\"\",Data!C108 > 0),Data!C108,\"\")","v":""}]
[{"$f":"IF(D109<>\"\",Data!A109,\"\")","v":""},{"$f":"IF(D109<>\"\",Data!B109,\"\")","v":""},"",{"$f":"IF(AND(Data!C109<>\"\",Data!C109 > 0),Data!C109,\"\")","v":""}]
[{"$f":"IF(D110<>\"\",Data!A110,\"\")","v":""},{"$f":"IF(D110<>\"\",Data!B110,\"\")","v":""},"",{"$f":"IF(AND(Data!C110<>\"\",Data!C110 > 0),Data!C110,\"\")","v":""}]
[{"$f":"IF(D111<>\"\",Data!A111,\"\")","v":""},{"$f":"IF(D111<>\"\",Data!B111,\"\")","v":""},"",{"$f":"IF(AND(Data!C111<>\"\",Data!C111 > 0),Data!C111,\"\")","v":""}]
[{"$f":"IF(D112<>\"\",Data!A112,\"\")","v":""},{"$f":"IF(D112<>\"\",Data!B112,\"\")","v":""},"",{"$f":"IF(AND(Data!C112<>\"\",Data!C112 > 0),Data!C112,\"\")","v":""}]
[{"$f":"IF(D113<>\"\",Data!A113,\"\")","v":""},{"$f":"IF(D113<>\"\",Data!B113,\"\")","v":""},"",{"$f":"IF(AND(Data!C113<>\"\",Data!C113 > 0),Data!C113,\"\")","v":""}]
[{"$f":"IF(D114<>\"\",Data!A114,\"\")","v":""},{"$f":"IF(D114<>\"\",Data!B114,\"\")","v":""},"",{"$f":"IF(AND(Data!C114<>\"\",Data!C114 > 0),Data!C114,\"\")","v":""}]
[{"$f":"IF(D115<>\"\",Data!A115,\"\")","v":""},{"$f":"IF(D115<>\"\",Data!B115,\"\")","v":""},"",{"$f":"IF(AND(Data!C115<>\"\",Data!C115 > 0),Data!C115,\"\")","v":""}]
[{"$f":"IF(D116<>\"\",Data!A116,\"\")","v":""},{"$f":"IF(D116<>\"\",Data!B116,\"\")","v":""},"",{"$f":"IF(AND(Data!C116<>\"\",Data!C116 > 0),Data!C116,\"\")","v":""}]
[{"$f":"IF(D117<>\"\",Data!A117,\"\")","v":""},{"$f":"IF(D117<>\"\",Data!B117,\"\")","v":""},"",{"$f":"IF(AND(Data!C117<>\"\",Data!C117 > 0),Data!C117,\"\")","v":""}]
[{"$f":"IF(D118<>\"\",Data!A118,\"\")","v":""},{"$f":"IF(D118<>\"\",Data!B118,\"\")","v":""},"",{"$f":"IF(AND(Data!C118<>\"\",Data!C118 > 0),Data!C118,\"\")","v":""}]
[{"$f":"IF(D119<>\"\",Data!A119,\"\")","v":""},{"$f":"IF(D119<>\"\",Data!B119,\"\")","v":""},"",{"$f":"IF(AND(Data!C119<>\"\",Data!C119 > 0),Data!C119,\"\")","v":""}]
[{"$f":"IF(D120<>\"\",Data!A120,\"\")","v":""},{"$f":"IF(D120<>\"\",Data!B120,\"\")","v":""},"",{"$f":"IF(AND(Data!C120<>\"\",Data!C120 > 0),Data!C120,\"\")","v":""}]
[{"$f":"IF(D121<>\"\",Data!A121,\"\")","v":""},{"$f":"IF(D121<>\"\",Data!B121,\"\")","v":""},"",{"$f":"IF(AND(Data!C121<>\"\",Data!C121 > 0),Data!C121,\"\")","v":""}]
[{"$f":"IF(D122<>\"\",Data!A122,\"\")","v":""},{"$f":"IF(D122<>\"\",Data!B122,\"\")","v":""},"",{"$f":"IF(AND(Data!C122<>\"\",Data!C122 > 0),Data!C122,\"\")","v":""}]
[{"$f":"IF(D123<>\"\",Data!A123,\"\")","v":""},{"$f":"IF(D123<>\"\",Data!B123,\"\")","v":""},"",{"$f":"IF(AND(Data!C123<>\"\",Data!C123 > 0),Data!C123,\"\")","v":""}]
[{"$f":"IF(D124<>\"\",Data!A124,\"\")","v":""},{"$f":"IF(D124<>\"\",Data!B124,\"\")","v":""},"",{"$f":"IF(AND(Data!C124<>\"\",Data!C124 > 0),Data!C124,\"\")","v":""}]
[{"$f":"IF(D125<>\"\",Data!A125,\"\")","v":""},{"$f":"IF(D125<>\"\",Data!B125,\"\")","v":""},"",{"$f":"IF(AND(Data!C125<>\"\",Data!C125 > 0),Data!C125,\"\")","v":""}]
[{"$f":"IF(D126<>\"\",Data!A126,\"\")","v":""},{"$f":"IF(D126<>\"\",Data!B126,\"\")","v":""},"",{"$f":"IF(AND(Data!C126<>\"\",Data!C126 > 0),Data!C126,\"\")","v":""}]
[{"$f":"IF(D127<>\"\",Data!A127,\"\")","v":""},{"$f":"IF(D127<>\"\",Data!B127,\"\")","v":""},"",{"$f":"IF(AND(Data!C127<>\"\",Data!C127 > 0),Data!C127,\"\")","v":""}]
[{"$f":"IF(D128<>\"\",Data!A128,\"\")","v":""},{"$f":"IF(D128<>\"\",Data!B128,\"\")","v":""},"",{"$f":"IF(AND(Data!C128<>\"\",Data!C128 > 0),Data!C128,\"\")","v":""}]
[{"$f":"IF(D129<>\"\",Data!A129,\"\")","v":""},{"$f":"IF(D129<>\"\",Data!B129,\"\")","v":""},"",{"$f":"IF(AND(Data!C129<>\"\",Data!C129 > 0),Data!C129,\"\")","v":""}]
[{"$f":"IF(D130<>\"\",Data!A130,\"\")","v":""},{"$f":"IF(D130<>\"\",Data!B130,\"\")","v":""},"",{"$f":"IF(AND(Data!C130<>\"\",Data!C130 > 0),Data!C130,\"\")","v":""}]
[{"$f":"IF(D131<>\"\",Data!A131,\"\")","v":""},{"$f":"IF(D131<>\"\",Data!B131,\"\")","v":""},{"$f":"IF(D131<>\"\",MID(CELL(\"filename\",B130),FIND(\"]\",CELL(\"filename\",B130))+1,32),\"\")","v":""},{"$f":"IF(AND(Data!C131<>\"\",Data!C131 > 0),Data!C131,\"\")","v":""}]
[{"$f":"IF(D132<>\"\",Data!A132,\"\")","v":""},{"$f":"IF(D132<>\"\",Data!B132,\"\")","v":""},"",{"$f":"IF(AND(Data!C132<>\"\",Data!C132 > 0),Data!C132,\"\")","v":""}]
[{"$f":"IF(D133<>\"\",Data!A133,\"\")","v":""},{"$f":"IF(D133<>\"\",Data!B133,\"\")","v":""},"",{"$f":"IF(AND(Data!C133<>\"\",Data!C133 > 0),Data!C133,\"\")","v":""}]
[{"$f":"IF(D134<>\"\",Data!A134,\"\")","v":""},{"$f":"IF(D134<>\"\",Data!B134,\"\")","v":""},"",{"$f":"IF(AND(Data!C134<>\"\",Data!C134 > 0),Data!C134,\"\")","v":""}]
[{"$f":"IF(D135<>\"\",Data!A135,\"\")","v":""},{"$f":"IF(D135<>\"\",Data!B135,\"\")","v":""},"",{"$f":"IF(AND(Data!C135<>\"\",Data!C135 > 0),Data!C135,\"\")","v":""}]
[{"$f":"IF(D136<>\"\",Data!A136,\"\")","v":""},{"$f":"IF(D136<>\"\",Data!B136,\"\")","v":""},"",{"$f":"IF(AND(Data!C136<>\"\",Data!C136 > 0),Data!C136,\"\")","v":""}]
[{"$f":"IF(D137<>\"\",Data!A137,\"\")","v":""},{"$f":"IF(D137<>\"\",Data!B137,\"\")","v":""},"",{"$f":"IF(AND(Data!C137<>\"\",Data!C137 > 0),Data!C137,\"\")","v":""}]
[{"$f":"IF(D138<>\"\",Data!A138,\"\")","v":""},{"$f":"IF(D138<>\"\",Data!B138,\"\")","v":""},"",{"$f":"IF(AND(Data!C138<>\"\",Data!C138 > 0),Data!C138,\"\")","v":""}]
[{"$f":"IF(D139<>\"\",Data!A139,\"\")","v":""},{"$f":"IF(D139<>\"\",Data!B139,\"\")","v":""},"",{"$f":"IF(AND(Data!C139<>\"\",Data!C139 > 0),Data!C139,\"\")","v":""}]
[{"$f":"IF(D140<>\"\",Data!A140,\"\")","v":""},{"$f":"IF(D140<>\"\",Data!B140,\"\")","v":""},"",{"$f":"IF(AND(Data!C140<>\"\",Data!C140 > 0),Data!C140,\"\")","v":""}]
[{"$f":"IF(D141<>\"\",Data!A141,\"\")","v":""},{"$f":"IF(D141<>\"\",Data!B141,\"\")","v":""},"",{"$f":"IF(AND(Data!C141<>\"\",Data!C141 > 0),Data!C141,\"\")","v":""}]
[{"$f":"IF(D142<>\"\",Data!A142,\"\")","v":""},{"$f":"IF(D142<>\"\",Data!B142,\"\")","v":""},"",{"$f":"IF(AND(Data!C142<>\"\",Data!C142 > 0),Data!C142,\"\")","v":""}]
[{"$f":"IF(D143<>\"\",Data!A143,\"\")","v":""},{"$f":"IF(D143<>\"\",Data!B143,\"\")","v":""},"",{"$f":"IF(AND(Data!C143<>\"\",Data!C143 > 0),Data!C143,\"\")","v":""}]
[{"$f":"IF(D144<>\"\",Data!A144,\"\")","v":""},{"$f":"IF(D144<>\"\",Data!B144,\"\")","v":""},"",{"$f":"IF(AND(Data!C144<>\"\",Data!C144 > 0),Data!C144,\"\")","v":""}]
[{"$f":"IF(D145<>\"\",Data!A145,\"\")","v":""},{"$f":"IF(D145<>\"\",Data!B145,\"\")","v":""},"",{"$f":"IF(AND(Data!C145<>\"\",Data!C145 > 0),Data!C145,\"\")","v":""}]
[{"$f":"IF(D146<>\"\",Data!A146,\"\")","v":""},{"$f":"IF(D146<>\"\",Data!B146,\"\")","v":""},"",{"$f":"IF(AND(Data!C146<>\"\",Data!C146 > 0),Data!C146,\"\")","v":""}]
[{"$f":"IF(D147<>\"\",Data!A147,\"\")","v":""},{"$f":"IF(D147<>\"\",Data!B147,\"\")","v":""},"",{"$f":"IF(AND(Data!C147<>\"\",Data!C147 > 0),Data!C147,\"\")","v":""}]
[{"$f":"IF(D148<>\"\",Data!A148,\"\")","v":""},{"$f":"IF(D148<>\"\",Data!B148,\"\")","v":""},"",{"$f":"IF(AND(Data!C148<>\"\",Data!C148 > 0),Data!C148,\"\")","v":""}]
[{"$f":"IF(D149<>\"\",Data!A149,\"\")","v":""},{"$f":"IF(D149<>\"\",Data!B149,\"\")","v":""},"",{"$f":"IF(AND(Data!C149<>\"\",Data!C149 > 0),Data!C149,\"\")","v":""}]
[{"$f":"IF(D150<>\"\",Data!A150,\"\")","v":""},{"$f":"IF(D150<>\"\",Data!B150,\"\")","v":""},"",{"$f":"IF(AND(Data!C150<>\"\",Data!C150 > 0),Data!C150,\"\")","v":""}]
[{"$f":"IF(D151<>\"\",Data!A151,\"\")","v":""},{"$f":"IF(D151<>\"\",Data!B151,\"\")","v":""},"",{"$f":"IF(AND(Data!C151<>\"\",Data!C151 > 0),Data!C151,\"\")","v":""}]
[{"$f":"IF(D152<>\"\",Data!A152,\"\")","v":""},{"$f":"IF(D152<>\"\",Data!B152,\"\")","v":""},"",{"$f":"IF(AND(Data!C152<>\"\",Data!C152 > 0),Data!C152,\"\")","v":""}]
[{"$f":"IF(D153<>\"\",Data!A153,\"\")","v":""},{"$f":"IF(D153<>\"\",Data!B153,\"\")","v":""},"",{"$f":"IF(AND(Data!C153<>\"\",Data!C153 > 0),Data!C153,\"\")","v":""}]
[{"$f":"IF(D154<>\"\",Data!A154,\"\")","v":""},{"$f":"IF(D154<>\"\",Data!B154,\"\")","v":""},"",{"$f":"IF(AND(Data!C154<>\"\",Data!C154 > 0),Data!C154,\"\")","v":""}]
[{"$f":"IF(D155<>\"\",Data!A155,\"\")","v":""},{"$f":"IF(D155<>\"\",Data!B155,\"\")","v":""},"",{"$f":"IF(AND(Data!C155<>\"\",Data!C155 > 0),Data!C155,\"\")","v":""}]
[{"$f":"IF(D156<>\"\",Data!A156,\"\")","v":""},{"$f":"IF(D156<>\"\",Data!B156,\"\")","v":""},"",{"$f":"IF(AND(Data!C156<>\"\",Data!C156 > 0),Data!C156,\"\")","v":""}]
[{"$f":"IF(D157<>\"\",Data!A157,\"\")","v":""},{"$f":"IF(D157<>\"\",Data!B157,\"\")","v":""},"",{"$f":"IF(AND(Data!C157<>\"\",Data!C157 > 0),Data!C157,\"\")","v":""}]
[{"$f":"IF(D158<>\"\",Data!A158,\"\")","v":""},{"$f":"IF(D158<>\"\",Data!B158,\"\")","v":""},"",{"$f":"IF(AND(Data!C158<>\"\",Data!C158 > 0),Data!C158,\"\")","v":""}]
[{"$f":"IF(D159<>\"\",Data!A159,\"\")","v":""},{"$f":"IF(D159<>\"\",Data!B159,\"\")","v":""},"",{"$f":"IF(AND(Data!C159<>\"\",Data!C159 > 0),Data!C159,\"\")","v":""}]
[{"$f":"IF(D160<>\"\",Data!A160,\"\")","v":""},{"$f":"IF(D160<>\"\",Data!B160,\"\")","v":""},"",{"$f":"IF(AND(Data!C160<>\"\",Data!C160 > 0),Data!C160,\"\")","v":""}]
[{"$f":"IF(D161<>\"\",Data!A161,\"\")","v":""},{"$f":"IF(D161<>\"\",Data!B161,\"\")","v":""},"",{"$f":"IF(AND(Data!C161<>\"\",Data!C161 > 0),Data!C161,\"\")","v":""}]
[{"$f":"IF(D162<>\"\",Data!A162,\"\")","v":""},{"$f":"IF(D162<>\"\",Data!B162,\"\")","v":""},"",{"$f":"IF(AND(Data!C162<>\"\",Data!C162 > 0),Data!C162,\"\")","v":""}]
[{"$f":"IF(D163<>\"\",Data!A163,\"\")","v":""},{"$f":"IF(D163<>\"\",Data!B163,\"\")","v":""},"",{"$f":"IF(AND(Data!C163<>\"\",Data!C163 > 0),Data!C163,\"\")","v":""}]
[{"$f":"IF(D164<>\"\",Data!A164,\"\")","v":""},{"$f":"IF(D164<>\"\",Data!B164,\"\")","v":""},"",{"$f":"IF(AND(Data!C164<>\"\",Data!C164 > 0),Data!C164,\"\")","v":""}]
[{"$f":"IF(D165<>\"\",Data!A165,\"\")","v":""},{"$f":"IF(D165<>\"\",Data!B165,\"\")","v":""},"",{"$f":"IF(AND(Data!C165<>\"\",Data!C165 > 0),Data!C165,\"\")","v":""}]
[{"$f":"IF(D166<>\"\",Data!A166,\"\")","v":""},{"$f":"IF(D166<>\"\",Data!B166,\"\")","v":""},"",{"$f":"IF(AND(Data!C166<>\"\",Data!C166 > 0),Data!C166,\"\")","v":""}]
[{"$f":"IF(D167<>\"\",Data!A167,\"\")","v":""},{"$f":"IF(D167<>\"\",Data!B167,\"\")","v":""},"",{"$f":"IF(AND(Data!C167<>\"\",Data!C167 > 0),Data!C167,\"\")","v":""}]
[{"$f":"IF(D168<>\"\",Data!A168,\"\")","v":""},{"$f":"IF(D168<>\"\",Data!B168,\"\")","v":""},"",{"$f":"IF(AND(Data!C168<>\"\",Data!C168 > 0),Data!C168,\"\")","v":""}]
[{"$f":"IF(D169<>\"\",Data!A169,\"\")","v":""},{"$f":"IF(D169<>\"\",Data!B169,\"\")","v":""},"",{"$f":"IF(AND(Data!C169<>\"\",Data!C169 > 0),Data!C169,\"\")","v":""}]
[{"$f":"IF(D170<>\"\",Data!A170,\"\")","v":""},{"$f":"IF(D170<>\"\",Data!B170,\"\")","v":""},"",{"$f":"IF(AND(Data!C170<>\"\",Data!C170 > 0),Data!C170,\"\")","v":""}]
[{"$f":"IF(D171<>\"\",Data!A171,\"\")","v":""},{"$f":"IF(D171<>\"\",Data!B171,\"\")","v":""},"",{"$f":"IF(AND(Data!C171<>\"\",Data!C171 > 0),Data!C171,\"\")","v":""}]
[{"$f":"IF(D172<>\"\",Data!A172,\"\")","v":""},{"$f":"IF(D172<>\"\",Data!B172,\"\")","v":""},"",{"$f":"IF(AND(Data!C172<>\"\",Data!C172 > 0),Data!C172,\"\")","v":""}]
[{"$f":"IF(D173<>\"\",Data!A173,\"\")","v":""},{"$f":"IF(D173<>\"\",Data!B173,\"\")","v":""},"",{"$f":"IF(AND(Data!C173<>\"\",Data!C173 > 0),Data!C173,\"\")","v":""}]
[{"$f":"IF(D174<>\"\",Data!A174,\"\")","v":""},{"$f":"IF(D174<>\"\",Data!B174,\"\")","v":""},"",{"$f":"IF(AND(Data!C174<>\"\",Data!C174 > 0),Data!C174,\"\")","v":""}]
[{"$f":"IF(D175<>\"\",Data!A175,\"\")","v":""},{"$f":"IF(D175<>\"\",Data!B175,\"\")","v":""},"",{"$f":"IF(AND(Data!C175<>\"\",Data!C175 > 0),Data!C175,\"\")","v":""}]
[{"$f":"IF(D176<>\"\",Data!A176,\"\")","v":""},{"$f":"IF(D176<>\"\",Data!B176,\"\")","v":""},"",{"$f":"IF(AND(Data!C176<>\"\",Data!C176 > 0),Data!C176,\"\")","v":""}]
[{"$f":"IF(D177<>\"\",Data!A177,\"\")","v":""},{"$f":"IF(D177<>\"\",Data!B177,\"\")","v":""},"",{"$f":"IF(AND(Data!C177<>\"\",Data!C177 > 0),Data!C177,\"\")","v":""}]
[{"$f":"IF(D178<>\"\",Data!A178,\"\")","v":""},{"$f":"IF(D178<>\"\",Data!B178,\"\")","v":""},"",{"$f":"IF(AND(Data!C178<>\"\",Data!C178 > 0),Data!C178,\"\")","v":""}]
[{"$f":"IF(D179<>\"\",Data!A179,\"\")","v":""},{"$f":"IF(D179<>\"\",Data!B179,\"\")","v":""},"",{"$f":"IF(AND(Data!C179<>\"\",Data!C179 > 0),Data!C179,\"\")","v":""}]
[{"$f":"IF(D180<>\"\",Data!A180,\"\")","v":""},{"$f":"IF(D180<>\"\",Data!B180,\"\")","v":""},"",{"$f":"IF(AND(Data!C180<>\"\",Data!C180 > 0),Data!C180,\"\")","v":""}]
[{"$f":"IF(D181<>\"\",Data!A181,\"\")","v":""},{"$f":"IF(D181<>\"\",Data!B181,\"\")","v":""},"",{"$f":"IF(AND(Data!C181<>\"\",Data!C181 > 0),Data!C181,\"\")","v":""}]
[{"$f":"IF(D182<>\"\",Data!A182,\"\")","v":""},{"$f":"IF(D182<>\"\",Data!B182,\"\")","v":""},"",{"$f":"IF(AND(Data!C182<>\"\",Data!C182 > 0),Data!C182,\"\")","v":""}]
[{"$f":"IF(D183<>\"\",Data!A183,\"\")","v":""},{"$f":"IF(D183<>\"\",Data!B183,\"\")","v":""},"",{"$f":"IF(AND(Data!C183<>\"\",Data!C183 > 0),Data!C183,\"\")","v":""}]
[{"$f":"IF(D184<>\"\",Data!A184,\"\")","v":""},{"$f":"IF(D184<>\"\",Data!B184,\"\")","v":""},"",{"$f":"IF(AND(Data!C184<>\"\",Data!C184 > 0),Data!C184,\"\")","v":""}]
[{"$f":"IF(D185<>\"\",Data!A185,\"\")","v":""},{"$f":"IF(D185<>\"\",Data!B185,\"\")","v":""},"",{"$f":"IF(AND(Data!C185<>\"\",Data!C185 > 0),Data!C185,\"\")","v":""}]
[{"$f":"IF(D186<>\"\",Data!A186,\"\")","v":""},{"$f":"IF(D186<>\"\",Data!B186,\"\")","v":""},"",{"$f":"IF(AND(Data!C186<>\"\",Data!C186 > 0),Data!C186,\"\")","v":""}]
[{"$f":"IF(D187<>\"\",Data!A187,\"\")","v":""},{"$f":"IF(D187<>\"\",Data!B187,\"\")","v":""},"",{"$f":"IF(AND(Data!C187<>\"\",Data!C187 > 0),Data!C187,\"\")","v":""}]
[{"$f":"IF(D188<>\"\",Data!A188,\"\")","v":""},{"$f":"IF(D188<>\"\",Data!B188,\"\")","v":""},"",{"$f":"IF(AND(Data!C188<>\"\",Data!C188 > 0),Data!C188,\"\")","v":""}]
[{"$f":"IF(D189<>\"\",Data!A189,\"\")","v":""},{"$f":"IF(D189<>\"\",Data!B189,\"\")","v":""},"",{"$f":"IF(AND(Data!C189<>\"\",Data!C189 > 0),Data!C189,\"\")","v":""}]
[{"$f":"IF(D190<>\"\",Data!A190,\"\")","v":""},{"$f":"IF(D190<>\"\",Data!B190,\"\")","v":""},"",{"$f":"IF(AND(Data!C190<>\"\",Data!C190 > 0),Data!C190,\"\")","v":""}]
[{"$f":"IF(D191<>\"\",Data!A191,\"\")","v":""},{"$f":"IF(D191<>\"\",Data!B191,\"\")","v":""},"",{"$f":"IF(AND(Data!C191<>\"\",Data!C191 > 0),Data!C191,\"\")","v":""}]
[{"$f":"IF(D192<>\"\",Data!A192,\"\")","v":""},{"$f":"IF(D192<>\"\",Data!B192,\"\")","v":""},"",{"$f":"IF(AND(Data!C192<>\"\",Data!C192 > 0),Data!C192,\"\")","v":""}]
[{"$f":"IF(D193<>\"\",Data!A193,\"\")","v":""},{"$f":"IF(D193<>\"\",Data!B193,\"\")","v":""},"",{"$f":"IF(AND(Data!C193<>\"\",Data!C193 > 0),Data!C193,\"\")","v":""}]
[{"$f":"IF(D194<>\"\",Data!A194,\"\")","v":""},{"$f":"IF(D194<>\"\",Data!B194,\"\")","v":""},"",{"$f":"IF(AND(Data!C194<>\"\",Data!C194 > 0),Data!C194,\"\")","v":""}]
[{"$f":"IF(D195<>\"\",Data!A195,\"\")","v":""},{"$f":"IF(D195<>\"\",Data!B195,\"\")","v":""},{"$f":"IF(D195<>\"\",MID(CELL(\"filename\",B194),FIND(\"]\",CELL(\"filename\",B194))+1,32),\"\")","v":""},{"$f":"IF(AND(Data!C195<>\"\",Data!C195 > 0),Data!C195,\"\")","v":""}]
[{"$f":"IF(D196<>\"\",Data!A196,\"\")","v":""},{"$f":"IF(D196<>\"\",Data!B196,\"\")","v":""},"",{"$f":"IF(AND(Data!C196<>\"\",Data!C196 > 0),Data!C196,\"\")","v":""}]
[{"$f":"IF(D197<>\"\",Data!A197,\"\")","v":""},{"$f":"IF(D197<>\"\",Data!B197,\"\")","v":""},"",{"$f":"IF(AND(Data!C197<>\"\",Data!C197 > 0),Data!C197,\"\")","v":""}]
[{"$f":"IF(D198<>\"\",Data!A198,\"\")","v":""},{"$f":"IF(D198<>\"\",Data!B198,\"\")","v":""},"",{"$f":"IF(AND(Data!C198<>\"\",Data!C198 > 0),Data!C198,\"\")","v":""}]
[{"$f":"IF(D199<>\"\",Data!A199,\"\")","v":""},{"$f":"IF(D199<>\"\",Data!B199,\"\")","v":""},"",{"$f":"IF(AND(Data!C199<>\"\",Data!C199 > 0),Data!C199,\"\")","v":""}]
[{"$f":"IF(D200<>\"\",Data!A200,\"\")","v":""},{"$f":"IF(D200<>\"\",Data!B200,\"\")","v":""},"",{"$f":"IF(AND(Data!C200<>\"\",Data!C200 > 0),Data!C200,\"\")","v":""}]
[{"$f":"IF(D201<>\"\",Data!A201,\"\")","v":""},{"$f":"IF(D201<>\"\",Data!B201,\"\")","v":""},"",{"$f":"IF(AND(Data!C201<>\"\",Data!C201 > 0),Data!C201,\"\")","v":""}]
[{"$f":"IF(D202<>\"\",Data!A202,\"\")","v":""},{"$f":"IF(D202<>\"\",Data!B202,\"\")","v":""},"",{"$f":"IF(AND(Data!C202<>\"\",Data!C202 > 0),Data!C202,\"\")","v":""}]
[{"$f":"IF(D203<>\"\",Data!A203,\"\")","v":""},{"$f":"IF(D203<>\"\",Data!B203,\"\")","v":""},"",{"$f":"IF(AND(Data!C203<>\"\",Data!C203 > 0),Data!C203,\"\")","v":""}]
[{"$f":"IF(D204<>\"\",Data!A204,\"\")","v":""},{"$f":"IF(D204<>\"\",Data!B204,\"\")","v":""},"",{"$f":"IF(AND(Data!C204<>\"\",Data!C204 > 0),Data!C204,\"\")","v":""}]
[{"$f":"IF(D205<>\"\",Data!A205,\"\")","v":""},{"$f":"IF(D205<>\"\",Data!B205,\"\")","v":""},"",{"$f":"IF(AND(Data!C205<>\"\",Data!C205 > 0),Data!C205,\"\")","v":""}]
[{"$f":"IF(D206<>\"\",Data!A206,\"\")","v":""},{"$f":"IF(D206<>\"\",Data!B206,\"\")","v":""},"",{"$f":"IF(AND(Data!C206<>\"\",Data!C206 > 0),Data!C206,\"\")","v":""}]
[{"$f":"IF(D207<>\"\",Data!A207,\"\")","v":""},{"$f":"IF(D207<>\"\",Data!B207,\"\")","v":""},"",{"$f":"IF(AND(Data!C207<>\"\",Data!C207 > 0),Data!C207,\"\")","v":""}]
[{"$f":"IF(D208<>\"\",Data!A208,\"\")","v":""},{"$f":"IF(D208<>\"\",Data!B208,\"\")","v":""},"",{"$f":"IF(AND(Data!C208<>\"\",Data!C208 > 0),Data!C208,\"\")","v":""}]
[{"$f":"IF(D209<>\"\",Data!A209,\"\")","v":""},{"$f":"IF(D209<>\"\",Data!B209,\"\")","v":""},"",{"$f":"IF(AND(Data!C209<>\"\",Data!C209 > 0),Data!C209,\"\")","v":""}]
[{"$f":"IF(D210<>\"\",Data!A210,\"\")","v":""},{"$f":"IF(D210<>\"\",Data!B210,\"\")","v":""},"",{"$f":"IF(AND(Data!C210<>\"\",Data!C210 > 0),Data!C210,\"\")","v":""}]
[{"$f":"IF(D211<>\"\",Data!A211,\"\")","v":""},{"$f":"IF(D211<>\"\",Data!B211,\"\")","v":""},"",{"$f":"IF(AND(Data!C211<>\"\",Data!C211 > 0),Data!C211,\"\")","v":""}]
[{"$f":"IF(D212<>\"\",Data!A212,\"\")","v":""},{"$f":"IF(D212<>\"\",Data!B212,\"\")","v":""},"",{"$f":"IF(AND(Data!C212<>\"\",Data!C212 > 0),Data!C212,\"\")","v":""}]
[{"$f":"IF(D213<>\"\",Data!A213,\"\")","v":""},{"$f":"IF(D213<>\"\",Data!B213,\"\")","v":""},"",{"$f":"IF(AND(Data!C213<>\"\",Data!C213 > 0),Data!C213,\"\")","v":""}]
[{"$f":"IF(D214<>\"\",Data!A214,\"\")","v":""},{"$f":"IF(D214<>\"\",Data!B214,\"\")","v":""},"",{"$f":"IF(AND(Data!C214<>\"\",Data!C214 > 0),Data!C214,\"\")","v":""}]
[{"$f":"IF(D215<>\"\",Data!A215,\"\")","v":""},{"$f":"IF(D215<>\"\",Data!B215,\"\")","v":""},"",{"$f":"IF(AND(Data!C215<>\"\",Data!C215 > 0),Data!C215,\"\")","v":""}]
[{"$f":"IF(D216<>\"\",Data!A216,\"\")","v":""},{"$f":"IF(D216<>\"\",Data!B216,\"\")","v":""},"",{"$f":"IF(AND(Data!C216<>\"\",Data!C216 > 0),Data!C216,\"\")","v":""}]
[{"$f":"IF(D217<>\"\",Data!A217,\"\")","v":""},{"$f":"IF(D217<>\"\",Data!B217,\"\")","v":""},"",{"$f":"IF(AND(Data!C217<>\"\",Data!C217 > 0),Data!C217,\"\")","v":""}]
[{"$f":"IF(D218<>\"\",Data!A218,\"\")","v":""},{"$f":"IF(D218<>\"\",Data!B218,\"\")","v":""},"",{"$f":"IF(AND(Data!C218<>\"\",Data!C218 > 0),Data!C218,\"\")","v":""}]
[{"$f":"IF(D219<>\"\",Data!A219,\"\")","v":""},{"$f":"IF(D219<>\"\",Data!B219,\"\")","v":""},"",{"$f":"IF(AND(Data!C219<>\"\",Data!C219 > 0),Data!C219,\"\")","v":""}]
[{"$f":"IF(D220<>\"\",Data!A220,\"\")","v":""},{"$f":"IF(D220<>\"\",Data!B220,\"\")","v":""},"",{"$f":"IF(AND(Data!C220<>\"\",Data!C220 > 0),Data!C220,\"\")","v":""}]
[{"$f":"IF(D221<>\"\",Data!A221,\"\")","v":""},{"$f":"IF(D221<>\"\",Data!B221,\"\")","v":""},"",{"$f":"IF(AND(Data!C221<>\"\",Data!C221 > 0),Data!C221,\"\")","v":""}]
[{"$f":"IF(D222<>\"\",Data!A222,\"\")","v":""},{"$f":"IF(D222<>\"\",Data!B222,\"\")","v":""},"",{"$f":"IF(AND(Data!C222<>\"\",Data!C222 > 0),Data!C222,\"\")","v":""}]
[{"$f":"IF(D223<>\"\",Data!A223,\"\")","v":""},{"$f":"IF(D223<>\"\",Data!B223,\"\")","v":""},"",{"$f":"IF(AND(Data!C223<>\"\",Data!C223 > 0),Data!C223,\"\")","v":""}]
[{"$f":"IF(D224<>\"\",Data!A224,\"\")","v":""},{"$f":"IF(D224<>\"\",Data!B224,\"\")","v":""},"",{"$f":"IF(AND(Data!C224<>\"\",Data!C224 > 0),Data!C224,\"\")","v":""}]
[{"$f":"IF(D225<>\"\",Data!A225,\"\")","v":""},{"$f":"IF(D225<>\"\",Data!B225,\"\")","v":""},"",{"$f":"IF(AND(Data!C225<>\"\",Data!C225 > 0),Data!C225,\"\")","v":""}]
[{"$f":"IF(D226<>\"\",Data!A226,\"\")","v":""},{"$f":"IF(D226<>\"\",Data!B226,\"\")","v":""},"",{"$f":"IF(AND(Data!C226<>\"\",Data!C226 > 0),Data!C226,\"\")","v":""}]
[{"$f":"IF(D227<>\"\",Data!A227,\"\")","v":""},{"$f":"IF(D227<>\"\",Data!B227,\"\")","v":""},"",{"$f":"IF(AND(Data!C227<>\"\",Data!C227 > 0),Data!C227,\"\")","v":""}]
[{"$f":"IF(D228<>\"\",Data!A228,\"\")","v":""},{"$f":"IF(D228<>\"\",Data!B228,\"\")","v":""},"",{"$f":"IF(AND(Data!C228<>\"\",Data!C228 > 0),Data!C228,\"\")","v":""}]
[{"$f":"IF(D229<>\"\",Data!A229,\"\")","v":""},{"$f":"IF(D229<>\"\",Data!B229,\"\")","v":""},"",{"$f":"IF(AND(Data!C229<>\"\",Data!C229 > 0),Data!C229,\"\")","v":""}]
[{"$f":"IF(D230<>\"\",Data!A230,\"\")","v":""},{"$f":"IF(D230<>\"\",Data!B230,\"\")","v":""},"",{"$f":"IF(AND(Data!C230<>\"\",Data!C230 > 0),Data!C230,\"\")","v":""}]
[{"$f":"IF(D231<>\"\",Data!A231,\"\")","v":""},{"$f":"IF(D231<>\"\",Data!B231,\"\")","v":""},"",{"$f":"IF(AND(Data!C231<>\"\",Data!C231 > 0),Data!C231,\"\")","v":""}]
[{"$f":"IF(D232<>\"\",Data!A232,\"\")","v":""},{"$f":"IF(D232<>\"\",Data!B232,\"\")","v":""},"",{"$f":"IF(AND(Data!C232<>\"\",Data!C232 > 0),Data!C232,\"\")","v":""}]
[{"$f":"IF(D233<>\"\",Data!A233,\"\")","v":""},{"$f":"IF(D233<>\"\",Data!B233,\"\")","v":""},"",{"$f":"IF(AND(Data!C233<>\"\",Data!C233 > 0),Data!C233,\"\")","v":""}]
[{"$f":"IF(D234<>\"\",Data!A234,\"\")","v":""},{"$f":"IF(D234<>\"\",Data!B234,\"\")","v":""},"",{"$f":"IF(AND(Data!C234<>\"\",Data!C234 > 0),Data!C234,\"\")","v":""}]
[{"$f":"IF(D235<>\"\",Data!A235,\"\")","v":""},{"$f":"IF(D235<>\"\",Data!B235,\"\")","v":""},"",{"$f":"IF(AND(Data!C235<>\"\",Data!C235 > 0),Data!C235,\"\")","v":""}]
[{"$f":"IF(D236<>\"\",Data!A236,\"\")","v":""},{"$f":"IF(D236<>\"\",Data!B236,\"\")","v":""},"",{"$f":"IF(AND(Data!C236<>\"\",Data!C236 > 0),Data!C236,\"\")","v":""}]
[{"$f":"IF(D237<>\"\",Data!A237,\"\")","v":""},{"$f":"IF(D237<>\"\",Data!B237,\"\")","v":""},"",{"$f":"IF(AND(Data!C237<>\"\",Data!C237 > 0),Data!C237,\"\")","v":""}]
[{"$f":"IF(D238<>\"\",Data!A238,\"\")","v":""},{"$f":"IF(D238<>\"\",Data!B238,\"\")","v":""},"",{"$f":"IF(AND(Data!C238<>\"\",Data!C238 > 0),Data!C238,\"\")","v":""}]
[{"$f":"IF(D239<>\"\",Data!A239,\"\")","v":""},{"$f":"IF(D239<>\"\",Data!B239,\"\")","v":""},"",{"$f":"IF(AND(Data!C239<>\"\",Data!C239 > 0),Data!C239,\"\")","v":""}]
[{"$f":"IF(D240<>\"\",Data!A240,\"\")","v":""},{"$f":"IF(D240<>\"\",Data!B240,\"\")","v":""},"",{"$f":"IF(AND(Data!C240<>\"\",Data!C240 > 0),Data!C240,\"\")","v":""}]
[{"$f":"IF(D241<>\"\",Data!A241,\"\")","v":""},{"$f":"IF(D241<>\"\",Data!B241,\"\")","v":""},"",{"$f":"IF(AND(Data!C241<>\"\",Data!C241 > 0),Data!C241,\"\")","v":""}]
[{"$f":"IF(D242<>\"\",Data!A242,\"\")","v":""},{"$f":"IF(D242<>\"\",Data!B242,\"\")","v":""},"",{"$f":"IF(AND(Data!C242<>\"\",Data!C242 > 0),Data!C242,\"\")","v":""}]
[{"$f":"IF(D243<>\"\",Data!A243,\"\")","v":""},{"$f":"IF(D243<>\"\",Data!B243,\"\")","v":""},"",{"$f":"IF(AND(Data!C243<>\"\",Data!C243 > 0),Data!C243,\"\")","v":""}]
[{"$f":"IF(D244<>\"\",Data!A244,\"\")","v":""},{"$f":"IF(D244<>\"\",Data!B244,\"\")","v":""},"",{"$f":"IF(AND(Data!C244<>\"\",Data!C244 > 0),Data!C244,\"\")","v":""}]
[{"$f":"IF(D245<>\"\",Data!A245,\"\")","v":""},{"$f":"IF(D245<>\"\",Data!B245,\"\")","v":""},"",{"$f":"IF(AND(Data!C245<>\"\",Data!C245 > 0),Data!C245,\"\")","v":""}]
[{"$f":"IF(D246<>\"\",Data!A246,\"\")","v":""},{"$f":"IF(D246<>\"\",Data!B246,\"\")","v":""},"",{"$f":"IF(AND(Data!C246<>\"\",Data!C246 > 0),Data!C246,\"\")","v":""}]
[{"$f":"IF(D247<>\"\",Data!A247,\"\")","v":""},{"$f":"IF(D247<>\"\",Data!B247,\"\")","v":""},"",{"$f":"IF(AND(Data!C247<>\"\",Data!C247 > 0),Data!C247,\"\")","v":""}]
[{"$f":"IF(D248<>\"\",Data!A248,\"\")","v":""},{"$f":"IF(D248<>\"\",Data!B248,\"\")","v":""},"",{"$f":"IF(AND(Data!C248<>\"\",Data!C248 > 0),Data!C248,\"\")","v":""}]
[{"$f":"IF(D249<>\"\",Data!A249,\"\")","v":""},{"$f":"IF(D249<>\"\",Data!B249,\"\")","v":""},"",{"$f":"IF(AND(Data!C249<>\"\",Data!C249 > 0),Data!C249,\"\")","v":""}]
[{"$f":"IF(D250<>\"\",Data!A250,\"\")","v":""},{"$f":"IF(D250<>\"\",Data!B250,\"\")","v":""},"",{"$f":"IF(AND(Data!C250<>\"\",Data!C250 > 0),Data!C250,\"\")","v":""}]
[{"$f":"IF(D251<>\"\",Data!A251,\"\")","v":""},{"$f":"IF(D251<>\"\",Data!B251,\"\")","v":""},"",{"$f":"IF(AND(Data!C251<>\"\",Data!C251 > 0),Data!C251,\"\")","v":""}]
[{"$f":"IF(D252<>\"\",Data!A252,\"\")","v":""},{"$f":"IF(D252<>\"\",Data!B252,\"\")","v":""},"",{"$f":"IF(AND(Data!C252<>\"\",Data!C252 > 0),Data!C252,\"\")","v":""}]
[{"$f":"IF(D253<>\"\",Data!A253,\"\")","v":""},{"$f":"IF(D253<>\"\",Data!B253,\"\")","v":""},"",{"$f":"IF(AND(Data!C253<>\"\",Data!C253 > 0),Data!C253,\"\")","v":""}]
[{"$f":"IF(D254<>\"\",Data!A254,\"\")","v":""},{"$f":"IF(D254<>\"\",Data!B254,\"\")","v":""},"",{"$f":"IF(AND(Data!C254<>\"\",Data!C254 > 0),Data!C254,\"\")","v":""}]
[{"$f":"IF(D255<>\"\",Data!A255,\"\")","v":""},{"$f":"IF(D255<>\"\",Data!B255,\"\")","v":""},"",{"$f":"IF(AND(Data!C255<>\"\",Data!C255 > 0),Data!C255,\"\")","v":""}]
[{"$f":"IF(D256<>\"\",Data!A256,\"\")","v":""},{"$f":"IF(D256<>\"\",Data!B256,\"\")","v":""},"",{"$f":"IF(AND(Data!C256<>\"\",Data!C256 > 0),Data!C256,\"\")","v":""}]
[{"$f":"IF(D257<>\"\",Data!A257,\"\")","v":""},{"$f":"IF(D257<>\"\",Data!B257,\"\")","v":""},"",{"$f":"IF(AND(Data!C257<>\"\",Data!C257 > 0),Data!C257,\"\")","v":""}]
[{"$f":"IF(D258<>\"\",Data!A258,\"\")","v":""},{"$f":"IF(D258<>\"\",Data!B258,\"\")","v":""},"",{"$f":"IF(AND(Data!C258<>\"\",Data!C258 > 0),Data!C258,\"\")","v":""}]
[{"$f":"IF(D259<>\"\",Data!A259,\"\")","v":""},{"$f":"IF(D259<>\"\",Data!B259,\"\")","v":""},{"$f":"IF(D259<>\"\",MID(CELL(\"filename\",B258),FIND(\"]\",CELL(\"filename\",B258))+1,32),\"\")","v":""},{"$f":"IF(AND(Data!C259<>\"\",Data!C259 > 0),Data!C259,\"\")","v":""}]
[{"$f":"IF(D260<>\"\",Data!A260,\"\")","v":""},{"$f":"IF(D260<>\"\",Data!B260,\"\")","v":""},"",{"$f":"IF(AND(Data!C260<>\"\",Data!C260 > 0),Data!C260,\"\")","v":""}]
[{"$f":"IF(D261<>\"\",Data!A261,\"\")","v":""},{"$f":"IF(D261<>\"\",Data!B261,\"\")","v":""},"",{"$f":"IF(AND(Data!C261<>\"\",Data!C261 > 0),Data!C261,\"\")","v":""}]
[{"$f":"IF(D262<>\"\",Data!A262,\"\")","v":""},{"$f":"IF(D262<>\"\",Data!B262,\"\")","v":""},"",{"$f":"IF(AND(Data!C262<>\"\",Data!C262 > 0),Data!C262,\"\")","v":""}]
[{"$f":"IF(D263<>\"\",Data!A263,\"\")","v":""},{"$f":"IF(D263<>\"\",Data!B263,\"\")","v":""},"",{"$f":"IF(AND(Data!C263<>\"\",Data!C263 > 0),Data!C263,\"\")","v":""}]
[{"$f":"IF(D264<>\"\",Data!A264,\"\")","v":""},{"$f":"IF(D264<>\"\",Data!B264,\"\")","v":""},"",{"$f":"IF(AND(Data!C264<>\"\",Data!C264 > 0),Data!C264,\"\")","v":""}]
[{"$f":"IF(D265<>\"\",Data!A265,\"\")","v":""},{"$f":"IF(D265<>\"\",Data!B265,\"\")","v":""},"",{"$f":"IF(AND(Data!C265<>\"\",Data!C265 > 0),Data!C265,\"\")","v":""}]
[{"$f":"IF(D266<>\"\",Data!A266,\"\")","v":""},{"$f":"IF(D266<>\"\",Data!B266,\"\")","v":""},"",{"$f":"IF(AND(Data!C266<>\"\",Data!C266 > 0),Data!C266,\"\")","v":""}]
[{"$f":"IF(D267<>\"\",Data!A267,\"\")","v":""},{"$f":"IF(D267<>\"\",Data!B267,\"\")","v":""},"",{"$f":"IF(AND(Data!C267<>\"\",Data!C267 > 0),Data!C267,\"\")","v":""}]
[{"$f":"IF(D268<>\"\",Data!A268,\"\")","v":""},{"$f":"IF(D268<>\"\",Data!B268,\"\")","v":""},"",{"$f":"IF(AND(Data!C268<>\"\",Data!C268 > 0),Data!C268,\"\")","v":""}]
[{"$f":"IF(D269<>\"\",Data!A269,\"\")","v":""},{"$f":"IF(D269<>\"\",Data!B269,\"\")","v":""},"",{"$f":"IF(AND(Data!C269<>\"\",Data!C269 > 0),Data!C269,\"\")","v":""}]
[{"$f":"IF(D270<>\"\",Data!A270,\"\")","v":""},{"$f":"IF(D270<>\"\",Data!B270,\"\")","v":""},"",{"$f":"IF(AND(Data!C270<>\"\",Data!C270 > 0),Data!C270,\"\")","v":""}]
[{"$f":"IF(D271<>\"\",Data!A271,\"\")","v":""},{"$f":"IF(D271<>\"\",Data!B271,\"\")","v":""},"",{"$f":"IF(AND(Data!C271<>\"\",Data!C271 > 0),Data!C271,\"\")","v":""}]
[{"$f":"IF(D272<>\"\",Data!A272,\"\")","v":""},{"$f":"IF(D272<>\"\",Data!B272,\"\")","v":""},"",{"$f":"IF(AND(Data!C272<>\"\",Data!C272 > 0),Data!C272,\"\")","v":""}]
[{"$f":"IF(D273<>\"\",Data!A273,\"\")","v":""},{"$f":"IF(D273<>\"\",Data!B273,\"\")","v":""},"",{"$f":"IF(AND(Data!C273<>\"\",Data!C273 > 0),Data!C273,\"\")","v":""}]
[{"$f":"IF(D274<>\"\",Data!A274,\"\")","v":""},{"$f":"IF(D274<>\"\",Data!B274,\"\")","v":""},"",{"$f":"IF(AND(Data!C274<>\"\",Data!C274 > 0),Data!C274,\"\")","v":""}]
[{"$f":"IF(D275<>\"\",Data!A275,\"\")","v":""},{"$f":"IF(D275<>\"\",Data!B275,\"\")","v":""},"",{"$f":"IF(AND(Data!C275<>\"\",Data!C275 > 0),Data!C275,\"\")","v":""}]
[{"$f":"IF(D276<>\"\",Data!A276,\"\")","v":""},{"$f":"IF(D276<>\"\",Data!B276,\"\")","v":""},"",{"$f":"IF(AND(Data!C276<>\"\",Data!C276 > 0),Data!C276,\"\")","v":""}]
[{"$f":"IF(D277<>\"\",Data!A277,\"\")","v":""},{"$f":"IF(D277<>\"\",Data!B277,\"\")","v":""},"",{"$f":"IF(AND(Data!C277<>\"\",Data!C277 > 0),Data!C277,\"\")","v":""}]
[{"$f":"IF(D278<>\"\",Data!A278,\"\")","v":""},{"$f":"IF(D278<>\"\",Data!B278,\"\")","v":""},"",{"$f":"IF(AND(Data!C278<>\"\",Data!C278 > 0),Data!C278,\"\")","v":""}]
[{"$f":"IF(D279<>\"\",Data!A279,\"\")","v":""},{"$f":"IF(D279<>\"\",Data!B279,\"\")","v":""},"",{"$f":"IF(AND(Data!C279<>\"\",Data!C279 > 0),Data!C279,\"\")","v":""}]
[{"$f":"IF(D280<>\"\",Data!A280,\"\")","v":""},{"$f":"IF(D280<>\"\",Data!B280,\"\")","v":""},"",{"$f":"IF(AND(Data!C280<>\"\",Data!C280 > 0),Data!C280,\"\")","v":""}]
[{"$f":"IF(D281<>\"\",Data!A281,\"\")","v":""},{"$f":"IF(D281<>\"\",Data!B281,\"\")","v":""},"",{"$f":"IF(AND(Data!C281<>\"\",Data!C281 > 0),Data!C281,\"\")","v":""}]
[{"$f":"IF(D282<>\"\",Data!A282,\"\")","v":""},{"$f":"IF(D282<>\"\",Data!B282,\"\")","v":""},"",{"$f":"IF(AND(Data!C282<>\"\",Data!C282 > 0),Data!C282,\"\")","v":""}]
[{"$f":"IF(D283<>\"\",Data!A283,\"\")","v":""},{"$f":"IF(D283<>\"\",Data!B283,\"\")","v":""},"",{"$f":"IF(AND(Data!C283<>\"\",Data!C283 > 0),Data!C283,\"\")","v":""}]
[{"$f":"IF(D284<>\"\",Data!A284,\"\")","v":""},{"$f":"IF(D284<>\"\",Data!B284,\"\")","v":""},"",{"$f":"IF(AND(Data!C284<>\"\",Data!C284 > 0),Data!C284,\"\")","v":""}]
[{"$f":"IF(D285<>\"\",Data!A285,\"\")","v":""},{"$f":"IF(D285<>\"\",Data!B285,\"\")","v":""},"",{"$f":"IF(AND(Data!C285<>\"\",Data!C285 > 0),Data!C285,\"\")","v":""}]
[{"$f":"IF(D286<>\"\",Data!A286,\"\")","v":""},{"$f":"IF(D286<>\"\",Data!B286,\"\")","v":""},"",{"$f":"IF(AND(Data!C286<>\"\",Data!C286 > 0),Data!C286,\"\")","v":""}]
[{"$f":"IF(D287<>\"\",Data!A287,\"\")","v":""},{"$f":"IF(D287<>\"\",Data!B287,\"\")","v":""},"",{"$f":"IF(AND(Data!C287<>\"\",Data!C287 > 0),Data!C287,\"\")","v":""}]
[{"$f":"IF(D288<>\"\",Data!A288,\"\")","v":""},{"$f":"IF(D288<>\"\",Data!B288,\"\")","v":""},"",{"$f":"IF(AND(Data!C288<>\"\",Data!C288 > 0),Data!C288,\"\")","v":""}]
[{"$f":"IF(D289<>\"\",Data!A289,\"\")","v":""},{"$f":"IF(D289<>\"\",Data!B289,\"\")","v":""},"",{"$f":"IF(AND(Data!C289<>\"\",Data!C289 > 0),Data!C289,\"\")","v":""}]
[{"$f":"IF(D290<>\"\",Data!A290,\"\")","v":""},{"$f":"IF(D290<>\"\",Data!B290,\"\")","v":""},"",{"$f":"IF(AND(Data!C290<>\"\",Data!C290 > 0),Data!C290,\"\")","v":""}]
[{"$f":"IF(D291<>\"\",Data!A291,\"\")","v":""},{"$f":"IF(D291<>\"\",Data!B291,\"\")","v":""},"",{"$f":"IF(AND(Data!C291<>\"\",Data!C291 > 0),Data!C291,\"\")","v":""}]
[{"$f":"IF(D292<>\"\",Data!A292,\"\")","v":""},{"$f":"IF(D292<>\"\",Data!B292,\"\")","v":""},"",{"$f":"IF(AND(Data!C292<>\"\",Data!C292 > 0),Data!C292,\"\")","v":""}]
[{"$f":"IF(D293<>\"\",Data!A293,\"\")","v":""},{"$f":"IF(D293<>\"\",Data!B293,\"\")","v":""},"",{"$f":"IF(AND(Data!C293<>\"\",Data!C293 > 0),Data!C293,\"\")","v":""}]
[{"$f":"IF(D294<>\"\",Data!A294,\"\")","v":""},{"$f":"IF(D294<>\"\",Data!B294,\"\")","v":""},"",{"$f":"IF(AND(Data!C294<>\"\",Data!C294 > 0),Data!C294,\"\")","v":""}]
[{"$f":"IF(D295<>\"\",Data!A295,\"\")","v":""},{"$f":"IF(D295<>\"\",Data!B295,\"\")","v":""},"",{"$f":"IF(AND(Data!C295<>\"\",Data!C295 > 0),Data!C295,\"\")","v":""}]
[{"$f":"IF(D296<>\"\",Data!A296,\"\")","v":""},{"$f":"IF(D296<>\"\",Data!B296,\"\")","v":""},"",{"$f":"IF(AND(Data!C296<>\"\",Data!C296 > 0),Data!C296,\"\")","v":""}]
[{"$f":"IF(D297<>\"\",Data!A297,\"\")","v":""},{"$f":"IF(D297<>\"\",Data!B297,\"\")","v":""},"",{"$f":"IF(AND(Data!C297<>\"\",Data!C297 > 0),Data!C297,\"\")","v":""}]
[{"$f":"IF(D298<>\"\",Data!A298,\"\")","v":""},{"$f":"IF(D298<>\"\",Data!B298,\"\")","v":""},"",{"$f":"IF(AND(Data!C298<>\"\",Data!C298 > 0),Data!C298,\"\")","v":""}]
[{"$f":"IF(D299<>\"\",Data!A299,\"\")","v":""},{"$f":"IF(D299<>\"\",Data!B299,\"\")","v":""},"",{"$f":"IF(AND(Data!C299<>\"\",Data!C299 > 0),Data!C299,\"\")","v":""}]
[{"$f":"IF(D300<>\"\",Data!A300,\"\")","v":""},{"$f":"IF(D300<>\"\",Data!B300,\"\")","v":""},"",{"$f":"IF(AND(Data!C300<>\"\",Data!C300 > 0),Data!C300,\"\")","v":""}]
[{"$f":"IF(D301<>\"\",Data!A301,\"\")","v":""},{"$f":"IF(D301<>\"\",Data!B301,\"\")","v":""},"",{"$f":"IF(AND(Data!C301<>\"\",Data!C301 > 0),Data!C301,\"\")","v":""}]
[{"$f":"IF(D302<>\"\",Data!A302,\"\")","v":""},{"$f":"IF(D302<>\"\",Data!B302,\"\")","v":""},"",{"$f":"IF(AND(Data!C302<>\"\",Data!C302 > 0),Data!C302,\"\")","v":""}]
[{"$f":"IF(D303<>\"\",Data!A303,\"\")","v":""},{"$f":"IF(D303<>\"\",Data!B303,\"\")","v":""},"",{"$f":"IF(AND(Data!C303<>\"\",Data!C303 > 0),Data!C303,\"\")","v":""}]
[{"$f":"IF(D304<>\"\",Data!A304,\"\")","v":""},{"$f":"IF(D304<>\"\",Data!B304,\"\")","v":""},"",{"$f":"IF(AND(Data!C304<>\"\",Data!C304 > 0),Data!C304,\"\")","v":""}]
[{"$f":"IF(D305<>\"\",Data!A305,\"\")","v":""},{"$f":"IF(D305<>\"\",Data!B305,\"\")","v":""},"",{"$f":"IF(AND(Data!C305<>\"\",Data!C305 > 0),Data!C305,\"\")","v":""}]
[{"$f":"IF(D306<>\"\",Data!A306,\"\")","v":""},{"$f":"IF(D306<>\"\",Data!B306,\"\")","v":""},"",{"$f":"IF(AND(Data!C306<>\"\",Data!C306 > 0),Data!C306,\"\")","v":""}]
[{"$f":"IF(D307<>\"\",Data!A307,\"\")","v":""},{"$f":"IF(D307<>\"\",Data!B307,\"\")","v":""},"",{"$f":"IF(AND(Data!C307<>\"\",Data!C307 > 0),Data!C307,\"\")","v":""}]
[{"$f":"IF(D308<>\"\",Data!A308,\"\")","v":""},{"$f":"IF(D308<>\"\",Data!B308,\"\")","v":""},"",{"$f":"IF(AND(Data!C308<>\"\",Data!C308 > 0),Data!C308,\"\")","v":""}]
[{"$f":"IF(D309<>\"\",Data!A309,\"\")","v":""},{"$f":"IF(D309<>\"\",Data!B309,\"\")","v":""},"",{"$f":"IF(AND(Data!C309<>\"\",Data!C309 > 0),Data!C309,\"\")","v":""}]
[{"$f":"IF(D310<>\"\",Data!A310,\"\")","v":""},{"$f":"IF(D310<>\"\",Data!B310,\"\")","v":""},"",{"$f":"IF(AND(Data!C310<>\"\",Data!C310 > 0),Data!C310,\"\")","v":""}]
[{"$f":"IF(D311<>\"\",Data!A311,\"\")","v":""},{"$f":"IF(D311<>\"\",Data!B311,\"\")","v":""},"",{"$f":"IF(AND(Data!C311<>\"\",Data!C311 > 0),Data!C311,\"\")","v":""}]
[{"$f":"IF(D312<>\"\",Data!A312,\"\")","v":""},{"$f":"IF(D312<>\"\",Data!B312,\"\")","v":""},"",{"$f":"IF(AND(Data!C312<>\"\",Data!C312 > 0),Data!C312,\"\")","v":""}]
[{"$f":"IF(D313<>\"\",Data!A313,\"\")","v":""},{"$f":"IF(D313<>\"\",Data!B313,\"\")","v":""},"",{"$f":"IF(AND(Data!C313<>\"\",Data!C313 > 0),Data!C313,\"\")","v":""}]
[{"$f":"IF(D314<>\"\",Data!A314,\"\")","v":""},{"$f":"IF(D314<>\"\",Data!B314,\"\")","v":""},"",{"$f":"IF(AND(Data!C314<>\"\",Data!C314 > 0),Data!C314,\"\")","v":""}]
[{"$f":"IF(D315<>\"\",Data!A315,\"\")","v":""},{"$f":"IF(D315<>\"\",Data!B315,\"\")","v":""},"",{"$f":"IF(AND(Data!C315<>\"\",Data!C315 > 0),Data!C315,\"\")","v":""}]
[{"$f":"IF(D316<>\"\",Data!A316,\"\")","v":""},{"$f":"IF(D316<>\"\",Data!B316,\"\")","v":""},"",{"$f":"IF(AND(Data!C316<>\"\",Data!C316 > 0),Data!C316,\"\")","v":""}]
[{"$f":"IF(D317<>\"\",Data!A317,\"\")","v":""},{"$f":"IF(D317<>\"\",Data!B317,\"\")","v":""},"",{"$f":"IF(AND(Data!C317<>\"\",Data!C317 > 0),Data!C317,\"\")","v":""}]
[{"$f":"IF(D318<>\"\",Data!A318,\"\")","v":""},{"$f":"IF(D318<>\"\",Data!B318,\"\")","v":""},"",{"$f":"IF(AND(Data!C318<>\"\",Data!C318 > 0),Data!C318,\"\")","v":""}]
[{"$f":"IF(D319<>\"\",Data!A319,\"\")","v":""},{"$f":"IF(D319<>\"\",Data!B319,\"\")","v":""},"",{"$f":"IF(AND(Data!C319<>\"\",Data!C319 > 0),Data!C319,\"\")","v":""}]
[{"$f":"IF(D320<>\"\",Data!A320,\"\")","v":""},{"$f":"IF(D320<>\"\",Data!B320,\"\")","v":""},"",{"$f":"IF(AND(Data!C320<>\"\",Data!C320 > 0),Data!C320,\"\")","v":""}]
[{"$f":"IF(D321<>\"\",Data!A321,\"\")","v":""},{"$f":"IF(D321<>\"\",Data!B321,\"\")","v":""},"",{"$f":"IF(AND(Data!C321<>\"\",Data!C321 > 0),Data!C321,\"\")","v":""}]
[{"$f":"IF(D322<>\"\",Data!A322,\"\")","v":""},{"$f":"IF(D322<>\"\",Data!B322,\"\")","v":""},"",{"$f":"IF(AND(Data!C322<>\"\",Data!C322 > 0),Data!C322,\"\")","v":""}]
[{"$f":"IF(D323<>\"\",Data!A323,\"\")","v":""},{"$f":"IF(D323<>\"\",Data!B323,\"\")","v":""},{"$f":"IF(D323<>\"\",MID(CELL(\"filename\",B322),FIND(\"]\",CELL(\"filename\",B322))+1,32),\"\")","v":""},{"$f":"IF(AND(Data!C323<>\"\",Data!C323 > 0),Data!C323,\"\")","v":""}]
[{"$f":"IF(D324<>\"\",Data!A324,\"\")","v":""},{"$f":"IF(D324<>\"\",Data!B324,\"\")","v":""},"",{"$f":"IF(AND(Data!C324<>\"\",Data!C324 > 0),Data!C324,\"\")","v":""}]
[{"$f":"IF(D325<>\"\",Data!A325,\"\")","v":""},{"$f":"IF(D325<>\"\",Data!B325,\"\")","v":""},"",{"$f":"IF(AND(Data!C325<>\"\",Data!C325 > 0),Data!C325,\"\")","v":""}]
[{"$f":"IF(D326<>\"\",Data!A326,\"\")","v":""},{"$f":"IF(D326<>\"\",Data!B326,\"\")","v":""},"",{"$f":"IF(AND(Data!C326<>\"\",Data!C326 > 0),Data!C326,\"\")","v":""}]
[{"$f":"IF(D327<>\"\",Data!A327,\"\")","v":""},{"$f":"IF(D327<>\"\",Data!B327,\"\")","v":""},"",{"$f":"IF(AND(Data!C327<>\"\",Data!C327 > 0),Data!C327,\"\")","v":""}]
[{"$f":"IF(D328<>\"\",Data!A328,\"\")","v":""},{"$f":"IF(D328<>\"\",Data!B328,\"\")","v":""},"",{"$f":"IF(AND(Data!C328<>\"\",Data!C328 > 0),Data!C328,\"\")","v":""}]
[{"$f":"IF(D329<>\"\",Data!A329,\"\")","v":""},{"$f":"IF(D329<>\"\",Data!B329,\"\")","v":""},"",{"$f":"IF(AND(Data!C329<>\"\",Data!C329 > 0),Data!C329,\"\")","v":""}]
[{"$f":"IF(D330<>\"\",Data!A330,\"\")","v":""},{"$f":"IF(D330<>\"\",Data!B330,\"\")","v":""},"",{"$f":"IF(AND(Data!C330<>\"\",Data!C330 > 0),Data!C330,\"\")","v":""}]
[{"$f":"IF(D331<>\"\",Data!A331,\"\")","v":""},{"$f":"IF(D331<>\"\",Data!B331,\"\")","v":""},"",{"$f":"IF(AND(Data!C331<>\"\",Data!C331 > 0),Data!C331,\"\")","v":""}]
[{"$f":"IF(D332<>\"\",Data!A332,\"\")","v":""},{"$f":"IF(D332<>\"\",Data!B332,\"\")","v":""},"",{"$f":"IF(AND(Data!C332<>\"\",Data!C332 > 0),Data!C332,\"\")","v":""}]
[{"$f":"IF(D333<>\"\",Data!A333,\"\")","v":""},{"$f":"IF(D333<>\"\",Data!B333,\"\")","v":""},"",{"$f":"IF(AND(Data!C333<>\"\",Data!C333 > 0),Data!C333,\"\")","v":""}]
[{"$f":"IF(D334<>\"\",Data!A334,\"\")","v":""},{"$f":"IF(D334<>\"\",Data!B334,\"\")","v":""},"",{"$f":"IF(AND(Data!C334<>\"\",Data!C334 > 0),Data!C334,\"\")","v":""}]
[{"$f":"IF(D335<>\"\",Data!A335,\"\")","v":""},{"$f":"IF(D335<>\"\",Data!B335,\"\")","v":""},"",{"$f":"IF(AND(Data!C335<>\"\",Data!C335 > 0),Data!C335,\"\")","v":""}]
[{"$f":"IF(D336<>\"\",Data!A336,\"\")","v":""},{"$f":"IF(D336<>\"\",Data!B336,\"\")","v":""},"",{"$f":"IF(AND(Data!C336<>\"\",Data!C336 > 0),Data!C336,\"\")","v":""}]
[{"$f":"IF(D337<>\"\",Data!A337,\"\")","v":""},{"$f":"IF(D337<>\"\",Data!B337,\"\")","v":""},"",{"$f":"IF(AND(Data!C337<>\"\",Data!C337 > 0),Data!C337,\"\")","v":""}]
[{"$f":"IF(D338<>\"\",Data!A338,\"\")","v":""},{"$f":"IF(D338<>\"\",Data!B338,\"\")","v":""},"",{"$f":"IF(AND(Data!C338<>\"\",Data!C338 > 0),Data!C338,\"\")","v":""}]
[{"$f":"IF(D339<>\"\",Data!A339,\"\")","v":""},{"$f":"IF(D339<>\"\",Data!B339,\"\")","v":""},"",{"$f":"IF(AND(Data!C339<>\"\",Data!C339 > 0),Data!C339,\"\")","v":""}]
[{"$f":"IF(D340<>\"\",Data!A340,\"\")","v":""},{"$f":"IF(D340<>\"\",Data!B340,\"\")","v":""},"",{"$f":"IF(AND(Data!C340<>\"\",Data!C340 > 0),Data!C340,\"\")","v":""}]
[{"$f":"IF(D341<>\"\",Data!A341,\"\")","v":""},{"$f":"IF(D341<>\"\",Data!B341,\"\")","v":""},"",{"$f":"IF(AND(Data!C341<>\"\",Data!C341 > 0),Data!C341,\"\")","v":""}]
[{"$f":"IF(D342<>\"\",Data!A342,\"\")","v":""},{"$f":"IF(D342<>\"\",Data!B342,\"\")","v":""},"",{"$f":"IF(AND(Data!C342<>\"\",Data!C342 > 0),Data!C342,\"\")","v":""}]
[{"$f":"IF(D343<>\"\",Data!A343,\"\")","v":""},{"$f":"IF(D343<>\"\",Data!B343,\"\")","v":""},"",{"$f":"IF(AND(Data!C343<>\"\",Data!C343 > 0),Data!C343,\"\")","v":""}]
[{"$f":"IF(D344<>\"\",Data!A344,\"\")","v":""},{"$f":"IF(D344<>\"\",Data!B344,\"\")","v":""},"",{"$f":"IF(AND(Data!C344<>\"\",Data!C344 > 0),Data!C344,\"\")","v":""}]
[{"$f":"IF(D345<>\"\",Data!A345,\"\")","v":""},{"$f":"IF(D345<>\"\",Data!B345,\"\")","v":""},"",{"$f":"IF(AND(Data!C345<>\"\",Data!C345 > 0),Data!C345,\"\")","v":""}]
[{"$f":"IF(D346<>\"\",Data!A346,\"\")","v":""},{"$f":"IF(D346<>\"\",Data!B346,\"\")","v":""},"",{"$f":"IF(AND(Data!C346<>\"\",Data!C346 > 0),Data!C346,\"\")","v":""}]
[{"$f":"IF(D347<>\"\",Data!A347,\"\")","v":""},{"$f":"IF(D347<>\"\",Data!B347,\"\")","v":""},"",{"$f":"IF(AND(Data!C347<>\"\",Data!C347 > 0),Data!C347,\"\")","v":""}]
[{"$f":"IF(D348<>\"\",Data!A348,\"\")","v":""},{"$f":"IF(D348<>\"\",Data!B348,\"\")","v":""},"",{"$f":"IF(AND(Data!C348<>\"\",Data!C348 > 0),Data!C348,\"\")","v":""}]
[{"$f":"IF(D349<>\"\",Data!A349,\"\")","v":""},{"$f":"IF(D349<>\"\",Data!B349,\"\")","v":""},"",{"$f":"IF(AND(Data!C349<>\"\",Data!C349 > 0),Data!C349,\"\")","v":""}]
[{"$f":"IF(D350<>\"\",Data!A350,\"\")","v":""},{"$f":"IF(D350<>\"\",Data!B350,\"\")","v":""},"",{"$f":"IF(AND(Data!C350<>\"\",Data!C350 > 0),Data!C350,\"\")","v":""}]
[{"$f":"IF(D351<>\"\",Data!A351,\"\")","v":""},{"$f":"IF(D351<>\"\",Data!B351,\"\")","v":""},"",{"$f":"IF(AND(Data!C351<>\"\",Data!C351 > 0),Data!C351,\"\")","v":""}]
[{"$f":"IF(D352<>\"\",Data!A352,\"\")","v":""},{"$f":"IF(D352<>\"\",Data!B352,\"\")","v":""},"",{"$f":"IF(AND(Data!C352<>\"\",Data!C352 > 0),Data!C352,\"\")","v":""}]
[{"$f":"IF(D353<>\"\",Data!A353,\"\")","v":""},{"$f":"IF(D353<>\"\",Data!B353,\"\")","v":""},"",{"$f":"IF(AND(Data!C353<>\"\",Data!C353 > 0),Data!C353,\"\")","v":""}]
[{"$f":"IF(D354<>\"\",Data!A354,\"\")","v":""},{"$f":"IF(D354<>\"\",Data!B354,\"\")","v":""},"",{"$f":"IF(AND(Data!C354<>\"\",Data!C354 > 0),Data!C354,\"\")","v":""}]
[{"$f":"IF(D355<>\"\",Data!A355,\"\")","v":""},{"$f":"IF(D355<>\"\",Data!B355,\"\")","v":""},"",{"$f":"IF(AND(Data!C355<>\"\",Data!C355 > 0),Data!C355,\"\")","v":""}]
[{"$f":"IF(D356<>\"\",Data!A356,\"\")","v":""},{"$f":"IF(D356<>\"\",Data!B356,\"\")","v":""},"",{"$f":"IF(AND(Data!C356<>\"\",Data!C356 > 0),Data!C356,\"\")","v":""}]
[{"$f":"IF(D357<>\"\",Data!A357,\"\")","v":""},{"$f":"IF(D357<>\"\",Data!B357,\"\")","v":""},"",{"$f":"IF(AND(Data!C357<>\"\",Data!C357 > 0),Data!C357,\"\")","v":""}]
[{"$f":"IF(D358<>\"\",Data!A358,\"\")","v":""},{"$f":"IF(D358<>\"\",Data!B358,\"\")","v":""},"",{"$f":"IF(AND(Data!C358<>\"\",Data!C358 > 0),Data!C358,\"\")","v":""}]
[{"$f":"IF(D359<>\"\",Data!A359,\"\")","v":""},{"$f":"IF(D359<>\"\",Data!B359,\"\")","v":""},"",{"$f":"IF(AND(Data!C359<>\"\",Data!C359 > 0),Data!C359,\"\")","v":""}]
[{"$f":"IF(D360<>\"\",Data!A360,\"\")","v":""},{"$f":"IF(D360<>\"\",Data!B360,\"\")","v":""},"",{"$f":"IF(AND(Data!C360<>\"\",Data!C360 > 0),Data!C360,\"\")","v":""}]
[{"$f":"IF(D361<>\"\",Data!A361,\"\")","v":""},{"$f":"IF(D361<>\"\",Data!B361,\"\")","v":""},"",{"$f":"IF(AND(Data!C361<>\"\",Data!C361 > 0),Data!C361,\"\")","v":""}]
[{"$f":"IF(D362<>\"\",Data!A362,\"\")","v":""},{"$f":"IF(D362<>\"\",Data!B362,\"\")","v":""},"",{"$f":"IF(AND(Data!C362<>\"\",Data!C362 > 0),Data!C362,\"\")","v":""}]
[{"$f":"IF(D363<>\"\",Data!A363,\"\")","v":""},{"$f":"IF(D363<>\"\",Data!B363,\"\")","v":""},"",{"$f":"IF(AND(Data!C363<>\"\",Data!C363 > 0),Data!C363,\"\")","v":""}]
[{"$f":"IF(D364<>\"\",Data!A364,\"\")","v":""},{"$f":"IF(D364<>\"\",Data!B364,\"\")","v":""},"",{"$f":"IF(AND(Data!C364<>\"\",Data!C364 > 0),Data!C364,\"\")","v":""}]
[{"$f":"IF(D365<>\"\",Data!A365,\"\")","v":""},{"$f":"IF(D365<>\"\",Data!B365,\"\")","v":""},"",{"$f":"IF(AND(Data!C365<>\"\",Data!C365 > 0),Data!C365,\"\")","v":""}]
[{"$f":"IF(D366<>\"\",Data!A366,\"\")","v":""},{"$f":"IF(D366<>\"\",Data!B366,\"\")","v":""},"",{"$f":"IF(AND(Data!C366<>\"\",Data!C366 > 0),Data!C366,\"\")","v":""}]
[{"$f":"IF(D367<>\"\",Data!A367,\"\")","v":""},{"$f":"IF(D367<>\"\",Data!B367,\"\")","v":""},"",{"$f":"IF(AND(Data!C367<>\"\",Data!C367 > 0),Data!C367,\"\")","v":""}]
[{"$f":"IF(D368<>\"\",Data!A368,\"\")","v":""},{"$f":"IF(D368<>\"\",Data!B368,\"\")","v":""},"",{"$f":"IF(AND(Data!C368<>\"\",Data!C368 > 0),Data!C368,\"\")","v":""}]
[{"$f":"IF(D369<>\"\",Data!A369,\"\")","v":""},{"$f":"IF(D369<>\"\",Data!B369,\"\")","v":""},"",{"$f":"IF(AND(Data!C369<>\"\",Data!C369 > 0),Data!C369,\"\")","v":""}]
[{"$f":"IF(D370<>\"\",Data!A370,\"\")","v":""},{"$f":"IF(D370<>\"\",Data!B370,\"\")","v":""},"",{"$f":"IF(AND(Data!C370<>\"\",Data!C370 > 0),Data!C370,\"\")","v":""}]
[{"$f":"IF(D371<>\"\",Data!A371,\"\")","v":""},{"$f":"IF(D371<>\"\",Data!B371,\"\")","v":""},"",{"$f":"IF(AND(Data!C371<>\"\",Data!C371 > 0),Data!C371,\"\")","v":""}]
[{"$f":"IF(D372<>\"\",Data!A372,\"\")","v":""},{"$f":"IF(D372<>\"\",Data!B372,\"\")","v":""},"",{"$f":"IF(AND(Data!C372<>\"\",Data!C372 > 0),Data!C372,\"\")","v":""}]
[{"$f":"IF(D373<>\"\",Data!A373,\"\")","v":""},{"$f":"IF(D373<>\"\",Data!B373,\"\")","v":""},"",{"$f":"IF(AND(Data!C373<>\"\",Data!C373 > 0),Data!C373,\"\")","v":""}]
[{"$f":"IF(D374<>\"\",Data!A374,\"\")","v":""},{"$f":"IF(D374<>\"\",Data!B374,\"\")","v":""},"",{"$f":"IF(AND(Data!C374<>\"\",Data!C374 > 0),Data!C374,\"\")","v":""}]
[{"$f":"IF(D375<>\"\",Data!A375,\"\")","v":""},{"$f":"IF(D375<>\"\",Data!B375,\"\")","v":""},"",{"$f":"IF(AND(Data!C375<>\"\",Data!C375 > 0),Data!C375,\"\")","v":""}]
[{"$f":"IF(D376<>\"\",Data!A376,\"\")","v":""},{"$f":"IF(D376<>\"\",Data!B376,\"\")","v":""},"",{"$f":"IF(AND(Data!C376<>\"\",Data!C376 > 0),Data!C376,\"\")","v":""}]
[{"$f":"IF(D377<>\"\",Data!A377,\"\")","v":""},{"$f":"IF(D377<>\"\",Data!B377,\"\")","v":""},"",{"$f":"IF(AND(Data!C377<>\"\",Data!C377 > 0),Data!C377,\"\")","v":""}]
[{"$f":"IF(D378<>\"\",Data!A378,\"\")","v":""},{"$f":"IF(D378<>\"\",Data!B378,\"\")","v":""},"",{"$f":"IF(AND(Data!C378<>\"\",Data!C378 > 0),Data!C378,\"\")","v":""}]
[{"$f":"IF(D379<>\"\",Data!A379,\"\")","v":""},{"$f":"IF(D379<>\"\",Data!B379,\"\")","v":""},"",{"$f":"IF(AND(Data!C379<>\"\",Data!C379 > 0),Data!C379,\"\")","v":""}]
[{"$f":"IF(D380<>\"\",Data!A380,\"\")","v":""},{"$f":"IF(D380<>\"\",Data!B380,\"\")","v":""},"",{"$f":"IF(AND(Data!C380<>\"\",Data!C380 > 0),Data!C380,\"\")","v":""}]
[{"$f":"IF(D381<>\"\",Data!A381,\"\")","v":""},{"$f":"IF(D381<>\"\",Data!B381,\"\")","v":""},"",{"$f":"IF(AND(Data!C381<>\"\",Data!C381 > 0),Data!C381,\"\")","v":""}]
[{"$f":"IF(D382<>\"\",Data!A382,\"\")","v":""},{"$f":"IF(D382<>\"\",Data!B382,\"\")","v":""},"",{"$f":"IF(AND(Data!C382<>\"\",Data!C382 > 0),Data!C382,\"\")","v":""}]
[{"$f":"IF(D383<>\"\",Data!A383,\"\")","v":""},{"$f":"IF(D383<>\"\",Data!B383,\"\")","v":""},"",{"$f":"IF(AND(Data!C383<>\"\",Data!C383 > 0),Data!C383,\"\")","v":""}]
[{"$f":"IF(D384<>\"\",Data!A384,\"\")","v":""},{"$f":"IF(D384<>\"\",Data!B384,\"\")","v":""},"",{"$f":"IF(AND(Data!C384<>\"\",Data!C384 > 0),Data!C384,\"\")","v":""}]
[{"$f":"IF(D385<>\"\",Data!A385,\"\")","v":""},{"$f":"IF(D385<>\"\",Data!B385,\"\")","v":""},"",{"$f":"IF(AND(Data!C385<>\"\",Data!C385 > 0),Data!C385,\"\")","v":""}]
[{"$f":"IF(D386<>\"\",Data!A386,\"\")","v":""},{"$f":"IF(D386<>\"\",Data!B386,\"\")","v":""},"",{"$f":"IF(AND(Data!C386<>\"\",Data!C386 > 0),Data!C386,\"\")","v":""}]
[{"$f":"IF(D387<>\"\",Data!A387,\"\")","v":""},{"$f":"IF(D387<>\"\",Data!B387,\"\")","v":""},{"$f":"IF(D387<>\"\",MID(CELL(\"filename\",B386),FIND(\"]\",CELL(\"filename\",B386))+1,32),\"\")","v":""},{"$f":"IF(AND(Data!C387<>\"\",Data!C387 > 0),Data!C387,\"\")","v":""}]
[{"$f":"IF(D388<>\"\",Data!A388,\"\")","v":""},{"$f":"IF(D388<>\"\",Data!B388,\"\")","v":""},"",{"$f":"IF(AND(Data!C388<>\"\",Data!C388 > 0),Data!C388,\"\")","v":""}]
[{"$f":"IF(D389<>\"\",Data!A389,\"\")","v":""},{"$f":"IF(D389<>\"\",Data!B389,\"\")","v":""},"",{"$f":"IF(AND(Data!C389<>\"\",Data!C389 > 0),Data!C389,\"\")","v":""}]
[{"$f":"IF(D390<>\"\",Data!A390,\"\")","v":""},{"$f":"IF(D390<>\"\",Data!B390,\"\")","v":""},"",{"$f":"IF(AND(Data!C390<>\"\",Data!C390 > 0),Data!C390,\"\")","v":""}]
[{"$f":"IF(D391<>\"\",Data!A391,\"\")","v":""},{"$f":"IF(D391<>\"\",Data!B391,\"\")","v":""},"",{"$f":"IF(AND(Data!C391<>\"\",Data!C391 > 0),Data!C391,\"\")","v":""}]
[{"$f":"IF(D392<>\"\",Data!A392,\"\")","v":""},{"$f":"IF(D392<>\"\",Data!B392,\"\")","v":""},"",{"$f":"IF(AND(Data!C392<>\"\",Data!C392 > 0),Data!C392,\"\")","v":""}]
[{"$f":"IF(D393<>\"\",Data!A393,\"\")","v":""},{"$f":"IF(D393<>\"\",Data!B393,\"\")","v":""},"",{"$f":"IF(AND(Data!C393<>\"\",Data!C393 > 0),Data!C393,\"\")","v":""}]
[{"$f":"IF(D394<>\"\",Data!A394,\"\")","v":""},{"$f":"IF(D394<>\"\",Data!B394,\"\")","v":""},"",{"$f":"IF(AND(Data!C394<>\"\",Data!C394 > 0),Data!C394,\"\")","v":""}]
[{"$f":"IF(D395<>\"\",Data!A395,\"\")","v":""},{"$f":"IF(D395<>\"\",Data!B395,\"\")","v":""},"",{"$f":"IF(AND(Data!C395<>\"\",Data!C395 > 0),Data!C395,\"\")","v":""}]
[{"$f":"IF(D396<>\"\",Data!A396,\"\")","v":""},{"$f":"IF(D396<>\"\",Data!B396,\"\")","v":""},"",{"$f":"IF(AND(Data!C396<>\"\",Data!C396 > 0),Data!C396,\"\")","v":""}]
[{"$f":"IF(D397<>\"\",Data!A397,\"\")","v":""},{"$f":"IF(D397<>\"\",Data!B397,\"\")","v":""},"",{"$f":"IF(AND(Data!C397<>\"\",Data!C397 > 0),Data!C397,\"\")","v":""}]
[{"$f":"IF(D398<>\"\",Data!A398,\"\")","v":""},{"$f":"IF(D398<>\"\",Data!B398,\"\")","v":""},"",{"$f":"IF(AND(Data!C398<>\"\",Data!C398 > 0),Data!C398,\"\")","v":""}]
[{"$f":"IF(D399<>\"\",Data!A399,\"\")","v":""},{"$f":"IF(D399<>\"\",Data!B399,\"\")","v":""},"",{"$f":"IF(AND(Data!C399<>\"\",Data!C399 > 0),Data!C399,\"\")","v":""}]
[{"$f":"IF(D400<>\"\",Data!A400,\"\")","v":""},{"$f":"IF(D400<>\"\",Data!B400,\"\")","v":""},"",{"$f":"IF(AND(Data!C400<>\"\",Data!C400 > 0),Data!C400,\"\")","v":""}]
[{"$f":"IF(D401<>\"\",Data!A401,\"\")","v":""},{"$f":"IF(D401<>\"\",Data!B401,\"\")","v":""},"",{"$f":"IF(AND(Data!C401<>\"\",Data!C401 > 0),Data!C401,\"\")","v":""}]
[{"$f":"IF(D402<>\"\",Data!A402,\"\")","v":""},{"$f":"IF(D402<>\"\",Data!B402,\"\")","v":""},"",{"$f":"IF(AND(Data!C402<>\"\",Data!C402 > 0),Data!C402,\"\")","v":""}]
[{"$f":"IF(D403<>\"\",Data!A403,\"\")","v":""},{"$f":"IF(D403<>\"\",Data!B403,\"\")","v":""},"",{"$f":"IF(AND(Data!C403<>\"\",Data!C403 > 0),Data!C403,\"\")","v":""}]
[{"$f":"IF(D404<>\"\",Data!A404,\"\")","v":""},{"$f":"IF(D404<>\"\",Data!B404,\"\")","v":""},"",{"$f":"IF(AND(Data!C404<>\"\",Data!C404 > 0),Data!C404,\"\")","v":""}]
[{"$f":"IF(D405<>\"\",Data!A405,\"\")","v":""},{"$f":"IF(D405<>\"\",Data!B405,\"\")","v":""},"",{"$f":"IF(AND(Data!C405<>\"\",Data!C405 > 0),Data!C405,\"\")","v":""}]
[{"$f":"IF(D406<>\"\",Data!A406,\"\")","v":""},{"$f":"IF(D406<>\"\",Data!B406,\"\")","v":""},"",{"$f":"IF(AND(Data!C406<>\"\",Data!C406 > 0),Data!C406,\"\")","v":""}]
[{"$f":"IF(D407<>\"\",Data!A407,\"\")","v":""},{"$f":"IF(D407<>\"\",Data!B407,\"\")","v":""},"",{"$f":"IF(AND(Data!C407<>\"\",Data!C407 > 0),Data!C407,\"\")","v":""}]
[{"$f":"IF(D408<>\"\",Data!A408,\"\")","v":""},{"$f":"IF(D408<>\"\",Data!B408,\"\")","v":""},"",{"$f":"IF(AND(Data!C408<>\"\",Data!C408 > 0),Data!C408,\"\")","v":""}]
[{"$f":"IF(D409<>\"\",Data!A409,\"\")","v":""},{"$f":"IF(D409<>\"\",Data!B409,\"\")","v":""},"",{"$f":"IF(AND(Data!C409<>\"\",Data!C409 > 0),Data!C409,\"\")","v":""}]
[{"$f":"IF(D410<>\"\",Data!A410,\"\")","v":""},{"$f":"IF(D410<>\"\",Data!B410,\"\")","v":""},"",{"$f":"IF(AND(Data!C410<>\"\",Data!C410 > 0),Data!C410,\"\")","v":""}]
[{"$f":"IF(D411<>\"\",Data!A411,\"\")","v":""},{"$f":"IF(D411<>\"\",Data!B411,\"\")","v":""},"",{"$f":"IF(AND(Data!C411<>\"\",Data!C411 > 0),Data!C411,\"\")","v":""}]
[{"$f":"IF(D412<>\"\",Data!A412,\"\")","v":""},{"$f":"IF(D412<>\"\",Data!B412,\"\")","v":""},"",{"$f":"IF(AND(Data!C412<>\"\",Data!C412 > 0),Data!C412,\"\")","v":""}]
[{"$f":"IF(D413<>\"\",Data!A413,\"\")","v":""},{"$f":"IF(D413<>\"\",Data!B413,\"\")","v":""},"",{"$f":"IF(AND(Data!C413<>\"\",Data!C413 > 0),Data!C413,\"\")","v":""}]
[{"$f":"IF(D414<>\"\",Data!A414,\"\")","v":""},{"$f":"IF(D414<>\"\",Data!B414,\"\")","v":""},"",{"$f":"IF(AND(Data!C414<>\"\",Data!C414 > 0),Data!C414,\"\")","v":""}]
[{"$f":"IF(D415<>\"\",Data!A415,\"\")","v":""},{"$f":"IF(D415<>\"\",Data!B415,\"\")","v":""},"",{"$f":"IF(AND(Data!C415<>\"\",Data!C415 > 0),Data!C415,\"\")","v":""}]
[{"$f":"IF(D416<>\"\",Data!A416,\"\")","v":""},{"$f":"IF(D416<>\"\",Data!B416,\"\")","v":""},"",{"$f":"IF(AND(Data!C416<>\"\",Data!C416 > 0),Data!C416,\"\")","v":""}]
[{"$f":"IF(D417<>\"\",Data!A417,\"\")","v":""},{"$f":"IF(D417<>\"\",Data!B417,\"\")","v":""},"",{"$f":"IF(AND(Data!C417<>\"\",Data!C417 > 0),Data!C417,\"\")","v":""}]
[{"$f":"IF(D418<>\"\",Data!A418,\"\")","v":""},{"$f":"IF(D418<>\"\",Data!B418,\"\")","v":""},"",{"$f":"IF(AND(Data!C418<>\"\",Data!C418 > 0),Data!C418,\"\")","v":""}]
[{"$f":"IF(D419<>\"\",Data!A419,\"\")","v":""},{"$f":"IF(D419<>\"\",Data!B419,\"\")","v":""},"",{"$f":"IF(AND(Data!C419<>\"\",Data!C419 > 0),Data!C419,\"\")","v":""}]
[{"$f":"IF(D420<>\"\",Data!A420,\"\")","v":""},{"$f":"IF(D420<>\"\",Data!B420,\"\")","v":""},"",{"$f":"IF(AND(Data!C420<>\"\",Data!C420 > 0),Data!C420,\"\")","v":""}]
[{"$f":"IF(D421<>\"\",Data!A421,\"\")","v":""},{"$f":"IF(D421<>\"\",Data!B421,\"\")","v":""},"",{"$f":"IF(AND(Data!C421<>\"\",Data!C421 > 0),Data!C421,\"\")","v":""}]
[{"$f":"IF(D422<>\"\",Data!A422,\"\")","v":""},{"$f":"IF(D422<>\"\",Data!B422,\"\")","v":""},"",{"$f":"IF(AND(Data!C422<>\"\",Data!C422 > 0),Data!C422,\"\")","v":""}]
[{"$f":"IF(D423<>\"\",Data!A423,\"\")","v":""},{"$f":"IF(D423<>\"\",Data!B423,\"\")","v":""},"",{"$f":"IF(AND(Data!C423<>\"\",Data!C423 > 0),Data!C423,\"\")","v":""}]
[{"$f":"IF(D424<>\"\",Data!A424,\"\")","v":""},{"$f":"IF(D424<>\"\",Data!B424,\"\")","v":""},"",{"$f":"IF(AND(Data!C424<>\"\",Data!C424 > 0),Data!C424,\"\")","v":""}]
[{"$f":"IF(D425<>\"\",Data!A425,\"\")","v":""},{"$f":"IF(D425<>\"\",Data!B425,\"\")","v":""},"",{"$f":"IF(AND(Data!C425<>\"\",Data!C425 > 0),Data!C425,\"\")","v":""}]
[{"$f":"IF(D426<>\"\",Data!A426,\"\")","v":""},{"$f":"IF(D426<>\"\",Data!B426,\"\")","v":""},"",{"$f":"IF(AND(Data!C426<>\"\",Data!C426 > 0),Data!C426,\"\")","v":""}]
[{"$f":"IF(D427<>\"\",Data!A427,\"\")","v":""},{"$f":"IF(D427<>\"\",Data!B427,\"\")","v":""},"",{"$f":"IF(AND(Data!C427<>\"\",Data!C427 > 0),Data!C427,\"\")","v":""}]
[{"$f":"IF(D428<>\"\",Data!A428,\"\")","v":""},{"$f":"IF(D428<>\"\",Data!B428,\"\")","v":""},"",{"$f":"IF(AND(Data!C428<>\"\",Data!C428 > 0),Data!C428,\"\")","v":""}]
[{"$f":"IF(D429<>\"\",Data!A429,\"\")","v":""},{"$f":"IF(D429<>\"\",Data!B429,\"\")","v":""},"",{"$f":"IF(AND(Data!C429<>\"\",Data!C429 > 0),Data!C429,\"\")","v":""}]
[{"$f":"IF(D430<>\"\",Data!A430,\"\")","v":""},{"$f":"IF(D430<>\"\",Data!B430,\"\")","v":""},"",{"$f":"IF(AND(Data!C430<>\"\",Data!C430 > 0),Data!C430,\"\")","v":""}]
[{"$f":"IF(D431<>\"\",Data!A431,\"\")","v":""},{"$f":"IF(D431<>\"\",Data!B431,\"\")","v":""},"",{"$f":"IF(AND(Data!C431<>\"\",Data!C431 > 0),Data!C431,\"\")","v":""}]
[{"$f":"IF(D432<>\"\",Data!A432,\"\")","v":""},{"$f":"IF(D432<>\"\",Data!B432,\"\")","v":""},"",{"$f":"IF(AND(Data!C432<>\"\",Data!C432 > 0),Data!C432,\"\")","v":""}]
[{"$f":"IF(D433<>\"\",Data!A433,\"\")","v":""},{"$f":"IF(D433<>\"\",Data!B433,\"\")","v":""},"",{"$f":"IF(AND(Data!C433<>\"\",Data!C433 > 0),Data!C433,\"\")","v":""}]
[{"$f":"IF(D434<>\"\",Data!A434,\"\")","v":""},{"$f":"IF(D434<>\"\",Data!B434,\"\")","v":""},"",{"$f":"IF(AND(Data!C434<>\"\",Data!C434 > 0),Data!C434,\"\")","v":""}]
[{"$f":"IF(D435<>\"\",Data!A435,\"\")","v":""},{"$f":"IF(D435<>\"\",Data!B435,\"\")","v":""},"",{"$f":"IF(AND(Data!C435<>\"\",Data!C435 > 0),Data!C435,\"\")","v":""}]
[{"$f":"IF(D436<>\"\",Data!A436,\"\")","v":""},{"$f":"IF(D436<>\"\",Data!B436,\"\")","v":""},"",{"$f":"IF(AND(Data!C436<>\"\",Data!C436 > 0),Data!C436,\"\")","v":""}]
[{"$f":"IF(D437<>\"\",Data!A437,\"\")","v":""},{"$f":"IF(D437<>\"\",Data!B437,\"\")","v":""},"",{"$f":"IF(AND(Data!C437<>\"\",Data!C437 > 0),Data!C437,\"\")","v":""}]
[{"$f":"IF(D438<>\"\",Data!A438,\"\")","v":""},{"$f":"IF(D438<>\"\",Data!B438,\"\")","v":""},"",{"$f":"IF(AND(Data!C438<>\"\",Data!C438 > 0),Data!C438,\"\")","v":""}]
[{"$f":"IF(D439<>\"\",Data!A439,\"\")","v":""},{"$f":"IF(D439<>\"\",Data!B439,\"\")","v":""},"",{"$f":"IF(AND(Data!C439<>\"\",Data!C439 > 0),Data!C439,\"\")","v":""}]
[{"$f":"IF(D440<>\"\",Data!A440,\"\")","v":""},{"$f":"IF(D440<>\"\",Data!B440,\"\")","v":""},"",{"$f":"IF(AND(Data!C440<>\"\",Data!C440 > 0),Data!C440,\"\")","v":""}]
[{"$f":"IF(D441<>\"\",Data!A441,\"\")","v":""},{"$f":"IF(D441<>\"\",Data!B441,\"\")","v":""},"",{"$f":"IF(AND(Data!C441<>\"\",Data!C441 > 0),Data!C441,\"\")","v":""}]
[{"$f":"IF(D442<>\"\",Data!A442,\"\")","v":""},{"$f":"IF(D442<>\"\",Data!B442,\"\")","v":""},"",{"$f":"IF(AND(Data!C442<>\"\",Data!C442 > 0),Data!C442,\"\")","v":""}]
[{"$f":"IF(D443<>\"\",Data!A443,\"\")","v":""},{"$f":"IF(D443<>\"\",Data!B443,\"\")","v":""},"",{"$f":"IF(AND(Data!C443<>\"\",Data!C443 > 0),Data!C443,\"\")","v":""}]
[{"$f":"IF(D444<>\"\",Data!A444,\"\")","v":""},{"$f":"IF(D444<>\"\",Data!B444,\"\")","v":""},"",{"$f":"IF(AND(Data!C444<>\"\",Data!C444 > 0),Data!C444,\"\")","v":""}]
[{"$f":"IF(D445<>\"\",Data!A445,\"\")","v":""},{"$f":"IF(D445<>\"\",Data!B445,\"\")","v":""},"",{"$f":"IF(AND(Data!C445<>\"\",Data!C445 > 0),Data!C445,\"\")","v":""}]
[{"$f":"IF(D446<>\"\",Data!A446,\"\")","v":""},{"$f":"IF(D446<>\"\",Data!B446,\"\")","v":""},"",{"$f":"IF(AND(Data!C446<>\"\",Data!C446 > 0),Data!C446,\"\")","v":""}]
[{"$f":"IF(D447<>\"\",Data!A447,\"\")","v":""},{"$f":"IF(D447<>\"\",Data!B447,\"\")","v":""},"",{"$f":"IF(AND(Data!C447<>\"\",Data!C447 > 0),Data!C447,\"\")","v":""}]
[{"$f":"IF(D448<>\"\",Data!A448,\"\")","v":""},{"$f":"IF(D448<>\"\",Data!B448,\"\")","v":""},"",{"$f":"IF(AND(Data!C448<>\"\",Data!C448 > 0),Data!C448,\"\")","v":""}]
[{"$f":"IF(D449<>\"\",Data!A449,\"\")","v":""},{"$f":"IF(D449<>\"\",Data!B449,\"\")","v":""},"",{"$f":"IF(AND(Data!C449<>\"\",Data!C449 > 0),Data!C449,\"\")","v":""}]
[{"$f":"IF(D450<>\"\",Data!A450,\"\")","v":""},{"$f":"IF(D450<>\"\",Data!B450,\"\")","v":""},"",{"$f":"IF(AND(Data!C450<>\"\",Data!C450 > 0),Data!C450,\"\")","v":""}]
[{"$f":"IF(D451<>\"\",Data!A451,\"\")","v":""},{"$f":"IF(D451<>\"\",Data!B451,\"\")","v":""},{"$f":"IF(D451<>\"\",MID(CELL(\"filename\",B450),FIND(\"]\",CELL(\"filename\",B450))+1,32),\"\")","v":""},{"$f":"IF(AND(Data!C451<>\"\",Data!C451 > 0),Data!C451,\"\")","v":""}]
[{"$f":"IF(D452<>\"\",Data!A452,\"\")","v":""},{"$f":"IF(D452<>\"\",Data!B452,\"\")","v":""},"",{"$f":"IF(AND(Data!C452<>\"\",Data!C452 > 0),Data!C452,\"\")","v":""}]
[{"$f":"IF(D453<>\"\",Data!A453,\"\")","v":""},{"$f":"IF(D453<>\"\",Data!B453,\"\")","v":""},"",{"$f":"IF(AND(Data!C453<>\"\",Data!C453 > 0),Data!C453,\"\")","v":""}]
[{"$f":"IF(D454<>\"\",Data!A454,\"\")","v":""},{"$f":"IF(D454<>\"\",Data!B454,\"\")","v":""},"",{"$f":"IF(AND(Data!C454<>\"\",Data!C454 > 0),Data!C454,\"\")","v":""}]
[{"$f":"IF(D455<>\"\",Data!A455,\"\")","v":""},{"$f":"IF(D455<>\"\",Data!B455,\"\")","v":""},"",{"$f":"IF(AND(Data!C455<>\"\",Data!C455 > 0),Data!C455,\"\")","v":""}]
[{"$f":"IF(D456<>\"\",Data!A456,\"\")","v":""},{"$f":"IF(D456<>\"\",Data!B456,\"\")","v":""},"",{"$f":"IF(AND(Data!C456<>\"\",Data!C456 > 0),Data!C456,\"\")","v":""}]
[{"$f":"IF(D457<>\"\",Data!A457,\"\")","v":""},{"$f":"IF(D457<>\"\",Data!B457,\"\")","v":""},"",{"$f":"IF(AND(Data!C457<>\"\",Data!C457 > 0),Data!C457,\"\")","v":""}]
[{"$f":"IF(D458<>\"\",Data!A458,\"\")","v":""},{"$f":"IF(D458<>\"\",Data!B458,\"\")","v":""},"",{"$f":"IF(AND(Data!C458<>\"\",Data!C458 > 0),Data!C458,\"\")","v":""}]
[{"$f":"IF(D459<>\"\",Data!A459,\"\")","v":""},{"$f":"IF(D459<>\"\",Data!B459,\"\")","v":""},"",{"$f":"IF(AND(Data!C459<>\"\",Data!C459 > 0),Data!C459,\"\")","v":""}]
[{"$f":"IF(D460<>\"\",Data!A460,\"\")","v":""},{"$f":"IF(D460<>\"\",Data!B460,\"\")","v":""},"",{"$f":"IF(AND(Data!C460<>\"\",Data!C460 > 0),Data!C460,\"\")","v":""}]
[{"$f":"IF(D461<>\"\",Data!A461,\"\")","v":""},{"$f":"IF(D461<>\"\",Data!B461,\"\")","v":""},"",{"$f":"IF(AND(Data!C461<>\"\",Data!C461 > 0),Data!C461,\"\")","v":""}]
[{"$f":"IF(D462<>\"\",Data!A462,\"\")","v":""},{"$f":"IF(D462<>\"\",Data!B462,\"\")","v":""},"",{"$f":"IF(AND(Data!C462<>\"\",Data!C462 > 0),Data!C462,\"\")","v":""}]
[{"$f":"IF(D463<>\"\",Data!A463,\"\")","v":""},{"$f":"IF(D463<>\"\",Data!B463,\"\")","v":""},"",{"$f":"IF(AND(Data!C463<>\"\",Data!C463 > 0),Data!C463,\"\")","v":""}]
[{"$f":"IF(D464<>\"\",Data!A464,\"\")","v":""},{"$f":"IF(D464<>\"\",Data!B464,\"\")","v":""},"",{"$f":"IF(AND(Data!C464<>\"\",Data!C464 > 0),Data!C464,\"\")","v":""}]
[{"$f":"IF(D465<>\"\",Data!A465,\"\")","v":""},{"$f":"IF(D465<>\"\",Data!B465,\"\")","v":""},"",{"$f":"IF(AND(Data!C465<>\"\",Data!C465 > 0),Data!C465,\"\")","v":""}]
[{"$f":"IF(D466<>\"\",Data!A466,\"\")","v":""},{"$f":"IF(D466<>\"\",Data!B466,\"\")","v":""},"",{"$f":"IF(AND(Data!C466<>\"\",Data!C466 > 0),Data!C466,\"\")","v":""}]
[{"$f":"IF(D467<>\"\",Data!A467,\"\")","v":""},{"$f":"IF(D467<>\"\",Data!B467,\"\")","v":""},"",{"$f":"IF(AND(Data!C467<>\"\",Data!C467 > 0),Data!C467,\"\")","v":""}]
[{"$f":"IF(D468<>\"\",Data!A468,\"\")","v":""},{"$f":"IF(D468<>\"\",Data!B468,\"\")","v":""},"",{"$f":"IF(AND(Data!C468<>\"\",Data!C468 > 0),Data!C468,\"\")","v":""}]
[{"$f":"IF(D469<>\"\",Data!A469,\"\")","v":""},{"$f":"IF(D469<>\"\",Data!B469,\"\")","v":""},"",{"$f":"IF(AND(Data!C469<>\"\",Data!C469 > 0),Data!C469,\"\")","v":""}]
[{"$f":"IF(D470<>\"\",Data!A470,\"\")","v":""},{"$f":"IF(D470<>\"\",Data!B470,\"\")","v":""},"",{"$f":"IF(AND(Data!C470<>\"\",Data!C470 > 0),Data!C470,\"\")","v":""}]
[{"$f":"IF(D471<>\"\",Data!A471,\"\")","v":""},{"$f":"IF(D471<>\"\",Data!B471,\"\")","v":""},"",{"$f":"IF(AND(Data!C471<>\"\",Data!C471 > 0),Data!C471,\"\")","v":""}]
[{"$f":"IF(D472<>\"\",Data!A472,\"\")","v":""},{"$f":"IF(D472<>\"\",Data!B472,\"\")","v":""},"",{"$f":"IF(AND(Data!C472<>\"\",Data!C472 > 0),Data!C472,\"\")","v":""}]
[{"$f":"IF(D473<>\"\",Data!A473,\"\")","v":""},{"$f":"IF(D473<>\"\",Data!B473,\"\")","v":""},"",{"$f":"IF(AND(Data!C473<>\"\",Data!C473 > 0),Data!C473,\"\")","v":""}]
[{"$f":"IF(D474<>\"\",Data!A474,\"\")","v":""},{"$f":"IF(D474<>\"\",Data!B474,\"\")","v":""},"",{"$f":"IF(AND(Data!C474<>\"\",Data!C474 > 0),Data!C474,\"\")","v":""}]
[{"$f":"IF(D475<>\"\",Data!A475,\"\")","v":""},{"$f":"IF(D475<>\"\",Data!B475,\"\")","v":""},"",{"$f":"IF(AND(Data!C475<>\"\",Data!C475 > 0),Data!C475,\"\")","v":""}]
[{"$f":"IF(D476<>\"\",Data!A476,\"\")","v":""},{"$f":"IF(D476<>\"\",Data!B476,\"\")","v":""},"",{"$f":"IF(AND(Data!C476<>\"\",Data!C476 > 0),Data!C476,\"\")","v":""}]
[{"$f":"IF(D477<>\"\",Data!A477,\"\")","v":""},{"$f":"IF(D477<>\"\",Data!B477,\"\")","v":""},"",{"$f":"IF(AND(Data!C477<>\"\",Data!C477 > 0),Data!C477,\"\")","v":""}]
[{"$f":"IF(D478<>\"\",Data!A478,\"\")","v":""},{"$f":"IF(D478<>\"\",Data!B478,\"\")","v":""},"",{"$f":"IF(AND(Data!C478<>\"\",Data!C478 > 0),Data!C478,\"\")","v":""}]
[{"$f":"IF(D479<>\"\",Data!A479,\"\")","v":""},{"$f":"IF(D479<>\"\",Data!B479,\"\")","v":""},"",{"$f":"IF(AND(Data!C479<>\"\",Data!C479 > 0),Data!C479,\"\")","v":""}]
[{"$f":"IF(D480<>\"\",Data!A480,\"\")","v":""},{"$f":"IF(D480<>\"\",Data!B480,\"\")","v":""},"",{"$f":"IF(AND(Data!C480<>\"\",Data!C480 > 0),Data!C480,\"\")","v":""}]
[{"$f":"IF(D481<>\"\",Data!A481,\"\")","v":""},{"$f":"IF(D481<>\"\",Data!B481,\"\")","v":""},"",{"$f":"IF(AND(Data!C481<>\"\",Data!C481 > 0),Data!C481,\"\")","v":""}]
[{"$f":"IF(D482<>\"\",Data!A482,\"\")","v":""},{"$f":"IF(D482<>\"\",Data!B482,\"\")","v":""},"",{"$f":"IF(AND(Data!C482<>\"\",Data!C482 > 0),Data!C482,\"\")","v":""}]
[{"$f":"IF(D483<>\"\",Data!A483,\"\")","v":""},{"$f":"IF(D483<>\"\",Data!B483,\"\")","v":""},"",{"$f":"IF(AND(Data!C483<>\"\",Data!C483 > 0),Data!C483,\"\")","v":""}]
[{"$f":"IF(D484<>\"\",Data!A484,\"\")","v":""},{"$f":"IF(D484<>\"\",Data!B484,\"\")","v":""},"",{"$f":"IF(AND(Data!C484<>\"\",Data!C484 > 0),Data!C484,\"\")","v":""}]
[{"$f":"IF(D485<>\"\",Data!A485,\"\")","v":""},{"$f":"IF(D485<>\"\",Data!B485,\"\")","v":""},"",{"$f":"IF(AND(Data!C485<>\"\",Data!C485 > 0),Data!C485,\"\")","v":""}]
[{"$f":"IF(D486<>\"\",Data!A486,\"\")","v":""},{"$f":"IF(D486<>\"\",Data!B486,\"\")","v":""},"",{"$f":"IF(AND(Data!C486<>\"\",Data!C486 > 0),Data!C486,\"\")","v":""}]
[{"$f":"IF(D487<>\"\",Data!A487,\"\")","v":""},{"$f":"IF(D487<>\"\",Data!B487,\"\")","v":""},"",{"$f":"IF(AND(Data!C487<>\"\",Data!C487 > 0),Data!C487,\"\")","v":""}]
[{"$f":"IF(D488<>\"\",Data!A488,\"\")","v":""},{"$f":"IF(D488<>\"\",Data!B488,\"\")","v":""},"",{"$f":"IF(AND(Data!C488<>\"\",Data!C488 > 0),Data!C488,\"\")","v":""}]
[{"$f":"IF(D489<>\"\",Data!A489,\"\")","v":""},{"$f":"IF(D489<>\"\",Data!B489,\"\")","v":""},"",{"$f":"IF(AND(Data!C489<>\"\",Data!C489 > 0),Data!C489,\"\")","v":""}]
[{"$f":"IF(D490<>\"\",Data!A490,\"\")","v":""},{"$f":"IF(D490<>\"\",Data!B490,\"\")","v":""},"",{"$f":"IF(AND(Data!C490<>\"\",Data!C490 > 0),Data!C490,\"\")","v":""}]
[{"$f":"IF(D491<>\"\",Data!A491,\"\")","v":""},{"$f":"IF(D491<>\"\",Data!B491,\"\")","v":""},"",{"$f":"IF(AND(Data!C491<>\"\",Data!C491 > 0),Data!C491,\"\")","v":""}]
[{"$f":"IF(D492<>\"\",Data!A492,\"\")","v":""},{"$f":"IF(D492<>\"\",Data!B492,\"\")","v":""},"",{"$f":"IF(AND(Data!C492<>\"\",Data!C492 > 0),Data!C492,\"\")","v":""}]
[{"$f":"IF(D493<>\"\",Data!A493,\"\")","v":""},{"$f":"IF(D493<>\"\",Data!B493,\"\")","v":""},"",{"$f":"IF(AND(Data!C493<>\"\",Data!C493 > 0),Data!C493,\"\")","v":""}]
[{"$f":"IF(D494<>\"\",Data!A494,\"\")","v":""},{"$f":"IF(D494<>\"\",Data!B494,\"\")","v":""},"",{"$f":"IF(AND(Data!C494<>\"\",Data!C494 > 0),Data!C494,\"\")","v":""}]
[{"$f":"IF(D495<>\"\",Data!A495,\"\")","v":""},{"$f":"IF(D495<>\"\",Data!B495,\"\")","v":""},"",{"$f":"IF(AND(Data!C495<>\"\",Data!C495 > 0),Data!C495,\"\")","v":""}]
[{"$f":"IF(D496<>\"\",Data!A496,\"\")","v":""},{"$f":"IF(D496<>\"\",Data!B496,\"\")","v":""},"",{"$f":"IF(AND(Data!C496<>\"\",Data!C496 > 0),Data!C496,\"\")","v":""}]
[{"$f":"IF(D497<>\"\",Data!A497,\"\")","v":""},{"$f":"IF(D497<>\"\",Data!B497,\"\")","v":""},"",{"$f":"IF(AND(Data!C497<>\"\",Data!C497 > 0),Data!C497,\"\")","v":""}]
[{"$f":"IF(D498<>\"\",Data!A498,\"\")","v":""},{"$f":"IF(D498<>\"\",Data!B498,\"\")","v":""},"",{"$f":"IF(AND(Data!C498<>\"\",Data!C498 > 0),Data!C498,\"\")","v":""}]
[{"$f":"IF(D499<>\"\",Data!A499,\"\")","v":""},{"$f":"IF(D499<>\"\",Data!B499,\"\")","v":""},"",{"$f":"IF(AND(Data!C499<>\"\",Data!C499 > 0),Data!C499,\"\")","v":""}]
[{"$f":"IF(D500<>\"\",Data!A500,\"\")","v":""},{"$f":"IF(D500<>\"\",Data!B500,\"\")","v":""},"",{"$f":"IF(AND(Data!C500<>\"\",Data!C500 > 0),Data!C500,\"\")","v":""}]
[{"$f":"IF(D501<>\"\",Data!A501,\"\")","v":""},{"$f":"IF(D501<>\"\",Data!B501,\"\")","v":""},"",{"$f":"IF(AND(Data!C501<>\"\",Data!C501 > 0),Data!C501,\"\")","v":""}]
[{"$f":"IF(D502<>\"\",Data!A502,\"\")","v":""},{"$f":"IF(D502<>\"\",Data!B502,\"\")","v":""},"",{"$f":"IF(AND(Data!C502<>\"\",Data!C502 > 0),Data!C502,\"\")","v":""}]
[{"$f":"IF(D503<>\"\",Data!A503,\"\")","v":""},{"$f":"IF(D503<>\"\",Data!B503,\"\")","v":""},"",{"$f":"IF(AND(Data!C503<>\"\",Data!C503 > 0),Data!C503,\"\")","v":""}]
[{"$f":"IF(D504<>\"\",Data!A504,\"\")","v":""},{"$f":"IF(D504<>\"\",Data!B504,\"\")","v":""},"",{"$f":"IF(AND(Data!C504<>\"\",Data!C504 > 0),Data!C504,\"\")","v":""}]
[{"$f":"IF(D505<>\"\",Data!A505,\"\")","v":""},{"$f":"IF(D505<>\"\",Data!B505,\"\")","v":""},"",{"$f":"IF(AND(Data!C505<>\"\",Data!C505 > 0),Data!C505,\"\")","v":""}]
[{"$f":"IF(D506<>\"\",Data!A506,\"\")","v":""},{"$f":"IF(D506<>\"\",Data!B506,\"\")","v":""},"",{"$f":"IF(AND(Data!C506<>\"\",Data!C506 > 0),Data!C506,\"\")","v":""}]
[{"$f":"IF(D507<>\"\",Data!A507,\"\")","v":""},{"$f":"IF(D507<>\"\",Data!B507,\"\")","v":""},"",{"$f":"IF(AND(Data!C507<>\"\",Data!C507 > 0),Data!C507,\"\")","v":""}]
[{"$f":"IF(D508<>\"\",Data!A508,\"\")","v":""},{"$f":"IF(D508<>\"\",Data!B508,\"\")","v":""},"",{"$f":"IF(AND(Data!C508<>\"\",Data!C508 > 0),Data!C508,\"\")","v":""}]
[{"$f":"IF(D509<>\"\",Data!A509,\"\")","v":""},{"$f":"IF(D509<>\"\",Data!B509,\"\")","v":""},"",{"$f":"IF(AND(Data!C509<>\"\",Data!C509 > 0),Data!C509,\"\")","v":""}]
[{"$f":"IF(D510<>\"\",Data!A510,\"\")","v":""},{"$f":"IF(D510<>\"\",Data!B510,\"\")","v":""},"",{"$f":"IF(AND(Data!C510<>\"\",Data!C510 > 0),Data!C510,\"\")","v":""}]
[{"$f":"IF(D511<>\"\",Data!A511,\"\")","v":""},{"$f":"IF(D511<>\"\",Data!B511,\"\")","v":""},"",{"$f":"IF(AND(Data!C511<>\"\",Data!C511 > 0),Data!C511,\"\")","v":""}]
[{"$f":"IF(D512<>\"\",Data!A512,\"\")","v":""},{"$f":"IF(D512<>\"\",Data!B512,\"\")","v":""},"",{"$f":"IF(AND(Data!C512<>\"\",Data!C512 > 0),Data!C512,\"\")","v":""}]
[{"$f":"IF(D513<>\"\",Data!A513,\"\")","v":""},{"$f":"IF(D513<>\"\",Data!B513,\"\")","v":""},"",{"$f":"IF(AND(Data!C513<>\"\",Data!C513 > 0),Data!C513,\"\")","v":""}]
[{"$f":"IF(D514<>\"\",Data!A514,\"\")","v":""},{"$f":"IF(D514<>\"\",Data!B514,\"\")","v":""},"",{"$f":"IF(AND(Data!C514<>\"\",Data!C514 > 0),Data!C514,\"\")","v":""}]
[{"$f":"IF(D515<>\"\",Data!A515,\"\")","v":""},{"$f":"IF(D515<>\"\",Data!B515,\"\")","v":""},{"$f":"IF(D515<>\"\",MID(CELL(\"filename\",B514),FIND(\"]\",CELL(\"filename\",B514))+1,32),\"\")","v":""},{"$f":"IF(AND(Data!C515<>\"\",Data!C515 > 0),Data!C515,\"\")","v":""}]
[{"$f":"IF(D516<>\"\",Data!A516,\"\")","v":""},{"$f":"IF(D516<>\"\",Data!B516,\"\")","v":""},"",{"$f":"IF(AND(Data!C516<>\"\",Data!C516 > 0),Data!C516,\"\")","v":""}]
[{"$f":"IF(D517<>\"\",Data!A517,\"\")","v":""},{"$f":"IF(D517<>\"\",Data!B517,\"\")","v":""},"",{"$f":"IF(AND(Data!C517<>\"\",Data!C517 > 0),Data!C517,\"\")","v":""}]
[{"$f":"IF(D518<>\"\",Data!A518,\"\")","v":""},{"$f":"IF(D518<>\"\",Data!B518,\"\")","v":""},"",{"$f":"IF(AND(Data!C518<>\"\",Data!C518 > 0),Data!C518,\"\")","v":""}]
[{"$f":"IF(D519<>\"\",Data!A519,\"\")","v":""},{"$f":"IF(D519<>\"\",Data!B519,\"\")","v":""},"",{"$f":"IF(AND(Data!C519<>\"\",Data!C519 > 0),Data!C519,\"\")","v":""}]
[{"$f":"IF(D520<>\"\",Data!A520,\"\")","v":""},{"$f":"IF(D520<>\"\",Data!B520,\"\")","v":""},"",{"$f":"IF(AND(Data!C520<>\"\",Data!C520 > 0),Data!C520,\"\")","v":""}]
[{"$f":"IF(D521<>\"\",Data!A521,\"\")","v":""},{"$f":"IF(D521<>\"\",Data!B521,\"\")","v":""},"",{"$f":"IF(AND(Data!C521<>\"\",Data!C521 > 0),Data!C521,\"\")","v":""}]
[{"$f":"IF(D522<>\"\",Data!A522,\"\")","v":""},{"$f":"IF(D522<>\"\",Data!B522,\"\")","v":""},"",{"$f":"IF(AND(Data!C522<>\"\",Data!C522 > 0),Data!C522,\"\")","v":""}]
[{"$f":"IF(D523<>\"\",Data!A523,\"\")","v":""},{"$f":"IF(D523<>\"\",Data!B523,\"\")","v":""},"",{"$f":"IF(AND(Data!C523<>\"\",Data!C523 > 0),Data!C523,\"\")","v":""}]
[{"$f":"IF(D524<>\"\",Data!A524,\"\")","v":""},{"$f":"IF(D524<>\"\",Data!B524,\"\")","v":""},"",{"$f":"IF(AND(Data!C524<>\"\",Data!C524 > 0),Data!C524,\"\")","v":""}]
[{"$f":"IF(D525<>\"\",Data!A525,\"\")","v":""},{"$f":"IF(D525<>\"\",Data!B525,\"\")","v":""},"",{"$f":"IF(AND(Data!C525<>\"\",Data!C525 > 0),Data!C525,\"\")","v":""}]
[{"$f":"IF(D526<>\"\",Data!A526,\"\")","v":""},{"$f":"IF(D526<>\"\",Data!B526,\"\")","v":""},"",{"$f":"IF(AND(Data!C526<>\"\",Data!C526 > 0),Data!C526,\"\")","v":""}]
[{"$f":"IF(D527<>\"\",Data!A527,\"\")","v":""},{"$f":"IF(D527<>\"\",Data!B527,\"\")","v":""},"",{"$f":"IF(AND(Data!C527<>\"\",Data!C527 > 0),Data!C527,\"\")","v":""}]
[{"$f":"IF(D528<>\"\",Data!A528,\"\")","v":""},{"$f":"IF(D528<>\"\",Data!B528,\"\")","v":""},"",{"$f":"IF(AND(Data!C528<>\"\",Data!C528 > 0),Data!C528,\"\")","v":""}]
[{"$f":"IF(D529<>\"\",Data!A529,\"\")","v":""},{"$f":"IF(D529<>\"\",Data!B529,\"\")","v":""},"",{"$f":"IF(AND(Data!C529<>\"\",Data!C529 > 0),Data!C529,\"\")","v":""}]
[{"$f":"IF(D530<>\"\",Data!A530,\"\")","v":""},{"$f":"IF(D530<>\"\",Data!B530,\"\")","v":""},"",{"$f":"IF(AND(Data!C530<>\"\",Data!C530 > 0),Data!C530,\"\")","v":""}]
[{"$f":"IF(D531<>\"\",Data!A531,\"\")","v":""},{"$f":"IF(D531<>\"\",Data!B531,\"\")","v":""},"",{"$f":"IF(AND(Data!C531<>\"\",Data!C531 > 0),Data!C531,\"\")","v":""}]
[{"$f":"IF(D532<>\"\",Data!A532,\"\")","v":""},{"$f":"IF(D532<>\"\",Data!B532,\"\")","v":""},"",{"$f":"IF(AND(Data!C532<>\"\",Data!C532 > 0),Data!C532,\"\")","v":""}]
[{"$f":"IF(D533<>\"\",Data!A533,\"\")","v":""},{"$f":"IF(D533<>\"\",Data!B533,\"\")","v":""},"",{"$f":"IF(AND(Data!C533<>\"\",Data!C533 > 0),Data!C533,\"\")","v":""}]
[{"$f":"IF(D534<>\"\",Data!A534,\"\")","v":""},{"$f":"IF(D534<>\"\",Data!B534,\"\")","v":""},"",{"$f":"IF(AND(Data!C534<>\"\",Data!C534 > 0),Data!C534,\"\")","v":""}]
[{"$f":"IF(D535<>\"\",Data!A535,\"\")","v":""},{"$f":"IF(D535<>\"\",Data!B535,\"\")","v":""},"",{"$f":"IF(AND(Data!C535<>\"\",Data!C535 > 0),Data!C535,\"\")","v":""}]
[{"$f":"IF(D536<>\"\",Data!A536,\"\")","v":""},{"$f":"IF(D536<>\"\",Data!B536,\"\")","v":""},"",{"$f":"IF(AND(Data!C536<>\"\",Data!C536 > 0),Data!C536,\"\")","v":""}]
[{"$f":"IF(D537<>\"\",Data!A537,\"\")","v":""},{"$f":"IF(D537<>\"\",Data!B537,\"\")","v":""},"",{"$f":"IF(AND(Data!C537<>\"\",Data!C537 > 0),Data!C537,\"\")","v":""}]
[{"$f":"IF(D538<>\"\",Data!A538,\"\")","v":""},{"$f":"IF(D538<>\"\",Data!B538,\"\")","v":""},"",{"$f":"IF(AND(Data!C538<>\"\",Data!C538 > 0),Data!C538,\"\")","v":""}]
[{"$f":"IF(D539<>\"\",Data!A539,\"\")","v":""},{"$f":"IF(D539<>\"\",Data!B539,\"\")","v":""},"",{"$f":"IF(AND(Data!C539<>\"\",Data!C539 > 0),Data!C539,\"\")","v":""}]
[{"$f":"IF(D540<>\"\",Data!A540,\"\")","v":""},{"$f":"IF(D540<>\"\",Data!B540,\"\")","v":""},"",{"$f":"IF(AND(Data!C540<>\"\",Data!C540 > 0),Data!C540,\"\")","v":""}]
[{"$f":"IF(D541<>\"\",Data!A541,\"\")","v":""},{"$f":"IF(D541<>\"\",Data!B541,\"\")","v":""},"",{"$f":"IF(AND(Data!C541<>\"\",Data!C541 > 0),Data!C541,\"\")","v":""}]
[{"$f":"IF(D542<>\"\",Data!A542,\"\")","v":""},{"$f":"IF(D542<>\"\",Data!B542,\"\")","v":""},"",{"$f":"IF(AND(Data!C542<>\"\",Data!C542 > 0),Data!C542,\"\")","v":""}]
[{"$f":"IF(D543<>\"\",Data!A543,\"\")","v":""},{"$f":"IF(D543<>\"\",Data!B543,\"\")","v":""},"",{"$f":"IF(AND(Data!C543<>\"\",Data!C543 > 0),Data!C543,\"\")","v":""}]
[{"$f":"IF(D544<>\"\",Data!A544,\"\")","v":""},{"$f":"IF(D544<>\"\",Data!B544,\"\")","v":""},"",{"$f":"IF(AND(Data!C544<>\"\",Data!C544 > 0),Data!C544,\"\")","v":""}]
[{"$f":"IF(D545<>\"\",Data!A545,\"\")","v":""},{"$f":"IF(D545<>\"\",Data!B545,\"\")","v":""},"",{"$f":"IF(AND(Data!C545<>\"\",Data!C545 > 0),Data!C545,\"\")","v":""}]
[{"$f":"IF(D546<>\"\",Data!A546,\"\")","v":""},{"$f":"IF(D546<>\"\",Data!B546,\"\")","v":""},"",{"$f":"IF(AND(Data!C546<>\"\",Data!C546 > 0),Data!C546,\"\")","v":""}]
[{"$f":"IF(D547<>\"\",Data!A547,\"\")","v":""},{"$f":"IF(D547<>\"\",Data!B547,\"\")","v":""},"",{"$f":"IF(AND(Data!C547<>\"\",Data!C547 > 0),Data!C547,\"\")","v":""}]
[{"$f":"IF(D548<>\"\",Data!A548,\"\")","v":""},{"$f":"IF(D548<>\"\",Data!B548,\"\")","v":""},"",{"$f":"IF(AND(Data!C548<>\"\",Data!C548 > 0),Data!C548,\"\")","v":""}]
[{"$f":"IF(D549<>\"\",Data!A549,\"\")","v":""},{"$f":"IF(D549<>\"\",Data!B549,\"\")","v":""},"",{"$f":"IF(AND(Data!C549<>\"\",Data!C549 > 0),Data!C549,\"\")","v":""}]
[{"$f":"IF(D550<>\"\",Data!A550,\"\")","v":""},{"$f":"IF(D550<>\"\",Data!B550,\"\")","v":""},"",{"$f":"IF(AND(Data!C550<>\"\",Data!C550 > 0),Data!C550,\"\")","v":""}]
[{"$f":"IF(D551<>\"\",Data!A551,\"\")","v":""},{"$f":"IF(D551<>\"\",Data!B551,\"\")","v":""},"",{"$f":"IF(AND(Data!C551<>\"\",Data!C551 > 0),Data!C551,\"\")","v":""}]
[{"$f":"IF(D552<>\"\",Data!A552,\"\")","v":""},{"$f":"IF(D552<>\"\",Data!B552,\"\")","v":""},"",{"$f":"IF(AND(Data!C552<>\"\",Data!C552 > 0),Data!C552,\"\")","v":""}]
[{"$f":"IF(D553<>\"\",Data!A553,\"\")","v":""},{"$f":"IF(D553<>\"\",Data!B553,\"\")","v":""},"",{"$f":"IF(AND(Data!C553<>\"\",Data!C553 > 0),Data!C553,\"\")","v":""}]
[{"$f":"IF(D554<>\"\",Data!A554,\"\")","v":""},{"$f":"IF(D554<>\"\",Data!B554,\"\")","v":""},"",{"$f":"IF(AND(Data!C554<>\"\",Data!C554 > 0),Data!C554,\"\")","v":""}]
[{"$f":"IF(D555<>\"\",Data!A555,\"\")","v":""},{"$f":"IF(D555<>\"\",Data!B555,\"\")","v":""},"",{"$f":"IF(AND(Data!C555<>\"\",Data!C555 > 0),Data!C555,\"\")","v":""}]
[{"$f":"IF(D556<>\"\",Data!A556,\"\")","v":""},{"$f":"IF(D556<>\"\",Data!B556,\"\")","v":""},"",{"$f":"IF(AND(Data!C556<>\"\",Data!C556 > 0),Data!C556,\"\")","v":""}]
[{"$f":"IF(D557<>\"\",Data!A557,\"\")","v":""},{"$f":"IF(D557<>\"\",Data!B557,\"\")","v":""},"",{"$f":"IF(AND(Data!C557<>\"\",Data!C557 > 0),Data!C557,\"\")","v":""}]
[{"$f":"IF(D558<>\"\",Data!A558,\"\")","v":""},{"$f":"IF(D558<>\"\",Data!B558,\"\")","v":""},"",{"$f":"IF(AND(Data!C558<>\"\",Data!C558 > 0),Data!C558,\"\")","v":""}]
[{"$f":"IF(D559<>\"\",Data!A559,\"\")","v":""},{"$f":"IF(D559<>\"\",Data!B559,\"\")","v":""},"",{"$f":"IF(AND(Data!C559<>\"\",Data!C559 > 0),Data!C559,\"\")","v":""}]
[{"$f":"IF(D560<>\"\",Data!A560,\"\")","v":""},{"$f":"IF(D560<>\"\",Data!B560,\"\")","v":""},"",{"$f":"IF(AND(Data!C560<>\"\",Data!C560 > 0),Data!C560,\"\")","v":""}]
[{"$f":"IF(D561<>\"\",Data!A561,\"\")","v":""},{"$f":"IF(D561<>\"\",Data!B561,\"\")","v":""},"",{"$f":"IF(AND(Data!C561<>\"\",Data!C561 > 0),Data!C561,\"\")","v":""}]
[{"$f":"IF(D562<>\"\",Data!A562,\"\")","v":""},{"$f":"IF(D562<>\"\",Data!B562,\"\")","v":""},"",{"$f":"IF(AND(Data!C562<>\"\",Data!C562 > 0),Data!C562,\"\")","v":""}]
[{"$f":"IF(D563<>\"\",Data!A563,\"\")","v":""},{"$f":"IF(D563<>\"\",Data!B563,\"\")","v":""},"",{"$f":"IF(AND(Data!C563<>\"\",Data!C563 > 0),Data!C563,\"\")","v":""}]
[{"$f":"IF(D564<>\"\",Data!A564,\"\")","v":""},{"$f":"IF(D564<>\"\",Data!B564,\"\")","v":""},"",{"$f":"IF(AND(Data!C564<>\"\",Data!C564 > 0),Data!C564,\"\")","v":""}]
[{"$f":"IF(D565<>\"\",Data!A565,\"\")","v":""},{"$f":"IF(D565<>\"\",Data!B565,\"\")","v":""},"",{"$f":"IF(AND(Data!C565<>\"\",Data!C565 > 0),Data!C565,\"\")","v":""}]
[{"$f":"IF(D566<>\"\",Data!A566,\"\")","v":""},{"$f":"IF(D566<>\"\",Data!B566,\"\")","v":""},"",{"$f":"IF(AND(Data!C566<>\"\",Data!C566 > 0),Data!C566,\"\")","v":""}]
[{"$f":"IF(D567<>\"\",Data!A567,\"\")","v":""},{"$f":"IF(D567<>\"\",Data!B567,\"\")","v":""},"",{"$f":"IF(AND(Data!C567<>\"\",Data!C567 > 0),Data!C567,\"\")","v":""}]
[{"$f":"IF(D568<>\"\",Data!A568,\"\")","v":""},{"$f":"IF(D568<>\"\",Data!B568,\"\")","v":""},"",{"$f":"IF(AND(Data!C568<>\"\",Data!C568 > 0),Data!C568,\"\")","v":""}]
[{"$f":"IF(D569<>\"\",Data!A569,\"\")","v":""},{"$f":"IF(D569<>\"\",Data!B569,\"\")","v":""},"",{"$f":"IF(AND(Data!C569<>\"\",Data!C569 > 0),Data!C569,\"\")","v":""}]
[{"$f":"IF(D570<>\"\",Data!A570,\"\")","v":""},{"$f":"IF(D570<>\"\",Data!B570,\"\")","v":""},"",{"$f":"IF(AND(Data!C570<>\"\",Data!C570 > 0),Data!C570,\"\")","v":""}]
[{"$f":"IF(D571<>\"\",Data!A571,\"\")","v":""},{"$f":"IF(D571<>\"\",Data!B571,\"\")","v":""},"",{"$f":"IF(AND(Data!C571<>\"\",Data!C571 > 0),Data!C571,\"\")","v":""}]
[{"$f":"IF(D572<>\"\",Data!A572,\"\")","v":""},{"$f":"IF(D572<>\"\",Data!B572,\"\")","v":""},"",{"$f":"IF(AND(Data!C572<>\"\",Data!C572 > 0),Data!C572,\"\")","v":""}]
[{"$f":"IF(D573<>\"\",Data!A573,\"\")","v":""},{"$f":"IF(D573<>\"\",Data!B573,\"\")","v":""},"",{"$f":"IF(AND(Data!C573<>\"\",Data!C573 > 0),Data!C573,\"\")","v":""}]
[{"$f":"IF(D574<>\"\",Data!A574,\"\")","v":""},{"$f":"IF(D574<>\"\",Data!B574,\"\")","v":""},"",{"$f":"IF(AND(Data!C574<>\"\",Data!C574 > 0),Data!C574,\"\")","v":""}]
[{"$f":"IF(D575<>\"\",Data!A575,\"\")","v":""},{"$f":"IF(D575<>\"\",Data!B575,\"\")","v":""},"",{"$f":"IF(AND(Data!C575<>\"\",Data!C575 > 0),Data!C575,\"\")","v":""}]
[{"$f":"IF(D576<>\"\",Data!A576,\"\")","v":""},{"$f":"IF(D576<>\"\",Data!B576,\"\")","v":""},"",{"$f":"IF(AND(Data!C576<>\"\",Data!C576 > 0),Data!C576,\"\")","v":""}]
[{"$f":"IF(D577<>\"\",Data!A577,\"\")","v":""},{"$f":"IF(D577<>\"\",Data!B577,\"\")","v":""},"",{"$f":"IF(AND(Data!C577<>\"\",Data!C577 > 0),Data!C577,\"\")","v":""}]
[{"$f":"IF(D578<>\"\",Data!A578,\"\")","v":""},{"$f":"IF(D578<>\"\",Data!B578,\"\")","v":""},"",{"$f":"IF(AND(Data!C578<>\"\",Data!C578 > 0),Data!C578,\"\")","v":""}]
[{"$f":"IF(D579<>\"\",Data!A579,\"\")","v":""},{"$f":"IF(D579<>\"\",Data!B579,\"\")","v":""},{"$f":"IF(D579<>\"\",MID(CELL(\"filename\",B578),FIND(\"]\",CELL(\"filename\",B578))+1,32),\"\")","v":""},{"$f":"IF(AND(Data!C579<>\"\",Data!C579 > 0),Data!C579,\"\")","v":""}]
[{"$f":"IF(D580<>\"\",Data!A580,\"\")","v":""},{"$f":"IF(D580<>\"\",Data!B580,\"\")","v":""},"",{"$f":"IF(AND(Data!C580<>\"\",Data!C580 > 0),Data!C580,\"\")","v":""}]
[{"$f":"IF(D581<>\"\",Data!A581,\"\")","v":""},{"$f":"IF(D581<>\"\",Data!B581,\"\")","v":""},"",{"$f":"IF(AND(Data!C581<>\"\",Data!C581 > 0),Data!C581,\"\")","v":""}]
[{"$f":"IF(D582<>\"\",Data!A582,\"\")","v":""},{"$f":"IF(D582<>\"\",Data!B582,\"\")","v":""},"",{"$f":"IF(AND(Data!C582<>\"\",Data!C582 > 0),Data!C582,\"\")","v":""}]
[{"$f":"IF(D583<>\"\",Data!A583,\"\")","v":""},{"$f":"IF(D583<>\"\",Data!B583,\"\")","v":""},"",{"$f":"IF(AND(Data!C583<>\"\",Data!C583 > 0),Data!C583,\"\")","v":""}]
[{"$f":"IF(D584<>\"\",Data!A584,\"\")","v":""},{"$f":"IF(D584<>\"\",Data!B584,\"\")","v":""},"",{"$f":"IF(AND(Data!C584<>\"\",Data!C584 > 0),Data!C584,\"\")","v":""}]
[{"$f":"IF(D585<>\"\",Data!A585,\"\")","v":""},{"$f":"IF(D585<>\"\",Data!B585,\"\")","v":""},"",{"$f":"IF(AND(Data!C585<>\"\",Data!C585 > 0),Data!C585,\"\")","v":""}]
[{"$f":"IF(D586<>\"\",Data!A586,\"\")","v":""},{"$f":"IF(D586<>\"\",Data!B586,\"\")","v":""},"",{"$f":"IF(AND(Data!C586<>\"\",Data!C586 > 0),Data!C586,\"\")","v":""}]
[{"$f":"IF(D587<>\"\",Data!A587,\"\")","v":""},{"$f":"IF(D587<>\"\",Data!B587,\"\")","v":""},"",{"$f":"IF(AND(Data!C587<>\"\",Data!C587 > 0),Data!C587,\"\")","v":""}]
[{"$f":"IF(D588<>\"\",Data!A588,\"\")","v":""},{"$f":"IF(D588<>\"\",Data!B588,\"\")","v":""},"",{"$f":"IF(AND(Data!C588<>\"\",Data!C588 > 0),Data!C588,\"\")","v":""}]
[{"$f":"IF(D589<>\"\",Data!A589,\"\")","v":""},{"$f":"IF(D589<>\"\",Data!B589,\"\")","v":""},"",{"$f":"IF(AND(Data!C589<>\"\",Data!C589 > 0),Data!C589,\"\")","v":""}]
[{"$f":"IF(D590<>\"\",Data!A590,\"\")","v":""},{"$f":"IF(D590<>\"\",Data!B590,\"\")","v":""},"",{"$f":"IF(AND(Data!C590<>\"\",Data!C590 > 0),Data!C590,\"\")","v":""}]
[{"$f":"IF(D591<>\"\",Data!A591,\"\")","v":""},{"$f":"IF(D591<>\"\",Data!B591,\"\")","v":""},"",{"$f":"IF(AND(Data!C591<>\"\",Data!C591 > 0),Data!C591,\"\")","v":""}]
[{"$f":"IF(D592<>\"\",Data!A592,\"\")","v":""},{"$f":"IF(D592<>\"\",Data!B592,\"\")","v":""},"",{"$f":"IF(AND(Data!C592<>\"\",Data!C592 > 0),Data!C592,\"\")","v":""}]
[{"$f":"IF(D593<>\"\",Data!A593,\"\")","v":""},{"$f":"IF(D593<>\"\",Data!B593,\"\")","v":""},"",{"$f":"IF(AND(Data!C593<>\"\",Data!C593 > 0),Data!C593,\"\")","v":""}]
[{"$f":"IF(D594<>\"\",Data!A594,\"\")","v":""},{"$f":"IF(D594<>\"\",Data!B594,\"\")","v":""},"",{"$f":"IF(AND(Data!C594<>\"\",Data!C594 > 0),Data!C594,\"\")","v":""}]
[{"$f":"IF(D595<>\"\",Data!A595,\"\")","v":""},{"$f":"IF(D595<>\"\",Data!B595,\"\")","v":""},"",{"$f":"IF(AND(Data!C595<>\"\",Data!C595 > 0),Data!C595,\"\")","v":""}]
[{"$f":"IF(D596<>\"\",Data!A596,\"\")","v":""},{"$f":"IF(D596<>\"\",Data!B596,\"\")","v":""},"",{"$f":"IF(AND(Data!C596<>\"\",Data!C596 > 0),Data!C596,\"\")","v":""}]
[{"$f":"IF(D597<>\"\",Data!A597,\"\")","v":""},{"$f":"IF(D597<>\"\",Data!B597,\"\")","v":""},"",{"$f":"IF(AND(Data!C597<>\"\",Data!C597 > 0),Data!C597,\"\")","v":""}]
[{"$f":"IF(D598<>\"\",Data!A598,\"\")","v":""},{"$f":"IF(D598<>\"\",Data!B598,\"\")","v":""},"",{"$f":"IF(AND(Data!C598<>\"\",Data!C598 > 0),Data!C598,\"\")","v":""}]
[{"$f":"IF(D599<>\"\",Data!A599,\"\")","v":""},{"$f":"IF(D599<>\"\",Data!B599,\"\")","v":""},"",{"$f":"IF(AND(Data!C599<>\"\",Data!C599 > 0),Data!C599,\"\")","v":""}]
[{"$f":"IF(D600<>\"\",Data!A600,\"\")","v":""},{"$f":"IF(D600<>\"\",Data!B600,\"\")","v":""},"",{"$f":"IF(AND(Data!C600<>\"\",Data!C600 > 0),Data!C600,\"\")","v":""}]
[{"$f":"IF(D601<>\"\",Data!A601,\"\")","v":""},{"$f":"IF(D601<>\"\",Data!B601,\"\")","v":""},"",{"$f":"IF(AND(Data!C601<>\"\",Data!C601 > 0),Data!C601,\"\")","v":""}]
[{"$f":"IF(D602<>\"\",Data!A602,\"\")","v":""},{"$f":"IF(D602<>\"\",Data!B602,\"\")","v":""},"",{"$f":"IF(AND(Data!C602<>\"\",Data!C602 > 0),Data!C602,\"\")","v":""}]
[{"$f":"IF(D603<>\"\",Data!A603,\"\")","v":""},{"$f":"IF(D603<>\"\",Data!B603,\"\")","v":""},"",{"$f":"IF(AND(Data!C603<>\"\",Data!C603 > 0),Data!C603,\"\")","v":""}]
[{"$f":"IF(D604<>\"\",Data!A604,\"\")","v":""},{"$f":"IF(D604<>\"\",Data!B604,\"\")","v":""},"",{"$f":"IF(AND(Data!C604<>\"\",Data!C604 > 0),Data!C604,\"\")","v":""}]
[{"$f":"IF(D605<>\"\",Data!A605,\"\")","v":""},{"$f":"IF(D605<>\"\",Data!B605,\"\")","v":""},"",{"$f":"IF(AND(Data!C605<>\"\",Data!C605 > 0),Data!C605,\"\")","v":""}]
[{"$f":"IF(D606<>\"\",Data!A606,\"\")","v":""},{"$f":"IF(D606<>\"\",Data!B606,\"\")","v":""},"",{"$f":"IF(AND(Data!C606<>\"\",Data!C606 > 0),Data!C606,\"\")","v":""}]
[{"$f":"IF(D607<>\"\",Data!A607,\"\")","v":""},{"$f":"IF(D607<>\"\",Data!B607,\"\")","v":""},"",{"$f":"IF(AND(Data!C607<>\"\",Data!C607 > 0),Data!C607,\"\")","v":""}]
[{"$f":"IF(D608<>\"\",Data!A608,\"\")","v":""},{"$f":"IF(D608<>\"\",Data!B608,\"\")","v":""},"",{"$f":"IF(AND(Data!C608<>\"\",Data!C608 > 0),Data!C608,\"\")","v":""}]
[{"$f":"IF(D609<>\"\",Data!A609,\"\")","v":""},{"$f":"IF(D609<>\"\",Data!B609,\"\")","v":""},"",{"$f":"IF(AND(Data!C609<>\"\",Data!C609 > 0),Data!C609,\"\")","v":""}]
[{"$f":"IF(D610<>\"\",Data!A610,\"\")","v":""},{"$f":"IF(D610<>\"\",Data!B610,\"\")","v":""},"",{"$f":"IF(AND(Data!C610<>\"\",Data!C610 > 0),Data!C610,\"\")","v":""}]
[{"$f":"IF(D611<>\"\",Data!A611,\"\")","v":""},{"$f":"IF(D611<>\"\",Data!B611,\"\")","v":""},"",{"$f":"IF(AND(Data!C611<>\"\",Data!C611 > 0),Data!C611,\"\")","v":""}]
[{"$f":"IF(D612<>\"\",Data!A612,\"\")","v":""},{"$f":"IF(D612<>\"\",Data!B612,\"\")","v":""},"",{"$f":"IF(AND(Data!C612<>\"\",Data!C612 > 0),Data!C612,\"\")","v":""}]
[{"$f":"IF(D613<>\"\",Data!A613,\"\")","v":""},{"$f":"IF(D613<>\"\",Data!B613,\"\")","v":""},"",{"$f":"IF(AND(Data!C613<>\"\",Data!C613 > 0),Data!C613,\"\")","v":""}]
[{"$f":"IF(D614<>\"\",Data!A614,\"\")","v":""},{"$f":"IF(D614<>\"\",Data!B614,\"\")","v":""},"",{"$f":"IF(AND(Data!C614<>\"\",Data!C614 > 0),Data!C614,\"\")","v":""}]
[{"$f":"IF(D615<>\"\",Data!A615,\"\")","v":""},{"$f":"IF(D615<>\"\",Data!B615,\"\")","v":""},"",{"$f":"IF(AND(Data!C615<>\"\",Data!C615 > 0),Data!C615,\"\")","v":""}]
[{"$f":"IF(D616<>\"\",Data!A616,\"\")","v":""},{"$f":"IF(D616<>\"\",Data!B616,\"\")","v":""},"",{"$f":"IF(AND(Data!C616<>\"\",Data!C616 > 0),Data!C616,\"\")","v":""}]
[{"$f":"IF(D617<>\"\",Data!A617,\"\")","v":""},{"$f":"IF(D617<>\"\",Data!B617,\"\")","v":""},"",{"$f":"IF(AND(Data!C617<>\"\",Data!C617 > 0),Data!C617,\"\")","v":""}]
[{"$f":"IF(D618<>\"\",Data!A618,\"\")","v":""},{"$f":"IF(D618<>\"\",Data!B618,\"\")","v":""},"",{"$f":"IF(AND(Data!C618<>\"\",Data!C618 > 0),Data!C618,\"\")","v":""}]
[{"$f":"IF(D619<>\"\",Data!A619,\"\")","v":""},{"$f":"IF(D619<>\"\",Data!B619,\"\")","v":""},"",{"$f":"IF(AND(Data!C619<>\"\",Data!C619 > 0),Data!C619,\"\")","v":""}]
[{"$f":"IF(D620<>\"\",Data!A620,\"\")","v":""},{"$f":"IF(D620<>\"\",Data!B620,\"\")","v":""},"",{"$f":"IF(AND(Data!C620<>\"\",Data!C620 > 0),Data!C620,\"\")","v":""}]
[{"$f":"IF(D621<>\"\",Data!A621,\"\")","v":""},{"$f":"IF(D621<>\"\",Data!B621,\"\")","v":""},"",{"$f":"IF(AND(Data!C621<>\"\",Data!C621 > 0),Data!C621,\"\")","v":""}]
[{"$f":"IF(D622<>\"\",Data!A622,\"\")","v":""},{"$f":"IF(D622<>\"\",Data!B622,\"\")","v":""},"",{"$f":"IF(AND(Data!C622<>\"\",Data!C622 > 0),Data!C622,\"\")","v":""}]
[{"$f":"IF(D623<>\"\",Data!A623,\"\")","v":""},{"$f":"IF(D623<>\"\",Data!B623,\"\")","v":""},"",{"$f":"IF(AND(Data!C623<>\"\",Data!C623 > 0),Data!C623,\"\")","v":""}]
[{"$f":"IF(D624<>\"\",Data!A624,\"\")","v":""},{"$f":"IF(D624<>\"\",Data!B624,\"\")","v":""},"",{"$f":"IF(AND(Data!C624<>\"\",Data!C624 > 0),Data!C624,\"\")","v":""}]
[{"$f":"IF(D625<>\"\",Data!A625,\"\")","v":""},{"$f":"IF(D625<>\"\",Data!B625,\"\")","v":""},"",{"$f":"IF(AND(Data!C625<>\"\",Data!C625 > 0),Data!C625,\"\")","v":""}]
[{"$f":"IF(D626<>\"\",Data!A626,\"\")","v":""},{"$f":"IF(D626<>\"\",Data!B626,\"\")","v":""},"",{"$f":"IF(AND(Data!C626<>\"\",Data!C626 > 0),Data!C626,\"\")","v":""}]
[{"$f":"IF(D627<>\"\",Data!A627,\"\")","v":""},{"$f":"IF(D627<>\"\",Data!B627,\"\")","v":""},"",{"$f":"IF(AND(Data!C627<>\"\",Data!C627 > 0),Data!C627,\"\")","v":""}]
[{"$f":"IF(D628<>\"\",Data!A628,\"\")","v":""},{"$f":"IF(D628<>\"\",Data!B628,\"\")","v":""},"",{"$f":"IF(AND(Data!C628<>\"\",Data!C628 > 0),Data!C628,\"\")","v":""}]
[{"$f":"IF(D629<>\"\",Data!A629,\"\")","v":""},{"$f":"IF(D629<>\"\",Data!B629,\"\")","v":""},"",{"$f":"IF(AND(Data!C629<>\"\",Data!C629 > 0),Data!C629,\"\")","v":""}]
[{"$f":"IF(D630<>\"\",Data!A630,\"\")","v":""},{"$f":"IF(D630<>\"\",Data!B630,\"\")","v":""},"",{"$f":"IF(AND(Data!C630<>\"\",Data!C630 > 0),Data!C630,\"\")","v":""}]
[{"$f":"IF(D631<>\"\",Data!A631,\"\")","v":""},{"$f":"IF(D631<>\"\",Data!B631,\"\")","v":""},"",{"$f":"IF(AND(Data!C631<>\"\",Data!C631 > 0),Data!C631,\"\")","v":""}]
[{"$f":"IF(D632<>\"\",Data!A632,\"\")","v":""},{"$f":"IF(D632<>\"\",Data!B632,\"\")","v":""},"",{"$f":"IF(AND(Data!C632<>\"\",Data!C632 > 0),Data!C632,\"\")","v":""}]
[{"$f":"IF(D633<>\"\",Data!A633,\"\")","v":""},{"$f":"IF(D633<>\"\",Data!B633,\"\")","v":""},"",{"$f":"IF(AND(Data!C633<>\"\",Data!C633 > 0),Data!C633,\"\")","v":""}]
[{"$f":"IF(D634<>\"\",Data!A634,\"\")","v":""},{"$f":"IF(D634<>\"\",Data!B634,\"\")","v":""},"",{"$f":"IF(AND(Data!C634<>\"\",Data!C634 > 0),Data!C634,\"\")","v":""}]
[{"$f":"IF(D635<>\"\",Data!A635,\"\")","v":""},{"$f":"IF(D635<>\"\",Data!B635,\"\")","v":""},"",{"$f":"IF(AND(Data!C635<>\"\",Data!C635 > 0),Data!C635,\"\")","v":""}]
[{"$f":"IF(D636<>\"\",Data!A636,\"\")","v":""},{"$f":"IF(D636<>\"\",Data!B636,\"\")","v":""},"",{"$f":"IF(AND(Data!C636<>\"\",Data!C636 > 0),Data!C636,\"\")","v":""}]
[{"$f":"IF(D637<>\"\",Data!A637,\"\")","v":""},{"$f":"IF(D637<>\"\",Data!B637,\"\")","v":""},"",{"$f":"IF(AND(Data!C637<>\"\",Data!C637 > 0),Data!C637,\"\")","v":""}]
[{"$f":"IF(D638<>\"\",Data!A638,\"\")","v":""},{"$f":"IF(D638<>\"\",Data!B638,\"\")","v":""},"",{"$f":"IF(AND(Data!C638<>\"\",Data!C638 > 0),Data!C638,\"\")","v":""}]
[{"$f":"IF(D639<>\"\",Data!A639,\"\")","v":""},{"$f":"IF(D639<>\"\",Data!B639,\"\")","v":""},"",{"$f":"IF(AND(Data!C639<>\"\",Data!C639 > 0),Data!C639,\"\")","v":""}]
[{"$f":"IF(D640<>\"\",Data!A640,\"\")","v":""},{"$f":"IF(D640<>\"\",Data!B640,\"\")","v":""},"",{"$f":"IF(AND(Data!C640<>\"\",Data!C640 > 0),Data!C640,\"\")","v":""}]
[{"$f":"IF(D641<>\"\",Data!A641,\"\")","v":""},{"$f":"IF(D641<>\"\",Data!B641,\"\")","v":""},"",{"$f":"IF(AND(Data!C641<>\"\",Data!C641 > 0),Data!C641,\"\")","v":""}]
[{"$f":"IF(D642<>\"\",Data!A642,\"\")","v":""},{"$f":"IF(D642<>\"\",Data!B642,\"\")","v":""},"",{"$f":"IF(AND(Data!C642<>\"\",Data!C642 > 0),Data!C642,\"\")","v":""}]
[{"$f":"IF(D643<>\"\",Data!A643,\"\")","v":""},{"$f":"IF(D643<>\"\",Data!B643,\"\")","v":""},{"$f":"IF(D643<>\"\",MID(CELL(\"filename\",B642),FIND(\"]\",CELL(\"filename\",B642))+1,32),\"\")","v":""},{"$f":"IF(AND(Data!C643<>\"\",Data!C643 > 0),Data!C643,\"\")","v":""}]
[{"$f":"IF(D644<>\"\",Data!A644,\"\")","v":""},{"$f":"IF(D644<>\"\",Data!B644,\"\")","v":""},"",{"$f":"IF(AND(Data!C644<>\"\",Data!C644 > 0),Data!C644,\"\")","v":""}]
[{"$f":"IF(D645<>\"\",Data!A645,\"\")","v":""},{"$f":"IF(D645<>\"\",Data!B645,\"\")","v":""},"",{"$f":"IF(AND(Data!C645<>\"\",Data!C645 > 0),Data!C645,\"\")","v":""}]
[{"$f":"IF(D646<>\"\",Data!A646,\"\")","v":""},{"$f":"IF(D646<>\"\",Data!B646,\"\")","v":""},"",{"$f":"IF(AND(Data!C646<>\"\",Data!C646 > 0),Data!C646,\"\")","v":""}]
[{"$f":"IF(D647<>\"\",Data!A647,\"\")","v":""},{"$f":"IF(D647<>\"\",Data!B647,\"\")","v":""},"",{"$f":"IF(AND(Data!C647<>\"\",Data!C647 > 0),Data!C647,\"\")","v":""}]
[{"$f":"IF(D648<>\"\",Data!A648,\"\")","v":""},{"$f":"IF(D648<>\"\",Data!B648,\"\")","v":""},"",{"$f":"IF(AND(Data!C648<>\"\",Data!C648 > 0),Data!C648,\"\")","v":""}]
[{"$f":"IF(D649<>\"\",Data!A649,\"\")","v":""},{"$f":"IF(D649<>\"\",Data!B649,\"\")","v":""},"",{"$f":"IF(AND(Data!C649<>\"\",Data!C649 > 0),Data!C649,\"\")","v":""}]
[{"$f":"IF(D650<>\"\",Data!A650,\"\")","v":""},{"$f":"IF(D650<>\"\",Data!B650,\"\")","v":""},"",{"$f":"IF(AND(Data!C650<>\"\",Data!C650 > 0),Data!C650,\"\")","v":""}]
[{"$f":"IF(D651<>\"\",Data!A651,\"\")","v":""},{"$f":"IF(D651<>\"\",Data!B651,\"\")","v":""},"",{"$f":"IF(AND(Data!C651<>\"\",Data!C651 > 0),Data!C651,\"\")","v":""}]
[{"$f":"IF(D652<>\"\",Data!A652,\"\")","v":""},{"$f":"IF(D652<>\"\",Data!B652,\"\")","v":""},"",{"$f":"IF(AND(Data!C652<>\"\",Data!C652 > 0),Data!C652,\"\")","v":""}]
[{"$f":"IF(D653<>\"\",Data!A653,\"\")","v":""},{"$f":"IF(D653<>\"\",Data!B653,\"\")","v":""},"",{"$f":"IF(AND(Data!C653<>\"\",Data!C653 > 0),Data!C653,\"\")","v":""}]
[{"$f":"IF(D654<>\"\",Data!A654,\"\")","v":""},{"$f":"IF(D654<>\"\",Data!B654,\"\")","v":""},"",{"$f":"IF(AND(Data!C654<>\"\",Data!C654 > 0),Data!C654,\"\")","v":""}]
[{"$f":"IF(D655<>\"\",Data!A655,\"\")","v":""},{"$f":"IF(D655<>\"\",Data!B655,\"\")","v":""},"",{"$f":"IF(AND(Data!C655<>\"\",Data!C655 > 0),Data!C655,\"\")","v":""}]
[{"$f":"IF(D656<>\"\",Data!A656,\"\")","v":""},{"$f":"IF(D656<>\"\",Data!B656,\"\")","v":""},"",{"$f":"IF(AND(Data!C656<>\"\",Data!C656 > 0),Data!C656,\"\")","v":""}]
[{"$f":"IF(D657<>\"\",Data!A657,\"\")","v":""},{"$f":"IF(D657<>\"\",Data!B657,\"\")","v":""},"",{"$f":"IF(AND(Data!C657<>\"\",Data!C657 > 0),Data!C657,\"\")","v":""}]
[{"$f":"IF(D658<>\"\",Data!A658,\"\")","v":""},{"$f":"IF(D658<>\"\",Data!B658,\"\")","v":""},"",{"$f":"IF(AND(Data!C658<>\"\",Data!C658 > 0),Data!C658,\"\")","v":""}]
[{"$f":"IF(D659<>\"\",Data!A659,\"\")","v":""},{"$f":"IF(D659<>\"\",Data!B659,\"\")","v":""},"",{"$f":"IF(AND(Data!C659<>\"\",Data!C659 > 0),Data!C659,\"\")","v":""}]
[{"$f":"IF(D660<>\"\",Data!A660,\"\")","v":""},{"$f":"IF(D660<>\"\",Data!B660,\"\")","v":""},"",{"$f":"IF(AND(Data!C660<>\"\",Data!C660 > 0),Data!C660,\"\")","v":""}]
[{"$f":"IF(D661<>\"\",Data!A661,\"\")","v":""},{"$f":"IF(D661<>\"\",Data!B661,\"\")","v":""},"",{"$f":"IF(AND(Data!C661<>\"\",Data!C661 > 0),Data!C661,\"\")","v":""}]
[{"$f":"IF(D662<>\"\",Data!A662,\"\")","v":""},{"$f":"IF(D662<>\"\",Data!B662,\"\")","v":""},"",{"$f":"IF(AND(Data!C662<>\"\",Data!C662 > 0),Data!C662,\"\")","v":""}]
[{"$f":"IF(D663<>\"\",Data!A663,\"\")","v":""},{"$f":"IF(D663<>\"\",Data!B663,\"\")","v":""},"",{"$f":"IF(AND(Data!C663<>\"\",Data!C663 > 0),Data!C663,\"\")","v":""}]
[{"$f":"IF(D664<>\"\",Data!A664,\"\")","v":""},{"$f":"IF(D664<>\"\",Data!B664,\"\")","v":""},"",{"$f":"IF(AND(Data!C664<>\"\",Data!C664 > 0),Data!C664,\"\")","v":""}]
[{"$f":"IF(D665<>\"\",Data!A665,\"\")","v":""},{"$f":"IF(D665<>\"\",Data!B665,\"\")","v":""},"",{"$f":"IF(AND(Data!C665<>\"\",Data!C665 > 0),Data!C665,\"\")","v":""}]
[{"$f":"IF(D666<>\"\",Data!A666,\"\")","v":""},{"$f":"IF(D666<>\"\",Data!B666,\"\")","v":""},"",{"$f":"IF(AND(Data!C666<>\"\",Data!C666 > 0),Data!C666,\"\")","v":""}]
[{"$f":"IF(D667<>\"\",Data!A667,\"\")","v":""},{"$f":"IF(D667<>\"\",Data!B667,\"\")","v":""},"",{"$f":"IF(AND(Data!C667<>\"\",Data!C667 > 0),Data!C667,\"\")","v":""}]
[{"$f":"IF(D668<>\"\",Data!A668,\"\")","v":""},{"$f":"IF(D668<>\"\",Data!B668,\"\")","v":""},"",{"$f":"IF(AND(Data!C668<>\"\",Data!C668 > 0),Data!C668,\"\")","v":""}]
[{"$f":"IF(D669<>\"\",Data!A669,\"\")","v":""},{"$f":"IF(D669<>\"\",Data!B669,\"\")","v":""},"",{"$f":"IF(AND(Data!C669<>\"\",Data!C669 > 0),Data!C669,\"\")","v":""}]
[{"$f":"IF(D670<>\"\",Data!A670,\"\")","v":""},{"$f":"IF(D670<>\"\",Data!B670,\"\")","v":""},"",{"$f":"IF(AND(Data!C670<>\"\",Data!C670 > 0),Data!C670,\"\")","v":""}]
[{"$f":"IF(D671<>\"\",Data!A671,\"\")","v":""},{"$f":"IF(D671<>\"\",Data!B671,\"\")","v":""},"",{"$f":"IF(AND(Data!C671<>\"\",Data!C671 > 0),Data!C671,\"\")","v":""}]
[{"$f":"IF(D672<>\"\",Data!A672,\"\")","v":""},{"$f":"IF(D672<>\"\",Data!B672,\"\")","v":""},"",{"$f":"IF(AND(Data!C672<>\"\",Data!C672 > 0),Data!C672,\"\")","v":""}]
[{"$f":"IF(D673<>\"\",Data!A673,\"\")","v":""},{"$f":"IF(D673<>\"\",Data!B673,\"\")","v":""},"",{"$f":"IF(AND(Data!C673<>\"\",Data!C673 > 0),Data!C673,\"\")","v":""}]
[{"$f":"IF(D674<>\"\",Data!A674,\"\")","v":""},{"$f":"IF(D674<>\"\",Data!B674,\"\")","v":""},"",{"$f":"IF(AND(Data!C674<>\"\",Data!C674 > 0),Data!C674,\"\")","v":""}]
[{"$f":"IF(D675<>\"\",Data!A675,\"\")","v":""},{"$f":"IF(D675<>\"\",Data!B675,\"\")","v":""},"",{"$f":"IF(AND(Data!C675<>\"\",Data!C675 > 0),Data!C675,\"\")","v":""}]
[{"$f":"IF(D676<>\"\",Data!A676,\"\")","v":""},{"$f":"IF(D676<>\"\",Data!B676,\"\")","v":""},"",{"$f":"IF(AND(Data!C676<>\"\",Data!C676 > 0),Data!C676,\"\")","v":""}]
[{"$f":"IF(D677<>\"\",Data!A677,\"\")","v":""},{"$f":"IF(D677<>\"\",Data!B677,\"\")","v":""},"",{"$f":"IF(AND(Data!C677<>\"\",Data!C677 > 0),Data!C677,\"\")","v":""}]
[{"$f":"IF(D678<>\"\",Data!A678,\"\")","v":""},{"$f":"IF(D678<>\"\",Data!B678,\"\")","v":""},"",{"$f":"IF(AND(Data!C678<>\"\",Data!C678 > 0),Data!C678,\"\")","v":""}]
[{"$f":"IF(D679<>\"\",Data!A679,\"\")","v":""},{"$f":"IF(D679<>\"\",Data!B679,\"\")","v":""},"",{"$f":"IF(AND(Data!C679<>\"\",Data!C679 > 0),Data!C679,\"\")","v":""}]
[{"$f":"IF(D680<>\"\",Data!A680,\"\")","v":""},{"$f":"IF(D680<>\"\",Data!B680,\"\")","v":""},"",{"$f":"IF(AND(Data!C680<>\"\",Data!C680 > 0),Data!C680,\"\")","v":""}]
[{"$f":"IF(D681<>\"\",Data!A681,\"\")","v":""},{"$f":"IF(D681<>\"\",Data!B681,\"\")","v":""},"",{"$f":"IF(AND(Data!C681<>\"\",Data!C681 > 0),Data!C681,\"\")","v":""}]
[{"$f":"IF(D682<>\"\",Data!A682,\"\")","v":""},{"$f":"IF(D682<>\"\",Data!B682,\"\")","v":""},"",{"$f":"IF(AND(Data!C682<>\"\",Data!C682 > 0),Data!C682,\"\")","v":""}]
[{"$f":"IF(D683<>\"\",Data!A683,\"\")","v":""},{"$f":"IF(D683<>\"\",Data!B683,\"\")","v":""},"",{"$f":"IF(AND(Data!C683<>\"\",Data!C683 > 0),Data!C683,\"\")","v":""}]
[{"$f":"IF(D684<>\"\",Data!A684,\"\")","v":""},{"$f":"IF(D684<>\"\",Data!B684,\"\")","v":""},"",{"$f":"IF(AND(Data!C684<>\"\",Data!C684 > 0),Data!C684,\"\")","v":""}]
[{"$f":"IF(D685<>\"\",Data!A685,\"\")","v":""},{"$f":"IF(D685<>\"\",Data!B685,\"\")","v":""},"",{"$f":"IF(AND(Data!C685<>\"\",Data!C685 > 0),Data!C685,\"\")","v":""}]
[{"$f":"IF(D686<>\"\",Data!A686,\"\")","v":""},{"$f":"IF(D686<>\"\",Data!B686,\"\")","v":""},"",{"$f":"IF(AND(Data!C686<>\"\",Data!C686 > 0),Data!C686,\"\")","v":""}]
[{"$f":"IF(D687<>\"\",Data!A687,\"\")","v":""},{"$f":"IF(D687<>\"\",Data!B687,\"\")","v":""},"",{"$f":"IF(AND(Data!C687<>\"\",Data!C687 > 0),Data!C687,\"\")","v":""}]
[{"$f":"IF(D688<>\"\",Data!A688,\"\")","v":""},{"$f":"IF(D688<>\"\",Data!B688,\"\")","v":""},"",{"$f":"IF(AND(Data!C688<>\"\",Data!C688 > 0),Data!C688,\"\")","v":""}]
[{"$f":"IF(D689<>\"\",Data!A689,\"\")","v":""},{"$f":"IF(D689<>\"\",Data!B689,\"\")","v":""},"",{"$f":"IF(AND(Data!C689<>\"\",Data!C689 > 0),Data!C689,\"\")","v":""}]
[{"$f":"IF(D690<>\"\",Data!A690,\"\")","v":""},{"$f":"IF(D690<>\"\",Data!B690,\"\")","v":""},"",{"$f":"IF(AND(Data!C690<>\"\",Data!C690 > 0),Data!C690,\"\")","v":""}]
[{"$f":"IF(D691<>\"\",Data!A691,\"\")","v":""},{"$f":"IF(D691<>\"\",Data!B691,\"\")","v":""},"",{"$f":"IF(AND(Data!C691<>\"\",Data!C691 > 0),Data!C691,\"\")","v":""}]
[{"$f":"IF(D692<>\"\",Data!A692,\"\")","v":""},{"$f":"IF(D692<>\"\",Data!B692,\"\")","v":""},"",{"$f":"IF(AND(Data!C692<>\"\",Data!C692 > 0),Data!C692,\"\")","v":""}]
[{"$f":"IF(D693<>\"\",Data!A693,\"\")","v":""},{"$f":"IF(D693<>\"\",Data!B693,\"\")","v":""},"",{"$f":"IF(AND(Data!C693<>\"\",Data!C693 > 0),Data!C693,\"\")","v":""}]
[{"$f":"IF(D694<>\"\",Data!A694,\"\")","v":""},{"$f":"IF(D694<>\"\",Data!B694,\"\")","v":""},"",{"$f":"IF(AND(Data!C694<>\"\",Data!C694 > 0),Data!C694,\"\")","v":""}]
[{"$f":"IF(D695<>\"\",Data!A695,\"\")","v":""},{"$f":"IF(D695<>\"\",Data!B695,\"\")","v":""},"",{"$f":"IF(AND(Data!C695<>\"\",Data!C695 > 0),Data!C695,\"\")","v":""}]
[{"$f":"IF(D696<>\"\",Data!A696,\"\")","v":""},{"$f":"IF(D696<>\"\",Data!B696,\"\")","v":""},"",{"$f":"IF(AND(Data!C696<>\"\",Data!C696 > 0),Data!C696,\"\")","v":""}]
[{"$f":"IF(D697<>\"\",Data!A697,\"\")","v":""},{"$f":"IF(D697<>\"\",Data!B697,\"\")","v":""},"",{"$f":"IF(AND(Data!C697<>\"\",Data!C697 > 0),Data!C697,\"\")","v":""}]
[{"$f":"IF(D698<>\"\",Data!A698,\"\")","v":""},{"$f":"IF(D698<>\"\",Data!B698,\"\")","v":""},"",{"$f":"IF(AND(Data!C698<>\"\",Data!C698 > 0),Data!C698,\"\")","v":""}]
[{"$f":"IF(D699<>\"\",Data!A699,\"\")","v":""},{"$f":"IF(D699<>\"\",Data!B699,\"\")","v":""},"",{"$f":"IF(AND(Data!C699<>\"\",Data!C699 > 0),Data!C699,\"\")","v":""}]
[{"$f":"IF(D700<>\"\",Data!A700,\"\")","v":""},{"$f":"IF(D700<>\"\",Data!B700,\"\")","v":""},"",{"$f":"IF(AND(Data!C700<>\"\",Data!C700 > 0),Data!C700,\"\")","v":""}]
[{"$f":"IF(D701<>\"\",Data!A701,\"\")","v":""},{"$f":"IF(D701<>\"\",Data!B701,\"\")","v":""},"",{"$f":"IF(AND(Data!C701<>\"\",Data!C701 > 0),Data!C701,\"\")","v":""}]
[{"$f":"IF(D702<>\"\",Data!A702,\"\")","v":""},{"$f":"IF(D702<>\"\",Data!B702,\"\")","v":""},"",{"$f":"IF(AND(Data!C702<>\"\",Data!C702 > 0),Data!C702,\"\")","v":""}]
[{"$f":"IF(D703<>\"\",Data!A703,\"\")","v":""},{"$f":"IF(D703<>\"\",Data!B703,\"\")","v":""},"",{"$f":"IF(AND(Data!C703<>\"\",Data!C703 > 0),Data!C703,\"\")","v":""}]
[{"$f":"IF(D704<>\"\",Data!A704,\"\")","v":""},{"$f":"IF(D704<>\"\",Data!B704,\"\")","v":""},"",{"$f":"IF(AND(Data!C704<>\"\",Data!C704 > 0),Data!C704,\"\")","v":""}]
[{"$f":"IF(D705<>\"\",Data!A705,\"\")","v":""},{"$f":"IF(D705<>\"\",Data!B705,\"\")","v":""},"",{"$f":"IF(AND(Data!C705<>\"\",Data!C705 > 0),Data!C705,\"\")","v":""}]
[{"$f":"IF(D706<>\"\",Data!A706,\"\")","v":""},{"$f":"IF(D706<>\"\",Data!B706,\"\")","v":""},"",{"$f":"IF(AND(Data!C706<>\"\",Data!C706 > 0),Data!C706,\"\")","v":""}]
[{"$f":"IF(D707<>\"\",Data!A707,\"\")","v":""},{"$f":"IF(D707<>\"\",Data!B707,\"\")","v":""},{"$f":"IF(D707<>\"\",MID(CELL(\"filename\",B706),FIND(\"]\",CELL(\"filename\",B706))+1,32),\"\")","v":""},{"$f":"IF(AND(Data!C707<>\"\",Data!C707 > 0),Data!C707,\"\")","v":""}]
[{"$f":"IF(D708<>\"\",Data!A708,\"\")","v":""},{"$f":"IF(D708<>\"\",Data!B708,\"\")","v":""},"",{"$f":"IF(AND(Data!C708<>\"\",Data!C708 > 0),Data!C708,\"\")","v":""}]
[{"$f":"IF(D709<>\"\",Data!A709,\"\")","v":""},{"$f":"IF(D709<>\"\",Data!B709,\"\")","v":""},"",{"$f":"IF(AND(Data!C709<>\"\",Data!C709 > 0),Data!C709,\"\")","v":""}]
[{"$f":"IF(D710<>\"\",Data!A710,\"\")","v":""},{"$f":"IF(D710<>\"\",Data!B710,\"\")","v":""},"",{"$f":"IF(AND(Data!C710<>\"\",Data!C710 > 0),Data!C710,\"\")","v":""}]
[{"$f":"IF(D711<>\"\",Data!A711,\"\")","v":""},{"$f":"IF(D711<>\"\",Data!B711,\"\")","v":""},"",{"$f":"IF(AND(Data!C711<>\"\",Data!C711 > 0),Data!C711,\"\")","v":""}]
[{"$f":"IF(D712<>\"\",Data!A712,\"\")","v":""},{"$f":"IF(D712<>\"\",Data!B712,\"\")","v":""},"",{"$f":"IF(AND(Data!C712<>\"\",Data!C712 > 0),Data!C712,\"\")","v":""}]
[{"$f":"IF(D713<>\"\",Data!A713,\"\")","v":""},{"$f":"IF(D713<>\"\",Data!B713,\"\")","v":""},"",{"$f":"IF(AND(Data!C713<>\"\",Data!C713 > 0),Data!C713,\"\")","v":""}]
[{"$f":"IF(D714<>\"\",Data!A714,\"\")","v":""},{"$f":"IF(D714<>\"\",Data!B714,\"\")","v":""},"",{"$f":"IF(AND(Data!C714<>\"\",Data!C714 > 0),Data!C714,\"\")","v":""}]
[{"$f":"IF(D715<>\"\",Data!A715,\"\")","v":""},{"$f":"IF(D715<>\"\",Data!B715,\"\")","v":""},"",{"$f":"IF(AND(Data!C715<>\"\",Data!C715 > 0),Data!C715,\"\")","v":""}]
[{"$f":"IF(D716<>\"\",Data!A716,\"\")","v":""},{"$f":"IF(D716<>\"\",Data!B716,\"\")","v":""},"",{"$f":"IF(AND(Data!C716<>\"\",Data!C716 > 0),Data!C716,\"\")","v":""}]
[{"$f":"IF(D717<>\"\",Data!A717,\"\")","v":""},{"$f":"IF(D717<>\"\",Data!B717,\"\")","v":""},"",{"$f":"IF(AND(Data!C717<>\"\",Data!C717 > 0),Data!C717,\"\")","v":""}]
[{"$f":"IF(D718<>\"\",Data!A718,\"\")","v":""},{"$f":"IF(D718<>\"\",Data!B718,\"\")","v":""},"",{"$f":"IF(AND(Data!C718<>\"\",Data!C718 > 0),Data!C718,\"\")","v":""}]
[{"$f":"IF(D719<>\"\",Data!A719,\"\")","v":""},{"$f":"IF(D719<>\"\",Data!B719,\"\")","v":""},"",{"$f":"IF(AND(Data!C719<>\"\",Data!C719 > 0),Data!C719,\"\")","v":""}]
[{"$f":"IF(D720<>\"\",Data!A720,\"\")","v":""},{"$f":"IF(D720<>\"\",Data!B720,\"\")","v":""},"",{"$f":"IF(AND(Data!C720<>\"\",Data!C720 > 0),Data!C720,\"\")","v":""}]
[{"$f":"IF(D721<>\"\",Data!A721,\"\")","v":""},{"$f":"IF(D721<>\"\",Data!B721,\"\")","v":""},"",{"$f":"IF(AND(Data!C721<>\"\",Data!C721 > 0),Data!C721,\"\")","v":""}]
[{"$f":"IF(D722<>\"\",Data!A722,\"\")","v":""},{"$f":"IF(D722<>\"\",Data!B722,\"\")","v":""},"",{"$f":"IF(AND(Data!C722<>\"\",Data!C722 > 0),Data!C722,\"\")","v":""}]
[{"$f":"IF(D723<>\"\",Data!A723,\"\")","v":""},{"$f":"IF(D723<>\"\",Data!B723,\"\")","v":""},"",{"$f":"IF(AND(Data!C723<>\"\",Data!C723 > 0),Data!C723,\"\")","v":""}]
[{"$f":"IF(D724<>\"\",Data!A724,\"\")","v":""},{"$f":"IF(D724<>\"\",Data!B724,\"\")","v":""},"",{"$f":"IF(AND(Data!C724<>\"\",Data!C724 > 0),Data!C724,\"\")","v":""}]
[{"$f":"IF(D725<>\"\",Data!A725,\"\")","v":""},{"$f":"IF(D725<>\"\",Data!B725,\"\")","v":""},"",{"$f":"IF(AND(Data!C725<>\"\",Data!C725 > 0),Data!C725,\"\")","v":""}]
[{"$f":"IF(D726<>\"\",Data!A726,\"\")","v":""},{"$f":"IF(D726<>\"\",Data!B726,\"\")","v":""},"",{"$f":"IF(AND(Data!C726<>\"\",Data!C726 > 0),Data!C726,\"\")","v":""}]
[{"$f":"IF(D727<>\"\",Data!A727,\"\")","v":""},{"$f":"IF(D727<>\"\",Data!B727,\"\")","v":""},"",{"$f":"IF(AND(Data!C727<>\"\",Data!C727 > 0),Data!C727,\"\")","v":""}]
[{"$f":"IF(D728<>\"\",Data!A728,\"\")","v":""},{"$f":"IF(D728<>\"\",Data!B728,\"\")","v":""},"",{"$f":"IF(AND(Data!C728<>\"\",Data!C728 > 0),Data!C728,\"\")","v":""}]
[{"$f":"IF(D729<>\"\",Data!A729,\"\")","v":""},{"$f":"IF(D729<>\"\",Data!B729,\"\")","v":""},"",{"$f":"IF(AND(Data!C729<>\"\",Data!C729 > 0),Data!C729,\"\")","v":""}]
[{"$f":"IF(D730<>\"\",Data!A730,\"\")","v":""},{"$f":"IF(D730<>\"\",Data!B730,\"\")","v":""},"",{"$f":"IF(AND(Data!C730<>\"\",Data!C730 > 0),Data!C730,\"\")","v":""}]
[{"$f":"IF(D731<>\"\",Data!A731,\"\")","v":""},{"$f":"IF(D731<>\"\",Data!B731,\"\")","v":""},"",{"$f":"IF(AND(Data!C731<>\"\",Data!C731 > 0),Data!C731,\"\")","v":""}]
[{"$f":"IF(D732<>\"\",Data!A732,\"\")","v":""},{"$f":"IF(D732<>\"\",Data!B732,\"\")","v":""},"",{"$f":"IF(AND(Data!C732<>\"\",Data!C732 > 0),Data!C732,\"\")","v":""}]
[{"$f":"IF(D733<>\"\",Data!A733,\"\")","v":""},{"$f":"IF(D733<>\"\",Data!B733,\"\")","v":""},"",{"$f":"IF(AND(Data!C733<>\"\",Data!C733 > 0),Data!C733,\"\")","v":""}]
[{"$f":"IF(D734<>\"\",Data!A734,\"\")","v":""},{"$f":"IF(D734<>\"\",Data!B734,\"\")","v":""},"",{"$f":"IF(AND(Data!C734<>\"\",Data!C734 > 0),Data!C734,\"\")","v":""}]
[{"$f":"IF(D735<>\"\",Data!A735,\"\")","v":""},{"$f":"IF(D735<>\"\",Data!B735,\"\")","v":""},"",{"$f":"IF(AND(Data!C735<>\"\",Data!C735 > 0),Data!C735,\"\")","v":""}]
[{"$f":"IF(D736<>\"\",Data!A736,\"\")","v":""},{"$f":"IF(D736<>\"\",Data!B736,\"\")","v":""},"",{"$f":"IF(AND(Data!C736<>\"\",Data!C736 > 0),Data!C736,\"\")","v":""}]
[{"$f":"IF(D737<>\"\",Data!A737,\"\")","v":""},{"$f":"IF(D737<>\"\",Data!B737,\"\")","v":""},"",{"$f":"IF(AND(Data!C737<>\"\",Data!C737 > 0),Data!C737,\"\")","v":""}]
[{"$f":"IF(D738<>\"\",Data!A738,\"\")","v":""},{"$f":"IF(D738<>\"\",Data!B738,\"\")","v":""},"",{"$f":"IF(AND(Data!C738<>\"\",Data!C738 > 0),Data!C738,\"\")","v":""}]
[{"$f":"IF(D739<>\"\",Data!A739,\"\")","v":""},{"$f":"IF(D739<>\"\",Data!B739,\"\")","v":""},"",{"$f":"IF(AND(Data!C739<>\"\",Data!C739 > 0),Data!C739,\"\")","v":""}]
[{"$f":"IF(D740<>\"\",Data!A740,\"\")","v":""},{"$f":"IF(D740<>\"\",Data!B740,\"\")","v":""},"",{"$f":"IF(AND(Data!C740<>\"\",Data!C740 > 0),Data!C740,\"\")","v":""}]
[{"$f":"IF(D741<>\"\",Data!A741,\"\")","v":""},{"$f":"IF(D741<>\"\",Data!B741,\"\")","v":""},"",{"$f":"IF(AND(Data!C741<>\"\",Data!C741 > 0),Data!C741,\"\")","v":""}]
[{"$f":"IF(D742<>\"\",Data!A742,\"\")","v":""},{"$f":"IF(D742<>\"\",Data!B742,\"\")","v":""},"",{"$f":"IF(AND(Data!C742<>\"\",Data!C742 > 0),Data!C742,\"\")","v":""}]
[{"$f":"IF(D743<>\"\",Data!A743,\"\")","v":""},{"$f":"IF(D743<>\"\",Data!B743,\"\")","v":""},"",{"$f":"IF(AND(Data!C743<>\"\",Data!C743 > 0),Data!C743,\"\")","v":""}]
[{"$f":"IF(D744<>\"\",Data!A744,\"\")","v":""},{"$f":"IF(D744<>\"\",Data!B744,\"\")","v":""},"",{"$f":"IF(AND(Data!C744<>\"\",Data!C744 > 0),Data!C744,\"\")","v":""}]
[{"$f":"IF(D745<>\"\",Data!A745,\"\")","v":""},{"$f":"IF(D745<>\"\",Data!B745,\"\")","v":""},"",{"$f":"IF(AND(Data!C745<>\"\",Data!C745 > 0),Data!C745,\"\")","v":""}]
[{"$f":"IF(D746<>\"\",Data!A746,\"\")","v":""},{"$f":"IF(D746<>\"\",Data!B746,\"\")","v":""},"",{"$f":"IF(AND(Data!C746<>\"\",Data!C746 > 0),Data!C746,\"\")","v":""}]
[{"$f":"IF(D747<>\"\",Data!A747,\"\")","v":""},{"$f":"IF(D747<>\"\",Data!B747,\"\")","v":""},"",{"$f":"IF(AND(Data!C747<>\"\",Data!C747 > 0),Data!C747,\"\")","v":""}]
[{"$f":"IF(D748<>\"\",Data!A748,\"\")","v":""},{"$f":"IF(D748<>\"\",Data!B748,\"\")","v":""},"",{"$f":"IF(AND(Data!C748<>\"\",Data!C748 > 0),Data!C748,\"\")","v":""}]
[{"$f":"IF(D749<>\"\",Data!A749,\"\")","v":""},{"$f":"IF(D749<>\"\",Data!B749,\"\")","v":""},"",{"$f":"IF(AND(Data!C749<>\"\",Data!C749 > 0),Data!C749,\"\")","v":""}]
[{"$f":"IF(D750<>\"\",Data!A750,\"\")","v":""},{"$f":"IF(D750<>\"\",Data!B750,\"\")","v":""},"",{"$f":"IF(AND(Data!C750<>\"\",Data!C750 > 0),Data!C750,\"\")","v":""}]
[{"$f":"IF(D751<>\"\",Data!A751,\"\")","v":""},{"$f":"IF(D751<>\"\",Data!B751,\"\")","v":""},"",{"$f":"IF(AND(Data!C751<>\"\",Data!C751 > 0),Data!C751,\"\")","v":""}]
[{"$f":"IF(D752<>\"\",Data!A752,\"\")","v":""},{"$f":"IF(D752<>\"\",Data!B752,\"\")","v":""},"",{"$f":"IF(AND(Data!C752<>\"\",Data!C752 > 0),Data!C752,\"\")","v":""}]
[{"$f":"IF(D753<>\"\",Data!A753,\"\")","v":""},{"$f":"IF(D753<>\"\",Data!B753,\"\")","v":""},"",{"$f":"IF(AND(Data!C753<>\"\",Data!C753 > 0),Data!C753,\"\")","v":""}]
[{"$f":"IF(D754<>\"\",Data!A754,\"\")","v":""},{"$f":"IF(D754<>\"\",Data!B754,\"\")","v":""},"",{"$f":"IF(AND(Data!C754<>\"\",Data!C754 > 0),Data!C754,\"\")","v":""}]
[{"$f":"IF(D755<>\"\",Data!A755,\"\")","v":""},{"$f":"IF(D755<>\"\",Data!B755,\"\")","v":""},"",{"$f":"IF(AND(Data!C755<>\"\",Data!C755 > 0),Data!C755,\"\")","v":""}]
[{"$f":"IF(D756<>\"\",Data!A756,\"\")","v":""},{"$f":"IF(D756<>\"\",Data!B756,\"\")","v":""},"",{"$f":"IF(AND(Data!C756<>\"\",Data!C756 > 0),Data!C756,\"\")","v":""}]
[{"$f":"IF(D757<>\"\",Data!A757,\"\")","v":""},{"$f":"IF(D757<>\"\",Data!B757,\"\")","v":""},"",{"$f":"IF(AND(Data!C757<>\"\",Data!C757 > 0),Data!C757,\"\")","v":""}]
[{"$f":"IF(D758<>\"\",Data!A758,\"\")","v":""},{"$f":"IF(D758<>\"\",Data!B758,\"\")","v":""},"",{"$f":"IF(AND(Data!C758<>\"\",Data!C758 > 0),Data!C758,\"\")","v":""}]
[{"$f":"IF(D759<>\"\",Data!A759,\"\")","v":""},{"$f":"IF(D759<>\"\",Data!B759,\"\")","v":""},"",{"$f":"IF(AND(Data!C759<>\"\",Data!C759 > 0),Data!C759,\"\")","v":""}]
[{"$f":"IF(D760<>\"\",Data!A760,\"\")","v":""},{"$f":"IF(D760<>\"\",Data!B760,\"\")","v":""},"",{"$f":"IF(AND(Data!C760<>\"\",Data!C760 > 0),Data!C760,\"\")","v":""}]
[{"$f":"IF(D761<>\"\",Data!A761,\"\")","v":""},{"$f":"IF(D761<>\"\",Data!B761,\"\")","v":""},"",{"$f":"IF(AND(Data!C761<>\"\",Data!C761 > 0),Data!C761,\"\")","v":""}]
[{"$f":"IF(D762<>\"\",Data!A762,\"\")","v":""},{"$f":"IF(D762<>\"\",Data!B762,\"\")","v":""},"",{"$f":"IF(AND(Data!C762<>\"\",Data!C762 > 0),Data!C762,\"\")","v":""}]
[{"$f":"IF(D763<>\"\",Data!A763,\"\")","v":""},{"$f":"IF(D763<>\"\",Data!B763,\"\")","v":""},"",{"$f":"IF(AND(Data!C763<>\"\",Data!C763 > 0),Data!C763,\"\")","v":""}]
[{"$f":"IF(D764<>\"\",Data!A764,\"\")","v":""},{"$f":"IF(D764<>\"\",Data!B764,\"\")","v":""},"",{"$f":"IF(AND(Data!C764<>\"\",Data!C764 > 0),Data!C764,\"\")","v":""}]
[{"$f":"IF(D765<>\"\",Data!A765,\"\")","v":""},{"$f":"IF(D765<>\"\",Data!B765,\"\")","v":""},"",{"$f":"IF(AND(Data!C765<>\"\",Data!C765 > 0),Data!C765,\"\")","v":""}]
[{"$f":"IF(D766<>\"\",Data!A766,\"\")","v":""},{"$f":"IF(D766<>\"\",Data!B766,\"\")","v":""},"",{"$f":"IF(AND(Data!C766<>\"\",Data!C766 > 0),Data!C766,\"\")","v":""}]
[{"$f":"IF(D767<>\"\",Data!A767,\"\")","v":""},{"$f":"IF(D767<>\"\",Data!B767,\"\")","v":""},"",{"$f":"IF(AND(Data!C767<>\"\",Data!C767 > 0),Data!C767,\"\")","v":""}]
[{"$f":"IF(D768<>\"\",Data!A768,\"\")","v":""},{"$f":"IF(D768<>\"\",Data!B768,\"\")","v":""},"",{"$f":"IF(AND(Data!C768<>\"\",Data!C768 > 0),Data!C768,\"\")","v":""}]
[{"$f":"IF(D769<>\"\",Data!A769,\"\")","v":""},{"$f":"IF(D769<>\"\",Data!B769,\"\")","v":""},"",{"$f":"IF(AND(Data!C769<>\"\",Data!C769 > 0),Data!C769,\"\")","v":""}]
[{"$f":"IF(D770<>\"\",Data!A770,\"\")","v":""},{"$f":"IF(D770<>\"\",Data!B770,\"\")","v":""},"",{"$f":"IF(AND(Data!C770<>\"\",Data!C770 > 0),Data!C770,\"\")","v":""}]
[{"$f":"IF(D771<>\"\",Data!A771,\"\")","v":""},{"$f":"IF(D771<>\"\",Data!B771,\"\")","v":""},{"$f":"IF(D771<>\"\",MID(CELL(\"filename\",B770),FIND(\"]\",CELL(\"filename\",B770))+1,32),\"\")","v":""},{"$f":"IF(AND(Data!C771<>\"\",Data!C771 > 0),Data!C771,\"\")","v":""}]
[{"$f":"IF(D772<>\"\",Data!A772,\"\")","v":""},{"$f":"IF(D772<>\"\",Data!B772,\"\")","v":""},"",{"$f":"IF(AND(Data!C772<>\"\",Data!C772 > 0),Data!C772,\"\")","v":""}]
[{"$f":"IF(D773<>\"\",Data!A773,\"\")","v":""},{"$f":"IF(D773<>\"\",Data!B773,\"\")","v":""},"",{"$f":"IF(AND(Data!C773<>\"\",Data!C773 > 0),Data!C773,\"\")","v":""}]
[{"$f":"IF(D774<>\"\",Data!A774,\"\")","v":""},{"$f":"IF(D774<>\"\",Data!B774,\"\")","v":""},"",{"$f":"IF(AND(Data!C774<>\"\",Data!C774 > 0),Data!C774,\"\")","v":""}]
[{"$f":"IF(D775<>\"\",Data!A775,\"\")","v":""},{"$f":"IF(D775<>\"\",Data!B775,\"\")","v":""},"",{"$f":"IF(AND(Data!C775<>\"\",Data!C775 > 0),Data!C775,\"\")","v":""}]
[{"$f":"IF(D776<>\"\",Data!A776,\"\")","v":""},{"$f":"IF(D776<>\"\",Data!B776,\"\")","v":""},"",{"$f":"IF(AND(Data!C776<>\"\",Data!C776 > 0),Data!C776,\"\")","v":""}]
[{"$f":"IF(D777<>\"\",Data!A777,\"\")","v":""},{"$f":"IF(D777<>\"\",Data!B777,\"\")","v":""},"",{"$f":"IF(AND(Data!C777<>\"\",Data!C777 > 0),Data!C777,\"\")","v":""}]
[{"$f":"IF(D778<>\"\",Data!A778,\"\")","v":""},{"$f":"IF(D778<>\"\",Data!B778,\"\")","v":""},"",{"$f":"IF(AND(Data!C778<>\"\",Data!C778 > 0),Data!C778,\"\")","v":""}]
[{"$f":"IF(D779<>\"\",Data!A779,\"\")","v":""},{"$f":"IF(D779<>\"\",Data!B779,\"\")","v":""},"",{"$f":"IF(AND(Data!C779<>\"\",Data!C779 > 0),Data!C779,\"\")","v":""}]
[{"$f":"IF(D780<>\"\",Data!A780,\"\")","v":""},{"$f":"IF(D780<>\"\",Data!B780,\"\")","v":""},"",{"$f":"IF(AND(Data!C780<>\"\",Data!C780 > 0),Data!C780,\"\")","v":""}]
[{"$f":"IF(D781<>\"\",Data!A781,\"\")","v":""},{"$f":"IF(D781<>\"\",Data!B781,\"\")","v":""},"",{"$f":"IF(AND(Data!C781<>\"\",Data!C781 > 0),Data!C781,\"\")","v":""}]
[{"$f":"IF(D782<>\"\",Data!A782,\"\")","v":""},{"$f":"IF(D782<>\"\",Data!B782,\"\")","v":""},"",{"$f":"IF(AND(Data!C782<>\"\",Data!C782 > 0),Data!C782,\"\")","v":""}]
[{"$f":"IF(D783<>\"\",Data!A783,\"\")","v":""},{"$f":"IF(D783<>\"\",Data!B783,\"\")","v":""},"",{"$f":"IF(AND(Data!C783<>\"\",Data!C783 > 0),Data!C783,\"\")","v":""}]
[{"$f":"IF(D784<>\"\",Data!A784,\"\")","v":""},{"$f":"IF(D784<>\"\",Data!B784,\"\")","v":""},"",{"$f":"IF(AND(Data!C784<>\"\",Data!C784 > 0),Data!C784,\"\")","v":""}]
[{"$f":"IF(D785<>\"\",Data!A785,\"\")","v":""},{"$f":"IF(D785<>\"\",Data!B785,\"\")","v":""},"",{"$f":"IF(AND(Data!C785<>\"\",Data!C785 > 0),Data!C785,\"\")","v":""}]
[{"$f":"IF(D786<>\"\",Data!A786,\"\")","v":""},{"$f":"IF(D786<>\"\",Data!B786,\"\")","v":""},"",{"$f":"IF(AND(Data!C786<>\"\",Data!C786 > 0),Data!C786,\"\")","v":""}]
[{"$f":"IF(D787<>\"\",Data!A787,\"\")","v":""},{"$f":"IF(D787<>\"\",Data!B787,\"\")","v":""},"",{"$f":"IF(AND(Data!C787<>\"\",Data!C787 > 0),Data!C787,\"\")","v":""}]
[{"$f":"IF(D788<>\"\",Data!A788,\"\")","v":""},{"$f":"IF(D788<>\"\",Data!B788,\"\")","v":""},"",{"$f":"IF(AND(Data!C788<>\"\",Data!C788 > 0),Data!C788,\"\")","v":""}]
[{"$f":"IF(D789<>\"\",Data!A789,\"\")","v":""},{"$f":"IF(D789<>\"\",Data!B789,\"\")","v":""},"",{"$f":"IF(AND(Data!C789<>\"\",Data!C789 > 0),Data!C789,\"\")","v":""}]
[{"$f":"IF(D790<>\"\",Data!A790,\"\")","v":""},{"$f":"IF(D790<>\"\",Data!B790,\"\")","v":""},"",{"$f":"IF(AND(Data!C790<>\"\",Data!C790 > 0),Data!C790,\"\")","v":""}]
[{"$f":"IF(D791<>\"\",Data!A791,\"\")","v":""},{"$f":"IF(D791<>\"\",Data!B791,\"\")","v":""},"",{"$f":"IF(AND(Data!C791<>\"\",Data!C791 > 0),Data!C791,\"\")","v":""}]
[{"$f":"IF(D792<>\"\",Data!A792,\"\")","v":""},{"$f":"IF(D792<>\"\",Data!B792,\"\")","v":""},"",{"$f":"IF(AND(Data!C792<>\"\",Data!C792 > 0),Data!C792,\"\")","v":""}]
[{"$f":"IF(D793<>\"\",Data!A793,\"\")","v":""},{"$f":"IF(D793<>\"\",Data!B793,\"\")","v":""},"",{"$f":"IF(AND(Data!C793<>\"\",Data!C793 > 0),Data!C793,\"\")","v":""}]
[{"$f":"IF(D794<>\"\",Data!A794,\"\")","v":""},{"$f":"IF(D794<>\"\",Data!B794,\"\")","v":""},"",{"$f":"IF(AND(Data!C794<>\"\",Data!C794 > 0),Data!C794,\"\")","v":""}]
[{"$f":"IF(D795<>\"\",Data!A795,\"\")","v":""},{"$f":"IF(D795<>\"\",Data!B795,\"\")","v":""},"",{"$f":"IF(AND(Data!C795<>\"\",Data!C795 > 0),Data!C795,\"\")","v":""}]
[{"$f":"IF(D796<>\"\",Data!A796,\"\")","v":""},{"$f":"IF(D796<>\"\",Data!B796,\"\")","v":""},"",{"$f":"IF(AND(Data!C796<>\"\",Data!C796 > 0),Data!C796,\"\")","v":""}]
[{"$f":"IF(D797<>\"\",Data!A797,\"\")","v":""},{"$f":"IF(D797<>\"\",Data!B797,\"\")","v":""},"",{"$f":"IF(AND(Data!C797<>\"\",Data!C797 > 0),Data!C797,\"\")","v":""}]
[{"$f":"IF(D798<>\"\",Data!A798,\"\")","v":""},{"$f":"IF(D798<>\"\",Data!B798,\"\")","v":""},"",{"$f":"IF(AND(Data!C798<>\"\",Data!C798 > 0),Data!C798,\"\")","v":""}]
[{"$f":"IF(D799<>\"\",Data!A799,\"\")","v":""},{"$f":"IF(D799<>\"\",Data!B799,\"\")","v":""},"",{"$f":"IF(AND(Data!C799<>\"\",Data!C799 > 0),Data!C799,\"\")","v":""}]
[{"$f":"IF(D800<>\"\",Data!A800,\"\")","v":""},{"$f":"IF(D800<>\"\",Data!B800,\"\")","v":""},"",{"$f":"IF(AND(Data!C800<>\"\",Data!C800 > 0),Data!C800,\"\")","v":""}]
[{"$f":"IF(D801<>\"\",Data!A801,\"\")","v":""},{"$f":"IF(D801<>\"\",Data!B801,\"\")","v":""},"",{"$f":"IF(AND(Data!C801<>\"\",Data!C801 > 0),Data!C801,\"\")","v":""}]
[{"$f":"IF(D802<>\"\",Data!A802,\"\")","v":""},{"$f":"IF(D802<>\"\",Data!B802,\"\")","v":""},"",{"$f":"IF(AND(Data!C802<>\"\",Data!C802 > 0),Data!C802,\"\")","v":""}]
[{"$f":"IF(D803<>\"\",Data!A803,\"\")","v":""},{"$f":"IF(D803<>\"\",Data!B803,\"\")","v":""},"",{"$f":"IF(AND(Data!C803<>\"\",Data!C803 > 0),Data!C803,\"\")","v":""}]
[{"$f":"IF(D804<>\"\",Data!A804,\"\")","v":""},{"$f":"IF(D804<>\"\",Data!B804,\"\")","v":""},"",{"$f":"IF(AND(Data!C804<>\"\",Data!C804 > 0),Data!C804,\"\")","v":""}]
[{"$f":"IF(D805<>\"\",Data!A805,\"\")","v":""},{"$f":"IF(D805<>\"\",Data!B805,\"\")","v":""},"",{"$f":"IF(AND(Data!C805<>\"\",Data!C805 > 0),Data!C805,\"\")","v":""}]
[{"$f":"IF(D806<>\"\",Data!A806,\"\")","v":""},{"$f":"IF(D806<>\"\",Data!B806,\"\")","v":""},"",{"$f":"IF(AND(Data!C806<>\"\",Data!C806 > 0),Data!C806,\"\")","v":""}]
[{"$f":"IF(D807<>\"\",Data!A807,\"\")","v":""},{"$f":"IF(D807<>\"\",Data!B807,\"\")","v":""},"",{"$f":"IF(AND(Data!C807<>\"\",Data!C807 > 0),Data!C807,\"\")","v":""}]
[{"$f":"IF(D808<>\"\",Data!A808,\"\")","v":""},{"$f":"IF(D808<>\"\",Data!B808,\"\")","v":""},"",{"$f":"IF(AND(Data!C808<>\"\",Data!C808 > 0),Data!C808,\"\")","v":""}]
[{"$f":"IF(D809<>\"\",Data!A809,\"\")","v":""},{"$f":"IF(D809<>\"\",Data!B809,\"\")","v":""},"",{"$f":"IF(AND(Data!C809<>\"\",Data!C809 > 0),Data!C809,\"\")","v":""}]
[{"$f":"IF(D810<>\"\",Data!A810,\"\")","v":""},{"$f":"IF(D810<>\"\",Data!B810,\"\")","v":""},"",{"$f":"IF(AND(Data!C810<>\"\",Data!C810 > 0),Data!C810,\"\")","v":""}]
[{"$f":"IF(D811<>\"\",Data!A811,\"\")","v":""},{"$f":"IF(D811<>\"\",Data!B811,\"\")","v":""},"",{"$f":"IF(AND(Data!C811<>\"\",Data!C811 > 0),Data!C811,\"\")","v":""}]
[{"$f":"IF(D812<>\"\",Data!A812,\"\")","v":""},{"$f":"IF(D812<>\"\",Data!B812,\"\")","v":""},"",{"$f":"IF(AND(Data!C812<>\"\",Data!C812 > 0),Data!C812,\"\")","v":""}]
[{"$f":"IF(D813<>\"\",Data!A813,\"\")","v":""},{"$f":"IF(D813<>\"\",Data!B813,\"\")","v":""},"",{"$f":"IF(AND(Data!C813<>\"\",Data!C813 > 0),Data!C813,\"\")","v":""}]
[{"$f":"IF(D814<>\"\",Data!A814,\"\")","v":""},{"$f":"IF(D814<>\"\",Data!B814,\"\")","v":""},"",{"$f":"IF(AND(Data!C814<>\"\",Data!C814 > 0),Data!C814,\"\")","v":""}]
[{"$f":"IF(D815<>\"\",Data!A815,\"\")","v":""},{"$f":"IF(D815<>\"\",Data!B815,\"\")","v":""},"",{"$f":"IF(AND(Data!C815<>\"\",Data!C815 > 0),Data!C815,\"\")","v":""}]
[{"$f":"IF(D816<>\"\",Data!A816,\"\")","v":""},{"$f":"IF(D816<>\"\",Data!B816,\"\")","v":""},"",{"$f":"IF(AND(Data!C816<>\"\",Data!C816 > 0),Data!C816,\"\")","v":""}]
[{"$f":"IF(D817<>\"\",Data!A817,\"\")","v":""},{"$f":"IF(D817<>\"\",Data!B817,\"\")","v":""},"",{"$f":"IF(AND(Data!C817<>\"\",Data!C817 > 0),Data!C817,\"\")","v":""}]
[{"$f":"IF(D818<>\"\",Data!A818,\"\")","v":""},{"$f":"IF(D818<>\"\",Data!B818,\"\")","v":""},"",{"$f":"IF(AND(Data!C818<>\"\",Data!C818 > 0),Data!C818,\"\")","v":""}]
[{"$f":"IF(D819<>\"\",Data!A819,\"\")","v":""},{"$f":"IF(D819<>\"\",Data!B819,\"\")","v":""},"",{"$f":"IF(AND(Data!C819<>\"\",Data!C819 > 0),Data!C819,\"\")","v":""}]
[{"$f":"IF(D820<>\"\",Data!A820,\"\")","v":""},{"$f":"IF(D820<>\"\",Data!B820,\"\")","v":""},"",{"$f":"IF(AND(Data!C820<>\"\",Data!C820 > 0),Data!C820,\"\")","v":""}]
[{"$f":"IF(D821<>\"\",Data!A821,\"\")","v":""},{"$f":"IF(D821<>\"\",Data!B821,\"\")","v":""},"",{"$f":"IF(AND(Data!C821<>\"\",Data!C821 > 0),Data!C821,\"\")","v":""}]
[{"$f":"IF(D822<>\"\",Data!A822,\"\")","v":""},{"$f":"IF(D822<>\"\",Data!B822,\"\")","v":""},"",{"$f":"IF(AND(Data!C822<>\"\",Data!C822 > 0),Data!C822,\"\")","v":""}]
[{"$f":"IF(D823<>\"\",Data!A823,\"\")","v":""},{"$f":"IF(D823<>\"\",Data!B823,\"\")","v":""},"",{"$f":"IF(AND(Data!C823<>\"\",Data!C823 > 0),Data!C823,\"\")","v":""}]
[{"$f":"IF(D824<>\"\",Data!A824,\"\")","v":""},{"$f":"IF(D824<>\"\",Data!B824,\"\")","v":""},"",{"$f":"IF(AND(Data!C824<>\"\",Data!C824 > 0),Data!C824,\"\")","v":""}]
[{"$f":"IF(D825<>\"\",Data!A825,\"\")","v":""},{"$f":"IF(D825<>\"\",Data!B825,\"\")","v":""},"",{"$f":"IF(AND(Data!C825<>\"\",Data!C825 > 0),Data!C825,\"\")","v":""}]
[{"$f":"IF(D826<>\"\",Data!A826,\"\")","v":""},{"$f":"IF(D826<>\"\",Data!B826,\"\")","v":""},"",{"$f":"IF(AND(Data!C826<>\"\",Data!C826 > 0),Data!C826,\"\")","v":""}]
[{"$f":"IF(D827<>\"\",Data!A827,\"\")","v":""},{"$f":"IF(D827<>\"\",Data!B827,\"\")","v":""},"",{"$f":"IF(AND(Data!C827<>\"\",Data!C827 > 0),Data!C827,\"\")","v":""}]
[{"$f":"IF(D828<>\"\",Data!A828,\"\")","v":""},{"$f":"IF(D828<>\"\",Data!B828,\"\")","v":""},"",{"$f":"IF(AND(Data!C828<>\"\",Data!C828 > 0),Data!C828,\"\")","v":""}]
[{"$f":"IF(D829<>\"\",Data!A829,\"\")","v":""},{"$f":"IF(D829<>\"\",Data!B829,\"\")","v":""},"",{"$f":"IF(AND(Data!C829<>\"\",Data!C829 > 0),Data!C829,\"\")","v":""}]
[{"$f":"IF(D830<>\"\",Data!A830,\"\")","v":""},{"$f":"IF(D830<>\"\",Data!B830,\"\")","v":""},"",{"$f":"IF(AND(Data!C830<>\"\",Data!C830 > 0),Data!C830,\"\")","v":""}]
[{"$f":"IF(D831<>\"\",Data!A831,\"\")","v":""},{"$f":"IF(D831<>\"\",Data!B831,\"\")","v":""},"",{"$f":"IF(AND(Data!C831<>\"\",Data!C831 > 0),Data!C831,\"\")","v":""}]
[{"$f":"IF(D832<>\"\",Data!A832,\"\")","v":""},{"$f":"IF(D832<>\"\",Data!B832,\"\")","v":""},"",{"$f":"IF(AND(Data!C832<>\"\",Data!C832 > 0),Data!C832,\"\")","v":""}]
[{"$f":"IF(D833<>\"\",Data!A833,\"\")","v":""},{"$f":"IF(D833<>\"\",Data!B833,\"\")","v":""},"",{"$f":"IF(AND(Data!C833<>\"\",Data!C833 > 0),Data!C833,\"\")","v":""}]
[{"$f":"IF(D834<>\"\",Data!A834,\"\")","v":""},{"$f":"IF(D834<>\"\",Data!B834,\"\")","v":""},"",{"$f":"IF(AND(Data!C834<>\"\",Data!C834 > 0),Data!C834,\"\")","v":""}]
[{"$f":"IF(D835<>\"\",Data!A835,\"\")","v":""},{"$f":"IF(D835<>\"\",Data!B835,\"\")","v":""},{"$f":"IF(D835<>\"\",MID(CELL(\"filename\",B834),FIND(\"]\",CELL(\"filename\",B834))+1,32),\"\")","v":""},{"$f":"IF(AND(Data!C835<>\"\",Data!C835 > 0),Data!C835,\"\")","v":""}]
[{"$f":"IF(D836<>\"\",Data!A836,\"\")","v":""},{"$f":"IF(D836<>\"\",Data!B836,\"\")","v":""},"",{"$f":"IF(AND(Data!C836<>\"\",Data!C836 > 0),Data!C836,\"\")","v":""}]
[{"$f":"IF(D837<>\"\",Data!A837,\"\")","v":""},{"$f":"IF(D837<>\"\",Data!B837,\"\")","v":""},"",{"$f":"IF(AND(Data!C837<>\"\",Data!C837 > 0),Data!C837,\"\")","v":""}]
[{"$f":"IF(D838<>\"\",Data!A838,\"\")","v":""},{"$f":"IF(D838<>\"\",Data!B838,\"\")","v":""},"",{"$f":"IF(AND(Data!C838<>\"\",Data!C838 > 0),Data!C838,\"\")","v":""}]
[{"$f":"IF(D839<>\"\",Data!A839,\"\")","v":""},{"$f":"IF(D839<>\"\",Data!B839,\"\")","v":""},"",{"$f":"IF(AND(Data!C839<>\"\",Data!C839 > 0),Data!C839,\"\")","v":""}]
[{"$f":"IF(D840<>\"\",Data!A840,\"\")","v":""},{"$f":"IF(D840<>\"\",Data!B840,\"\")","v":""},"",{"$f":"IF(AND(Data!C840<>\"\",Data!C840 > 0),Data!C840,\"\")","v":""}]
[{"$f":"IF(D841<>\"\",Data!A841,\"\")","v":""},{"$f":"IF(D841<>\"\",Data!B841,\"\")","v":""},"",{"$f":"IF(AND(Data!C841<>\"\",Data!C841 > 0),Data!C841,\"\")","v":""}]
[{"$f":"IF(D842<>\"\",Data!A842,\"\")","v":""},{"$f":"IF(D842<>\"\",Data!B842,\"\")","v":""},"",{"$f":"IF(AND(Data!C842<>\"\",Data!C842 > 0),Data!C842,\"\")","v":""}]
[{"$f":"IF(D843<>\"\",Data!A843,\"\")","v":""},{"$f":"IF(D843<>\"\",Data!B843,\"\")","v":""},"",{"$f":"IF(AND(Data!C843<>\"\",Data!C843 > 0),Data!C843,\"\")","v":""}]
[{"$f":"IF(D844<>\"\",Data!A844,\"\")","v":""},{"$f":"IF(D844<>\"\",Data!B844,\"\")","v":""},"",{"$f":"IF(AND(Data!C844<>\"\",Data!C844 > 0),Data!C844,\"\")","v":""}]
[{"$f":"IF(D845<>\"\",Data!A845,\"\")","v":""},{"$f":"IF(D845<>\"\",Data!B845,\"\")","v":""},"",{"$f":"IF(AND(Data!C845<>\"\",Data!C845 > 0),Data!C845,\"\")","v":""}]
[{"$f":"IF(D846<>\"\",Data!A846,\"\")","v":""},{"$f":"IF(D846<>\"\",Data!B846,\"\")","v":""},"",{"$f":"IF(AND(Data!C846<>\"\",Data!C846 > 0),Data!C846,\"\")","v":""}]
[{"$f":"IF(D847<>\"\",Data!A847,\"\")","v":""},{"$f":"IF(D847<>\"\",Data!B847,\"\")","v":""},"",{"$f":"IF(AND(Data!C847<>\"\",Data!C847 > 0),Data!C847,\"\")","v":""}]
[{"$f":"IF(D848<>\"\",Data!A848,\"\")","v":""},{"$f":"IF(D848<>\"\",Data!B848,\"\")","v":""},"",{"$f":"IF(AND(Data!C848<>\"\",Data!C848 > 0),Data!C848,\"\")","v":""}]
[{"$f":"IF(D849<>\"\",Data!A849,\"\")","v":""},{"$f":"IF(D849<>\"\",Data!B849,\"\")","v":""},"",{"$f":"IF(AND(Data!C849<>\"\",Data!C849 > 0),Data!C849,\"\")","v":""}]
[{"$f":"IF(D850<>\"\",Data!A850,\"\")","v":""},{"$f":"IF(D850<>\"\",Data!B850,\"\")","v":""},"",{"$f":"IF(AND(Data!C850<>\"\",Data!C850 > 0),Data!C850,\"\")","v":""}]
[{"$f":"IF(D851<>\"\",Data!A851,\"\")","v":""},{"$f":"IF(D851<>\"\",Data!B851,\"\")","v":""},"",{"$f":"IF(AND(Data!C851<>\"\",Data!C851 > 0),Data!C851,\"\")","v":""}]
[{"$f":"IF(D852<>\"\",Data!A852,\"\")","v":""},{"$f":"IF(D852<>\"\",Data!B852,\"\")","v":""},"",{"$f":"IF(AND(Data!C852<>\"\",Data!C852 > 0),Data!C852,\"\")","v":""}]
[{"$f":"IF(D853<>\"\",Data!A853,\"\")","v":""},{"$f":"IF(D853<>\"\",Data!B853,\"\")","v":""},"",{"$f":"IF(AND(Data!C853<>\"\",Data!C853 > 0),Data!C853,\"\")","v":""}]
[{"$f":"IF(D854<>\"\",Data!A854,\"\")","v":""},{"$f":"IF(D854<>\"\",Data!B854,\"\")","v":""},"",{"$f":"IF(AND(Data!C854<>\"\",Data!C854 > 0),Data!C854,\"\")","v":""}]
[{"$f":"IF(D855<>\"\",Data!A855,\"\")","v":""},{"$f":"IF(D855<>\"\",Data!B855,\"\")","v":""},"",{"$f":"IF(AND(Data!C855<>\"\",Data!C855 > 0),Data!C855,\"\")","v":""}]
[{"$f":"IF(D856<>\"\",Data!A856,\"\")","v":""},{"$f":"IF(D856<>\"\",Data!B856,\"\")","v":""},"",{"$f":"IF(AND(Data!C856<>\"\",Data!C856 > 0),Data!C856,\"\")","v":""}]
[{"$f":"IF(D857<>\"\",Data!A857,\"\")","v":""},{"$f":"IF(D857<>\"\",Data!B857,\"\")","v":""},"",{"$f":"IF(AND(Data!C857<>\"\",Data!C857 > 0),Data!C857,\"\")","v":""}]
[{"$f":"IF(D858<>\"\",Data!A858,\"\")","v":""},{"$f":"IF(D858<>\"\",Data!B858,\"\")","v":""},"",{"$f":"IF(AND(Data!C858<>\"\",Data!C858 > 0),Data!C858,\"\")","v":""}]
[{"$f":"IF(D859<>\"\",Data!A859,\"\")","v":""},{"$f":"IF(D859<>\"\",Data!B859,\"\")","v":""},"",{"$f":"IF(AND(Data!C859<>\"\",Data!C859 > 0),Data!C859,\"\")","v":""}]
[{"$f":"IF(D860<>\"\",Data!A860,\"\")","v":""},{"$f":"IF(D860<>\"\",Data!B860,\"\")","v":""},"",{"$f":"IF(AND(Data!C860<>\"\",Data!C860 > 0),Data!C860,\"\")","v":""}]
[{"$f":"IF(D861<>\"\",Data!A861,\"\")","v":""},{"$f":"IF(D861<>\"\",Data!B861,\"\")","v":""},"",{"$f":"IF(AND(Data!C861<>\"\",Data!C861 > 0),Data!C861,\"\")","v":""}]
[{"$f":"IF(D862<>\"\",Data!A862,\"\")","v":""},{"$f":"IF(D862<>\"\",Data!B862,\"\")","v":""},"",{"$f":"IF(AND(Data!C862<>\"\",Data!C862 > 0),Data!C862,\"\")","v":""}]
[{"$f":"IF(D863<>\"\",Data!A863,\"\")","v":""},{"$f":"IF(D863<>\"\",Data!B863,\"\")","v":""},"",{"$f":"IF(AND(Data!C863<>\"\",Data!C863 > 0),Data!C863,\"\")","v":""}]
[{"$f":"IF(D864<>\"\",Data!A864,\"\")","v":""},{"$f":"IF(D864<>\"\",Data!B864,\"\")","v":""},"",{"$f":"IF(AND(Data!C864<>\"\",Data!C864 > 0),Data!C864,\"\")","v":""}]
[{"$f":"IF(D865<>\"\",Data!A865,\"\")","v":""},{"$f":"IF(D865<>\"\",Data!B865,\"\")","v":""},"",{"$f":"IF(AND(Data!C865<>\"\",Data!C865 > 0),Data!C865,\"\")","v":""}]
[{"$f":"IF(D866<>\"\",Data!A866,\"\")","v":""},{"$f":"IF(D866<>\"\",Data!B866,\"\")","v":""},"",{"$f":"IF(AND(Data!C866<>\"\",Data!C866 > 0),Data!C866,\"\")","v":""}]
[{"$f":"IF(D867<>\"\",Data!A867,\"\")","v":""},{"$f":"IF(D867<>\"\",Data!B867,\"\")","v":""},"",{"$f":"IF(AND(Data!C867<>\"\",Data!C867 > 0),Data!C867,\"\")","v":""}]
[{"$f":"IF(D868<>\"\",Data!A868,\"\")","v":""},{"$f":"IF(D868<>\"\",Data!B868,\"\")","v":""},"",{"$f":"IF(AND(Data!C868<>\"\",Data!C868 > 0),Data!C868,\"\")","v":""}]
[{"$f":"IF(D869<>\"\",Data!A869,\"\")","v":""},{"$f":"IF(D869<>\"\",Data!B869,\"\")","v":""},"",{"$f":"IF(AND(Data!C869<>\"\",Data!C869 > 0),Data!C869,\"\")","v":""}]
[{"$f":"IF(D870<>\"\",Data!A870,\"\")","v":""},{"$f":"IF(D870<>\"\",Data!B870,\"\")","v":""},"",{"$f":"IF(AND(Data!C870<>\"\",Data!C870 > 0),Data!C870,\"\")","v":""}]
[{"$f":"IF(D871<>\"\",Data!A871,\"\")","v":""},{"$f":"IF(D871<>\"\",Data!B871,\"\")","v":""},"",{"$f":"IF(AND(Data!C871<>\"\",Data!C871 > 0),Data!C871,\"\")","v":""}]
[{"$f":"IF(D872<>\"\",Data!A872,\"\")","v":""},{"$f":"IF(D872<>\"\",Data!B872,\"\")","v":""},"",{"$f":"IF(AND(Data!C872<>\"\",Data!C872 > 0),Data!C872,\"\")","v":""}]
[{"$f":"IF(D873<>\"\",Data!A873,\"\")","v":""},{"$f":"IF(D873<>\"\",Data!B873,\"\")","v":""},"",{"$f":"IF(AND(Data!C873<>\"\",Data!C873 > 0),Data!C873,\"\")","v":""}]
[{"$f":"IF(D874<>\"\",Data!A874,\"\")","v":""},{"$f":"IF(D874<>\"\",Data!B874,\"\")","v":""},"",{"$f":"IF(AND(Data!C874<>\"\",Data!C874 > 0),Data!C874,\"\")","v":""}]
[{"$f":"IF(D875<>\"\",Data!A875,\"\")","v":""},{"$f":"IF(D875<>\"\",Data!B875,\"\")","v":""},"",{"$f":"IF(AND(Data!C875<>\"\",Data!C875 > 0),Data!C875,\"\")","v":""}]
[{"$f":"IF(D876<>\"\",Data!A876,\"\")","v":""},{"$f":"IF(D876<>\"\",Data!B876,\"\")","v":""},"",{"$f":"IF(AND(Data!C876<>\"\",Data!C876 > 0),Data!C876,\"\")","v":""}]
[{"$f":"IF(D877<>\"\",Data!A877,\"\")","v":""},{"$f":"IF(D877<>\"\",Data!B877,\"\")","v":""},"",{"$f":"IF(AND(Data!C877<>\"\",Data!C877 > 0),Data!C877,\"\")","v":""}]
[{"$f":"IF(D878<>\"\",Data!A878,\"\")","v":""},{"$f":"IF(D878<>\"\",Data!B878,\"\")","v":""},"",{"$f":"IF(AND(Data!C878<>\"\",Data!C878 > 0),Data!C878,\"\")","v":""}]
[{"$f":"IF(D879<>\"\",Data!A879,\"\")","v":""},{"$f":"IF(D879<>\"\",Data!B879,\"\")","v":""},"",{"$f":"IF(AND(Data!C879<>\"\",Data!C879 > 0),Data!C879,\"\")","v":""}]
[{"$f":"IF(D880<>\"\",Data!A880,\"\")","v":""},{"$f":"IF(D880<>\"\",Data!B880,\"\")","v":""},"",{"$f":"IF(AND(Data!C880<>\"\",Data!C880 > 0),Data!C880,\"\")","v":""}]
[{"$f":"IF(D881<>\"\",Data!A881,\"\")","v":""},{"$f":"IF(D881<>\"\",Data!B881,\"\")","v":""},"",{"$f":"IF(AND(Data!C881<>\"\",Data!C881 > 0),Data!C881,\"\")","v":""}]
[{"$f":"IF(D882<>\"\",Data!A882,\"\")","v":""},{"$f":"IF(D882<>\"\",Data!B882,\"\")","v":""},"",{"$f":"IF(AND(Data!C882<>\"\",Data!C882 > 0),Data!C882,\"\")","v":""}]
[{"$f":"IF(D883<>\"\",Data!A883,\"\")","v":""},{"$f":"IF(D883<>\"\",Data!B883,\"\")","v":""},"",{"$f":"IF(AND(Data!C883<>\"\",Data!C883 > 0),Data!C883,\"\")","v":""}]
[{"$f":"IF(D884<>\"\",Data!A884,\"\")","v":""},{"$f":"IF(D884<>\"\",Data!B884,\"\")","v":""},"",{"$f":"IF(AND(Data!C884<>\"\",Data!C884 > 0),Data!C884,\"\")","v":""}]
[{"$f":"IF(D885<>\"\",Data!A885,\"\")","v":""},{"$f":"IF(D885<>\"\",Data!B885,\"\")","v":""},"",{"$f":"IF(AND(Data!C885<>\"\",Data!C885 > 0),Data!C885,\"\")","v":""}]
[{"$f":"IF(D886<>\"\",Data!A886,\"\")","v":""},{"$f":"IF(D886<>\"\",Data!B886,\"\")","v":""},"",{"$f":"IF(AND(Data!C886<>\"\",Data!C886 > 0),Data!C886,\"\")","v":""}]
[{"$f":"IF(D887<>\"\",Data!A887,\"\")","v":""},{"$f":"IF(D887<>\"\",Data!B887,\"\")","v":""},"",{"$f":"IF(AND(Data!C887<>\"\",Data!C887 > 0),Data!C887,\"\")","v":""}]
[{"$f":"IF(D888<>\"\",Data!A888,\"\")","v":""},{"$f":"IF(D888<>\"\",Data!B888,\"\")","v":""},"",{"$f":"IF(AND(Data!C888<>\"\",Data!C888 > 0),Data!C888,\"\")","v":""}]
[{"$f":"IF(D889<>\"\",Data!A889,\"\")","v":""},{"$f":"IF(D889<>\"\",Data!B889,\"\")","v":""},"",{"$f":"IF(AND(Data!C889<>\"\",Data!C889 > 0),Data!C889,\"\")","v":""}]
[{"$f":"IF(D890<>\"\",Data!A890,\"\")","v":""},{"$f":"IF(D890<>\"\",Data!B890,\"\")","v":""},"",{"$f":"IF(AND(Data!C890<>\"\",Data!C890 > 0),Data!C890,\"\")","v":""}]
[{"$f":"IF(D891<>\"\",Data!A891,\"\")","v":""},{"$f":"IF(D891<>\"\",Data!B891,\"\")","v":""},"",{"$f":"IF(AND(Data!C891<>\"\",Data!C891 > 0),Data!C891,\"\")","v":""}]
[{"$f":"IF(D892<>\"\",Data!A892,\"\")","v":""},{"$f":"IF(D892<>\"\",Data!B892,\"\")","v":""},"",{"$f":"IF(AND(Data!C892<>\"\",Data!C892 > 0),Data!C892,\"\")","v":""}]
[{"$f":"IF(D893<>\"\",Data!A893,\"\")","v":""},{"$f":"IF(D893<>\"\",Data!B893,\"\")","v":""},"",{"$f":"IF(AND(Data!C893<>\"\",Data!C893 > 0),Data!C893,\"\")","v":""}]
[{"$f":"IF(D894<>\"\",Data!A894,\"\")","v":""},{"$f":"IF(D894<>\"\",Data!B894,\"\")","v":""},"",{"$f":"IF(AND(Data!C894<>\"\",Data!C894 > 0),Data!C894,\"\")","v":""}]
[{"$f":"IF(D895<>\"\",Data!A895,\"\")","v":""},{"$f":"IF(D895<>\"\",Data!B895,\"\")","v":""},"",{"$f":"IF(AND(Data!C895<>\"\",Data!C895 > 0),Data!C895,\"\")","v":""}]
[{"$f":"IF(D896<>\"\",Data!A896,\"\")","v":""},{"$f":"IF(D896<>\"\",Data!B896,\"\")","v":""},"",{"$f":"IF(AND(Data!C896<>\"\",Data!C896 > 0),Data!C896,\"\")","v":""}]
[{"$f":"IF(D897<>\"\",Data!A897,\"\")","v":""},{"$f":"IF(D897<>\"\",Data!B897,\"\")","v":""},"",{"$f":"IF(AND(Data!C897<>\"\",Data!C897 > 0),Data!C897,\"\")","v":""}]
[{"$f":"IF(D898<>\"\",Data!A898,\"\")","v":""},{"$f":"IF(D898<>\"\",Data!B898,\"\")","v":""},"",{"$f":"IF(AND(Data!C898<>\"\",Data!C898 > 0),Data!C898,\"\")","v":""}]
[{"$f":"IF(D899<>\"\",Data!A899,\"\")","v":""},{"$f":"IF(D899<>\"\",Data!B899,\"\")","v":""},{"$f":"IF(D899<>\"\",MID(CELL(\"filename\",B898),FIND(\"]\",CELL(\"filename\",B898))+1,32),\"\")","v":""},{"$f":"IF(AND(Data!C899<>\"\",Data!C899 > 0),Data!C899,\"\")","v":""}]
[{"$f":"IF(D900<>\"\",Data!A900,\"\")","v":""},{"$f":"IF(D900<>\"\",Data!B900,\"\")","v":""},"",{"$f":"IF(AND(Data!C900<>\"\",Data!C900 > 0),Data!C900,\"\")","v":""}]
[{"$f":"IF(D901<>\"\",Data!A901,\"\")","v":""},{"$f":"IF(D901<>\"\",Data!B901,\"\")","v":""},"",{"$f":"IF(AND(Data!C901<>\"\",Data!C901 > 0),Data!C901,\"\")","v":""}]
[{"$f":"IF(D902<>\"\",Data!A902,\"\")","v":""},{"$f":"IF(D902<>\"\",Data!B902,\"\")","v":""},"",{"$f":"IF(AND(Data!C902<>\"\",Data!C902 > 0),Data!C902,\"\")","v":""}]
[{"$f":"IF(D903<>\"\",Data!A903,\"\")","v":""},{"$f":"IF(D903<>\"\",Data!B903,\"\")","v":""},"",{"$f":"IF(AND(Data!C903<>\"\",Data!C903 > 0),Data!C903,\"\")","v":""}]
[{"$f":"IF(D904<>\"\",Data!A904,\"\")","v":""},{"$f":"IF(D904<>\"\",Data!B904,\"\")","v":""},"",{"$f":"IF(AND(Data!C904<>\"\",Data!C904 > 0),Data!C904,\"\")","v":""}]
[{"$f":"IF(D905<>\"\",Data!A905,\"\")","v":""},{"$f":"IF(D905<>\"\",Data!B905,\"\")","v":""},"",{"$f":"IF(AND(Data!C905<>\"\",Data!C905 > 0),Data!C905,\"\")","v":""}]
[{"$f":"IF(D906<>\"\",Data!A906,\"\")","v":""},{"$f":"IF(D906<>\"\",Data!B906,\"\")","v":""},"",{"$f":"IF(AND(Data!C906<>\"\",Data!C906 > 0),Data!C906,\"\")","v":""}]
[{"$f":"IF(D907<>\"\",Data!A907,\"\")","v":""},{"$f":"IF(D907<>\"\",Data!B907,\"\")","v":""},"",{"$f":"IF(AND(Data!C907<>\"\",Data!C907 > 0),Data!C907,\"\")","v":""}]
[{"$f":"IF(D908<>\"\",Data!A908,\"\")","v":""},{"$f":"IF(D908<>\"\",Data!B908,\"\")","v":""},"",{"$f":"IF(AND(Data!C908<>\"\",Data!C908 > 0),Data!C908,\"\")","v":""}]
[{"$f":"IF(D909<>\"\",Data!A909,\"\")","v":""},{"$f":"IF(D909<>\"\",Data!B909,\"\")","v":""},"",{"$f":"IF(AND(Data!C909<>\"\",Data!C909 > 0),Data!C909,\"\")","v":""}]
[{"$f":"IF(D910<>\"\",Data!A910,\"\")","v":""},{"$f":"IF(D910<>\"\",Data!B910,\"\")","v":""},"",{"$f":"IF(AND(Data!C910<>\"\",Data!C910 > 0),Data!C910,\"\")","v":""}]
[{"$f":"IF(D911<>\"\",Data!A911,\"\")","v":""},{"$f":"IF(D911<>\"\",Data!B911,\"\")","v":""},"",{"$f":"IF(AND(Data!C911<>\"\",Data!C911 > 0),Data!C911,\"\")","v":""}]
[{"$f":"IF(D912<>\"\",Data!A912,\"\")","v":""},{"$f":"IF(D912<>\"\",Data!B912,\"\")","v":""},"",{"$f":"IF(AND(Data!C912<>\"\",Data!C912 > 0),Data!C912,\"\")","v":""}]
[{"$f":"IF(D913<>\"\",Data!A913,\"\")","v":""},{"$f":"IF(D913<>\"\",Data!B913,\"\")","v":""},"",{"$f":"IF(AND(Data!C913<>\"\",Data!C913 > 0),Data!C913,\"\")","v":""}]
[{"$f":"IF(D914<>\"\",Data!A914,\"\")","v":""},{"$f":"IF(D914<>\"\",Data!B914,\"\")","v":""},"",{"$f":"IF(AND(Data!C914<>\"\",Data!C914 > 0),Data!C914,\"\")","v":""}]
[{"$f":"IF(D915<>\"\",Data!A915,\"\")","v":""},{"$f":"IF(D915<>\"\",Data!B915,\"\")","v":""},"",{"$f":"IF(AND(Data!C915<>\"\",Data!C915 > 0),Data!C915,\"\")","v":""}]
[{"$f":"IF(D916<>\"\",Data!A916,\"\")","v":""},{"$f":"IF(D916<>\"\",Data!B916,\"\")","v":""},"",{"$f":"IF(AND(Data!C916<>\"\",Data!C916 > 0),Data!C916,\"\")","v":""}]
[{"$f":"IF(D917<>\"\",Data!A917,\"\")","v":""},{"$f":"IF(D917<>\"\",Data!B917,\"\")","v":""},"",{"$f":"IF(AND(Data!C917<>\"\",Data!C917 > 0),Data!C917,\"\")","v":""}]
[{"$f":"IF(D918<>\"\",Data!A918,\"\")","v":""},{"$f":"IF(D918<>\"\",Data!B918,\"\")","v":""},"",{"$f":"IF(AND(Data!C918<>\"\",Data!C918 > 0),Data!C918,\"\")","v":""}]
[{"$f":"IF(D919<>\"\",Data!A919,\"\")","v":""},{"$f":"IF(D919<>\"\",Data!B919,\"\")","v":""},"",{"$f":"IF(AND(Data!C919<>\"\",Data!C919 > 0),Data!C919,\"\")","v":""}]
[{"$f":"IF(D920<>\"\",Data!A920,\"\")","v":""},{"$f":"IF(D920<>\"\",Data!B920,\"\")","v":""},"",{"$f":"IF(AND(Data!C920<>\"\",Data!C920 > 0),Data!C920,\"\")","v":""}]
[{"$f":"IF(D921<>\"\",Data!A921,\"\")","v":""},{"$f":"IF(D921<>\"\",Data!B921,\"\")","v":""},"",{"$f":"IF(AND(Data!C921<>\"\",Data!C921 > 0),Data!C921,\"\")","v":""}]
[{"$f":"IF(D922<>\"\",Data!A922,\"\")","v":""},{"$f":"IF(D922<>\"\",Data!B922,\"\")","v":""},"",{"$f":"IF(AND(Data!C922<>\"\",Data!C922 > 0),Data!C922,\"\")","v":""}]
[{"$f":"IF(D923<>\"\",Data!A923,\"\")","v":""},{"$f":"IF(D923<>\"\",Data!B923,\"\")","v":""},"",{"$f":"IF(AND(Data!C923<>\"\",Data!C923 > 0),Data!C923,\"\")","v":""}]
[{"$f":"IF(D924<>\"\",Data!A924,\"\")","v":""},{"$f":"IF(D924<>\"\",Data!B924,\"\")","v":""},"",{"$f":"IF(AND(Data!C924<>\"\",Data!C924 > 0),Data!C924,\"\")","v":""}]
[{"$f":"IF(D925<>\"\",Data!A925,\"\")","v":""},{"$f":"IF(D925<>\"\",Data!B925,\"\")","v":""},"",{"$f":"IF(AND(Data!C925<>\"\",Data!C925 > 0),Data!C925,\"\")","v":""}]
[{"$f":"IF(D926<>\"\",Data!A926,\"\")","v":""},{"$f":"IF(D926<>\"\",Data!B926,\"\")","v":""},"",{"$f":"IF(AND(Data!C926<>\"\",Data!C926 > 0),Data!C926,\"\")","v":""}]
[{"$f":"IF(D927<>\"\",Data!A927,\"\")","v":""},{"$f":"IF(D927<>\"\",Data!B927,\"\")","v":""},"",{"$f":"IF(AND(Data!C927<>\"\",Data!C927 > 0),Data!C927,\"\")","v":""}]
[{"$f":"IF(D928<>\"\",Data!A928,\"\")","v":""},{"$f":"IF(D928<>\"\",Data!B928,\"\")","v":""},"",{"$f":"IF(AND(Data!C928<>\"\",Data!C928 > 0),Data!C928,\"\")","v":""}]
[{"$f":"IF(D929<>\"\",Data!A929,\"\")","v":""},{"$f":"IF(D929<>\"\",Data!B929,\"\")","v":""},"",{"$f":"IF(AND(Data!C929<>\"\",Data!C929 > 0),Data!C929,\"\")","v":""}]
[{"$f":"IF(D930<>\"\",Data!A930,\"\")","v":""},{"$f":"IF(D930<>\"\",Data!B930,\"\")","v":""},"",{"$f":"IF(AND(Data!C930<>\"\",Data!C930 > 0),Data!C930,\"\")","v":""}]
[{"$f":"IF(D931<>\"\",Data!A931,\"\")","v":""},{"$f":"IF(D931<>\"\",Data!B931,\"\")","v":""},"",{"$f":"IF(AND(Data!C931<>\"\",Data!C931 > 0),Data!C931,\"\")","v":""}]
[{"$f":"IF(D932<>\"\",Data!A932,\"\")","v":""},{"$f":"IF(D932<>\"\",Data!B932,\"\")","v":""},"",{"$f":"IF(AND(Data!C932<>\"\",Data!C932 > 0),Data!C932,\"\")","v":""}]
[{"$f":"IF(D933<>\"\",Data!A933,\"\")","v":""},{"$f":"IF(D933<>\"\",Data!B933,\"\")","v":""},"",{"$f":"IF(AND(Data!C933<>\"\",Data!C933 > 0),Data!C933,\"\")","v":""}]
[{"$f":"IF(D934<>\"\",Data!A934,\"\")","v":""},{"$f":"IF(D934<>\"\",Data!B934,\"\")","v":""},"",{"$f":"IF(AND(Data!C934<>\"\",Data!C934 > 0),Data!C934,\"\")","v":""}]
[{"$f":"IF(D935<>\"\",Data!A935,\"\")","v":""},{"$f":"IF(D935<>\"\",Data!B935,\"\")","v":""},"",{"$f":"IF(AND(Data!C935<>\"\",Data!C935 > 0),Data!C935,\"\")","v":""}]
[{"$f":"IF(D936<>\"\",Data!A936,\"\")","v":""},{"$f":"IF(D936<>\"\",Data!B936,\"\")","v":""},"",{"$f":"IF(AND(Data!C936<>\"\",Data!C936 > 0),Data!C936,\"\")","v":""}]
[{"$f":"IF(D937<>\"\",Data!A937,\"\")","v":""},{"$f":"IF(D937<>\"\",Data!B937,\"\")","v":""},"",{"$f":"IF(AND(Data!C937<>\"\",Data!C937 > 0),Data!C937,\"\")","v":""}]
[{"$f":"IF(D938<>\"\",Data!A938,\"\")","v":""},{"$f":"IF(D938<>\"\",Data!B938,\"\")","v":""},"",{"$f":"IF(AND(Data!C938<>\"\",Data!C938 > 0),Data!C938,\"\")","v":""}]
[{"$f":"IF(D939<>\"\",Data!A939,\"\")","v":""},{"$f":"IF(D939<>\"\",Data!B939,\"\")","v":""},"",{"$f":"IF(AND(Data!C939<>\"\",Data!C939 > 0),Data!C939,\"\")","v":""}]
[{"$f":"IF(D940<>\"\",Data!A940,\"\")","v":""},{"$f":"IF(D940<>\"\",Data!B940,\"\")","v":""},"",{"$f":"IF(AND(Data!C940<>\"\",Data!C940 > 0),Data!C940,\"\")","v":""}]
[{"$f":"IF(D941<>\"\",Data!A941,\"\")","v":""},{"$f":"IF(D941<>\"\",Data!B941,\"\")","v":""},"",{"$f":"IF(AND(Data!C941<>\"\",Data!C941 > 0),Data!C941,\"\")","v":""}]
[{"$f":"IF(D942<>\"\",Data!A942,\"\")","v":""},{"$f":"IF(D942<>\"\",Data!B942,\"\")","v":""},"",{"$f":"IF(AND(Data!C942<>\"\",Data!C942 > 0),Data!C942,\"\")","v":""}]
[{"$f":"IF(D943<>\"\",Data!A943,\"\")","v":""},{"$f":"IF(D943<>\"\",Data!B943,\"\")","v":""},"",{"$f":"IF(AND(Data!C943<>\"\",Data!C943 > 0),Data!C943,\"\")","v":""}]
[{"$f":"IF(D944<>\"\",Data!A944,\"\")","v":""},{"$f":"IF(D944<>\"\",Data!B944,\"\")","v":""},"",{"$f":"IF(AND(Data!C944<>\"\",Data!C944 > 0),Data!C944,\"\")","v":""}]
[{"$f":"IF(D945<>\"\",Data!A945,\"\")","v":""},{"$f":"IF(D945<>\"\",Data!B945,\"\")","v":""},"",{"$f":"IF(AND(Data!C945<>\"\",Data!C945 > 0),Data!C945,\"\")","v":""}]
[{"$f":"IF(D946<>\"\",Data!A946,\"\")","v":""},{"$f":"IF(D946<>\"\",Data!B946,\"\")","v":""},"",{"$f":"IF(AND(Data!C946<>\"\",Data!C946 > 0),Data!C946,\"\")","v":""}]
[{"$f":"IF(D947<>\"\",Data!A947,\"\")","v":""},{"$f":"IF(D947<>\"\",Data!B947,\"\")","v":""},"",{"$f":"IF(AND(Data!C947<>\"\",Data!C947 > 0),Data!C947,\"\")","v":""}]
[{"$f":"IF(D948<>\"\",Data!A948,\"\")","v":""},{"$f":"IF(D948<>\"\",Data!B948,\"\")","v":""},"",{"$f":"IF(AND(Data!C948<>\"\",Data!C948 > 0),Data!C948,\"\")","v":""}]
[{"$f":"IF(D949<>\"\",Data!A949,\"\")","v":""},{"$f":"IF(D949<>\"\",Data!B949,\"\")","v":""},"",{"$f":"IF(AND(Data!C949<>\"\",Data!C949 > 0),Data!C949,\"\")","v":""}]
[{"$f":"IF(D950<>\"\",Data!A950,\"\")","v":""},{"$f":"IF(D950<>\"\",Data!B950,\"\")","v":""},"",{"$f":"IF(AND(Data!C950<>\"\",Data!C950 > 0),Data!C950,\"\")","v":""}]
[{"$f":"IF(D951<>\"\",Data!A951,\"\")","v":""},{"$f":"IF(D951<>\"\",Data!B951,\"\")","v":""},"",{"$f":"IF(AND(Data!C951<>\"\",Data!C951 > 0),Data!C951,\"\")","v":""}]
[{"$f":"IF(D952<>\"\",Data!A952,\"\")","v":""},{"$f":"IF(D952<>\"\",Data!B952,\"\")","v":""},"",{"$f":"IF(AND(Data!C952<>\"\",Data!C952 > 0),Data!C952,\"\")","v":""}]
[{"$f":"IF(D953<>\"\",Data!A953,\"\")","v":""},{"$f":"IF(D953<>\"\",Data!B953,\"\")","v":""},"",{"$f":"IF(AND(Data!C953<>\"\",Data!C953 > 0),Data!C953,\"\")","v":""}]
[{"$f":"IF(D954<>\"\",Data!A954,\"\")","v":""},{"$f":"IF(D954<>\"\",Data!B954,\"\")","v":""},"",{"$f":"IF(AND(Data!C954<>\"\",Data!C954 > 0),Data!C954,\"\")","v":""}]
[{"$f":"IF(D955<>\"\",Data!A955,\"\")","v":""},{"$f":"IF(D955<>\"\",Data!B955,\"\")","v":""},"",{"$f":"IF(AND(Data!C955<>\"\",Data!C955 > 0),Data!C955,\"\")","v":""}]
[{"$f":"IF(D956<>\"\",Data!A956,\"\")","v":""},{"$f":"IF(D956<>\"\",Data!B956,\"\")","v":""},"",{"$f":"IF(AND(Data!C956<>\"\",Data!C956 > 0),Data!C956,\"\")","v":""}]
[{"$f":"IF(D957<>\"\",Data!A957,\"\")","v":""},{"$f":"IF(D957<>\"\",Data!B957,\"\")","v":""},"",{"$f":"IF(AND(Data!C957<>\"\",Data!C957 > 0),Data!C957,\"\")","v":""}]
[{"$f":"IF(D958<>\"\",Data!A958,\"\")","v":""},{"$f":"IF(D958<>\"\",Data!B958,\"\")","v":""},"",{"$f":"IF(AND(Data!C958<>\"\",Data!C958 > 0),Data!C958,\"\")","v":""}]
[{"$f":"IF(D959<>\"\",Data!A959,\"\")","v":""},{"$f":"IF(D959<>\"\",Data!B959,\"\")","v":""},"",{"$f":"IF(AND(Data!C959<>\"\",Data!C959 > 0),Data!C959,\"\")","v":""}]
[{"$f":"IF(D960<>\"\",Data!A960,\"\")","v":""},{"$f":"IF(D960<>\"\",Data!B960,\"\")","v":""},"",{"$f":"IF(AND(Data!C960<>\"\",Data!C960 > 0),Data!C960,\"\")","v":""}]
[{"$f":"IF(D961<>\"\",Data!A961,\"\")","v":""},{"$f":"IF(D961<>\"\",Data!B961,\"\")","v":""},"",{"$f":"IF(AND(Data!C961<>\"\",Data!C961 > 0),Data!C961,\"\")","v":""}]
[{"$f":"IF(D962<>\"\",Data!A962,\"\")","v":""},{"$f":"IF(D962<>\"\",Data!B962,\"\")","v":""},"",{"$f":"IF(AND(Data!C962<>\"\",Data!C962 > 0),Data!C962,\"\")","v":""}]
[{"$f":"IF(D963<>\"\",Data!A963,\"\")","v":""},{"$f":"IF(D963<>\"\",Data!B963,\"\")","v":""},{"$f":"IF(D963<>\"\",MID(CELL(\"filename\",B962),FIND(\"]\",CELL(\"filename\",B962))+1,32),\"\")","v":""},{"$f":"IF(AND(Data!C963<>\"\",Data!C963 > 0),Data!C963,\"\")","v":""}]
[{"$f":"IF(D964<>\"\",Data!A964,\"\")","v":""},{"$f":"IF(D964<>\"\",Data!B964,\"\")","v":""},"",{"$f":"IF(AND(Data!C964<>\"\",Data!C964 > 0),Data!C964,\"\")","v":""}]
[{"$f":"IF(D965<>\"\",Data!A965,\"\")","v":""},{"$f":"IF(D965<>\"\",Data!B965,\"\")","v":""},"",{"$f":"IF(AND(Data!C965<>\"\",Data!C965 > 0),Data!C965,\"\")","v":""}]
[{"$f":"IF(D966<>\"\",Data!A966,\"\")","v":""},{"$f":"IF(D966<>\"\",Data!B966,\"\")","v":""},"",{"$f":"IF(AND(Data!C966<>\"\",Data!C966 > 0),Data!C966,\"\")","v":""}]
[{"$f":"IF(D967<>\"\",Data!A967,\"\")","v":""},{"$f":"IF(D967<>\"\",Data!B967,\"\")","v":""},"",{"$f":"IF(AND(Data!C967<>\"\",Data!C967 > 0),Data!C967,\"\")","v":""}]
[{"$f":"IF(D968<>\"\",Data!A968,\"\")","v":""},{"$f":"IF(D968<>\"\",Data!B968,\"\")","v":""},"",{"$f":"IF(AND(Data!C968<>\"\",Data!C968 > 0),Data!C968,\"\")","v":""}]
[{"$f":"IF(D969<>\"\",Data!A969,\"\")","v":""},{"$f":"IF(D969<>\"\",Data!B969,\"\")","v":""},"",{"$f":"IF(AND(Data!C969<>\"\",Data!C969 > 0),Data!C969,\"\")","v":""}]
[{"$f":"IF(D970<>\"\",Data!A970,\"\")","v":""},{"$f":"IF(D970<>\"\",Data!B970,\"\")","v":""},"",{"$f":"IF(AND(Data!C970<>\"\",Data!C970 > 0),Data!C970,\"\")","v":""}]
[{"$f":"IF(D971<>\"\",Data!A971,\"\")","v":""},{"$f":"IF(D971<>\"\",Data!B971,\"\")","v":""},"",{"$f":"IF(AND(Data!C971<>\"\",Data!C971 > 0),Data!C971,\"\")","v":""}]
[{"$f":"IF(D972<>\"\",Data!A972,\"\")","v":""},{"$f":"IF(D972<>\"\",Data!B972,\"\")","v":""},"",{"$f":"IF(AND(Data!C972<>\"\",Data!C972 > 0),Data!C972,\"\")","v":""}]
[{"$f":"IF(D973<>\"\",Data!A973,\"\")","v":""},{"$f":"IF(D973<>\"\",Data!B973,\"\")","v":""},"",{"$f":"IF(AND(Data!C973<>\"\",Data!C973 > 0),Data!C973,\"\")","v":""}]
[{"$f":"IF(D974<>\"\",Data!A974,\"\")","v":""},{"$f":"IF(D974<>\"\",Data!B974,\"\")","v":""},"",{"$f":"IF(AND(Data!C974<>\"\",Data!C974 > 0),Data!C974,\"\")","v":""}]
[{"$f":"IF(D975<>\"\",Data!A975,\"\")","v":""},{"$f":"IF(D975<>\"\",Data!B975,\"\")","v":""},"",{"$f":"IF(AND(Data!C975<>\"\",Data!C975 > 0),Data!C975,\"\")","v":""}]
[{"$f":"IF(D976<>\"\",Data!A976,\"\")","v":""},{"$f":"IF(D976<>\"\",Data!B976,\"\")","v":""},"",{"$f":"IF(AND(Data!C976<>\"\",Data!C976 > 0),Data!C976,\"\")","v":""}]
[{"$f":"IF(D977<>\"\",Data!A977,\"\")","v":""},{"$f":"IF(D977<>\"\",Data!B977,\"\")","v":""},"",{"$f":"IF(AND(Data!C977<>\"\",Data!C977 > 0),Data!C977,\"\")","v":""}]
[{"$f":"IF(D978<>\"\",Data!A978,\"\")","v":""},{"$f":"IF(D978<>\"\",Data!B978,\"\")","v":""},"",{"$f":"IF(AND(Data!C978<>\"\",Data!C978 > 0),Data!C978,\"\")","v":""}]
[{"$f":"IF(D979<>\"\",Data!A979,\"\")","v":""},{"$f":"IF(D979<>\"\",Data!B979,\"\")","v":""},"",{"$f":"IF(AND(Data!C979<>\"\",Data!C979 > 0),Data!C979,\"\")","v":""}]
[{"$f":"IF(D980<>\"\",Data!A980,\"\")","v":""},{"$f":"IF(D980<>\"\",Data!B980,\"\")","v":""},"",{"$f":"IF(AND(Data!C980<>\"\",Data!C980 > 0),Data!C980,\"\")","v":""}]
[{"$f":"IF(D981<>\"\",Data!A981,\"\")","v":""},{"$f":"IF(D981<>\"\",Data!B981,\"\")","v":""},"",{"$f":"IF(AND(Data!C981<>\"\",Data!C981 > 0),Data!C981,\"\")","v":""}]
[{"$f":"IF(D982<>\"\",Data!A982,\"\")","v":""},{"$f":"IF(D982<>\"\",Data!B982,\"\")","v":""},"",{"$f":"IF(AND(Data!C982<>\"\",Data!C982 > 0),Data!C982,\"\")","v":""}]
[{"$f":"IF(D983<>\"\",Data!A983,\"\")","v":""},{"$f":"IF(D983<>\"\",Data!B983,\"\")","v":""},"",{"$f":"IF(AND(Data!C983<>\"\",Data!C983 > 0),Data!C983,\"\")","v":""}]
[{"$f":"IF(D984<>\"\",Data!A984,\"\")","v":""},{"$f":"IF(D984<>\"\",Data!B984,\"\")","v":""},"",{"$f":"IF(AND(Data!C984<>\"\",Data!C984 > 0),Data!C984,\"\")","v":""}]
[{"$f":"IF(D985<>\"\",Data!A985,\"\")","v":""},{"$f":"IF(D985<>\"\",Data!B985,\"\")","v":""},"",{"$f":"IF(AND(Data!C985<>\"\",Data!C985 > 0),Data!C985,\"\")","v":""}]
[{"$f":"IF(D986<>\"\",Data!A986,\"\")","v":""},{"$f":"IF(D986<>\"\",Data!B986,\"\")","v":""},"",{"$f":"IF(AND(Data!C986<>\"\",Data!C986 > 0),Data!C986,\"\")","v":""}]
[{"$f":"IF(D987<>\"\",Data!A987,\"\")","v":""},{"$f":"IF(D987<>\"\",Data!B987,\"\")","v":""},"",{"$f":"IF(AND(Data!C987<>\"\",Data!C987 > 0),Data!C987,\"\")","v":""}]
[{"$f":"IF(D988<>\"\",Data!A988,\"\")","v":""},{"$f":"IF(D988<>\"\",Data!B988,\"\")","v":""},"",{"$f":"IF(AND(Data!C988<>\"\",Data!C988 > 0),Data!C988,\"\")","v":""}]
[{"$f":"IF(D989<>\"\",Data!A989,\"\")","v":""},{"$f":"IF(D989<>\"\",Data!B989,\"\")","v":""},"",{"$f":"IF(AND(Data!C989<>\"\",Data!C989 > 0),Data!C989,\"\")","v":""}]
[{"$f":"IF(D990<>\"\",Data!A990,\"\")","v":""},{"$f":"IF(D990<>\"\",Data!B990,\"\")","v":""},"",{"$f":"IF(AND(Data!C990<>\"\",Data!C990 > 0),Data!C990,\"\")","v":""}]
[{"$f":"IF(D991<>\"\",Data!A991,\"\")","v":""},{"$f":"IF(D991<>\"\",Data!B991,\"\")","v":""},"",{"$f":"IF(AND(Data!C991<>\"\",Data!C991 > 0),Data!C991,\"\")","v":""}]
[{"$f":"IF(D992<>\"\",Data!A992,\"\")","v":""},{"$f":"IF(D992<>\"\",Data!B992,\"\")","v":""},"",{"$f":"IF(AND(Data!C992<>\"\",Data!C992 > 0),Data!C992,\"\")","v":""}]
[{"$f":"IF(D993<>\"\",Data!A993,\"\")","v":""},{"$f":"IF(D993<>\"\",Data!B993,\"\")","v":""},"",{"$f":"IF(AND(Data!C993<>\"\",Data!C993 > 0),Data!C993,\"\")","v":""}]
[{"$f":"IF(D994<>\"\",Data!A994,\"\")","v":""},{"$f":"IF(D994<>\"\",Data!B994,\"\")","v":""},"",{"$f":"IF(AND(Data!C994<>\"\",Data!C994 > 0),Data!C994,\"\")","v":""}]
[{"$f":"IF(D995<>\"\",Data!A995,\"\")","v":""},{"$f":"IF(D995<>\"\",Data!B995,\"\")","v":""},"",{"$f":"IF(AND(Data!C995<>\"\",Data!C995 > 0),Data!C995,\"\")","v":""}]
[{"$f":"IF(D996<>\"\",Data!A996,\"\")","v":""},{"$f":"IF(D996<>\"\",Data!B996,\"\")","v":""},"",{"$f":"IF(AND(Data!C996<>\"\",Data!C996 > 0),Data!C996,\"\")","v":""}]
[{"$f":"IF(D997<>\"\",Data!A997,\"\")","v":""},{"$f":"IF(D997<>\"\",Data!B997,\"\")","v":""},"",{"$f":"IF(AND(Data!C997<>\"\",Data!C997 > 0),Data!C997,\"\")","v":""}]
[{"$f":"IF(D998<>\"\",Data!A998,\"\")","v":""},{"$f":"IF(D998<>\"\",Data!B998,\"\")","v":""},"",{"$f":"IF(AND(Data!C998<>\"\",Data!C998 > 0),Data!C998,\"\")","v":""}]
[{"$f":"IF(D999<>\"\",Data!A999,\"\")","v":""},{"$f":"IF(D999<>\"\",Data!B999,\"\")","v":""},"",{"$f":"IF(AND(Data!C999<>\"\",Data!C999 > 0),Data!C999,\"\")","v":""}]
[{"$f":"IF(D1000<>\"\",Data!A1000,\"\")","v":""},{"$f":"IF(D1000<>\"\",Data!B1000,\"\")","v":""},"",{"$f":"IF(AND(Data!C1000<>\"\",Data!C1000 > 0),Data!C1000,\"\")","v":""}]
[{"$f":"IF(D1001<>\"\",Data!A1001,\"\")","v":""},{"$f":"IF(D1001<>\"\",Data!B1001,\"\")","v":""},"",{"$f":"IF(AND(Data!C1001<>\"\",Data!C1001 > 0),Data!C1001,\"\")","v":""}]

{"sheet":"Double Time","index":3,"n_rows":1000,"n_cols":4,"rows_kept":1000,"cut":false,"hidden":false,"merged":[]}
[{"$f":"IF(D1<>\"\",Data!A2,\"\")","v":""},{"$f":"IF(D1<>\"\",Data!B2,\"\")","v":""},{"$f":"IF(D1<>\"\",MID(CELL(\"filename\",B1),FIND(\"]\",CELL(\"filename\",B1))+1,32),\"\")","v":""},{"$f":"IF(AND(Data!D2<>\"\",Data!D2 > 0),Data!D2,\"\")","v":""}]
[{"$f":"IF(D2<>\"\",Data!A3,\"\")","v":""},{"$f":"IF(D2<>\"\",Data!B3,\"\")","v":""},{"$f":"IF(D2<>\"\",MID(CELL(\"filename\",B2),FIND(\"]\",CELL(\"filename\",B2))+1,32),\"\")","v":""},{"$f":"IF(AND(Data!D3<>\"\",Data!D3 > 0),Data!D3,\"\")","v":""}]
[{"$f":"IF(D3<>\"\",Data!A4,\"\")","v":"John Smith"},{"$f":"IF(D3<>\"\",Data!B4,\"\")","v":"2023-05-03"},"Double Time",{"$f":"IF(AND(Data!D4<>\"\",Data!D4 > 0),Data!D4,\"\")","v":1.5}]
[{"$f":"IF(D4<>\"\",Data!A5,\"\")","v":""},{"$f":"IF(D4<>\"\",Data!B5,\"\")","v":""},"",{"$f":"IF(AND(Data!D5<>\"\",Data!D5 > 0),Data!D5,\"\")","v":""}]
[{"$f":"IF(D5<>\"\",Data!A6,\"\")","v":""},{"$f":"IF(D5<>\"\",Data!B6,\"\")","v":""},"",{"$f":"IF(AND(Data!D6<>\"\",Data!D6 > 0),Data!D6,\"\")","v":""}]
[{"$f":"IF(D6<>\"\",Data!A7,\"\")","v":"John Smith"},{"$f":"IF(D6<>\"\",Data!B7,\"\")","v":"2023-05-06"},"Double Time",{"$f":"IF(AND(Data!D7<>\"\",Data!D7 > 0),Data!D7,\"\")","v":4}]
[{"$f":"IF(D7<>\"\",Data!A8,\"\")","v":""},{"$f":"IF(D7<>\"\",Data!B8,\"\")","v":""},"",{"$f":"IF(AND(Data!D8<>\"\",Data!D8 > 0),Data!D8,\"\")","v":""}]
[{"$f":"IF(D8<>\"\",Data!A9,\"\")","v":""},{"$f":"IF(D8<>\"\",Data!B9,\"\")","v":""},"",{"$f":"IF(AND(Data!D9<>\"\",Data!D9 > 0),Data!D9,\"\")","v":""}]
[{"$f":"IF(D9<>\"\",Data!A10,\"\")","v":""},{"$f":"IF(D9<>\"\",Data!B10,\"\")","v":""},"",{"$f":"IF(AND(Data!D10<>\"\",Data!D10 > 0),Data!D10,\"\")","v":""}]
[{"$f":"IF(D10<>\"\",Data!A11,\"\")","v":"Jane Jones"},{"$f":"IF(D10<>\"\",Data!B11,\"\")","v":"2023-05-03"},"Double Time",{"$f":"IF(AND(Data!D11<>\"\",Data!D11 > 0),Data!D11,\"\")","v":1.5}]
[{"$f":"IF(D11<>\"\",Data!A12,\"\")","v":""},{"$f":"IF(D11<>\"\",Data!B12,\"\")","v":""},"",{"$f":"IF(AND(Data!D12<>\"\",Data!D12 > 0),Data!D12,\"\")","v":""}]
[{"$f":"IF(D12<>\"\",Data!A13,\"\")","v":""},{"$f":"IF(D12<>\"\",Data!B13,\"\")","v":""},"",{"$f":"IF(AND(Data!D13<>\"\",Data!D13 > 0),Data!D13,\"\")","v":""}]
[{"$f":"IF(D13<>\"\",Data!A14,\"\")","v":"Jane Jones"},{"$f":"IF(D13<>\"\",Data!B14,\"\")","v":"2023-05-06"},"Double Time",{"$f":"IF(AND(Data!D14<>\"\",Data!D14 > 0),Data!D14,\"\")","v":4}]
[{"$f":"IF(D14<>\"\",Data!A15,\"\")","v":""},{"$f":"IF(D14<>\"\",Data!B15,\"\")","v":""},"",{"$f":"IF(AND(Data!D15<>\"\",Data!D15 > 0),Data!D15,\"\")","v":""}]
[{"$f":"IF(D15<>\"\",Data!A16,\"\")","v":""},{"$f":"IF(D15<>\"\",Data!B16,\"\")","v":""},"",{"$f":"IF(AND(Data!D16<>\"\",Data!D16 > 0),Data!D16,\"\")","v":""}]
[{"$f":"IF(D16<>\"\",Data!A17,\"\")","v":""},{"$f":"IF(D16<>\"\",Data!B17,\"\")","v":""},"",{"$f":"IF(AND(Data!D17<>\"\",Data!D17 > 0),Data!D17,\"\")","v":""}]
[{"$f":"IF(D17<>\"\",Data!A18,\"\")","v":""},{"$f":"IF(D17<>\"\",Data!B18,\"\")","v":""},"",{"$f":"IF(AND(Data!D18<>\"\",Data!D18 > 0),Data!D18,\"\")","v":""}]
[{"$f":"IF(D18<>\"\",Data!A19,\"\")","v":""},{"$f":"IF(D18<>\"\",Data!B19,\"\")","v":""},"",{"$f":"IF(AND(Data!D19<>\"\",Data!D19 > 0),Data!D19,\"\")","v":""}]
[{"$f":"IF(D19<>\"\",Data!A20,\"\")","v":""},{"$f":"IF(D19<>\"\",Data!B20,\"\")","v":""},"",{"$f":"IF(AND(Data!D20<>\"\",Data!D20 > 0),Data!D20,\"\")","v":""}]
[{"$f":"IF(D20<>\"\",Data!A21,\"\")","v":""},{"$f":"IF(D20<>\"\",Data!B21,\"\")","v":""},"",{"$f":"IF(AND(Data!D21<>\"\",Data!D21 > 0),Data!D21,\"\")","v":""}]
[{"$f":"IF(D21<>\"\",Data!A22,\"\")","v":""},{"$f":"IF(D21<>\"\",Data!B22,\"\")","v":""},"",{"$f":"IF(AND(Data!D22<>\"\",Data!D22 > 0),Data!D22,\"\")","v":""}]
[{"$f":"IF(D22<>\"\",Data!A23,\"\")","v":""},{"$f":"IF(D22<>\"\",Data!B23,\"\")","v":""},"",{"$f":"IF(AND(Data!D23<>\"\",Data!D23 > 0),Data!D23,\"\")","v":""}]
[{"$f":"IF(D23<>\"\",Data!A24,\"\")","v":""},{"$f":"IF(D23<>\"\",Data!B24,\"\")","v":""},"",{"$f":"IF(AND(Data!D24<>\"\",Data!D24 > 0),Data!D24,\"\")","v":""}]
[{"$f":"IF(D24<>\"\",Data!A25,\"\")","v":""},{"$f":"IF(D24<>\"\",Data!B25,\"\")","v":""},"",{"$f":"IF(AND(Data!D25<>\"\",Data!D25 > 0),Data!D25,\"\")","v":""}]
[{"$f":"IF(D25<>\"\",Data!A26,\"\")","v":""},{"$f":"IF(D25<>\"\",Data!B26,\"\")","v":""},"",{"$f":"IF(AND(Data!D26<>\"\",Data!D26 > 0),Data!D26,\"\")","v":""}]
[{"$f":"IF(D26<>\"\",Data!A27,\"\")","v":""},{"$f":"IF(D26<>\"\",Data!B27,\"\")","v":""},"",{"$f":"IF(AND(Data!D27<>\"\",Data!D27 > 0),Data!D27,\"\")","v":""}]
[{"$f":"IF(D27<>\"\",Data!A28,\"\")","v":""},{"$f":"IF(D27<>\"\",Data!B28,\"\")","v":""},"",{"$f":"IF(AND(Data!D28<>\"\",Data!D28 > 0),Data!D28,\"\")","v":""}]
[{"$f":"IF(D28<>\"\",Data!A29,\"\")","v":""},{"$f":"IF(D28<>\"\",Data!B29,\"\")","v":""},"",{"$f":"IF(AND(Data!D29<>\"\",Data!D29 > 0),Data!D29,\"\")","v":""}]
[{"$f":"IF(D29<>\"\",Data!A30,\"\")","v":""},{"$f":"IF(D29<>\"\",Data!B30,\"\")","v":""},"",{"$f":"IF(AND(Data!D30<>\"\",Data!D30 > 0),Data!D30,\"\")","v":""}]
[{"$f":"IF(D30<>\"\",Data!A31,\"\")","v":""},{"$f":"IF(D30<>\"\",Data!B31,\"\")","v":""},"",{"$f":"IF(AND(Data!D31<>\"\",Data!D31 > 0),Data!D31,\"\")","v":""}]
[{"$f":"IF(D31<>\"\",Data!A32,\"\")","v":""},{"$f":"IF(D31<>\"\",Data!B32,\"\")","v":""},"",{"$f":"IF(AND(Data!D32<>\"\",Data!D32 > 0),Data!D32,\"\")","v":""}]
[{"$f":"IF(D32<>\"\",Data!A33,\"\")","v":""},{"$f":"IF(D32<>\"\",Data!B33,\"\")","v":""},"",{"$f":"IF(AND(Data!D33<>\"\",Data!D33 > 0),Data!D33,\"\")","v":""}]
[{"$f":"IF(D33<>\"\",Data!A34,\"\")","v":""},{"$f":"IF(D33<>\"\",Data!B34,\"\")","v":""},"",{"$f":"IF(AND(Data!D34<>\"\",Data!D34 > 0),Data!D34,\"\")","v":""}]
[{"$f":"IF(D34<>\"\",Data!A35,\"\")","v":""},{"$f":"IF(D34<>\"\",Data!B35,\"\")","v":""},"",{"$f":"IF(AND(Data!D35<>\"\",Data!D35 > 0),Data!D35,\"\")","v":""}]
[{"$f":"IF(D35<>\"\",Data!A36,\"\")","v":""},{"$f":"IF(D35<>\"\",Data!B36,\"\")","v":""},"",{"$f":"IF(AND(Data!D36<>\"\",Data!D36 > 0),Data!D36,\"\")","v":""}]
[{"$f":"IF(D36<>\"\",Data!A37,\"\")","v":""},{"$f":"IF(D36<>\"\",Data!B37,\"\")","v":""},"",{"$f":"IF(AND(Data!D37<>\"\",Data!D37 > 0),Data!D37,\"\")","v":""}]
[{"$f":"IF(D37<>\"\",Data!A38,\"\")","v":""},{"$f":"IF(D37<>\"\",Data!B38,\"\")","v":""},"",{"$f":"IF(AND(Data!D38<>\"\",Data!D38 > 0),Data!D38,\"\")","v":""}]
[{"$f":"IF(D38<>\"\",Data!A39,\"\")","v":""},{"$f":"IF(D38<>\"\",Data!B39,\"\")","v":""},"",{"$f":"IF(AND(Data!D39<>\"\",Data!D39 > 0),Data!D39,\"\")","v":""}]
[{"$f":"IF(D39<>\"\",Data!A40,\"\")","v":""},{"$f":"IF(D39<>\"\",Data!B40,\"\")","v":""},"",{"$f":"IF(AND(Data!D40<>\"\",Data!D40 > 0),Data!D40,\"\")","v":""}]
[{"$f":"IF(D40<>\"\",Data!A41,\"\")","v":""},{"$f":"IF(D40<>\"\",Data!B41,\"\")","v":""},"",{"$f":"IF(AND(Data!D41<>\"\",Data!D41 > 0),Data!D41,\"\")","v":""}]
[{"$f":"IF(D41<>\"\",Data!A42,\"\")","v":""},{"$f":"IF(D41<>\"\",Data!B42,\"\")","v":""},"",{"$f":"IF(AND(Data!D42<>\"\",Data!D42 > 0),Data!D42,\"\")","v":""}]
[{"$f":"IF(D42<>\"\",Data!A43,\"\")","v":""},{"$f":"IF(D42<>\"\",Data!B43,\"\")","v":""},"",{"$f":"IF(AND(Data!D43<>\"\",Data!D43 > 0),Data!D43,\"\")","v":""}]
[{"$f":"IF(D43<>\"\",Data!A44,\"\")","v":""},{"$f":"IF(D43<>\"\",Data!B44,\"\")","v":""},"",{"$f":"IF(AND(Data!D44<>\"\",Data!D44 > 0),Data!D44,\"\")","v":""}]
[{"$f":"IF(D44<>\"\",Data!A45,\"\")","v":""},{"$f":"IF(D44<>\"\",Data!B45,\"\")","v":""},"",{"$f":"IF(AND(Data!D45<>\"\",Data!D45 > 0),Data!D45,\"\")","v":""}]
[{"$f":"IF(D45<>\"\",Data!A46,\"\")","v":""},{"$f":"IF(D45<>\"\",Data!B46,\"\")","v":""},"",{"$f":"IF(AND(Data!D46<>\"\",Data!D46 > 0),Data!D46,\"\")","v":""}]
[{"$f":"IF(D46<>\"\",Data!A47,\"\")","v":""},{"$f":"IF(D46<>\"\",Data!B47,\"\")","v":""},"",{"$f":"IF(AND(Data!D47<>\"\",Data!D47 > 0),Data!D47,\"\")","v":""}]
[{"$f":"IF(D47<>\"\",Data!A48,\"\")","v":""},{"$f":"IF(D47<>\"\",Data!B48,\"\")","v":""},"",{"$f":"IF(AND(Data!D48<>\"\",Data!D48 > 0),Data!D48,\"\")","v":""}]
[{"$f":"IF(D48<>\"\",Data!A49,\"\")","v":""},{"$f":"IF(D48<>\"\",Data!B49,\"\")","v":""},"",{"$f":"IF(AND(Data!D49<>\"\",Data!D49 > 0),Data!D49,\"\")","v":""}]
[{"$f":"IF(D49<>\"\",Data!A50,\"\")","v":""},{"$f":"IF(D49<>\"\",Data!B50,\"\")","v":""},"",{"$f":"IF(AND(Data!D50<>\"\",Data!D50 > 0),Data!D50,\"\")","v":""}]
[{"$f":"IF(D50<>\"\",Data!A51,\"\")","v":""},{"$f":"IF(D50<>\"\",Data!B51,\"\")","v":""},"",{"$f":"IF(AND(Data!D51<>\"\",Data!D51 > 0),Data!D51,\"\")","v":""}]
[{"$f":"IF(D51<>\"\",Data!A52,\"\")","v":""},{"$f":"IF(D51<>\"\",Data!B52,\"\")","v":""},"",{"$f":"IF(AND(Data!D52<>\"\",Data!D52 > 0),Data!D52,\"\")","v":""}]
[{"$f":"IF(D52<>\"\",Data!A53,\"\")","v":""},{"$f":"IF(D52<>\"\",Data!B53,\"\")","v":""},"",{"$f":"IF(AND(Data!D53<>\"\",Data!D53 > 0),Data!D53,\"\")","v":""}]
[{"$f":"IF(D53<>\"\",Data!A54,\"\")","v":""},{"$f":"IF(D53<>\"\",Data!B54,\"\")","v":""},"",{"$f":"IF(AND(Data!D54<>\"\",Data!D54 > 0),Data!D54,\"\")","v":""}]
[{"$f":"IF(D54<>\"\",Data!A55,\"\")","v":""},{"$f":"IF(D54<>\"\",Data!B55,\"\")","v":""},"",{"$f":"IF(AND(Data!D55<>\"\",Data!D55 > 0),Data!D55,\"\")","v":""}]
[{"$f":"IF(D55<>\"\",Data!A56,\"\")","v":""},{"$f":"IF(D55<>\"\",Data!B56,\"\")","v":""},"",{"$f":"IF(AND(Data!D56<>\"\",Data!D56 > 0),Data!D56,\"\")","v":""}]
[{"$f":"IF(D56<>\"\",Data!A57,\"\")","v":""},{"$f":"IF(D56<>\"\",Data!B57,\"\")","v":""},"",{"$f":"IF(AND(Data!D57<>\"\",Data!D57 > 0),Data!D57,\"\")","v":""}]
[{"$f":"IF(D57<>\"\",Data!A58,\"\")","v":""},{"$f":"IF(D57<>\"\",Data!B58,\"\")","v":""},"",{"$f":"IF(AND(Data!D58<>\"\",Data!D58 > 0),Data!D58,\"\")","v":""}]
[{"$f":"IF(D58<>\"\",Data!A59,\"\")","v":""},{"$f":"IF(D58<>\"\",Data!B59,\"\")","v":""},"",{"$f":"IF(AND(Data!D59<>\"\",Data!D59 > 0),Data!D59,\"\")","v":""}]
[{"$f":"IF(D59<>\"\",Data!A60,\"\")","v":""},{"$f":"IF(D59<>\"\",Data!B60,\"\")","v":""},"",{"$f":"IF(AND(Data!D60<>\"\",Data!D60 > 0),Data!D60,\"\")","v":""}]
[{"$f":"IF(D60<>\"\",Data!A61,\"\")","v":""},{"$f":"IF(D60<>\"\",Data!B61,\"\")","v":""},"",{"$f":"IF(AND(Data!D61<>\"\",Data!D61 > 0),Data!D61,\"\")","v":""}]
[{"$f":"IF(D61<>\"\",Data!A62,\"\")","v":""},{"$f":"IF(D61<>\"\",Data!B62,\"\")","v":""},"",{"$f":"IF(AND(Data!D62<>\"\",Data!D62 > 0),Data!D62,\"\")","v":""}]
[{"$f":"IF(D62<>\"\",Data!A63,\"\")","v":""},{"$f":"IF(D62<>\"\",Data!B63,\"\")","v":""},"",{"$f":"IF(AND(Data!D63<>\"\",Data!D63 > 0),Data!D63,\"\")","v":""}]
[{"$f":"IF(D63<>\"\",Data!A64,\"\")","v":""},{"$f":"IF(D63<>\"\",Data!B64,\"\")","v":""},"",{"$f":"IF(AND(Data!D64<>\"\",Data!D64 > 0),Data!D64,\"\")","v":""}]
[{"$f":"IF(D64<>\"\",Data!A65,\"\")","v":""},{"$f":"IF(D64<>\"\",Data!B65,\"\")","v":""},"",{"$f":"IF(AND(Data!D65<>\"\",Data!D65 > 0),Data!D65,\"\")","v":""}]
[{"$f":"IF(D65<>\"\",Data!A66,\"\")","v":""},{"$f":"IF(D65<>\"\",Data!B66,\"\")","v":""},"",{"$f":"IF(AND(Data!D66<>\"\",Data!D66 > 0),Data!D66,\"\")","v":""}]
[{"$f":"IF(D66<>\"\",Data!A67,\"\")","v":""},{"$f":"IF(D66<>\"\",Data!B67,\"\")","v":""},{"$f":"IF(D66<>\"\",MID(CELL(\"filename\",B66),FIND(\"]\",CELL(\"filename\",B66))+1,32),\"\")","v":""},{"$f":"IF(AND(Data!D67<>\"\",Data!D67 > 0),Data!D67,\"\")","v":""}]
[{"$f":"IF(D67<>\"\",Data!A68,\"\")","v":""},{"$f":"IF(D67<>\"\",Data!B68,\"\")","v":""},"",{"$f":"IF(AND(Data!D68<>\"\",Data!D68 > 0),Data!D68,\"\")","v":""}]
[{"$f":"IF(D68<>\"\",Data!A69,\"\")","v":""},{"$f":"IF(D68<>\"\",Data!B69,\"\")","v":""},"",{"$f":"IF(AND(Data!D69<>\"\",Data!D69 > 0),Data!D69,\"\")","v":""}]
[{"$f":"IF(D69<>\"\",Data!A70,\"\")","v":""},{"$f":"IF(D69<>\"\",Data!B70,\"\")","v":""},"",{"$f":"IF(AND(Data!D70<>\"\",Data!D70 > 0),Data!D70,\"\")","v":""}]
[{"$f":"IF(D70<>\"\",Data!A71,\"\")","v":""},{"$f":"IF(D70<>\"\",Data!B71,\"\")","v":""},"",{"$f":"IF(AND(Data!D71<>\"\",Data!D71 > 0),Data!D71,\"\")","v":""}]
[{"$f":"IF(D71<>\"\",Data!A72,\"\")","v":""},{"$f":"IF(D71<>\"\",Data!B72,\"\")","v":""},"",{"$f":"IF(AND(Data!D72<>\"\",Data!D72 > 0),Data!D72,\"\")","v":""}]
[{"$f":"IF(D72<>\"\",Data!A73,\"\")","v":""},{"$f":"IF(D72<>\"\",Data!B73,\"\")","v":""},"",{"$f":"IF(AND(Data!D73<>\"\",Data!D73 > 0),Data!D73,\"\")","v":""}]
[{"$f":"IF(D73<>\"\",Data!A74,\"\")","v":""},{"$f":"IF(D73<>\"\",Data!B74,\"\")","v":""},"",{"$f":"IF(AND(Data!D74<>\"\",Data!D74 > 0),Data!D74,\"\")","v":""}]
[{"$f":"IF(D74<>\"\",Data!A75,\"\")","v":""},{"$f":"IF(D74<>\"\",Data!B75,\"\")","v":""},"",{"$f":"IF(AND(Data!D75<>\"\",Data!D75 > 0),Data!D75,\"\")","v":""}]
[{"$f":"IF(D75<>\"\",Data!A76,\"\")","v":""},{"$f":"IF(D75<>\"\",Data!B76,\"\")","v":""},"",{"$f":"IF(AND(Data!D76<>\"\",Data!D76 > 0),Data!D76,\"\")","v":""}]
[{"$f":"IF(D76<>\"\",Data!A77,\"\")","v":""},{"$f":"IF(D76<>\"\",Data!B77,\"\")","v":""},"",{"$f":"IF(AND(Data!D77<>\"\",Data!D77 > 0),Data!D77,\"\")","v":""}]
[{"$f":"IF(D77<>\"\",Data!A78,\"\")","v":""},{"$f":"IF(D77<>\"\",Data!B78,\"\")","v":""},"",{"$f":"IF(AND(Data!D78<>\"\",Data!D78 > 0),Data!D78,\"\")","v":""}]
[{"$f":"IF(D78<>\"\",Data!A79,\"\")","v":""},{"$f":"IF(D78<>\"\",Data!B79,\"\")","v":""},"",{"$f":"IF(AND(Data!D79<>\"\",Data!D79 > 0),Data!D79,\"\")","v":""}]
[{"$f":"IF(D79<>\"\",Data!A80,\"\")","v":""},{"$f":"IF(D79<>\"\",Data!B80,\"\")","v":""},"",{"$f":"IF(AND(Data!D80<>\"\",Data!D80 > 0),Data!D80,\"\")","v":""}]
[{"$f":"IF(D80<>\"\",Data!A81,\"\")","v":""},{"$f":"IF(D80<>\"\",Data!B81,\"\")","v":""},"",{"$f":"IF(AND(Data!D81<>\"\",Data!D81 > 0),Data!D81,\"\")","v":""}]
[{"$f":"IF(D81<>\"\",Data!A82,\"\")","v":""},{"$f":"IF(D81<>\"\",Data!B82,\"\")","v":""},"",{"$f":"IF(AND(Data!D82<>\"\",Data!D82 > 0),Data!D82,\"\")","v":""}]
[{"$f":"IF(D82<>\"\",Data!A83,\"\")","v":""},{"$f":"IF(D82<>\"\",Data!B83,\"\")","v":""},"",{"$f":"IF(AND(Data!D83<>\"\",Data!D83 > 0),Data!D83,\"\")","v":""}]
[{"$f":"IF(D83<>\"\",Data!A84,\"\")","v":""},{"$f":"IF(D83<>\"\",Data!B84,\"\")","v":""},"",{"$f":"IF(AND(Data!D84<>\"\",Data!D84 > 0),Data!D84,\"\")","v":""}]
[{"$f":"IF(D84<>\"\",Data!A85,\"\")","v":""},{"$f":"IF(D84<>\"\",Data!B85,\"\")","v":""},"",{"$f":"IF(AND(Data!D85<>\"\",Data!D85 > 0),Data!D85,\"\")","v":""}]
[{"$f":"IF(D85<>\"\",Data!A86,\"\")","v":""},{"$f":"IF(D85<>\"\",Data!B86,\"\")","v":""},"",{"$f":"IF(AND(Data!D86<>\"\",Data!D86 > 0),Data!D86,\"\")","v":""}]
[{"$f":"IF(D86<>\"\",Data!A87,\"\")","v":""},{"$f":"IF(D86<>\"\",Data!B87,\"\")","v":""},"",{"$f":"IF(AND(Data!D87<>\"\",Data!D87 > 0),Data!D87,\"\")","v":""}]
[{"$f":"IF(D87<>\"\",Data!A88,\"\")","v":""},{"$f":"IF(D87<>\"\",Data!B88,\"\")","v":""},"",{"$f":"IF(AND(Data!D88<>\"\",Data!D88 > 0),Data!D88,\"\")","v":""}]
[{"$f":"IF(D88<>\"\",Data!A89,\"\")","v":""},{"$f":"IF(D88<>\"\",Data!B89,\"\")","v":""},"",{"$f":"IF(AND(Data!D89<>\"\",Data!D89 > 0),Data!D89,\"\")","v":""}]
[{"$f":"IF(D89<>\"\",Data!A90,\"\")","v":""},{"$f":"IF(D89<>\"\",Data!B90,\"\")","v":""},"",{"$f":"IF(AND(Data!D90<>\"\",Data!D90 > 0),Data!D90,\"\")","v":""}]
[{"$f":"IF(D90<>\"\",Data!A91,\"\")","v":""},{"$f":"IF(D90<>\"\",Data!B91,\"\")","v":""},"",{"$f":"IF(AND(Data!D91<>\"\",Data!D91 > 0),Data!D91,\"\")","v":""}]
[{"$f":"IF(D91<>\"\",Data!A92,\"\")","v":""},{"$f":"IF(D91<>\"\",Data!B92,\"\")","v":""},"",{"$f":"IF(AND(Data!D92<>\"\",Data!D92 > 0),Data!D92,\"\")","v":""}]
[{"$f":"IF(D92<>\"\",Data!A93,\"\")","v":""},{"$f":"IF(D92<>\"\",Data!B93,\"\")","v":""},"",{"$f":"IF(AND(Data!D93<>\"\",Data!D93 > 0),Data!D93,\"\")","v":""}]
[{"$f":"IF(D93<>\"\",Data!A94,\"\")","v":""},{"$f":"IF(D93<>\"\",Data!B94,\"\")","v":""},"",{"$f":"IF(AND(Data!D94<>\"\",Data!D94 > 0),Data!D94,\"\")","v":""}]
[{"$f":"IF(D94<>\"\",Data!A95,\"\")","v":""},{"$f":"IF(D94<>\"\",Data!B95,\"\")","v":""},"",{"$f":"IF(AND(Data!D95<>\"\",Data!D95 > 0),Data!D95,\"\")","v":""}]
[{"$f":"IF(D95<>\"\",Data!A96,\"\")","v":""},{"$f":"IF(D95<>\"\",Data!B96,\"\")","v":""},"",{"$f":"IF(AND(Data!D96<>\"\",Data!D96 > 0),Data!D96,\"\")","v":""}]
[{"$f":"IF(D96<>\"\",Data!A97,\"\")","v":""},{"$f":"IF(D96<>\"\",Data!B97,\"\")","v":""},"",{"$f":"IF(AND(Data!D97<>\"\",Data!D97 > 0),Data!D97,\"\")","v":""}]
[{"$f":"IF(D97<>\"\",Data!A98,\"\")","v":""},{"$f":"IF(D97<>\"\",Data!B98,\"\")","v":""},"",{"$f":"IF(AND(Data!D98<>\"\",Data!D98 > 0),Data!D98,\"\")","v":""}]
[{"$f":"IF(D98<>\"\",Data!A99,\"\")","v":""},{"$f":"IF(D98<>\"\",Data!B99,\"\")","v":""},"",{"$f":"IF(AND(Data!D99<>\"\",Data!D99 > 0),Data!D99,\"\")","v":""}]
[{"$f":"IF(D99<>\"\",Data!A100,\"\")","v":""},{"$f":"IF(D99<>\"\",Data!B100,\"\")","v":""},"",{"$f":"IF(AND(Data!D100<>\"\",Data!D100 > 0),Data!D100,\"\")","v":""}]
[{"$f":"IF(D100<>\"\",Data!A101,\"\")","v":""},{"$f":"IF(D100<>\"\",Data!B101,\"\")","v":""},"",{"$f":"IF(AND(Data!D101<>\"\",Data!D101 > 0),Data!D101,\"\")","v":""}]
[{"$f":"IF(D101<>\"\",Data!A102,\"\")","v":""},{"$f":"IF(D101<>\"\",Data!B102,\"\")","v":""},"",{"$f":"IF(AND(Data!D102<>\"\",Data!D102 > 0),Data!D102,\"\")","v":""}]
[{"$f":"IF(D102<>\"\",Data!A103,\"\")","v":""},{"$f":"IF(D102<>\"\",Data!B103,\"\")","v":""},"",{"$f":"IF(AND(Data!D103<>\"\",Data!D103 > 0),Data!D103,\"\")","v":""}]
[{"$f":"IF(D103<>\"\",Data!A104,\"\")","v":""},{"$f":"IF(D103<>\"\",Data!B104,\"\")","v":""},"",{"$f":"IF(AND(Data!D104<>\"\",Data!D104 > 0),Data!D104,\"\")","v":""}]
[{"$f":"IF(D104<>\"\",Data!A105,\"\")","v":""},{"$f":"IF(D104<>\"\",Data!B105,\"\")","v":""},"",{"$f":"IF(AND(Data!D105<>\"\",Data!D105 > 0),Data!D105,\"\")","v":""}]
[{"$f":"IF(D105<>\"\",Data!A106,\"\")","v":""},{"$f":"IF(D105<>\"\",Data!B106,\"\")","v":""},"",{"$f":"IF(AND(Data!D106<>\"\",Data!D106 > 0),Data!D106,\"\")","v":""}]
[{"$f":"IF(D106<>\"\",Data!A107,\"\")","v":""},{"$f":"IF(D106<>\"\",Data!B107,\"\")","v":""},"",{"$f":"IF(AND(Data!D107<>\"\",Data!D107 > 0),Data!D107,\"\")","v":""}]
[{"$f":"IF(D107<>\"\",Data!A108,\"\")","v":""},{"$f":"IF(D107<>\"\",Data!B108,\"\")","v":""},"",{"$f":"IF(AND(Data!D108<>\"\",Data!D108 > 0),Data!D108,\"\")","v":""}]
[{"$f":"IF(D108<>\"\",Data!A109,\"\")","v":""},{"$f":"IF(D108<>\"\",Data!B109,\"\")","v":""},"",{"$f":"IF(AND(Data!D109<>\"\",Data!D109 > 0),Data!D109,\"\")","v":""}]
[{"$f":"IF(D109<>\"\",Data!A110,\"\")","v":""},{"$f":"IF(D109<>\"\",Data!B110,\"\")","v":""},"",{"$f":"IF(AND(Data!D110<>\"\",Data!D110 > 0),Data!D110,\"\")","v":""}]
[{"$f":"IF(D110<>\"\",Data!A111,\"\")","v":""},{"$f":"IF(D110<>\"\",Data!B111,\"\")","v":""},"",{"$f":"IF(AND(Data!D111<>\"\",Data!D111 > 0),Data!D111,\"\")","v":""}]
[{"$f":"IF(D111<>\"\",Data!A112,\"\")","v":""},{"$f":"IF(D111<>\"\",Data!B112,\"\")","v":""},"",{"$f":"IF(AND(Data!D112<>\"\",Data!D112 > 0),Data!D112,\"\")","v":""}]
[{"$f":"IF(D112<>\"\",Data!A113,\"\")","v":""},{"$f":"IF(D112<>\"\",Data!B113,\"\")","v":""},"",{"$f":"IF(AND(Data!D113<>\"\",Data!D113 > 0),Data!D113,\"\")","v":""}]
[{"$f":"IF(D113<>\"\",Data!A114,\"\")","v":""},{"$f":"IF(D113<>\"\",Data!B114,\"\")","v":""},"",{"$f":"IF(AND(Data!D114<>\"\",Data!D114 > 0),Data!D114,\"\")","v":""}]
[{"$f":"IF(D114<>\"\",Data!A115,\"\")","v":""},{"$f":"IF(D114<>\"\",Data!B115,\"\")","v":""},"",{"$f":"IF(AND(Data!D115<>\"\",Data!D115 > 0),Data!D115,\"\")","v":""}]
[{"$f":"IF(D115<>\"\",Data!A116,\"\")","v":""},{"$f":"IF(D115<>\"\",Data!B116,\"\")","v":""},"",{"$f":"IF(AND(Data!D116<>\"\",Data!D116 > 0),Data!D116,\"\")","v":""}]
[{"$f":"IF(D116<>\"\",Data!A117,\"\")","v":""},{"$f":"IF(D116<>\"\",Data!B117,\"\")","v":""},"",{"$f":"IF(AND(Data!D117<>\"\",Data!D117 > 0),Data!D117,\"\")","v":""}]
[{"$f":"IF(D117<>\"\",Data!A118,\"\")","v":""},{"$f":"IF(D117<>\"\",Data!B118,\"\")","v":""},"",{"$f":"IF(AND(Data!D118<>\"\",Data!D118 > 0),Data!D118,\"\")","v":""}]
[{"$f":"IF(D118<>\"\",Data!A119,\"\")","v":""},{"$f":"IF(D118<>\"\",Data!B119,\"\")","v":""},"",{"$f":"IF(AND(Data!D119<>\"\",Data!D119 > 0),Data!D119,\"\")","v":""}]
[{"$f":"IF(D119<>\"\",Data!A120,\"\")","v":""},{"$f":"IF(D119<>\"\",Data!B120,\"\")","v":""},"",{"$f":"IF(AND(Data!D120<>\"\",Data!D120 > 0),Data!D120,\"\")","v":""}]
[{"$f":"IF(D120<>\"\",Data!A121,\"\")","v":""},{"$f":"IF(D120<>\"\",Data!B121,\"\")","v":""},"",{"$f":"IF(AND(Data!D121<>\"\",Data!D121 > 0),Data!D121,\"\")","v":""}]
[{"$f":"IF(D121<>\"\",Data!A122,\"\")","v":""},{"$f":"IF(D121<>\"\",Data!B122,\"\")","v":""},"",{"$f":"IF(AND(Data!D122<>\"\",Data!D122 > 0),Data!D122,\"\")","v":""}]
[{"$f":"IF(D122<>\"\",Data!A123,\"\")","v":""},{"$f":"IF(D122<>\"\",Data!B123,\"\")","v":""},"",{"$f":"IF(AND(Data!D123<>\"\",Data!D123 > 0),Data!D123,\"\")","v":""}]
[{"$f":"IF(D123<>\"\",Data!A124,\"\")","v":""},{"$f":"IF(D123<>\"\",Data!B124,\"\")","v":""},"",{"$f":"IF(AND(Data!D124<>\"\",Data!D124 > 0),Data!D124,\"\")","v":""}]
[{"$f":"IF(D124<>\"\",Data!A125,\"\")","v":""},{"$f":"IF(D124<>\"\",Data!B125,\"\")","v":""},"",{"$f":"IF(AND(Data!D125<>\"\",Data!D125 > 0),Data!D125,\"\")","v":""}]
[{"$f":"IF(D125<>\"\",Data!A126,\"\")","v":""},{"$f":"IF(D125<>\"\",Data!B126,\"\")","v":""},"",{"$f":"IF(AND(Data!D126<>\"\",Data!D126 > 0),Data!D126,\"\")","v":""}]
[{"$f":"IF(D126<>\"\",Data!A127,\"\")","v":""},{"$f":"IF(D126<>\"\",Data!B127,\"\")","v":""},"",{"$f":"IF(AND(Data!D127<>\"\",Data!D127 > 0),Data!D127,\"\")","v":""}]
[{"$f":"IF(D127<>\"\",Data!A128,\"\")","v":""},{"$f":"IF(D127<>\"\",Data!B128,\"\")","v":""},"",{"$f":"IF(AND(Data!D128<>\"\",Data!D128 > 0),Data!D128,\"\")","v":""}]
[{"$f":"IF(D128<>\"\",Data!A129,\"\")","v":""},{"$f":"IF(D128<>\"\",Data!B129,\"\")","v":""},"",{"$f":"IF(AND(Data!D129<>\"\",Data!D129 > 0),Data!D129,\"\")","v":""}]
[{"$f":"IF(D129<>\"\",Data!A130,\"\")","v":""},{"$f":"IF(D129<>\"\",Data!B130,\"\")","v":""},"",{"$f":"IF(AND(Data!D130<>\"\",Data!D130 > 0),Data!D130,\"\")","v":""}]
[{"$f":"IF(D130<>\"\",Data!A131,\"\")","v":""},{"$f":"IF(D130<>\"\",Data!B131,\"\")","v":""},{"$f":"IF(D130<>\"\",MID(CELL(\"filename\",B130),FIND(\"]\",CELL(\"filename\",B130))+1,32),\"\")","v":""},{"$f":"IF(AND(Data!D131<>\"\",Data!D131 > 0),Data!D131,\"\")","v":""}]
[{"$f":"IF(D131<>\"\",Data!A132,\"\")","v":""},{"$f":"IF(D131<>\"\",Data!B132,\"\")","v":""},"",{"$f":"IF(AND(Data!D132<>\"\",Data!D132 > 0),Data!D132,\"\")","v":""}]
[{"$f":"IF(D132<>\"\",Data!A133,\"\")","v":""},{"$f":"IF(D132<>\"\",Data!B133,\"\")","v":""},"",{"$f":"IF(AND(Data!D133<>\"\",Data!D133 > 0),Data!D133,\"\")","v":""}]
[{"$f":"IF(D133<>\"\",Data!A134,\"\")","v":""},{"$f":"IF(D133<>\"\",Data!B134,\"\")","v":""},"",{"$f":"IF(AND(Data!D134<>\"\",Data!D134 > 0),Data!D134,\"\")","v":""}]
[{"$f":"IF(D134<>\"\",Data!A135,\"\")","v":""},{"$f":"IF(D134<>\"\",Data!B135,\"\")","v":""},"",{"$f":"IF(AND(Data!D135<>\"\",Data!D135 > 0),Data!D135,\"\")","v":""}]
[{"$f":"IF(D135<>\"\",Data!A136,\"\")","v":""},{"$f":"IF(D135<>\"\",Data!B136,\"\")","v":""},"",{"$f":"IF(AND(Data!D136<>\"\",Data!D136 > 0),Data!D136,\"\")","v":""}]
[{"$f":"IF(D136<>\"\",Data!A137,\"\")","v":""},{"$f":"IF(D136<>\"\",Data!B137,\"\")","v":""},"",{"$f":"IF(AND(Data!D137<>\"\",Data!D137 > 0),Data!D137,\"\")","v":""}]
[{"$f":"IF(D137<>\"\",Data!A138,\"\")","v":""},{"$f":"IF(D137<>\"\",Data!B138,\"\")","v":""},"",{"$f":"IF(AND(Data!D138<>\"\",Data!D138 > 0),Data!D138,\"\")","v":""}]
[{"$f":"IF(D138<>\"\",Data!A139,\"\")","v":""},{"$f":"IF(D138<>\"\",Data!B139,\"\")","v":""},"",{"$f":"IF(AND(Data!D139<>\"\",Data!D139 > 0),Data!D139,\"\")","v":""}]
[{"$f":"IF(D139<>\"\",Data!A140,\"\")","v":""},{"$f":"IF(D139<>\"\",Data!B140,\"\")","v":""},"",{"$f":"IF(AND(Data!D140<>\"\",Data!D140 > 0),Data!D140,\"\")","v":""}]
[{"$f":"IF(D140<>\"\",Data!A141,\"\")","v":""},{"$f":"IF(D140<>\"\",Data!B141,\"\")","v":""},"",{"$f":"IF(AND(Data!D141<>\"\",Data!D141 > 0),Data!D141,\"\")","v":""}]
[{"$f":"IF(D141<>\"\",Data!A142,\"\")","v":""},{"$f":"IF(D141<>\"\",Data!B142,\"\")","v":""},"",{"$f":"IF(AND(Data!D142<>\"\",Data!D142 > 0),Data!D142,\"\")","v":""}]
[{"$f":"IF(D142<>\"\",Data!A143,\"\")","v":""},{"$f":"IF(D142<>\"\",Data!B143,\"\")","v":""},"",{"$f":"IF(AND(Data!D143<>\"\",Data!D143 > 0),Data!D143,\"\")","v":""}]
[{"$f":"IF(D143<>\"\",Data!A144,\"\")","v":""},{"$f":"IF(D143<>\"\",Data!B144,\"\")","v":""},"",{"$f":"IF(AND(Data!D144<>\"\",Data!D144 > 0),Data!D144,\"\")","v":""}]
[{"$f":"IF(D144<>\"\",Data!A145,\"\")","v":""},{"$f":"IF(D144<>\"\",Data!B145,\"\")","v":""},"",{"$f":"IF(AND(Data!D145<>\"\",Data!D145 > 0),Data!D145,\"\")","v":""}]
[{"$f":"IF(D145<>\"\",Data!A146,\"\")","v":""},{"$f":"IF(D145<>\"\",Data!B146,\"\")","v":""},"",{"$f":"IF(AND(Data!D146<>\"\",Data!D146 > 0),Data!D146,\"\")","v":""}]
[{"$f":"IF(D146<>\"\",Data!A147,\"\")","v":""},{"$f":"IF(D146<>\"\",Data!B147,\"\")","v":""},"",{"$f":"IF(AND(Data!D147<>\"\",Data!D147 > 0),Data!D147,\"\")","v":""}]
[{"$f":"IF(D147<>\"\",Data!A148,\"\")","v":""},{"$f":"IF(D147<>\"\",Data!B148,\"\")","v":""},"",{"$f":"IF(AND(Data!D148<>\"\",Data!D148 > 0),Data!D148,\"\")","v":""}]
[{"$f":"IF(D148<>\"\",Data!A149,\"\")","v":""},{"$f":"IF(D148<>\"\",Data!B149,\"\")","v":""},"",{"$f":"IF(AND(Data!D149<>\"\",Data!D149 > 0),Data!D149,\"\")","v":""}]
[{"$f":"IF(D149<>\"\",Data!A150,\"\")","v":""},{"$f":"IF(D149<>\"\",Data!B150,\"\")","v":""},"",{"$f":"IF(AND(Data!D150<>\"\",Data!D150 > 0),Data!D150,\"\")","v":""}]
[{"$f":"IF(D150<>\"\",Data!A151,\"\")","v":""},{"$f":"IF(D150<>\"\",Data!B151,\"\")","v":""},"",{"$f":"IF(AND(Data!D151<>\"\",Data!D151 > 0),Data!D151,\"\")","v":""}]
[{"$f":"IF(D151<>\"\",Data!A152,\"\")","v":""},{"$f":"IF(D151<>\"\",Data!B152,\"\")","v":""},"",{"$f":"IF(AND(Data!D152<>\"\",Data!D152 > 0),Data!D152,\"\")","v":""}]
[{"$f":"IF(D152<>\"\",Data!A153,\"\")","v":""},{"$f":"IF(D152<>\"\",Data!B153,\"\")","v":""},"",{"$f":"IF(AND(Data!D153<>\"\",Data!D153 > 0),Data!D153,\"\")","v":""}]
[{"$f":"IF(D153<>\"\",Data!A154,\"\")","v":""},{"$f":"IF(D153<>\"\",Data!B154,\"\")","v":""},"",{"$f":"IF(AND(Data!D154<>\"\",Data!D154 > 0),Data!D154,\"\")","v":""}]
[{"$f":"IF(D154<>\"\",Data!A155,\"\")","v":""},{"$f":"IF(D154<>\"\",Data!B155,\"\")","v":""},"",{"$f":"IF(AND(Data!D155<>\"\",Data!D155 > 0),Data!D155,\"\")","v":""}]
[{"$f":"IF(D155<>\"\",Data!A156,\"\")","v":""},{"$f":"IF(D155<>\"\",Data!B156,\"\")","v":""},"",{"$f":"IF(AND(Data!D156<>\"\",Data!D156 > 0),Data!D156,\"\")","v":""}]
[{"$f":"IF(D156<>\"\",Data!A157,\"\")","v":""},{"$f":"IF(D156<>\"\",Data!B157,\"\")","v":""},"",{"$f":"IF(AND(Data!D157<>\"\",Data!D157 > 0),Data!D157,\"\")","v":""}]
[{"$f":"IF(D157<>\"\",Data!A158,\"\")","v":""},{"$f":"IF(D157<>\"\",Data!B158,\"\")","v":""},"",{"$f":"IF(AND(Data!D158<>\"\",Data!D158 > 0),Data!D158,\"\")","v":""}]
[{"$f":"IF(D158<>\"\",Data!A159,\"\")","v":""},{"$f":"IF(D158<>\"\",Data!B159,\"\")","v":""},"",{"$f":"IF(AND(Data!D159<>\"\",Data!D159 > 0),Data!D159,\"\")","v":""}]
[{"$f":"IF(D159<>\"\",Data!A160,\"\")","v":""},{"$f":"IF(D159<>\"\",Data!B160,\"\")","v":""},"",{"$f":"IF(AND(Data!D160<>\"\",Data!D160 > 0),Data!D160,\"\")","v":""}]
[{"$f":"IF(D160<>\"\",Data!A161,\"\")","v":""},{"$f":"IF(D160<>\"\",Data!B161,\"\")","v":""},"",{"$f":"IF(AND(Data!D161<>\"\",Data!D161 > 0),Data!D161,\"\")","v":""}]
[{"$f":"IF(D161<>\"\",Data!A162,\"\")","v":""},{"$f":"IF(D161<>\"\",Data!B162,\"\")","v":""},"",{"$f":"IF(AND(Data!D162<>\"\",Data!D162 > 0),Data!D162,\"\")","v":""}]
[{"$f":"IF(D162<>\"\",Data!A163,\"\")","v":""},{"$f":"IF(D162<>\"\",Data!B163,\"\")","v":""},"",{"$f":"IF(AND(Data!D163<>\"\",Data!D163 > 0),Data!D163,\"\")","v":""}]
[{"$f":"IF(D163<>\"\",Data!A164,\"\")","v":""},{"$f":"IF(D163<>\"\",Data!B164,\"\")","v":""},"",{"$f":"IF(AND(Data!D164<>\"\",Data!D164 > 0),Data!D164,\"\")","v":""}]
[{"$f":"IF(D164<>\"\",Data!A165,\"\")","v":""},{"$f":"IF(D164<>\"\",Data!B165,\"\")","v":""},"",{"$f":"IF(AND(Data!D165<>\"\",Data!D165 > 0),Data!D165,\"\")","v":""}]
[{"$f":"IF(D165<>\"\",Data!A166,\"\")","v":""},{"$f":"IF(D165<>\"\",Data!B166,\"\")","v":""},"",{"$f":"IF(AND(Data!D166<>\"\",Data!D166 > 0),Data!D166,\"\")","v":""}]
[{"$f":"IF(D166<>\"\",Data!A167,\"\")","v":""},{"$f":"IF(D166<>\"\",Data!B167,\"\")","v":""},"",{"$f":"IF(AND(Data!D167<>\"\",Data!D167 > 0),Data!D167,\"\")","v":""}]
[{"$f":"IF(D167<>\"\",Data!A168,\"\")","v":""},{"$f":"IF(D167<>\"\",Data!B168,\"\")","v":""},"",{"$f":"IF(AND(Data!D168<>\"\",Data!D168 > 0),Data!D168,\"\")","v":""}]
[{"$f":"IF(D168<>\"\",Data!A169,\"\")","v":""},{"$f":"IF(D168<>\"\",Data!B169,\"\")","v":""},"",{"$f":"IF(AND(Data!D169<>\"\",Data!D169 > 0),Data!D169,\"\")","v":""}]
[{"$f":"IF(D169<>\"\",Data!A170,\"\")","v":""},{"$f":"IF(D169<>\"\",Data!B170,\"\")","v":""},"",{"$f":"IF(AND(Data!D170<>\"\",Data!D170 > 0),Data!D170,\"\")","v":""}]
[{"$f":"IF(D170<>\"\",Data!A171,\"\")","v":""},{"$f":"IF(D170<>\"\",Data!B171,\"\")","v":""},"",{"$f":"IF(AND(Data!D171<>\"\",Data!D171 > 0),Data!D171,\"\")","v":""}]
[{"$f":"IF(D171<>\"\",Data!A172,\"\")","v":""},{"$f":"IF(D171<>\"\",Data!B172,\"\")","v":""},"",{"$f":"IF(AND(Data!D172<>\"\",Data!D172 > 0),Data!D172,\"\")","v":""}]
[{"$f":"IF(D172<>\"\",Data!A173,\"\")","v":""},{"$f":"IF(D172<>\"\",Data!B173,\"\")","v":""},"",{"$f":"IF(AND(Data!D173<>\"\",Data!D173 > 0),Data!D173,\"\")","v":""}]
[{"$f":"IF(D173<>\"\",Data!A174,\"\")","v":""},{"$f":"IF(D173<>\"\",Data!B174,\"\")","v":""},"",{"$f":"IF(AND(Data!D174<>\"\",Data!D174 > 0),Data!D174,\"\")","v":""}]
[{"$f":"IF(D174<>\"\",Data!A175,\"\")","v":""},{"$f":"IF(D174<>\"\",Data!B175,\"\")","v":""},"",{"$f":"IF(AND(Data!D175<>\"\",Data!D175 > 0),Data!D175,\"\")","v":""}]
[{"$f":"IF(D175<>\"\",Data!A176,\"\")","v":""},{"$f":"IF(D175<>\"\",Data!B176,\"\")","v":""},"",{"$f":"IF(AND(Data!D176<>\"\",Data!D176 > 0),Data!D176,\"\")","v":""}]
[{"$f":"IF(D176<>\"\",Data!A177,\"\")","v":""},{"$f":"IF(D176<>\"\",Data!B177,\"\")","v":""},"",{"$f":"IF(AND(Data!D177<>\"\",Data!D177 > 0),Data!D177,\"\")","v":""}]
[{"$f":"IF(D177<>\"\",Data!A178,\"\")","v":""},{"$f":"IF(D177<>\"\",Data!B178,\"\")","v":""},"",{"$f":"IF(AND(Data!D178<>\"\",Data!D178 > 0),Data!D178,\"\")","v":""}]
[{"$f":"IF(D178<>\"\",Data!A179,\"\")","v":""},{"$f":"IF(D178<>\"\",Data!B179,\"\")","v":""},"",{"$f":"IF(AND(Data!D179<>\"\",Data!D179 > 0),Data!D179,\"\")","v":""}]
[{"$f":"IF(D179<>\"\",Data!A180,\"\")","v":""},{"$f":"IF(D179<>\"\",Data!B180,\"\")","v":""},"",{"$f":"IF(AND(Data!D180<>\"\",Data!D180 > 0),Data!D180,\"\")","v":""}]
[{"$f":"IF(D180<>\"\",Data!A181,\"\")","v":""},{"$f":"IF(D180<>\"\",Data!B181,\"\")","v":""},"",{"$f":"IF(AND(Data!D181<>\"\",Data!D181 > 0),Data!D181,\"\")","v":""}]
[{"$f":"IF(D181<>\"\",Data!A182,\"\")","v":""},{"$f":"IF(D181<>\"\",Data!B182,\"\")","v":""},"",{"$f":"IF(AND(Data!D182<>\"\",Data!D182 > 0),Data!D182,\"\")","v":""}]
[{"$f":"IF(D182<>\"\",Data!A183,\"\")","v":""},{"$f":"IF(D182<>\"\",Data!B183,\"\")","v":""},"",{"$f":"IF(AND(Data!D183<>\"\",Data!D183 > 0),Data!D183,\"\")","v":""}]
[{"$f":"IF(D183<>\"\",Data!A184,\"\")","v":""},{"$f":"IF(D183<>\"\",Data!B184,\"\")","v":""},"",{"$f":"IF(AND(Data!D184<>\"\",Data!D184 > 0),Data!D184,\"\")","v":""}]
[{"$f":"IF(D184<>\"\",Data!A185,\"\")","v":""},{"$f":"IF(D184<>\"\",Data!B185,\"\")","v":""},"",{"$f":"IF(AND(Data!D185<>\"\",Data!D185 > 0),Data!D185,\"\")","v":""}]
[{"$f":"IF(D185<>\"\",Data!A186,\"\")","v":""},{"$f":"IF(D185<>\"\",Data!B186,\"\")","v":""},"",{"$f":"IF(AND(Data!D186<>\"\",Data!D186 > 0),Data!D186,\"\")","v":""}]
[{"$f":"IF(D186<>\"\",Data!A187,\"\")","v":""},{"$f":"IF(D186<>\"\",Data!B187,\"\")","v":""},"",{"$f":"IF(AND(Data!D187<>\"\",Data!D187 > 0),Data!D187,\"\")","v":""}]
[{"$f":"IF(D187<>\"\",Data!A188,\"\")","v":""},{"$f":"IF(D187<>\"\",Data!B188,\"\")","v":""},"",{"$f":"IF(AND(Data!D188<>\"\",Data!D188 > 0),Data!D188,\"\")","v":""}]
[{"$f":"IF(D188<>\"\",Data!A189,\"\")","v":""},{"$f":"IF(D188<>\"\",Data!B189,\"\")","v":""},"",{"$f":"IF(AND(Data!D189<>\"\",Data!D189 > 0),Data!D189,\"\")","v":""}]
[{"$f":"IF(D189<>\"\",Data!A190,\"\")","v":""},{"$f":"IF(D189<>\"\",Data!B190,\"\")","v":""},"",{"$f":"IF(AND(Data!D190<>\"\",Data!D190 > 0),Data!D190,\"\")","v":""}]
[{"$f":"IF(D190<>\"\",Data!A191,\"\")","v":""},{"$f":"IF(D190<>\"\",Data!B191,\"\")","v":""},"",{"$f":"IF(AND(Data!D191<>\"\",Data!D191 > 0),Data!D191,\"\")","v":""}]
[{"$f":"IF(D191<>\"\",Data!A192,\"\")","v":""},{"$f":"IF(D191<>\"\",Data!B192,\"\")","v":""},"",{"$f":"IF(AND(Data!D192<>\"\",Data!D192 > 0),Data!D192,\"\")","v":""}]
[{"$f":"IF(D192<>\"\",Data!A193,\"\")","v":""},{"$f":"IF(D192<>\"\",Data!B193,\"\")","v":""},"",{"$f":"IF(AND(Data!D193<>\"\",Data!D193 > 0),Data!D193,\"\")","v":""}]
[{"$f":"IF(D193<>\"\",Data!A194,\"\")","v":""},{"$f":"IF(D193<>\"\",Data!B194,\"\")","v":""},"",{"$f":"IF(AND(Data!D194<>\"\",Data!D194 > 0),Data!D194,\"\")","v":""}]
[{"$f":"IF(D194<>\"\",Data!A195,\"\")","v":""},{"$f":"IF(D194<>\"\",Data!B195,\"\")","v":""},{"$f":"IF(D194<>\"\",MID(CELL(\"filename\",B194),FIND(\"]\",CELL(\"filename\",B194))+1,32),\"\")","v":""},{"$f":"IF(AND(Data!D195<>\"\",Data!D195 > 0),Data!D195,\"\")","v":""}]
[{"$f":"IF(D195<>\"\",Data!A196,\"\")","v":""},{"$f":"IF(D195<>\"\",Data!B196,\"\")","v":""},"",{"$f":"IF(AND(Data!D196<>\"\",Data!D196 > 0),Data!D196,\"\")","v":""}]
[{"$f":"IF(D196<>\"\",Data!A197,\"\")","v":""},{"$f":"IF(D196<>\"\",Data!B197,\"\")","v":""},"",{"$f":"IF(AND(Data!D197<>\"\",Data!D197 > 0),Data!D197,\"\")","v":""}]
[{"$f":"IF(D197<>\"\",Data!A198,\"\")","v":""},{"$f":"IF(D197<>\"\",Data!B198,\"\")","v":""},"",{"$f":"IF(AND(Data!D198<>\"\",Data!D198 > 0),Data!D198,\"\")","v":""}]
[{"$f":"IF(D198<>\"\",Data!A199,\"\")","v":""},{"$f":"IF(D198<>\"\",Data!B199,\"\")","v":""},"",{"$f":"IF(AND(Data!D199<>\"\",Data!D199 > 0),Data!D199,\"\")","v":""}]
[{"$f":"IF(D199<>\"\",Data!A200,\"\")","v":""},{"$f":"IF(D199<>\"\",Data!B200,\"\")","v":""},"",{"$f":"IF(AND(Data!D200<>\"\",Data!D200 > 0),Data!D200,\"\")","v":""}]
[{"$f":"IF(D200<>\"\",Data!A201,\"\")","v":""},{"$f":"IF(D200<>\"\",Data!B201,\"\")","v":""},"",{"$f":"IF(AND(Data!D201<>\"\",Data!D201 > 0),Data!D201,\"\")","v":""}]
[{"$f":"IF(D201<>\"\",Data!A202,\"\")","v":""},{"$f":"IF(D201<>\"\",Data!B202,\"\")","v":""},"",{"$f":"IF(AND(Data!D202<>\"\",Data!D202 > 0),Data!D202,\"\")","v":""}]
[{"$f":"IF(D202<>\"\",Data!A203,\"\")","v":""},{"$f":"IF(D202<>\"\",Data!B203,\"\")","v":""},"",{"$f":"IF(AND(Data!D203<>\"\",Data!D203 > 0),Data!D203,\"\")","v":""}]
[{"$f":"IF(D203<>\"\",Data!A204,\"\")","v":""},{"$f":"IF(D203<>\"\",Data!B204,\"\")","v":""},"",{"$f":"IF(AND(Data!D204<>\"\",Data!D204 > 0),Data!D204,\"\")","v":""}]
[{"$f":"IF(D204<>\"\",Data!A205,\"\")","v":""},{"$f":"IF(D204<>\"\",Data!B205,\"\")","v":""},"",{"$f":"IF(AND(Data!D205<>\"\",Data!D205 > 0),Data!D205,\"\")","v":""}]
[{"$f":"IF(D205<>\"\",Data!A206,\"\")","v":""},{"$f":"IF(D205<>\"\",Data!B206,\"\")","v":""},"",{"$f":"IF(AND(Data!D206<>\"\",Data!D206 > 0),Data!D206,\"\")","v":""}]
[{"$f":"IF(D206<>\"\",Data!A207,\"\")","v":""},{"$f":"IF(D206<>\"\",Data!B207,\"\")","v":""},"",{"$f":"IF(AND(Data!D207<>\"\",Data!D207 > 0),Data!D207,\"\")","v":""}]
[{"$f":"IF(D207<>\"\",Data!A208,\"\")","v":""},{"$f":"IF(D207<>\"\",Data!B208,\"\")","v":""},"",{"$f":"IF(AND(Data!D208<>\"\",Data!D208 > 0),Data!D208,\"\")","v":""}]
[{"$f":"IF(D208<>\"\",Data!A209,\"\")","v":""},{"$f":"IF(D208<>\"\",Data!B209,\"\")","v":""},"",{"$f":"IF(AND(Data!D209<>\"\",Data!D209 > 0),Data!D209,\"\")","v":""}]
[{"$f":"IF(D209<>\"\",Data!A210,\"\")","v":""},{"$f":"IF(D209<>\"\",Data!B210,\"\")","v":""},"",{"$f":"IF(AND(Data!D210<>\"\",Data!D210 > 0),Data!D210,\"\")","v":""}]
[{"$f":"IF(D210<>\"\",Data!A211,\"\")","v":""},{"$f":"IF(D210<>\"\",Data!B211,\"\")","v":""},"",{"$f":"IF(AND(Data!D211<>\"\",Data!D211 > 0),Data!D211,\"\")","v":""}]
[{"$f":"IF(D211<>\"\",Data!A212,\"\")","v":""},{"$f":"IF(D211<>\"\",Data!B212,\"\")","v":""},"",{"$f":"IF(AND(Data!D212<>\"\",Data!D212 > 0),Data!D212,\"\")","v":""}]
[{"$f":"IF(D212<>\"\",Data!A213,\"\")","v":""},{"$f":"IF(D212<>\"\",Data!B213,\"\")","v":""},"",{"$f":"IF(AND(Data!D213<>\"\",Data!D213 > 0),Data!D213,\"\")","v":""}]
[{"$f":"IF(D213<>\"\",Data!A214,\"\")","v":""},{"$f":"IF(D213<>\"\",Data!B214,\"\")","v":""},"",{"$f":"IF(AND(Data!D214<>\"\",Data!D214 > 0),Data!D214,\"\")","v":""}]
[{"$f":"IF(D214<>\"\",Data!A215,\"\")","v":""},{"$f":"IF(D214<>\"\",Data!B215,\"\")","v":""},"",{"$f":"IF(AND(Data!D215<>\"\",Data!D215 > 0),Data!D215,\"\")","v":""}]
[{"$f":"IF(D215<>\"\",Data!A216,\"\")","v":""},{"$f":"IF(D215<>\"\",Data!B216,\"\")","v":""},"",{"$f":"IF(AND(Data!D216<>\"\",Data!D216 > 0),Data!D216,\"\")","v":""}]
[{"$f":"IF(D216<>\"\",Data!A217,\"\")","v":""},{"$f":"IF(D216<>\"\",Data!B217,\"\")","v":""},"",{"$f":"IF(AND(Data!D217<>\"\",Data!D217 > 0),Data!D217,\"\")","v":""}]
[{"$f":"IF(D217<>\"\",Data!A218,\"\")","v":""},{"$f":"IF(D217<>\"\",Data!B218,\"\")","v":""},"",{"$f":"IF(AND(Data!D218<>\"\",Data!D218 > 0),Data!D218,\"\")","v":""}]
[{"$f":"IF(D218<>\"\",Data!A219,\"\")","v":""},{"$f":"IF(D218<>\"\",Data!B219,\"\")","v":""},"",{"$f":"IF(AND(Data!D219<>\"\",Data!D219 > 0),Data!D219,\"\")","v":""}]
[{"$f":"IF(D219<>\"\",Data!A220,\"\")","v":""},{"$f":"IF(D219<>\"\",Data!B220,\"\")","v":""},"",{"$f":"IF(AND(Data!D220<>\"\",Data!D220 > 0),Data!D220,\"\")","v":""}]
[{"$f":"IF(D220<>\"\",Data!A221,\"\")","v":""},{"$f":"IF(D220<>\"\",Data!B221,\"\")","v":""},"",{"$f":"IF(AND(Data!D221<>\"\",Data!D221 > 0),Data!D221,\"\")","v":""}]
[{"$f":"IF(D221<>\"\",Data!A222,\"\")","v":""},{"$f":"IF(D221<>\"\",Data!B222,\"\")","v":""},"",{"$f":"IF(AND(Data!D222<>\"\",Data!D222 > 0),Data!D222,\"\")","v":""}]
[{"$f":"IF(D222<>\"\",Data!A223,\"\")","v":""},{"$f":"IF(D222<>\"\",Data!B223,\"\")","v":""},"",{"$f":"IF(AND(Data!D223<>\"\",Data!D223 > 0),Data!D223,\"\")","v":""}]
[{"$f":"IF(D223<>\"\",Data!A224,\"\")","v":""},{"$f":"IF(D223<>\"\",Data!B224,\"\")","v":""},"",{"$f":"IF(AND(Data!D224<>\"\",Data!D224 > 0),Data!D224,\"\")","v":""}]
[{"$f":"IF(D224<>\"\",Data!A225,\"\")","v":""},{"$f":"IF(D224<>\"\",Data!B225,\"\")","v":""},"",{"$f":"IF(AND(Data!D225<>\"\",Data!D225 > 0),Data!D225,\"\")","v":""}]
[{"$f":"IF(D225<>\"\",Data!A226,\"\")","v":""},{"$f":"IF(D225<>\"\",Data!B226,\"\")","v":""},"",{"$f":"IF(AND(Data!D226<>\"\",Data!D226 > 0),Data!D226,\"\")","v":""}]
[{"$f":"IF(D226<>\"\",Data!A227,\"\")","v":""},{"$f":"IF(D226<>\"\",Data!B227,\"\")","v":""},"",{"$f":"IF(AND(Data!D227<>\"\",Data!D227 > 0),Data!D227,\"\")","v":""}]
[{"$f":"IF(D227<>\"\",Data!A228,\"\")","v":""},{"$f":"IF(D227<>\"\",Data!B228,\"\")","v":""},"",{"$f":"IF(AND(Data!D228<>\"\",Data!D228 > 0),Data!D228,\"\")","v":""}]
[{"$f":"IF(D228<>\"\",Data!A229,\"\")","v":""},{"$f":"IF(D228<>\"\",Data!B229,\"\")","v":""},"",{"$f":"IF(AND(Data!D229<>\"\",Data!D229 > 0),Data!D229,\"\")","v":""}]
[{"$f":"IF(D229<>\"\",Data!A230,\"\")","v":""},{"$f":"IF(D229<>\"\",Data!B230,\"\")","v":""},"",{"$f":"IF(AND(Data!D230<>\"\",Data!D230 > 0),Data!D230,\"\")","v":""}]
[{"$f":"IF(D230<>\"\",Data!A231,\"\")","v":""},{"$f":"IF(D230<>\"\",Data!B231,\"\")","v":""},"",{"$f":"IF(AND(Data!D231<>\"\",Data!D231 > 0),Data!D231,\"\")","v":""}]
[{"$f":"IF(D231<>\"\",Data!A232,\"\")","v":""},{"$f":"IF(D231<>\"\",Data!B232,\"\")","v":""},"",{"$f":"IF(AND(Data!D232<>\"\",Data!D232 > 0),Data!D232,\"\")","v":""}]
[{"$f":"IF(D232<>\"\",Data!A233,\"\")","v":""},{"$f":"IF(D232<>\"\",Data!B233,\"\")","v":""},"",{"$f":"IF(AND(Data!D233<>\"\",Data!D233 > 0),Data!D233,\"\")","v":""}]
[{"$f":"IF(D233<>\"\",Data!A234,\"\")","v":""},{"$f":"IF(D233<>\"\",Data!B234,\"\")","v":""},"",{"$f":"IF(AND(Data!D234<>\"\",Data!D234 > 0),Data!D234,\"\")","v":""}]
[{"$f":"IF(D234<>\"\",Data!A235,\"\")","v":""},{"$f":"IF(D234<>\"\",Data!B235,\"\")","v":""},"",{"$f":"IF(AND(Data!D235<>\"\",Data!D235 > 0),Data!D235,\"\")","v":""}]
[{"$f":"IF(D235<>\"\",Data!A236,\"\")","v":""},{"$f":"IF(D235<>\"\",Data!B236,\"\")","v":""},"",{"$f":"IF(AND(Data!D236<>\"\",Data!D236 > 0),Data!D236,\"\")","v":""}]
[{"$f":"IF(D236<>\"\",Data!A237,\"\")","v":""},{"$f":"IF(D236<>\"\",Data!B237,\"\")","v":""},"",{"$f":"IF(AND(Data!D237<>\"\",Data!D237 > 0),Data!D237,\"\")","v":""}]
[{"$f":"IF(D237<>\"\",Data!A238,\"\")","v":""},{"$f":"IF(D237<>\"\",Data!B238,\"\")","v":""},"",{"$f":"IF(AND(Data!D238<>\"\",Data!D238 > 0),Data!D238,\"\")","v":""}]
[{"$f":"IF(D238<>\"\",Data!A239,\"\")","v":""},{"$f":"IF(D238<>\"\",Data!B239,\"\")","v":""},"",{"$f":"IF(AND(Data!D239<>\"\",Data!D239 > 0),Data!D239,\"\")","v":""}]
[{"$f":"IF(D239<>\"\",Data!A240,\"\")","v":""},{"$f":"IF(D239<>\"\",Data!B240,\"\")","v":""},"",{"$f":"IF(AND(Data!D240<>\"\",Data!D240 > 0),Data!D240,\"\")","v":""}]
[{"$f":"IF(D240<>\"\",Data!A241,\"\")","v":""},{"$f":"IF(D240<>\"\",Data!B241,\"\")","v":""},"",{"$f":"IF(AND(Data!D241<>\"\",Data!D241 > 0),Data!D241,\"\")","v":""}]
[{"$f":"IF(D241<>\"\",Data!A242,\"\")","v":""},{"$f":"IF(D241<>\"\",Data!B242,\"\")","v":""},"",{"$f":"IF(AND(Data!D242<>\"\",Data!D242 > 0),Data!D242,\"\")","v":""}]
[{"$f":"IF(D242<>\"\",Data!A243,\"\")","v":""},{"$f":"IF(D242<>\"\",Data!B243,\"\")","v":""},"",{"$f":"IF(AND(Data!D243<>\"\",Data!D243 > 0),Data!D243,\"\")","v":""}]
[{"$f":"IF(D243<>\"\",Data!A244,\"\")","v":""},{"$f":"IF(D243<>\"\",Data!B244,\"\")","v":""},"",{"$f":"IF(AND(Data!D244<>\"\",Data!D244 > 0),Data!D244,\"\")","v":""}]
[{"$f":"IF(D244<>\"\",Data!A245,\"\")","v":""},{"$f":"IF(D244<>\"\",Data!B245,\"\")","v":""},"",{"$f":"IF(AND(Data!D245<>\"\",Data!D245 > 0),Data!D245,\"\")","v":""}]
[{"$f":"IF(D245<>\"\",Data!A246,\"\")","v":""},{"$f":"IF(D245<>\"\",Data!B246,\"\")","v":""},"",{"$f":"IF(AND(Data!D246<>\"\",Data!D246 > 0),Data!D246,\"\")","v":""}]
[{"$f":"IF(D246<>\"\",Data!A247,\"\")","v":""},{"$f":"IF(D246<>\"\",Data!B247,\"\")","v":""},"",{"$f":"IF(AND(Data!D247<>\"\",Data!D247 > 0),Data!D247,\"\")","v":""}]
[{"$f":"IF(D247<>\"\",Data!A248,\"\")","v":""},{"$f":"IF(D247<>\"\",Data!B248,\"\")","v":""},"",{"$f":"IF(AND(Data!D248<>\"\",Data!D248 > 0),Data!D248,\"\")","v":""}]
[{"$f":"IF(D248<>\"\",Data!A249,\"\")","v":""},{"$f":"IF(D248<>\"\",Data!B249,\"\")","v":""},"",{"$f":"IF(AND(Data!D249<>\"\",Data!D249 > 0),Data!D249,\"\")","v":""}]
[{"$f":"IF(D249<>\"\",Data!A250,\"\")","v":""},{"$f":"IF(D249<>\"\",Data!B250,\"\")","v":""},"",{"$f":"IF(AND(Data!D250<>\"\",Data!D250 > 0),Data!D250,\"\")","v":""}]
[{"$f":"IF(D250<>\"\",Data!A251,\"\")","v":""},{"$f":"IF(D250<>\"\",Data!B251,\"\")","v":""},"",{"$f":"IF(AND(Data!D251<>\"\",Data!D251 > 0),Data!D251,\"\")","v":""}]
[{"$f":"IF(D251<>\"\",Data!A252,\"\")","v":""},{"$f":"IF(D251<>\"\",Data!B252,\"\")","v":""},"",{"$f":"IF(AND(Data!D252<>\"\",Data!D252 > 0),Data!D252,\"\")","v":""}]
[{"$f":"IF(D252<>\"\",Data!A253,\"\")","v":""},{"$f":"IF(D252<>\"\",Data!B253,\"\")","v":""},"",{"$f":"IF(AND(Data!D253<>\"\",Data!D253 > 0),Data!D253,\"\")","v":""}]
[{"$f":"IF(D253<>\"\",Data!A254,\"\")","v":""},{"$f":"IF(D253<>\"\",Data!B254,\"\")","v":""},"",{"$f":"IF(AND(Data!D254<>\"\",Data!D254 > 0),Data!D254,\"\")","v":""}]
[{"$f":"IF(D254<>\"\",Data!A255,\"\")","v":""},{"$f":"IF(D254<>\"\",Data!B255,\"\")","v":""},"",{"$f":"IF(AND(Data!D255<>\"\",Data!D255 > 0),Data!D255,\"\")","v":""}]
[{"$f":"IF(D255<>\"\",Data!A256,\"\")","v":""},{"$f":"IF(D255<>\"\",Data!B256,\"\")","v":""},"",{"$f":"IF(AND(Data!D256<>\"\",Data!D256 > 0),Data!D256,\"\")","v":""}]
[{"$f":"IF(D256<>\"\",Data!A257,\"\")","v":""},{"$f":"IF(D256<>\"\",Data!B257,\"\")","v":""},"",{"$f":"IF(AND(Data!D257<>\"\",Data!D257 > 0),Data!D257,\"\")","v":""}]
[{"$f":"IF(D257<>\"\",Data!A258,\"\")","v":""},{"$f":"IF(D257<>\"\",Data!B258,\"\")","v":""},"",{"$f":"IF(AND(Data!D258<>\"\",Data!D258 > 0),Data!D258,\"\")","v":""}]
[{"$f":"IF(D258<>\"\",Data!A259,\"\")","v":""},{"$f":"IF(D258<>\"\",Data!B259,\"\")","v":""},{"$f":"IF(D258<>\"\",MID(CELL(\"filename\",B258),FIND(\"]\",CELL(\"filename\",B258))+1,32),\"\")","v":""},{"$f":"IF(AND(Data!D259<>\"\",Data!D259 > 0),Data!D259,\"\")","v":""}]
[{"$f":"IF(D259<>\"\",Data!A260,\"\")","v":""},{"$f":"IF(D259<>\"\",Data!B260,\"\")","v":""},"",{"$f":"IF(AND(Data!D260<>\"\",Data!D260 > 0),Data!D260,\"\")","v":""}]
[{"$f":"IF(D260<>\"\",Data!A261,\"\")","v":""},{"$f":"IF(D260<>\"\",Data!B261,\"\")","v":""},"",{"$f":"IF(AND(Data!D261<>\"\",Data!D261 > 0),Data!D261,\"\")","v":""}]
[{"$f":"IF(D261<>\"\",Data!A262,\"\")","v":""},{"$f":"IF(D261<>\"\",Data!B262,\"\")","v":""},"",{"$f":"IF(AND(Data!D262<>\"\",Data!D262 > 0),Data!D262,\"\")","v":""}]
[{"$f":"IF(D262<>\"\",Data!A263,\"\")","v":""},{"$f":"IF(D262<>\"\",Data!B263,\"\")","v":""},"",{"$f":"IF(AND(Data!D263<>\"\",Data!D263 > 0),Data!D263,\"\")","v":""}]
[{"$f":"IF(D263<>\"\",Data!A264,\"\")","v":""},{"$f":"IF(D263<>\"\",Data!B264,\"\")","v":""},"",{"$f":"IF(AND(Data!D264<>\"\",Data!D264 > 0),Data!D264,\"\")","v":""}]
[{"$f":"IF(D264<>\"\",Data!A265,\"\")","v":""},{"$f":"IF(D264<>\"\",Data!B265,\"\")","v":""},"",{"$f":"IF(AND(Data!D265<>\"\",Data!D265 > 0),Data!D265,\"\")","v":""}]
[{"$f":"IF(D265<>\"\",Data!A266,\"\")","v":""},{"$f":"IF(D265<>\"\",Data!B266,\"\")","v":""},"",{"$f":"IF(AND(Data!D266<>\"\",Data!D266 > 0),Data!D266,\"\")","v":""}]
[{"$f":"IF(D266<>\"\",Data!A267,\"\")","v":""},{"$f":"IF(D266<>\"\",Data!B267,\"\")","v":""},"",{"$f":"IF(AND(Data!D267<>\"\",Data!D267 > 0),Data!D267,\"\")","v":""}]
[{"$f":"IF(D267<>\"\",Data!A268,\"\")","v":""},{"$f":"IF(D267<>\"\",Data!B268,\"\")","v":""},"",{"$f":"IF(AND(Data!D268<>\"\",Data!D268 > 0),Data!D268,\"\")","v":""}]
[{"$f":"IF(D268<>\"\",Data!A269,\"\")","v":""},{"$f":"IF(D268<>\"\",Data!B269,\"\")","v":""},"",{"$f":"IF(AND(Data!D269<>\"\",Data!D269 > 0),Data!D269,\"\")","v":""}]
[{"$f":"IF(D269<>\"\",Data!A270,\"\")","v":""},{"$f":"IF(D269<>\"\",Data!B270,\"\")","v":""},"",{"$f":"IF(AND(Data!D270<>\"\",Data!D270 > 0),Data!D270,\"\")","v":""}]
[{"$f":"IF(D270<>\"\",Data!A271,\"\")","v":""},{"$f":"IF(D270<>\"\",Data!B271,\"\")","v":""},"",{"$f":"IF(AND(Data!D271<>\"\",Data!D271 > 0),Data!D271,\"\")","v":""}]
[{"$f":"IF(D271<>\"\",Data!A272,\"\")","v":""},{"$f":"IF(D271<>\"\",Data!B272,\"\")","v":""},"",{"$f":"IF(AND(Data!D272<>\"\",Data!D272 > 0),Data!D272,\"\")","v":""}]
[{"$f":"IF(D272<>\"\",Data!A273,\"\")","v":""},{"$f":"IF(D272<>\"\",Data!B273,\"\")","v":""},"",{"$f":"IF(AND(Data!D273<>\"\",Data!D273 > 0),Data!D273,\"\")","v":""}]
[{"$f":"IF(D273<>\"\",Data!A274,\"\")","v":""},{"$f":"IF(D273<>\"\",Data!B274,\"\")","v":""},"",{"$f":"IF(AND(Data!D274<>\"\",Data!D274 > 0),Data!D274,\"\")","v":""}]
[{"$f":"IF(D274<>\"\",Data!A275,\"\")","v":""},{"$f":"IF(D274<>\"\",Data!B275,\"\")","v":""},"",{"$f":"IF(AND(Data!D275<>\"\",Data!D275 > 0),Data!D275,\"\")","v":""}]
[{"$f":"IF(D275<>\"\",Data!A276,\"\")","v":""},{"$f":"IF(D275<>\"\",Data!B276,\"\")","v":""},"",{"$f":"IF(AND(Data!D276<>\"\",Data!D276 > 0),Data!D276,\"\")","v":""}]
[{"$f":"IF(D276<>\"\",Data!A277,\"\")","v":""},{"$f":"IF(D276<>\"\",Data!B277,\"\")","v":""},"",{"$f":"IF(AND(Data!D277<>\"\",Data!D277 > 0),Data!D277,\"\")","v":""}]
[{"$f":"IF(D277<>\"\",Data!A278,\"\")","v":""},{"$f":"IF(D277<>\"\",Data!B278,\"\")","v":""},"",{"$f":"IF(AND(Data!D278<>\"\",Data!D278 > 0),Data!D278,\"\")","v":""}]
[{"$f":"IF(D278<>\"\",Data!A279,\"\")","v":""},{"$f":"IF(D278<>\"\",Data!B279,\"\")","v":""},"",{"$f":"IF(AND(Data!D279<>\"\",Data!D279 > 0),Data!D279,\"\")","v":""}]
[{"$f":"IF(D279<>\"\",Data!A280,\"\")","v":""},{"$f":"IF(D279<>\"\",Data!B280,\"\")","v":""},"",{"$f":"IF(AND(Data!D280<>\"\",Data!D280 > 0),Data!D280,\"\")","v":""}]
[{"$f":"IF(D280<>\"\",Data!A281,\"\")","v":""},{"$f":"IF(D280<>\"\",Data!B281,\"\")","v":""},"",{"$f":"IF(AND(Data!D281<>\"\",Data!D281 > 0),Data!D281,\"\")","v":""}]
[{"$f":"IF(D281<>\"\",Data!A282,\"\")","v":""},{"$f":"IF(D281<>\"\",Data!B282,\"\")","v":""},"",{"$f":"IF(AND(Data!D282<>\"\",Data!D282 > 0),Data!D282,\"\")","v":""}]
[{"$f":"IF(D282<>\"\",Data!A283,\"\")","v":""},{"$f":"IF(D282<>\"\",Data!B283,\"\")","v":""},"",{"$f":"IF(AND(Data!D283<>\"\",Data!D283 > 0),Data!D283,\"\")","v":""}]
[{"$f":"IF(D283<>\"\",Data!A284,\"\")","v":""},{"$f":"IF(D283<>\"\",Data!B284,\"\")","v":""},"",{"$f":"IF(AND(Data!D284<>\"\",Data!D284 > 0),Data!D284,\"\")","v":""}]
[{"$f":"IF(D284<>\"\",Data!A285,\"\")","v":""},{"$f":"IF(D284<>\"\",Data!B285,\"\")","v":""},"",{"$f":"IF(AND(Data!D285<>\"\",Data!D285 > 0),Data!D285,\"\")","v":""}]
[{"$f":"IF(D285<>\"\",Data!A286,\"\")","v":""},{"$f":"IF(D285<>\"\",Data!B286,\"\")","v":""},"",{"$f":"IF(AND(Data!D286<>\"\",Data!D286 > 0),Data!D286,\"\")","v":""}]
[{"$f":"IF(D286<>\"\",Data!A287,\"\")","v":""},{"$f":"IF(D286<>\"\",Data!B287,\"\")","v":""},"",{"$f":"IF(AND(Data!D287<>\"\",Data!D287 > 0),Data!D287,\"\")","v":""}]
[{"$f":"IF(D287<>\"\",Data!A288,\"\")","v":""},{"$f":"IF(D287<>\"\",Data!B288,\"\")","v":""},"",{"$f":"IF(AND(Data!D288<>\"\",Data!D288 > 0),Data!D288,\"\")","v":""}]
[{"$f":"IF(D288<>\"\",Data!A289,\"\")","v":""},{"$f":"IF(D288<>\"\",Data!B289,\"\")","v":""},"",{"$f":"IF(AND(Data!D289<>\"\",Data!D289 > 0),Data!D289,\"\")","v":""}]
[{"$f":"IF(D289<>\"\",Data!A290,\"\")","v":""},{"$f":"IF(D289<>\"\",Data!B290,\"\")","v":""},"",{"$f":"IF(AND(Data!D290<>\"\",Data!D290 > 0),Data!D290,\"\")","v":""}]
[{"$f":"IF(D290<>\"\",Data!A291,\"\")","v":""},{"$f":"IF(D290<>\"\",Data!B291,\"\")","v":""},"",{"$f":"IF(AND(Data!D291<>\"\",Data!D291 > 0),Data!D291,\"\")","v":""}]
[{"$f":"IF(D291<>\"\",Data!A292,\"\")","v":""},{"$f":"IF(D291<>\"\",Data!B292,\"\")","v":""},"",{"$f":"IF(AND(Data!D292<>\"\",Data!D292 > 0),Data!D292,\"\")","v":""}]
[{"$f":"IF(D292<>\"\",Data!A293,\"\")","v":""},{"$f":"IF(D292<>\"\",Data!B293,\"\")","v":""},"",{"$f":"IF(AND(Data!D293<>\"\",Data!D293 > 0),Data!D293,\"\")","v":""}]
[{"$f":"IF(D293<>\"\",Data!A294,\"\")","v":""},{"$f":"IF(D293<>\"\",Data!B294,\"\")","v":""},"",{"$f":"IF(AND(Data!D294<>\"\",Data!D294 > 0),Data!D294,\"\")","v":""}]
[{"$f":"IF(D294<>\"\",Data!A295,\"\")","v":""},{"$f":"IF(D294<>\"\",Data!B295,\"\")","v":""},"",{"$f":"IF(AND(Data!D295<>\"\",Data!D295 > 0),Data!D295,\"\")","v":""}]
[{"$f":"IF(D295<>\"\",Data!A296,\"\")","v":""},{"$f":"IF(D295<>\"\",Data!B296,\"\")","v":""},"",{"$f":"IF(AND(Data!D296<>\"\",Data!D296 > 0),Data!D296,\"\")","v":""}]
[{"$f":"IF(D296<>\"\",Data!A297,\"\")","v":""},{"$f":"IF(D296<>\"\",Data!B297,\"\")","v":""},"",{"$f":"IF(AND(Data!D297<>\"\",Data!D297 > 0),Data!D297,\"\")","v":""}]
[{"$f":"IF(D297<>\"\",Data!A298,\"\")","v":""},{"$f":"IF(D297<>\"\",Data!B298,\"\")","v":""},"",{"$f":"IF(AND(Data!D298<>\"\",Data!D298 > 0),Data!D298,\"\")","v":""}]
[{"$f":"IF(D298<>\"\",Data!A299,\"\")","v":""},{"$f":"IF(D298<>\"\",Data!B299,\"\")","v":""},"",{"$f":"IF(AND(Data!D299<>\"\",Data!D299 > 0),Data!D299,\"\")","v":""}]
[{"$f":"IF(D299<>\"\",Data!A300,\"\")","v":""},{"$f":"IF(D299<>\"\",Data!B300,\"\")","v":""},"",{"$f":"IF(AND(Data!D300<>\"\",Data!D300 > 0),Data!D300,\"\")","v":""}]
[{"$f":"IF(D300<>\"\",Data!A301,\"\")","v":""},{"$f":"IF(D300<>\"\",Data!B301,\"\")","v":""},"",{"$f":"IF(AND(Data!D301<>\"\",Data!D301 > 0),Data!D301,\"\")","v":""}]
[{"$f":"IF(D301<>\"\",Data!A302,\"\")","v":""},{"$f":"IF(D301<>\"\",Data!B302,\"\")","v":""},"",{"$f":"IF(AND(Data!D302<>\"\",Data!D302 > 0),Data!D302,\"\")","v":""}]
[{"$f":"IF(D302<>\"\",Data!A303,\"\")","v":""},{"$f":"IF(D302<>\"\",Data!B303,\"\")","v":""},"",{"$f":"IF(AND(Data!D303<>\"\",Data!D303 > 0),Data!D303,\"\")","v":""}]
[{"$f":"IF(D303<>\"\",Data!A304,\"\")","v":""},{"$f":"IF(D303<>\"\",Data!B304,\"\")","v":""},"",{"$f":"IF(AND(Data!D304<>\"\",Data!D304 > 0),Data!D304,\"\")","v":""}]
[{"$f":"IF(D304<>\"\",Data!A305,\"\")","v":""},{"$f":"IF(D304<>\"\",Data!B305,\"\")","v":""},"",{"$f":"IF(AND(Data!D305<>\"\",Data!D305 > 0),Data!D305,\"\")","v":""}]
[{"$f":"IF(D305<>\"\",Data!A306,\"\")","v":""},{"$f":"IF(D305<>\"\",Data!B306,\"\")","v":""},"",{"$f":"IF(AND(Data!D306<>\"\",Data!D306 > 0),Data!D306,\"\")","v":""}]
[{"$f":"IF(D306<>\"\",Data!A307,\"\")","v":""},{"$f":"IF(D306<>\"\",Data!B307,\"\")","v":""},"",{"$f":"IF(AND(Data!D307<>\"\",Data!D307 > 0),Data!D307,\"\")","v":""}]
[{"$f":"IF(D307<>\"\",Data!A308,\"\")","v":""},{"$f":"IF(D307<>\"\",Data!B308,\"\")","v":""},"",{"$f":"IF(AND(Data!D308<>\"\",Data!D308 > 0),Data!D308,\"\")","v":""}]
[{"$f":"IF(D308<>\"\",Data!A309,\"\")","v":""},{"$f":"IF(D308<>\"\",Data!B309,\"\")","v":""},"",{"$f":"IF(AND(Data!D309<>\"\",Data!D309 > 0),Data!D309,\"\")","v":""}]
[{"$f":"IF(D309<>\"\",Data!A310,\"\")","v":""},{"$f":"IF(D309<>\"\",Data!B310,\"\")","v":""},"",{"$f":"IF(AND(Data!D310<>\"\",Data!D310 > 0),Data!D310,\"\")","v":""}]
[{"$f":"IF(D310<>\"\",Data!A311,\"\")","v":""},{"$f":"IF(D310<>\"\",Data!B311,\"\")","v":""},"",{"$f":"IF(AND(Data!D311<>\"\",Data!D311 > 0),Data!D311,\"\")","v":""}]
[{"$f":"IF(D311<>\"\",Data!A312,\"\")","v":""},{"$f":"IF(D311<>\"\",Data!B312,\"\")","v":""},"",{"$f":"IF(AND(Data!D312<>\"\",Data!D312 > 0),Data!D312,\"\")","v":""}]
[{"$f":"IF(D312<>\"\",Data!A313,\"\")","v":""},{"$f":"IF(D312<>\"\",Data!B313,\"\")","v":""},"",{"$f":"IF(AND(Data!D313<>\"\",Data!D313 > 0),Data!D313,\"\")","v":""}]
[{"$f":"IF(D313<>\"\",Data!A314,\"\")","v":""},{"$f":"IF(D313<>\"\",Data!B314,\"\")","v":""},"",{"$f":"IF(AND(Data!D314<>\"\",Data!D314 > 0),Data!D314,\"\")","v":""}]
[{"$f":"IF(D314<>\"\",Data!A315,\"\")","v":""},{"$f":"IF(D314<>\"\",Data!B315,\"\")","v":""},"",{"$f":"IF(AND(Data!D315<>\"\",Data!D315 > 0),Data!D315,\"\")","v":""}]
[{"$f":"IF(D315<>\"\",Data!A316,\"\")","v":""},{"$f":"IF(D315<>\"\",Data!B316,\"\")","v":""},"",{"$f":"IF(AND(Data!D316<>\"\",Data!D316 > 0),Data!D316,\"\")","v":""}]
[{"$f":"IF(D316<>\"\",Data!A317,\"\")","v":""},{"$f":"IF(D316<>\"\",Data!B317,\"\")","v":""},"",{"$f":"IF(AND(Data!D317<>\"\",Data!D317 > 0),Data!D317,\"\")","v":""}]
[{"$f":"IF(D317<>\"\",Data!A318,\"\")","v":""},{"$f":"IF(D317<>\"\",Data!B318,\"\")","v":""},"",{"$f":"IF(AND(Data!D318<>\"\",Data!D318 > 0),Data!D318,\"\")","v":""}]
[{"$f":"IF(D318<>\"\",Data!A319,\"\")","v":""},{"$f":"IF(D318<>\"\",Data!B319,\"\")","v":""},"",{"$f":"IF(AND(Data!D319<>\"\",Data!D319 > 0),Data!D319,\"\")","v":""}]
[{"$f":"IF(D319<>\"\",Data!A320,\"\")","v":""},{"$f":"IF(D319<>\"\",Data!B320,\"\")","v":""},"",{"$f":"IF(AND(Data!D320<>\"\",Data!D320 > 0),Data!D320,\"\")","v":""}]
[{"$f":"IF(D320<>\"\",Data!A321,\"\")","v":""},{"$f":"IF(D320<>\"\",Data!B321,\"\")","v":""},"",{"$f":"IF(AND(Data!D321<>\"\",Data!D321 > 0),Data!D321,\"\")","v":""}]
[{"$f":"IF(D321<>\"\",Data!A322,\"\")","v":""},{"$f":"IF(D321<>\"\",Data!B322,\"\")","v":""},"",{"$f":"IF(AND(Data!D322<>\"\",Data!D322 > 0),Data!D322,\"\")","v":""}]
[{"$f":"IF(D322<>\"\",Data!A323,\"\")","v":""},{"$f":"IF(D322<>\"\",Data!B323,\"\")","v":""},{"$f":"IF(D322<>\"\",MID(CELL(\"filename\",B322),FIND(\"]\",CELL(\"filename\",B322))+1,32),\"\")","v":""},{"$f":"IF(AND(Data!D323<>\"\",Data!D323 > 0),Data!D323,\"\")","v":""}]
[{"$f":"IF(D323<>\"\",Data!A324,\"\")","v":""},{"$f":"IF(D323<>\"\",Data!B324,\"\")","v":""},"",{"$f":"IF(AND(Data!D324<>\"\",Data!D324 > 0),Data!D324,\"\")","v":""}]
[{"$f":"IF(D324<>\"\",Data!A325,\"\")","v":""},{"$f":"IF(D324<>\"\",Data!B325,\"\")","v":""},"",{"$f":"IF(AND(Data!D325<>\"\",Data!D325 > 0),Data!D325,\"\")","v":""}]
[{"$f":"IF(D325<>\"\",Data!A326,\"\")","v":""},{"$f":"IF(D325<>\"\",Data!B326,\"\")","v":""},"",{"$f":"IF(AND(Data!D326<>\"\",Data!D326 > 0),Data!D326,\"\")","v":""}]
[{"$f":"IF(D326<>\"\",Data!A327,\"\")","v":""},{"$f":"IF(D326<>\"\",Data!B327,\"\")","v":""},"",{"$f":"IF(AND(Data!D327<>\"\",Data!D327 > 0),Data!D327,\"\")","v":""}]
[{"$f":"IF(D327<>\"\",Data!A328,\"\")","v":""},{"$f":"IF(D327<>\"\",Data!B328,\"\")","v":""},"",{"$f":"IF(AND(Data!D328<>\"\",Data!D328 > 0),Data!D328,\"\")","v":""}]
[{"$f":"IF(D328<>\"\",Data!A329,\"\")","v":""},{"$f":"IF(D328<>\"\",Data!B329,\"\")","v":""},"",{"$f":"IF(AND(Data!D329<>\"\",Data!D329 > 0),Data!D329,\"\")","v":""}]
[{"$f":"IF(D329<>\"\",Data!A330,\"\")","v":""},{"$f":"IF(D329<>\"\",Data!B330,\"\")","v":""},"",{"$f":"IF(AND(Data!D330<>\"\",Data!D330 > 0),Data!D330,\"\")","v":""}]
[{"$f":"IF(D330<>\"\",Data!A331,\"\")","v":""},{"$f":"IF(D330<>\"\",Data!B331,\"\")","v":""},"",{"$f":"IF(AND(Data!D331<>\"\",Data!D331 > 0),Data!D331,\"\")","v":""}]
[{"$f":"IF(D331<>\"\",Data!A332,\"\")","v":""},{"$f":"IF(D331<>\"\",Data!B332,\"\")","v":""},"",{"$f":"IF(AND(Data!D332<>\"\",Data!D332 > 0),Data!D332,\"\")","v":""}]
[{"$f":"IF(D332<>\"\",Data!A333,\"\")","v":""},{"$f":"IF(D332<>\"\",Data!B333,\"\")","v":""},"",{"$f":"IF(AND(Data!D333<>\"\",Data!D333 > 0),Data!D333,\"\")","v":""}]
[{"$f":"IF(D333<>\"\",Data!A334,\"\")","v":""},{"$f":"IF(D333<>\"\",Data!B334,\"\")","v":""},"",{"$f":"IF(AND(Data!D334<>\"\",Data!D334 > 0),Data!D334,\"\")","v":""}]
[{"$f":"IF(D334<>\"\",Data!A335,\"\")","v":""},{"$f":"IF(D334<>\"\",Data!B335,\"\")","v":""},"",{"$f":"IF(AND(Data!D335<>\"\",Data!D335 > 0),Data!D335,\"\")","v":""}]
[{"$f":"IF(D335<>\"\",Data!A336,\"\")","v":""},{"$f":"IF(D335<>\"\",Data!B336,\"\")","v":""},"",{"$f":"IF(AND(Data!D336<>\"\",Data!D336 > 0),Data!D336,\"\")","v":""}]
[{"$f":"IF(D336<>\"\",Data!A337,\"\")","v":""},{"$f":"IF(D336<>\"\",Data!B337,\"\")","v":""},"",{"$f":"IF(AND(Data!D337<>\"\",Data!D337 > 0),Data!D337,\"\")","v":""}]
[{"$f":"IF(D337<>\"\",Data!A338,\"\")","v":""},{"$f":"IF(D337<>\"\",Data!B338,\"\")","v":""},"",{"$f":"IF(AND(Data!D338<>\"\",Data!D338 > 0),Data!D338,\"\")","v":""}]
[{"$f":"IF(D338<>\"\",Data!A339,\"\")","v":""},{"$f":"IF(D338<>\"\",Data!B339,\"\")","v":""},"",{"$f":"IF(AND(Data!D339<>\"\",Data!D339 > 0),Data!D339,\"\")","v":""}]
[{"$f":"IF(D339<>\"\",Data!A340,\"\")","v":""},{"$f":"IF(D339<>\"\",Data!B340,\"\")","v":""},"",{"$f":"IF(AND(Data!D340<>\"\",Data!D340 > 0),Data!D340,\"\")","v":""}]
[{"$f":"IF(D340<>\"\",Data!A341,\"\")","v":""},{"$f":"IF(D340<>\"\",Data!B341,\"\")","v":""},"",{"$f":"IF(AND(Data!D341<>\"\",Data!D341 > 0),Data!D341,\"\")","v":""}]
[{"$f":"IF(D341<>\"\",Data!A342,\"\")","v":""},{"$f":"IF(D341<>\"\",Data!B342,\"\")","v":""},"",{"$f":"IF(AND(Data!D342<>\"\",Data!D342 > 0),Data!D342,\"\")","v":""}]
[{"$f":"IF(D342<>\"\",Data!A343,\"\")","v":""},{"$f":"IF(D342<>\"\",Data!B343,\"\")","v":""},"",{"$f":"IF(AND(Data!D343<>\"\",Data!D343 > 0),Data!D343,\"\")","v":""}]
[{"$f":"IF(D343<>\"\",Data!A344,\"\")","v":""},{"$f":"IF(D343<>\"\",Data!B344,\"\")","v":""},"",{"$f":"IF(AND(Data!D344<>\"\",Data!D344 > 0),Data!D344,\"\")","v":""}]
[{"$f":"IF(D344<>\"\",Data!A345,\"\")","v":""},{"$f":"IF(D344<>\"\",Data!B345,\"\")","v":""},"",{"$f":"IF(AND(Data!D345<>\"\",Data!D345 > 0),Data!D345,\"\")","v":""}]
[{"$f":"IF(D345<>\"\",Data!A346,\"\")","v":""},{"$f":"IF(D345<>\"\",Data!B346,\"\")","v":""},"",{"$f":"IF(AND(Data!D346<>\"\",Data!D346 > 0),Data!D346,\"\")","v":""}]
[{"$f":"IF(D346<>\"\",Data!A347,\"\")","v":""},{"$f":"IF(D346<>\"\",Data!B347,\"\")","v":""},"",{"$f":"IF(AND(Data!D347<>\"\",Data!D347 > 0),Data!D347,\"\")","v":""}]
[{"$f":"IF(D347<>\"\",Data!A348,\"\")","v":""},{"$f":"IF(D347<>\"\",Data!B348,\"\")","v":""},"",{"$f":"IF(AND(Data!D348<>\"\",Data!D348 > 0),Data!D348,\"\")","v":""}]
[{"$f":"IF(D348<>\"\",Data!A349,\"\")","v":""},{"$f":"IF(D348<>\"\",Data!B349,\"\")","v":""},"",{"$f":"IF(AND(Data!D349<>\"\",Data!D349 > 0),Data!D349,\"\")","v":""}]
[{"$f":"IF(D349<>\"\",Data!A350,\"\")","v":""},{"$f":"IF(D349<>\"\",Data!B350,\"\")","v":""},"",{"$f":"IF(AND(Data!D350<>\"\",Data!D350 > 0),Data!D350,\"\")","v":""}]
[{"$f":"IF(D350<>\"\",Data!A351,\"\")","v":""},{"$f":"IF(D350<>\"\",Data!B351,\"\")","v":""},"",{"$f":"IF(AND(Data!D351<>\"\",Data!D351 > 0),Data!D351,\"\")","v":""}]
[{"$f":"IF(D351<>\"\",Data!A352,\"\")","v":""},{"$f":"IF(D351<>\"\",Data!B352,\"\")","v":""},"",{"$f":"IF(AND(Data!D352<>\"\",Data!D352 > 0),Data!D352,\"\")","v":""}]
[{"$f":"IF(D352<>\"\",Data!A353,\"\")","v":""},{"$f":"IF(D352<>\"\",Data!B353,\"\")","v":""},"",{"$f":"IF(AND(Data!D353<>\"\",Data!D353 > 0),Data!D353,\"\")","v":""}]
[{"$f":"IF(D353<>\"\",Data!A354,\"\")","v":""},{"$f":"IF(D353<>\"\",Data!B354,\"\")","v":""},"",{"$f":"IF(AND(Data!D354<>\"\",Data!D354 > 0),Data!D354,\"\")","v":""}]
[{"$f":"IF(D354<>\"\",Data!A355,\"\")","v":""},{"$f":"IF(D354<>\"\",Data!B355,\"\")","v":""},"",{"$f":"IF(AND(Data!D355<>\"\",Data!D355 > 0),Data!D355,\"\")","v":""}]
[{"$f":"IF(D355<>\"\",Data!A356,\"\")","v":""},{"$f":"IF(D355<>\"\",Data!B356,\"\")","v":""},"",{"$f":"IF(AND(Data!D356<>\"\",Data!D356 > 0),Data!D356,\"\")","v":""}]
[{"$f":"IF(D356<>\"\",Data!A357,\"\")","v":""},{"$f":"IF(D356<>\"\",Data!B357,\"\")","v":""},"",{"$f":"IF(AND(Data!D357<>\"\",Data!D357 > 0),Data!D357,\"\")","v":""}]
[{"$f":"IF(D357<>\"\",Data!A358,\"\")","v":""},{"$f":"IF(D357<>\"\",Data!B358,\"\")","v":""},"",{"$f":"IF(AND(Data!D358<>\"\",Data!D358 > 0),Data!D358,\"\")","v":""}]
[{"$f":"IF(D358<>\"\",Data!A359,\"\")","v":""},{"$f":"IF(D358<>\"\",Data!B359,\"\")","v":""},"",{"$f":"IF(AND(Data!D359<>\"\",Data!D359 > 0),Data!D359,\"\")","v":""}]
[{"$f":"IF(D359<>\"\",Data!A360,\"\")","v":""},{"$f":"IF(D359<>\"\",Data!B360,\"\")","v":""},"",{"$f":"IF(AND(Data!D360<>\"\",Data!D360 > 0),Data!D360,\"\")","v":""}]
[{"$f":"IF(D360<>\"\",Data!A361,\"\")","v":""},{"$f":"IF(D360<>\"\",Data!B361,\"\")","v":""},"",{"$f":"IF(AND(Data!D361<>\"\",Data!D361 > 0),Data!D361,\"\")","v":""}]
[{"$f":"IF(D361<>\"\",Data!A362,\"\")","v":""},{"$f":"IF(D361<>\"\",Data!B362,\"\")","v":""},"",{"$f":"IF(AND(Data!D362<>\"\",Data!D362 > 0),Data!D362,\"\")","v":""}]
[{"$f":"IF(D362<>\"\",Data!A363,\"\")","v":""},{"$f":"IF(D362<>\"\",Data!B363,\"\")","v":""},"",{"$f":"IF(AND(Data!D363<>\"\",Data!D363 > 0),Data!D363,\"\")","v":""}]
[{"$f":"IF(D363<>\"\",Data!A364,\"\")","v":""},{"$f":"IF(D363<>\"\",Data!B364,\"\")","v":""},"",{"$f":"IF(AND(Data!D364<>\"\",Data!D364 > 0),Data!D364,\"\")","v":""}]
[{"$f":"IF(D364<>\"\",Data!A365,\"\")","v":""},{"$f":"IF(D364<>\"\",Data!B365,\"\")","v":""},"",{"$f":"IF(AND(Data!D365<>\"\",Data!D365 > 0),Data!D365,\"\")","v":""}]
[{"$f":"IF(D365<>\"\",Data!A366,\"\")","v":""},{"$f":"IF(D365<>\"\",Data!B366,\"\")","v":""},"",{"$f":"IF(AND(Data!D366<>\"\",Data!D366 > 0),Data!D366,\"\")","v":""}]
[{"$f":"IF(D366<>\"\",Data!A367,\"\")","v":""},{"$f":"IF(D366<>\"\",Data!B367,\"\")","v":""},"",{"$f":"IF(AND(Data!D367<>\"\",Data!D367 > 0),Data!D367,\"\")","v":""}]
[{"$f":"IF(D367<>\"\",Data!A368,\"\")","v":""},{"$f":"IF(D367<>\"\",Data!B368,\"\")","v":""},"",{"$f":"IF(AND(Data!D368<>\"\",Data!D368 > 0),Data!D368,\"\")","v":""}]
[{"$f":"IF(D368<>\"\",Data!A369,\"\")","v":""},{"$f":"IF(D368<>\"\",Data!B369,\"\")","v":""},"",{"$f":"IF(AND(Data!D369<>\"\",Data!D369 > 0),Data!D369,\"\")","v":""}]
[{"$f":"IF(D369<>\"\",Data!A370,\"\")","v":""},{"$f":"IF(D369<>\"\",Data!B370,\"\")","v":""},"",{"$f":"IF(AND(Data!D370<>\"\",Data!D370 > 0),Data!D370,\"\")","v":""}]
[{"$f":"IF(D370<>\"\",Data!A371,\"\")","v":""},{"$f":"IF(D370<>\"\",Data!B371,\"\")","v":""},"",{"$f":"IF(AND(Data!D371<>\"\",Data!D371 > 0),Data!D371,\"\")","v":""}]
[{"$f":"IF(D371<>\"\",Data!A372,\"\")","v":""},{"$f":"IF(D371<>\"\",Data!B372,\"\")","v":""},"",{"$f":"IF(AND(Data!D372<>\"\",Data!D372 > 0),Data!D372,\"\")","v":""}]
[{"$f":"IF(D372<>\"\",Data!A373,\"\")","v":""},{"$f":"IF(D372<>\"\",Data!B373,\"\")","v":""},"",{"$f":"IF(AND(Data!D373<>\"\",Data!D373 > 0),Data!D373,\"\")","v":""}]
[{"$f":"IF(D373<>\"\",Data!A374,\"\")","v":""},{"$f":"IF(D373<>\"\",Data!B374,\"\")","v":""},"",{"$f":"IF(AND(Data!D374<>\"\",Data!D374 > 0),Data!D374,\"\")","v":""}]
[{"$f":"IF(D374<>\"\",Data!A375,\"\")","v":""},{"$f":"IF(D374<>\"\",Data!B375,\"\")","v":""},"",{"$f":"IF(AND(Data!D375<>\"\",Data!D375 > 0),Data!D375,\"\")","v":""}]
[{"$f":"IF(D375<>\"\",Data!A376,\"\")","v":""},{"$f":"IF(D375<>\"\",Data!B376,\"\")","v":""},"",{"$f":"IF(AND(Data!D376<>\"\",Data!D376 > 0),Data!D376,\"\")","v":""}]
[{"$f":"IF(D376<>\"\",Data!A377,\"\")","v":""},{"$f":"IF(D376<>\"\",Data!B377,\"\")","v":""},"",{"$f":"IF(AND(Data!D377<>\"\",Data!D377 > 0),Data!D377,\"\")","v":""}]
[{"$f":"IF(D377<>\"\",Data!A378,\"\")","v":""},{"$f":"IF(D377<>\"\",Data!B378,\"\")","v":""},"",{"$f":"IF(AND(Data!D378<>\"\",Data!D378 > 0),Data!D378,\"\")","v":""}]
[{"$f":"IF(D378<>\"\",Data!A379,\"\")","v":""},{"$f":"IF(D378<>\"\",Data!B379,\"\")","v":""},"",{"$f":"IF(AND(Data!D379<>\"\",Data!D379 > 0),Data!D379,\"\")","v":""}]
[{"$f":"IF(D379<>\"\",Data!A380,\"\")","v":""},{"$f":"IF(D379<>\"\",Data!B380,\"\")","v":""},"",{"$f":"IF(AND(Data!D380<>\"\",Data!D380 > 0),Data!D380,\"\")","v":""}]
[{"$f":"IF(D380<>\"\",Data!A381,\"\")","v":""},{"$f":"IF(D380<>\"\",Data!B381,\"\")","v":""},"",{"$f":"IF(AND(Data!D381<>\"\",Data!D381 > 0),Data!D381,\"\")","v":""}]
[{"$f":"IF(D381<>\"\",Data!A382,\"\")","v":""},{"$f":"IF(D381<>\"\",Data!B382,\"\")","v":""},"",{"$f":"IF(AND(Data!D382<>\"\",Data!D382 > 0),Data!D382,\"\")","v":""}]
[{"$f":"IF(D382<>\"\",Data!A383,\"\")","v":""},{"$f":"IF(D382<>\"\",Data!B383,\"\")","v":""},"",{"$f":"IF(AND(Data!D383<>\"\",Data!D383 > 0),Data!D383,\"\")","v":""}]
[{"$f":"IF(D383<>\"\",Data!A384,\"\")","v":""},{"$f":"IF(D383<>\"\",Data!B384,\"\")","v":""},"",{"$f":"IF(AND(Data!D384<>\"\",Data!D384 > 0),Data!D384,\"\")","v":""}]
[{"$f":"IF(D384<>\"\",Data!A385,\"\")","v":""},{"$f":"IF(D384<>\"\",Data!B385,\"\")","v":""},"",{"$f":"IF(AND(Data!D385<>\"\",Data!D385 > 0),Data!D385,\"\")","v":""}]
[{"$f":"IF(D385<>\"\",Data!A386,\"\")","v":""},{"$f":"IF(D385<>\"\",Data!B386,\"\")","v":""},"",{"$f":"IF(AND(Data!D386<>\"\",Data!D386 > 0),Data!D386,\"\")","v":""}]
[{"$f":"IF(D386<>\"\",Data!A387,\"\")","v":""},{"$f":"IF(D386<>\"\",Data!B387,\"\")","v":""},{"$f":"IF(D386<>\"\",MID(CELL(\"filename\",B386),FIND(\"]\",CELL(\"filename\",B386))+1,32),\"\")","v":""},{"$f":"IF(AND(Data!D387<>\"\",Data!D387 > 0),Data!D387,\"\")","v":""}]
[{"$f":"IF(D387<>\"\",Data!A388,\"\")","v":""},{"$f":"IF(D387<>\"\",Data!B388,\"\")","v":""},"",{"$f":"IF(AND(Data!D388<>\"\",Data!D388 > 0),Data!D388,\"\")","v":""}]
[{"$f":"IF(D388<>\"\",Data!A389,\"\")","v":""},{"$f":"IF(D388<>\"\",Data!B389,\"\")","v":""},"",{"$f":"IF(AND(Data!D389<>\"\",Data!D389 > 0),Data!D389,\"\")","v":""}]
[{"$f":"IF(D389<>\"\",Data!A390,\"\")","v":""},{"$f":"IF(D389<>\"\",Data!B390,\"\")","v":""},"",{"$f":"IF(AND(Data!D390<>\"\",Data!D390 > 0),Data!D390,\"\")","v":""}]
[{"$f":"IF(D390<>\"\",Data!A391,\"\")","v":""},{"$f":"IF(D390<>\"\",Data!B391,\"\")","v":""},"",{"$f":"IF(AND(Data!D391<>\"\",Data!D391 > 0),Data!D391,\"\")","v":""}]
[{"$f":"IF(D391<>\"\",Data!A392,\"\")","v":""},{"$f":"IF(D391<>\"\",Data!B392,\"\")","v":""},"",{"$f":"IF(AND(Data!D392<>\"\",Data!D392 > 0),Data!D392,\"\")","v":""}]
[{"$f":"IF(D392<>\"\",Data!A393,\"\")","v":""},{"$f":"IF(D392<>\"\",Data!B393,\"\")","v":""},"",{"$f":"IF(AND(Data!D393<>\"\",Data!D393 > 0),Data!D393,\"\")","v":""}]
[{"$f":"IF(D393<>\"\",Data!A394,\"\")","v":""},{"$f":"IF(D393<>\"\",Data!B394,\"\")","v":""},"",{"$f":"IF(AND(Data!D394<>\"\",Data!D394 > 0),Data!D394,\"\")","v":""}]
[{"$f":"IF(D394<>\"\",Data!A395,\"\")","v":""},{"$f":"IF(D394<>\"\",Data!B395,\"\")","v":""},"",{"$f":"IF(AND(Data!D395<>\"\",Data!D395 > 0),Data!D395,\"\")","v":""}]
[{"$f":"IF(D395<>\"\",Data!A396,\"\")","v":""},{"$f":"IF(D395<>\"\",Data!B396,\"\")","v":""},"",{"$f":"IF(AND(Data!D396<>\"\",Data!D396 > 0),Data!D396,\"\")","v":""}]
[{"$f":"IF(D396<>\"\",Data!A397,\"\")","v":""},{"$f":"IF(D396<>\"\",Data!B397,\"\")","v":""},"",{"$f":"IF(AND(Data!D397<>\"\",Data!D397 > 0),Data!D397,\"\")","v":""}]
[{"$f":"IF(D397<>\"\",Data!A398,\"\")","v":""},{"$f":"IF(D397<>\"\",Data!B398,\"\")","v":""},"",{"$f":"IF(AND(Data!D398<>\"\",Data!D398 > 0),Data!D398,\"\")","v":""}]
[{"$f":"IF(D398<>\"\",Data!A399,\"\")","v":""},{"$f":"IF(D398<>\"\",Data!B399,\"\")","v":""},"",{"$f":"IF(AND(Data!D399<>\"\",Data!D399 > 0),Data!D399,\"\")","v":""}]
[{"$f":"IF(D399<>\"\",Data!A400,\"\")","v":""},{"$f":"IF(D399<>\"\",Data!B400,\"\")","v":""},"",{"$f":"IF(AND(Data!D400<>\"\",Data!D400 > 0),Data!D400,\"\")","v":""}]
[{"$f":"IF(D400<>\"\",Data!A401,\"\")","v":""},{"$f":"IF(D400<>\"\",Data!B401,\"\")","v":""},"",{"$f":"IF(AND(Data!D401<>\"\",Data!D401 > 0),Data!D401,\"\")","v":""}]
[{"$f":"IF(D401<>\"\",Data!A402,\"\")","v":""},{"$f":"IF(D401<>\"\",Data!B402,\"\")","v":""},"",{"$f":"IF(AND(Data!D402<>\"\",Data!D402 > 0),Data!D402,\"\")","v":""}]
[{"$f":"IF(D402<>\"\",Data!A403,\"\")","v":""},{"$f":"IF(D402<>\"\",Data!B403,\"\")","v":""},"",{"$f":"IF(AND(Data!D403<>\"\",Data!D403 > 0),Data!D403,\"\")","v":""}]
[{"$f":"IF(D403<>\"\",Data!A404,\"\")","v":""},{"$f":"IF(D403<>\"\",Data!B404,\"\")","v":""},"",{"$f":"IF(AND(Data!D404<>\"\",Data!D404 > 0),Data!D404,\"\")","v":""}]
[{"$f":"IF(D404<>\"\",Data!A405,\"\")","v":""},{"$f":"IF(D404<>\"\",Data!B405,\"\")","v":""},"",{"$f":"IF(AND(Data!D405<>\"\",Data!D405 > 0),Data!D405,\"\")","v":""}]
[{"$f":"IF(D405<>\"\",Data!A406,\"\")","v":""},{"$f":"IF(D405<>\"\",Data!B406,\"\")","v":""},"",{"$f":"IF(AND(Data!D406<>\"\",Data!D406 > 0),Data!D406,\"\")","v":""}]
[{"$f":"IF(D406<>\"\",Data!A407,\"\")","v":""},{"$f":"IF(D406<>\"\",Data!B407,\"\")","v":""},"",{"$f":"IF(AND(Data!D407<>\"\",Data!D407 > 0),Data!D407,\"\")","v":""}]
[{"$f":"IF(D407<>\"\",Data!A408,\"\")","v":""},{"$f":"IF(D407<>\"\",Data!B408,\"\")","v":""},"",{"$f":"IF(AND(Data!D408<>\"\",Data!D408 > 0),Data!D408,\"\")","v":""}]
[{"$f":"IF(D408<>\"\",Data!A409,\"\")","v":""},{"$f":"IF(D408<>\"\",Data!B409,\"\")","v":""},"",{"$f":"IF(AND(Data!D409<>\"\",Data!D409 > 0),Data!D409,\"\")","v":""}]
[{"$f":"IF(D409<>\"\",Data!A410,\"\")","v":""},{"$f":"IF(D409<>\"\",Data!B410,\"\")","v":""},"",{"$f":"IF(AND(Data!D410<>\"\",Data!D410 > 0),Data!D410,\"\")","v":""}]
[{"$f":"IF(D410<>\"\",Data!A411,\"\")","v":""},{"$f":"IF(D410<>\"\",Data!B411,\"\")","v":""},"",{"$f":"IF(AND(Data!D411<>\"\",Data!D411 > 0),Data!D411,\"\")","v":""}]
[{"$f":"IF(D411<>\"\",Data!A412,\"\")","v":""},{"$f":"IF(D411<>\"\",Data!B412,\"\")","v":""},"",{"$f":"IF(AND(Data!D412<>\"\",Data!D412 > 0),Data!D412,\"\")","v":""}]
[{"$f":"IF(D412<>\"\",Data!A413,\"\")","v":""},{"$f":"IF(D412<>\"\",Data!B413,\"\")","v":""},"",{"$f":"IF(AND(Data!D413<>\"\",Data!D413 > 0),Data!D413,\"\")","v":""}]
[{"$f":"IF(D413<>\"\",Data!A414,\"\")","v":""},{"$f":"IF(D413<>\"\",Data!B414,\"\")","v":""},"",{"$f":"IF(AND(Data!D414<>\"\",Data!D414 > 0),Data!D414,\"\")","v":""}]
[{"$f":"IF(D414<>\"\",Data!A415,\"\")","v":""},{"$f":"IF(D414<>\"\",Data!B415,\"\")","v":""},"",{"$f":"IF(AND(Data!D415<>\"\",Data!D415 > 0),Data!D415,\"\")","v":""}]
[{"$f":"IF(D415<>\"\",Data!A416,\"\")","v":""},{"$f":"IF(D415<>\"\",Data!B416,\"\")","v":""},"",{"$f":"IF(AND(Data!D416<>\"\",Data!D416 > 0),Data!D416,\"\")","v":""}]
[{"$f":"IF(D416<>\"\",Data!A417,\"\")","v":""},{"$f":"IF(D416<>\"\",Data!B417,\"\")","v":""},"",{"$f":"IF(AND(Data!D417<>\"\",Data!D417 > 0),Data!D417,\"\")","v":""}]
[{"$f":"IF(D417<>\"\",Data!A418,\"\")","v":""},{"$f":"IF(D417<>\"\",Data!B418,\"\")","v":""},"",{"$f":"IF(AND(Data!D418<>\"\",Data!D418 > 0),Data!D418,\"\")","v":""}]
[{"$f":"IF(D418<>\"\",Data!A419,\"\")","v":""},{"$f":"IF(D418<>\"\",Data!B419,\"\")","v":""},"",{"$f":"IF(AND(Data!D419<>\"\",Data!D419 > 0),Data!D419,\"\")","v":""}]
[{"$f":"IF(D419<>\"\",Data!A420,\"\")","v":""},{"$f":"IF(D419<>\"\",Data!B420,\"\")","v":""},"",{"$f":"IF(AND(Data!D420<>\"\",Data!D420 > 0),Data!D420,\"\")","v":""}]
[{"$f":"IF(D420<>\"\",Data!A421,\"\")","v":""},{"$f":"IF(D420<>\"\",Data!B421,\"\")","v":""},"",{"$f":"IF(AND(Data!D421<>\"\",Data!D421 > 0),Data!D421,\"\")","v":""}]
[{"$f":"IF(D421<>\"\",Data!A422,\"\")","v":""},{"$f":"IF(D421<>\"\",Data!B422,\"\")","v":""},"",{"$f":"IF(AND(Data!D422<>\"\",Data!D422 > 0),Data!D422,\"\")","v":""}]
[{"$f":"IF(D422<>\"\",Data!A423,\"\")","v":""},{"$f":"IF(D422<>\"\",Data!B423,\"\")","v":""},"",{"$f":"IF(AND(Data!D423<>\"\",Data!D423 > 0),Data!D423,\"\")","v":""}]
[{"$f":"IF(D423<>\"\",Data!A424,\"\")","v":""},{"$f":"IF(D423<>\"\",Data!B424,\"\")","v":""},"",{"$f":"IF(AND(Data!D424<>\"\",Data!D424 > 0),Data!D424,\"\")","v":""}]
[{"$f":"IF(D424<>\"\",Data!A425,\"\")","v":""},{"$f":"IF(D424<>\"\",Data!B425,\"\")","v":""},"",{"$f":"IF(AND(Data!D425<>\"\",Data!D425 > 0),Data!D425,\"\")","v":""}]
[{"$f":"IF(D425<>\"\",Data!A426,\"\")","v":""},{"$f":"IF(D425<>\"\",Data!B426,\"\")","v":""},"",{"$f":"IF(AND(Data!D426<>\"\",Data!D426 > 0),Data!D426,\"\")","v":""}]
[{"$f":"IF(D426<>\"\",Data!A427,\"\")","v":""},{"$f":"IF(D426<>\"\",Data!B427,\"\")","v":""},"",{"$f":"IF(AND(Data!D427<>\"\",Data!D427 > 0),Data!D427,\"\")","v":""}]
[{"$f":"IF(D427<>\"\",Data!A428,\"\")","v":""},{"$f":"IF(D427<>\"\",Data!B428,\"\")","v":""},"",{"$f":"IF(AND(Data!D428<>\"\",Data!D428 > 0),Data!D428,\"\")","v":""}]
[{"$f":"IF(D428<>\"\",Data!A429,\"\")","v":""},{"$f":"IF(D428<>\"\",Data!B429,\"\")","v":""},"",{"$f":"IF(AND(Data!D429<>\"\",Data!D429 > 0),Data!D429,\"\")","v":""}]
[{"$f":"IF(D429<>\"\",Data!A430,\"\")","v":""},{"$f":"IF(D429<>\"\",Data!B430,\"\")","v":""},"",{"$f":"IF(AND(Data!D430<>\"\",Data!D430 > 0),Data!D430,\"\")","v":""}]
[{"$f":"IF(D430<>\"\",Data!A431,\"\")","v":""},{"$f":"IF(D430<>\"\",Data!B431,\"\")","v":""},"",{"$f":"IF(AND(Data!D431<>\"\",Data!D431 > 0),Data!D431,\"\")","v":""}]
[{"$f":"IF(D431<>\"\",Data!A432,\"\")","v":""},{"$f":"IF(D431<>\"\",Data!B432,\"\")","v":""},"",{"$f":"IF(AND(Data!D432<>\"\",Data!D432 > 0),Data!D432,\"\")","v":""}]
[{"$f":"IF(D432<>\"\",Data!A433,\"\")","v":""},{"$f":"IF(D432<>\"\",Data!B433,\"\")","v":""},"",{"$f":"IF(AND(Data!D433<>\"\",Data!D433 > 0),Data!D433,\"\")","v":""}]
[{"$f":"IF(D433<>\"\",Data!A434,\"\")","v":""},{"$f":"IF(D433<>\"\",Data!B434,\"\")","v":""},"",{"$f":"IF(AND(Data!D434<>\"\",Data!D434 > 0),Data!D434,\"\")","v":""}]
[{"$f":"IF(D434<>\"\",Data!A435,\"\")","v":""},{"$f":"IF(D434<>\"\",Data!B435,\"\")","v":""},"",{"$f":"IF(AND(Data!D435<>\"\",Data!D435 > 0),Data!D435,\"\")","v":""}]
[{"$f":"IF(D435<>\"\",Data!A436,\"\")","v":""},{"$f":"IF(D435<>\"\",Data!B436,\"\")","v":""},"",{"$f":"IF(AND(Data!D436<>\"\",Data!D436 > 0),Data!D436,\"\")","v":""}]
[{"$f":"IF(D436<>\"\",Data!A437,\"\")","v":""},{"$f":"IF(D436<>\"\",Data!B437,\"\")","v":""},"",{"$f":"IF(AND(Data!D437<>\"\",Data!D437 > 0),Data!D437,\"\")","v":""}]
[{"$f":"IF(D437<>\"\",Data!A438,\"\")","v":""},{"$f":"IF(D437<>\"\",Data!B438,\"\")","v":""},"",{"$f":"IF(AND(Data!D438<>\"\",Data!D438 > 0),Data!D438,\"\")","v":""}]
[{"$f":"IF(D438<>\"\",Data!A439,\"\")","v":""},{"$f":"IF(D438<>\"\",Data!B439,\"\")","v":""},"",{"$f":"IF(AND(Data!D439<>\"\",Data!D439 > 0),Data!D439,\"\")","v":""}]
[{"$f":"IF(D439<>\"\",Data!A440,\"\")","v":""},{"$f":"IF(D439<>\"\",Data!B440,\"\")","v":""},"",{"$f":"IF(AND(Data!D440<>\"\",Data!D440 > 0),Data!D440,\"\")","v":""}]
[{"$f":"IF(D440<>\"\",Data!A441,\"\")","v":""},{"$f":"IF(D440<>\"\",Data!B441,\"\")","v":""},"",{"$f":"IF(AND(Data!D441<>\"\",Data!D441 > 0),Data!D441,\"\")","v":""}]
[{"$f":"IF(D441<>\"\",Data!A442,\"\")","v":""},{"$f":"IF(D441<>\"\",Data!B442,\"\")","v":""},"",{"$f":"IF(AND(Data!D442<>\"\",Data!D442 > 0),Data!D442,\"\")","v":""}]
[{"$f":"IF(D442<>\"\",Data!A443,\"\")","v":""},{"$f":"IF(D442<>\"\",Data!B443,\"\")","v":""},"",{"$f":"IF(AND(Data!D443<>\"\",Data!D443 > 0),Data!D443,\"\")","v":""}]
[{"$f":"IF(D443<>\"\",Data!A444,\"\")","v":""},{"$f":"IF(D443<>\"\",Data!B444,\"\")","v":""},"",{"$f":"IF(AND(Data!D444<>\"\",Data!D444 > 0),Data!D444,\"\")","v":""}]
[{"$f":"IF(D444<>\"\",Data!A445,\"\")","v":""},{"$f":"IF(D444<>\"\",Data!B445,\"\")","v":""},"",{"$f":"IF(AND(Data!D445<>\"\",Data!D445 > 0),Data!D445,\"\")","v":""}]
[{"$f":"IF(D445<>\"\",Data!A446,\"\")","v":""},{"$f":"IF(D445<>\"\",Data!B446,\"\")","v":""},"",{"$f":"IF(AND(Data!D446<>\"\",Data!D446 > 0),Data!D446,\"\")","v":""}]
[{"$f":"IF(D446<>\"\",Data!A447,\"\")","v":""},{"$f":"IF(D446<>\"\",Data!B447,\"\")","v":""},"",{"$f":"IF(AND(Data!D447<>\"\",Data!D447 > 0),Data!D447,\"\")","v":""}]
[{"$f":"IF(D447<>\"\",Data!A448,\"\")","v":""},{"$f":"IF(D447<>\"\",Data!B448,\"\")","v":""},"",{"$f":"IF(AND(Data!D448<>\"\",Data!D448 > 0),Data!D448,\"\")","v":""}]
[{"$f":"IF(D448<>\"\",Data!A449,\"\")","v":""},{"$f":"IF(D448<>\"\",Data!B449,\"\")","v":""},"",{"$f":"IF(AND(Data!D449<>\"\",Data!D449 > 0),Data!D449,\"\")","v":""}]
[{"$f":"IF(D449<>\"\",Data!A450,\"\")","v":""},{"$f":"IF(D449<>\"\",Data!B450,\"\")","v":""},"",{"$f":"IF(AND(Data!D450<>\"\",Data!D450 > 0),Data!D450,\"\")","v":""}]
[{"$f":"IF(D450<>\"\",Data!A451,\"\")","v":""},{"$f":"IF(D450<>\"\",Data!B451,\"\")","v":""},{"$f":"IF(D450<>\"\",MID(CELL(\"filename\",B450),FIND(\"]\",CELL(\"filename\",B450))+1,32),\"\")","v":""},{"$f":"IF(AND(Data!D451<>\"\",Data!D451 > 0),Data!D451,\"\")","v":""}]
[{"$f":"IF(D451<>\"\",Data!A452,\"\")","v":""},{"$f":"IF(D451<>\"\",Data!B452,\"\")","v":""},"",{"$f":"IF(AND(Data!D452<>\"\",Data!D452 > 0),Data!D452,\"\")","v":""}]
[{"$f":"IF(D452<>\"\",Data!A453,\"\")","v":""},{"$f":"IF(D452<>\"\",Data!B453,\"\")","v":""},"",{"$f":"IF(AND(Data!D453<>\"\",Data!D453 > 0),Data!D453,\"\")","v":""}]
[{"$f":"IF(D453<>\"\",Data!A454,\"\")","v":""},{"$f":"IF(D453<>\"\",Data!B454,\"\")","v":""},"",{"$f":"IF(AND(Data!D454<>\"\",Data!D454 > 0),Data!D454,\"\")","v":""}]
[{"$f":"IF(D454<>\"\",Data!A455,\"\")","v":""},{"$f":"IF(D454<>\"\",Data!B455,\"\")","v":""},"",{"$f":"IF(AND(Data!D455<>\"\",Data!D455 > 0),Data!D455,\"\")","v":""}]
[{"$f":"IF(D455<>\"\",Data!A456,\"\")","v":""},{"$f":"IF(D455<>\"\",Data!B456,\"\")","v":""},"",{"$f":"IF(AND(Data!D456<>\"\",Data!D456 > 0),Data!D456,\"\")","v":""}]
[{"$f":"IF(D456<>\"\",Data!A457,\"\")","v":""},{"$f":"IF(D456<>\"\",Data!B457,\"\")","v":""},"",{"$f":"IF(AND(Data!D457<>\"\",Data!D457 > 0),Data!D457,\"\")","v":""}]
[{"$f":"IF(D457<>\"\",Data!A458,\"\")","v":""},{"$f":"IF(D457<>\"\",Data!B458,\"\")","v":""},"",{"$f":"IF(AND(Data!D458<>\"\",Data!D458 > 0),Data!D458,\"\")","v":""}]
[{"$f":"IF(D458<>\"\",Data!A459,\"\")","v":""},{"$f":"IF(D458<>\"\",Data!B459,\"\")","v":""},"",{"$f":"IF(AND(Data!D459<>\"\",Data!D459 > 0),Data!D459,\"\")","v":""}]
[{"$f":"IF(D459<>\"\",Data!A460,\"\")","v":""},{"$f":"IF(D459<>\"\",Data!B460,\"\")","v":""},"",{"$f":"IF(AND(Data!D460<>\"\",Data!D460 > 0),Data!D460,\"\")","v":""}]
[{"$f":"IF(D460<>\"\",Data!A461,\"\")","v":""},{"$f":"IF(D460<>\"\",Data!B461,\"\")","v":""},"",{"$f":"IF(AND(Data!D461<>\"\",Data!D461 > 0),Data!D461,\"\")","v":""}]
[{"$f":"IF(D461<>\"\",Data!A462,\"\")","v":""},{"$f":"IF(D461<>\"\",Data!B462,\"\")","v":""},"",{"$f":"IF(AND(Data!D462<>\"\",Data!D462 > 0),Data!D462,\"\")","v":""}]
[{"$f":"IF(D462<>\"\",Data!A463,\"\")","v":""},{"$f":"IF(D462<>\"\",Data!B463,\"\")","v":""},"",{"$f":"IF(AND(Data!D463<>\"\",Data!D463 > 0),Data!D463,\"\")","v":""}]
[{"$f":"IF(D463<>\"\",Data!A464,\"\")","v":""},{"$f":"IF(D463<>\"\",Data!B464,\"\")","v":""},"",{"$f":"IF(AND(Data!D464<>\"\",Data!D464 > 0),Data!D464,\"\")","v":""}]
[{"$f":"IF(D464<>\"\",Data!A465,\"\")","v":""},{"$f":"IF(D464<>\"\",Data!B465,\"\")","v":""},"",{"$f":"IF(AND(Data!D465<>\"\",Data!D465 > 0),Data!D465,\"\")","v":""}]
[{"$f":"IF(D465<>\"\",Data!A466,\"\")","v":""},{"$f":"IF(D465<>\"\",Data!B466,\"\")","v":""},"",{"$f":"IF(AND(Data!D466<>\"\",Data!D466 > 0),Data!D466,\"\")","v":""}]
[{"$f":"IF(D466<>\"\",Data!A467,\"\")","v":""},{"$f":"IF(D466<>\"\",Data!B467,\"\")","v":""},"",{"$f":"IF(AND(Data!D467<>\"\",Data!D467 > 0),Data!D467,\"\")","v":""}]
[{"$f":"IF(D467<>\"\",Data!A468,\"\")","v":""},{"$f":"IF(D467<>\"\",Data!B468,\"\")","v":""},"",{"$f":"IF(AND(Data!D468<>\"\",Data!D468 > 0),Data!D468,\"\")","v":""}]
[{"$f":"IF(D468<>\"\",Data!A469,\"\")","v":""},{"$f":"IF(D468<>\"\",Data!B469,\"\")","v":""},"",{"$f":"IF(AND(Data!D469<>\"\",Data!D469 > 0),Data!D469,\"\")","v":""}]
[{"$f":"IF(D469<>\"\",Data!A470,\"\")","v":""},{"$f":"IF(D469<>\"\",Data!B470,\"\")","v":""},"",{"$f":"IF(AND(Data!D470<>\"\",Data!D470 > 0),Data!D470,\"\")","v":""}]
[{"$f":"IF(D470<>\"\",Data!A471,\"\")","v":""},{"$f":"IF(D470<>\"\",Data!B471,\"\")","v":""},"",{"$f":"IF(AND(Data!D471<>\"\",Data!D471 > 0),Data!D471,\"\")","v":""}]
[{"$f":"IF(D471<>\"\",Data!A472,\"\")","v":""},{"$f":"IF(D471<>\"\",Data!B472,\"\")","v":""},"",{"$f":"IF(AND(Data!D472<>\"\",Data!D472 > 0),Data!D472,\"\")","v":""}]
[{"$f":"IF(D472<>\"\",Data!A473,\"\")","v":""},{"$f":"IF(D472<>\"\",Data!B473,\"\")","v":""},"",{"$f":"IF(AND(Data!D473<>\"\",Data!D473 > 0),Data!D473,\"\")","v":""}]
[{"$f":"IF(D473<>\"\",Data!A474,\"\")","v":""},{"$f":"IF(D473<>\"\",Data!B474,\"\")","v":""},"",{"$f":"IF(AND(Data!D474<>\"\",Data!D474 > 0),Data!D474,\"\")","v":""}]
[{"$f":"IF(D474<>\"\",Data!A475,\"\")","v":""},{"$f":"IF(D474<>\"\",Data!B475,\"\")","v":""},"",{"$f":"IF(AND(Data!D475<>\"\",Data!D475 > 0),Data!D475,\"\")","v":""}]
[{"$f":"IF(D475<>\"\",Data!A476,\"\")","v":""},{"$f":"IF(D475<>\"\",Data!B476,\"\")","v":""},"",{"$f":"IF(AND(Data!D476<>\"\",Data!D476 > 0),Data!D476,\"\")","v":""}]
[{"$f":"IF(D476<>\"\",Data!A477,\"\")","v":""},{"$f":"IF(D476<>\"\",Data!B477,\"\")","v":""},"",{"$f":"IF(AND(Data!D477<>\"\",Data!D477 > 0),Data!D477,\"\")","v":""}]
[{"$f":"IF(D477<>\"\",Data!A478,\"\")","v":""},{"$f":"IF(D477<>\"\",Data!B478,\"\")","v":""},"",{"$f":"IF(AND(Data!D478<>\"\",Data!D478 > 0),Data!D478,\"\")","v":""}]
[{"$f":"IF(D478<>\"\",Data!A479,\"\")","v":""},{"$f":"IF(D478<>\"\",Data!B479,\"\")","v":""},"",{"$f":"IF(AND(Data!D479<>\"\",Data!D479 > 0),Data!D479,\"\")","v":""}]
[{"$f":"IF(D479<>\"\",Data!A480,\"\")","v":""},{"$f":"IF(D479<>\"\",Data!B480,\"\")","v":""},"",{"$f":"IF(AND(Data!D480<>\"\",Data!D480 > 0),Data!D480,\"\")","v":""}]
[{"$f":"IF(D480<>\"\",Data!A481,\"\")","v":""},{"$f":"IF(D480<>\"\",Data!B481,\"\")","v":""},"",{"$f":"IF(AND(Data!D481<>\"\",Data!D481 > 0),Data!D481,\"\")","v":""}]
[{"$f":"IF(D481<>\"\",Data!A482,\"\")","v":""},{"$f":"IF(D481<>\"\",Data!B482,\"\")","v":""},"",{"$f":"IF(AND(Data!D482<>\"\",Data!D482 > 0),Data!D482,\"\")","v":""}]
[{"$f":"IF(D482<>\"\",Data!A483,\"\")","v":""},{"$f":"IF(D482<>\"\",Data!B483,\"\")","v":""},"",{"$f":"IF(AND(Data!D483<>\"\",Data!D483 > 0),Data!D483,\"\")","v":""}]
[{"$f":"IF(D483<>\"\",Data!A484,\"\")","v":""},{"$f":"IF(D483<>\"\",Data!B484,\"\")","v":""},"",{"$f":"IF(AND(Data!D484<>\"\",Data!D484 > 0),Data!D484,\"\")","v":""}]
[{"$f":"IF(D484<>\"\",Data!A485,\"\")","v":""},{"$f":"IF(D484<>\"\",Data!B485,\"\")","v":""},"",{"$f":"IF(AND(Data!D485<>\"\",Data!D485 > 0),Data!D485,\"\")","v":""}]
[{"$f":"IF(D485<>\"\",Data!A486,\"\")","v":""},{"$f":"IF(D485<>\"\",Data!B486,\"\")","v":""},"",{"$f":"IF(AND(Data!D486<>\"\",Data!D486 > 0),Data!D486,\"\")","v":""}]
[{"$f":"IF(D486<>\"\",Data!A487,\"\")","v":""},{"$f":"IF(D486<>\"\",Data!B487,\"\")","v":""},"",{"$f":"IF(AND(Data!D487<>\"\",Data!D487 > 0),Data!D487,\"\")","v":""}]
[{"$f":"IF(D487<>\"\",Data!A488,\"\")","v":""},{"$f":"IF(D487<>\"\",Data!B488,\"\")","v":""},"",{"$f":"IF(AND(Data!D488<>\"\",Data!D488 > 0),Data!D488,\"\")","v":""}]
[{"$f":"IF(D488<>\"\",Data!A489,\"\")","v":""},{"$f":"IF(D488<>\"\",Data!B489,\"\")","v":""},"",{"$f":"IF(AND(Data!D489<>\"\",Data!D489 > 0),Data!D489,\"\")","v":""}]
[{"$f":"IF(D489<>\"\",Data!A490,\"\")","v":""},{"$f":"IF(D489<>\"\",Data!B490,\"\")","v":""},"",{"$f":"IF(AND(Data!D490<>\"\",Data!D490 > 0),Data!D490,\"\")","v":""}]
[{"$f":"IF(D490<>\"\",Data!A491,\"\")","v":""},{"$f":"IF(D490<>\"\",Data!B491,\"\")","v":""},"",{"$f":"IF(AND(Data!D491<>\"\",Data!D491 > 0),Data!D491,\"\")","v":""}]
[{"$f":"IF(D491<>\"\",Data!A492,\"\")","v":""},{"$f":"IF(D491<>\"\",Data!B492,\"\")","v":""},"",{"$f":"IF(AND(Data!D492<>\"\",Data!D492 > 0),Data!D492,\"\")","v":""}]
[{"$f":"IF(D492<>\"\",Data!A493,\"\")","v":""},{"$f":"IF(D492<>\"\",Data!B493,\"\")","v":""},"",{"$f":"IF(AND(Data!D493<>\"\",Data!D493 > 0),Data!D493,\"\")","v":""}]
[{"$f":"IF(D493<>\"\",Data!A494,\"\")","v":""},{"$f":"IF(D493<>\"\",Data!B494,\"\")","v":""},"",{"$f":"IF(AND(Data!D494<>\"\",Data!D494 > 0),Data!D494,\"\")","v":""}]
[{"$f":"IF(D494<>\"\",Data!A495,\"\")","v":""},{"$f":"IF(D494<>\"\",Data!B495,\"\")","v":""},"",{"$f":"IF(AND(Data!D495<>\"\",Data!D495 > 0),Data!D495,\"\")","v":""}]
[{"$f":"IF(D495<>\"\",Data!A496,\"\")","v":""},{"$f":"IF(D495<>\"\",Data!B496,\"\")","v":""},"",{"$f":"IF(AND(Data!D496<>\"\",Data!D496 > 0),Data!D496,\"\")","v":""}]
[{"$f":"IF(D496<>\"\",Data!A497,\"\")","v":""},{"$f":"IF(D496<>\"\",Data!B497,\"\")","v":""},"",{"$f":"IF(AND(Data!D497<>\"\",Data!D497 > 0),Data!D497,\"\")","v":""}]
[{"$f":"IF(D497<>\"\",Data!A498,\"\")","v":""},{"$f":"IF(D497<>\"\",Data!B498,\"\")","v":""},"",{"$f":"IF(AND(Data!D498<>\"\",Data!D498 > 0),Data!D498,\"\")","v":""}]
[{"$f":"IF(D498<>\"\",Data!A499,\"\")","v":""},{"$f":"IF(D498<>\"\",Data!B499,\"\")","v":""},"",{"$f":"IF(AND(Data!D499<>\"\",Data!D499 > 0),Data!D499,\"\")","v":""}]
[{"$f":"IF(D499<>\"\",Data!A500,\"\")","v":""},{"$f":"IF(D499<>\"\",Data!B500,\"\")","v":""},"",{"$f":"IF(AND(Data!D500<>\"\",Data!D500 > 0),Data!D500,\"\")","v":""}]
[{"$f":"IF(D500<>\"\",Data!A501,\"\")","v":""},{"$f":"IF(D500<>\"\",Data!B501,\"\")","v":""},"",{"$f":"IF(AND(Data!D501<>\"\",Data!D501 > 0),Data!D501,\"\")","v":""}]
[{"$f":"IF(D501<>\"\",Data!A502,\"\")","v":""},{"$f":"IF(D501<>\"\",Data!B502,\"\")","v":""},"",{"$f":"IF(AND(Data!D502<>\"\",Data!D502 > 0),Data!D502,\"\")","v":""}]
[{"$f":"IF(D502<>\"\",Data!A503,\"\")","v":""},{"$f":"IF(D502<>\"\",Data!B503,\"\")","v":""},"",{"$f":"IF(AND(Data!D503<>\"\",Data!D503 > 0),Data!D503,\"\")","v":""}]
[{"$f":"IF(D503<>\"\",Data!A504,\"\")","v":""},{"$f":"IF(D503<>\"\",Data!B504,\"\")","v":""},"",{"$f":"IF(AND(Data!D504<>\"\",Data!D504 > 0),Data!D504,\"\")","v":""}]
[{"$f":"IF(D504<>\"\",Data!A505,\"\")","v":""},{"$f":"IF(D504<>\"\",Data!B505,\"\")","v":""},"",{"$f":"IF(AND(Data!D505<>\"\",Data!D505 > 0),Data!D505,\"\")","v":""}]
[{"$f":"IF(D505<>\"\",Data!A506,\"\")","v":""},{"$f":"IF(D505<>\"\",Data!B506,\"\")","v":""},"",{"$f":"IF(AND(Data!D506<>\"\",Data!D506 > 0),Data!D506,\"\")","v":""}]
[{"$f":"IF(D506<>\"\",Data!A507,\"\")","v":""},{"$f":"IF(D506<>\"\",Data!B507,\"\")","v":""},"",{"$f":"IF(AND(Data!D507<>\"\",Data!D507 > 0),Data!D507,\"\")","v":""}]
[{"$f":"IF(D507<>\"\",Data!A508,\"\")","v":""},{"$f":"IF(D507<>\"\",Data!B508,\"\")","v":""},"",{"$f":"IF(AND(Data!D508<>\"\",Data!D508 > 0),Data!D508,\"\")","v":""}]
[{"$f":"IF(D508<>\"\",Data!A509,\"\")","v":""},{"$f":"IF(D508<>\"\",Data!B509,\"\")","v":""},"",{"$f":"IF(AND(Data!D509<>\"\",Data!D509 > 0),Data!D509,\"\")","v":""}]
[{"$f":"IF(D509<>\"\",Data!A510,\"\")","v":""},{"$f":"IF(D509<>\"\",Data!B510,\"\")","v":""},"",{"$f":"IF(AND(Data!D510<>\"\",Data!D510 > 0),Data!D510,\"\")","v":""}]
[{"$f":"IF(D510<>\"\",Data!A511,\"\")","v":""},{"$f":"IF(D510<>\"\",Data!B511,\"\")","v":""},"",{"$f":"IF(AND(Data!D511<>\"\",Data!D511 > 0),Data!D511,\"\")","v":""}]
[{"$f":"IF(D511<>\"\",Data!A512,\"\")","v":""},{"$f":"IF(D511<>\"\",Data!B512,\"\")","v":""},"",{"$f":"IF(AND(Data!D512<>\"\",Data!D512 > 0),Data!D512,\"\")","v":""}]
[{"$f":"IF(D512<>\"\",Data!A513,\"\")","v":""},{"$f":"IF(D512<>\"\",Data!B513,\"\")","v":""},"",{"$f":"IF(AND(Data!D513<>\"\",Data!D513 > 0),Data!D513,\"\")","v":""}]
[{"$f":"IF(D513<>\"\",Data!A514,\"\")","v":""},{"$f":"IF(D513<>\"\",Data!B514,\"\")","v":""},"",{"$f":"IF(AND(Data!D514<>\"\",Data!D514 > 0),Data!D514,\"\")","v":""}]
[{"$f":"IF(D514<>\"\",Data!A515,\"\")","v":""},{"$f":"IF(D514<>\"\",Data!B515,\"\")","v":""},{"$f":"IF(D514<>\"\",MID(CELL(\"filename\",B514),FIND(\"]\",CELL(\"filename\",B514))+1,32),\"\")","v":""},{"$f":"IF(AND(Data!D515<>\"\",Data!D515 > 0),Data!D515,\"\")","v":""}]
[{"$f":"IF(D515<>\"\",Data!A516,\"\")","v":""},{"$f":"IF(D515<>\"\",Data!B516,\"\")","v":""},"",{"$f":"IF(AND(Data!D516<>\"\",Data!D516 > 0),Data!D516,\"\")","v":""}]
[{"$f":"IF(D516<>\"\",Data!A517,\"\")","v":""},{"$f":"IF(D516<>\"\",Data!B517,\"\")","v":""},"",{"$f":"IF(AND(Data!D517<>\"\",Data!D517 > 0),Data!D517,\"\")","v":""}]
[{"$f":"IF(D517<>\"\",Data!A518,\"\")","v":""},{"$f":"IF(D517<>\"\",Data!B518,\"\")","v":""},"",{"$f":"IF(AND(Data!D518<>\"\",Data!D518 > 0),Data!D518,\"\")","v":""}]
[{"$f":"IF(D518<>\"\",Data!A519,\"\")","v":""},{"$f":"IF(D518<>\"\",Data!B519,\"\")","v":""},"",{"$f":"IF(AND(Data!D519<>\"\",Data!D519 > 0),Data!D519,\"\")","v":""}]
[{"$f":"IF(D519<>\"\",Data!A520,\"\")","v":""},{"$f":"IF(D519<>\"\",Data!B520,\"\")","v":""},"",{"$f":"IF(AND(Data!D520<>\"\",Data!D520 > 0),Data!D520,\"\")","v":""}]
[{"$f":"IF(D520<>\"\",Data!A521,\"\")","v":""},{"$f":"IF(D520<>\"\",Data!B521,\"\")","v":""},"",{"$f":"IF(AND(Data!D521<>\"\",Data!D521 > 0),Data!D521,\"\")","v":""}]
[{"$f":"IF(D521<>\"\",Data!A522,\"\")","v":""},{"$f":"IF(D521<>\"\",Data!B522,\"\")","v":""},"",{"$f":"IF(AND(Data!D522<>\"\",Data!D522 > 0),Data!D522,\"\")","v":""}]
[{"$f":"IF(D522<>\"\",Data!A523,\"\")","v":""},{"$f":"IF(D522<>\"\",Data!B523,\"\")","v":""},"",{"$f":"IF(AND(Data!D523<>\"\",Data!D523 > 0),Data!D523,\"\")","v":""}]
[{"$f":"IF(D523<>\"\",Data!A524,\"\")","v":""},{"$f":"IF(D523<>\"\",Data!B524,\"\")","v":""},"",{"$f":"IF(AND(Data!D524<>\"\",Data!D524 > 0),Data!D524,\"\")","v":""}]
[{"$f":"IF(D524<>\"\",Data!A525,\"\")","v":""},{"$f":"IF(D524<>\"\",Data!B525,\"\")","v":""},"",{"$f":"IF(AND(Data!D525<>\"\",Data!D525 > 0),Data!D525,\"\")","v":""}]
[{"$f":"IF(D525<>\"\",Data!A526,\"\")","v":""},{"$f":"IF(D525<>\"\",Data!B526,\"\")","v":""},"",{"$f":"IF(AND(Data!D526<>\"\",Data!D526 > 0),Data!D526,\"\")","v":""}]
[{"$f":"IF(D526<>\"\",Data!A527,\"\")","v":""},{"$f":"IF(D526<>\"\",Data!B527,\"\")","v":""},"",{"$f":"IF(AND(Data!D527<>\"\",Data!D527 > 0),Data!D527,\"\")","v":""}]
[{"$f":"IF(D527<>\"\",Data!A528,\"\")","v":""},{"$f":"IF(D527<>\"\",Data!B528,\"\")","v":""},"",{"$f":"IF(AND(Data!D528<>\"\",Data!D528 > 0),Data!D528,\"\")","v":""}]
[{"$f":"IF(D528<>\"\",Data!A529,\"\")","v":""},{"$f":"IF(D528<>\"\",Data!B529,\"\")","v":""},"",{"$f":"IF(AND(Data!D529<>\"\",Data!D529 > 0),Data!D529,\"\")","v":""}]
[{"$f":"IF(D529<>\"\",Data!A530,\"\")","v":""},{"$f":"IF(D529<>\"\",Data!B530,\"\")","v":""},"",{"$f":"IF(AND(Data!D530<>\"\",Data!D530 > 0),Data!D530,\"\")","v":""}]
[{"$f":"IF(D530<>\"\",Data!A531,\"\")","v":""},{"$f":"IF(D530<>\"\",Data!B531,\"\")","v":""},"",{"$f":"IF(AND(Data!D531<>\"\",Data!D531 > 0),Data!D531,\"\")","v":""}]
[{"$f":"IF(D531<>\"\",Data!A532,\"\")","v":""},{"$f":"IF(D531<>\"\",Data!B532,\"\")","v":""},"",{"$f":"IF(AND(Data!D532<>\"\",Data!D532 > 0),Data!D532,\"\")","v":""}]
[{"$f":"IF(D532<>\"\",Data!A533,\"\")","v":""},{"$f":"IF(D532<>\"\",Data!B533,\"\")","v":""},"",{"$f":"IF(AND(Data!D533<>\"\",Data!D533 > 0),Data!D533,\"\")","v":""}]
[{"$f":"IF(D533<>\"\",Data!A534,\"\")","v":""},{"$f":"IF(D533<>\"\",Data!B534,\"\")","v":""},"",{"$f":"IF(AND(Data!D534<>\"\",Data!D534 > 0),Data!D534,\"\")","v":""}]
[{"$f":"IF(D534<>\"\",Data!A535,\"\")","v":""},{"$f":"IF(D534<>\"\",Data!B535,\"\")","v":""},"",{"$f":"IF(AND(Data!D535<>\"\",Data!D535 > 0),Data!D535,\"\")","v":""}]
[{"$f":"IF(D535<>\"\",Data!A536,\"\")","v":""},{"$f":"IF(D535<>\"\",Data!B536,\"\")","v":""},"",{"$f":"IF(AND(Data!D536<>\"\",Data!D536 > 0),Data!D536,\"\")","v":""}]
[{"$f":"IF(D536<>\"\",Data!A537,\"\")","v":""},{"$f":"IF(D536<>\"\",Data!B537,\"\")","v":""},"",{"$f":"IF(AND(Data!D537<>\"\",Data!D537 > 0),Data!D537,\"\")","v":""}]
[{"$f":"IF(D537<>\"\",Data!A538,\"\")","v":""},{"$f":"IF(D537<>\"\",Data!B538,\"\")","v":""},"",{"$f":"IF(AND(Data!D538<>\"\",Data!D538 > 0),Data!D538,\"\")","v":""}]
[{"$f":"IF(D538<>\"\",Data!A539,\"\")","v":""},{"$f":"IF(D538<>\"\",Data!B539,\"\")","v":""},"",{"$f":"IF(AND(Data!D539<>\"\",Data!D539 > 0),Data!D539,\"\")","v":""}]
[{"$f":"IF(D539<>\"\",Data!A540,\"\")","v":""},{"$f":"IF(D539<>\"\",Data!B540,\"\")","v":""},"",{"$f":"IF(AND(Data!D540<>\"\",Data!D540 > 0),Data!D540,\"\")","v":""}]
[{"$f":"IF(D540<>\"\",Data!A541,\"\")","v":""},{"$f":"IF(D540<>\"\",Data!B541,\"\")","v":""},"",{"$f":"IF(AND(Data!D541<>\"\",Data!D541 > 0),Data!D541,\"\")","v":""}]
[{"$f":"IF(D541<>\"\",Data!A542,\"\")","v":""},{"$f":"IF(D541<>\"\",Data!B542,\"\")","v":""},"",{"$f":"IF(AND(Data!D542<>\"\",Data!D542 > 0),Data!D542,\"\")","v":""}]
[{"$f":"IF(D542<>\"\",Data!A543,\"\")","v":""},{"$f":"IF(D542<>\"\",Data!B543,\"\")","v":""},"",{"$f":"IF(AND(Data!D543<>\"\",Data!D543 > 0),Data!D543,\"\")","v":""}]
[{"$f":"IF(D543<>\"\",Data!A544,\"\")","v":""},{"$f":"IF(D543<>\"\",Data!B544,\"\")","v":""},"",{"$f":"IF(AND(Data!D544<>\"\",Data!D544 > 0),Data!D544,\"\")","v":""}]
[{"$f":"IF(D544<>\"\",Data!A545,\"\")","v":""},{"$f":"IF(D544<>\"\",Data!B545,\"\")","v":""},"",{"$f":"IF(AND(Data!D545<>\"\",Data!D545 > 0),Data!D545,\"\")","v":""}]
[{"$f":"IF(D545<>\"\",Data!A546,\"\")","v":""},{"$f":"IF(D545<>\"\",Data!B546,\"\")","v":""},"",{"$f":"IF(AND(Data!D546<>\"\",Data!D546 > 0),Data!D546,\"\")","v":""}]
[{"$f":"IF(D546<>\"\",Data!A547,\"\")","v":""},{"$f":"IF(D546<>\"\",Data!B547,\"\")","v":""},"",{"$f":"IF(AND(Data!D547<>\"\",Data!D547 > 0),Data!D547,\"\")","v":""}]
[{"$f":"IF(D547<>\"\",Data!A548,\"\")","v":""},{"$f":"IF(D547<>\"\",Data!B548,\"\")","v":""},"",{"$f":"IF(AND(Data!D548<>\"\",Data!D548 > 0),Data!D548,\"\")","v":""}]
[{"$f":"IF(D548<>\"\",Data!A549,\"\")","v":""},{"$f":"IF(D548<>\"\",Data!B549,\"\")","v":""},"",{"$f":"IF(AND(Data!D549<>\"\",Data!D549 > 0),Data!D549,\"\")","v":""}]
[{"$f":"IF(D549<>\"\",Data!A550,\"\")","v":""},{"$f":"IF(D549<>\"\",Data!B550,\"\")","v":""},"",{"$f":"IF(AND(Data!D550<>\"\",Data!D550 > 0),Data!D550,\"\")","v":""}]
[{"$f":"IF(D550<>\"\",Data!A551,\"\")","v":""},{"$f":"IF(D550<>\"\",Data!B551,\"\")","v":""},"",{"$f":"IF(AND(Data!D551<>\"\",Data!D551 > 0),Data!D551,\"\")","v":""}]
[{"$f":"IF(D551<>\"\",Data!A552,\"\")","v":""},{"$f":"IF(D551<>\"\",Data!B552,\"\")","v":""},"",{"$f":"IF(AND(Data!D552<>\"\",Data!D552 > 0),Data!D552,\"\")","v":""}]
[{"$f":"IF(D552<>\"\",Data!A553,\"\")","v":""},{"$f":"IF(D552<>\"\",Data!B553,\"\")","v":""},"",{"$f":"IF(AND(Data!D553<>\"\",Data!D553 > 0),Data!D553,\"\")","v":""}]
[{"$f":"IF(D553<>\"\",Data!A554,\"\")","v":""},{"$f":"IF(D553<>\"\",Data!B554,\"\")","v":""},"",{"$f":"IF(AND(Data!D554<>\"\",Data!D554 > 0),Data!D554,\"\")","v":""}]
[{"$f":"IF(D554<>\"\",Data!A555,\"\")","v":""},{"$f":"IF(D554<>\"\",Data!B555,\"\")","v":""},"",{"$f":"IF(AND(Data!D555<>\"\",Data!D555 > 0),Data!D555,\"\")","v":""}]
[{"$f":"IF(D555<>\"\",Data!A556,\"\")","v":""},{"$f":"IF(D555<>\"\",Data!B556,\"\")","v":""},"",{"$f":"IF(AND(Data!D556<>\"\",Data!D556 > 0),Data!D556,\"\")","v":""}]
[{"$f":"IF(D556<>\"\",Data!A557,\"\")","v":""},{"$f":"IF(D556<>\"\",Data!B557,\"\")","v":""},"",{"$f":"IF(AND(Data!D557<>\"\",Data!D557 > 0),Data!D557,\"\")","v":""}]
[{"$f":"IF(D557<>\"\",Data!A558,\"\")","v":""},{"$f":"IF(D557<>\"\",Data!B558,\"\")","v":""},"",{"$f":"IF(AND(Data!D558<>\"\",Data!D558 > 0),Data!D558,\"\")","v":""}]
[{"$f":"IF(D558<>\"\",Data!A559,\"\")","v":""},{"$f":"IF(D558<>\"\",Data!B559,\"\")","v":""},"",{"$f":"IF(AND(Data!D559<>\"\",Data!D559 > 0),Data!D559,\"\")","v":""}]
[{"$f":"IF(D559<>\"\",Data!A560,\"\")","v":""},{"$f":"IF(D559<>\"\",Data!B560,\"\")","v":""},"",{"$f":"IF(AND(Data!D560<>\"\",Data!D560 > 0),Data!D560,\"\")","v":""}]
[{"$f":"IF(D560<>\"\",Data!A561,\"\")","v":""},{"$f":"IF(D560<>\"\",Data!B561,\"\")","v":""},"",{"$f":"IF(AND(Data!D561<>\"\",Data!D561 > 0),Data!D561,\"\")","v":""}]
[{"$f":"IF(D561<>\"\",Data!A562,\"\")","v":""},{"$f":"IF(D561<>\"\",Data!B562,\"\")","v":""},"",{"$f":"IF(AND(Data!D562<>\"\",Data!D562 > 0),Data!D562,\"\")","v":""}]
[{"$f":"IF(D562<>\"\",Data!A563,\"\")","v":""},{"$f":"IF(D562<>\"\",Data!B563,\"\")","v":""},"",{"$f":"IF(AND(Data!D563<>\"\",Data!D563 > 0),Data!D563,\"\")","v":""}]
[{"$f":"IF(D563<>\"\",Data!A564,\"\")","v":""},{"$f":"IF(D563<>\"\",Data!B564,\"\")","v":""},"",{"$f":"IF(AND(Data!D564<>\"\",Data!D564 > 0),Data!D564,\"\")","v":""}]
[{"$f":"IF(D564<>\"\",Data!A565,\"\")","v":""},{"$f":"IF(D564<>\"\",Data!B565,\"\")","v":""},"",{"$f":"IF(AND(Data!D565<>\"\",Data!D565 > 0),Data!D565,\"\")","v":""}]
[{"$f":"IF(D565<>\"\",Data!A566,\"\")","v":""},{"$f":"IF(D565<>\"\",Data!B566,\"\")","v":""},"",{"$f":"IF(AND(Data!D566<>\"\",Data!D566 > 0),Data!D566,\"\")","v":""}]
[{"$f":"IF(D566<>\"\",Data!A567,\"\")","v":""},{"$f":"IF(D566<>\"\",Data!B567,\"\")","v":""},"",{"$f":"IF(AND(Data!D567<>\"\",Data!D567 > 0),Data!D567,\"\")","v":""}]
[{"$f":"IF(D567<>\"\",Data!A568,\"\")","v":""},{"$f":"IF(D567<>\"\",Data!B568,\"\")","v":""},"",{"$f":"IF(AND(Data!D568<>\"\",Data!D568 > 0),Data!D568,\"\")","v":""}]
[{"$f":"IF(D568<>\"\",Data!A569,\"\")","v":""},{"$f":"IF(D568<>\"\",Data!B569,\"\")","v":""},"",{"$f":"IF(AND(Data!D569<>\"\",Data!D569 > 0),Data!D569,\"\")","v":""}]
[{"$f":"IF(D569<>\"\",Data!A570,\"\")","v":""},{"$f":"IF(D569<>\"\",Data!B570,\"\")","v":""},"",{"$f":"IF(AND(Data!D570<>\"\",Data!D570 > 0),Data!D570,\"\")","v":""}]
[{"$f":"IF(D570<>\"\",Data!A571,\"\")","v":""},{"$f":"IF(D570<>\"\",Data!B571,\"\")","v":""},"",{"$f":"IF(AND(Data!D571<>\"\",Data!D571 > 0),Data!D571,\"\")","v":""}]
[{"$f":"IF(D571<>\"\",Data!A572,\"\")","v":""},{"$f":"IF(D571<>\"\",Data!B572,\"\")","v":""},"",{"$f":"IF(AND(Data!D572<>\"\",Data!D572 > 0),Data!D572,\"\")","v":""}]
[{"$f":"IF(D572<>\"\",Data!A573,\"\")","v":""},{"$f":"IF(D572<>\"\",Data!B573,\"\")","v":""},"",{"$f":"IF(AND(Data!D573<>\"\",Data!D573 > 0),Data!D573,\"\")","v":""}]
[{"$f":"IF(D573<>\"\",Data!A574,\"\")","v":""},{"$f":"IF(D573<>\"\",Data!B574,\"\")","v":""},"",{"$f":"IF(AND(Data!D574<>\"\",Data!D574 > 0),Data!D574,\"\")","v":""}]
[{"$f":"IF(D574<>\"\",Data!A575,\"\")","v":""},{"$f":"IF(D574<>\"\",Data!B575,\"\")","v":""},"",{"$f":"IF(AND(Data!D575<>\"\",Data!D575 > 0),Data!D575,\"\")","v":""}]
[{"$f":"IF(D575<>\"\",Data!A576,\"\")","v":""},{"$f":"IF(D575<>\"\",Data!B576,\"\")","v":""},"",{"$f":"IF(AND(Data!D576<>\"\",Data!D576 > 0),Data!D576,\"\")","v":""}]
[{"$f":"IF(D576<>\"\",Data!A577,\"\")","v":""},{"$f":"IF(D576<>\"\",Data!B577,\"\")","v":""},"",{"$f":"IF(AND(Data!D577<>\"\",Data!D577 > 0),Data!D577,\"\")","v":""}]
[{"$f":"IF(D577<>\"\",Data!A578,\"\")","v":""},{"$f":"IF(D577<>\"\",Data!B578,\"\")","v":""},"",{"$f":"IF(AND(Data!D578<>\"\",Data!D578 > 0),Data!D578,\"\")","v":""}]
[{"$f":"IF(D578<>\"\",Data!A579,\"\")","v":""},{"$f":"IF(D578<>\"\",Data!B579,\"\")","v":""},{"$f":"IF(D578<>\"\",MID(CELL(\"filename\",B578),FIND(\"]\",CELL(\"filename\",B578))+1,32),\"\")","v":""},{"$f":"IF(AND(Data!D579<>\"\",Data!D579 > 0),Data!D579,\"\")","v":""}]
[{"$f":"IF(D579<>\"\",Data!A580,\"\")","v":""},{"$f":"IF(D579<>\"\",Data!B580,\"\")","v":""},"",{"$f":"IF(AND(Data!D580<>\"\",Data!D580 > 0),Data!D580,\"\")","v":""}]
[{"$f":"IF(D580<>\"\",Data!A581,\"\")","v":""},{"$f":"IF(D580<>\"\",Data!B581,\"\")","v":""},"",{"$f":"IF(AND(Data!D581<>\"\",Data!D581 > 0),Data!D581,\"\")","v":""}]
[{"$f":"IF(D581<>\"\",Data!A582,\"\")","v":""},{"$f":"IF(D581<>\"\",Data!B582,\"\")","v":""},"",{"$f":"IF(AND(Data!D582<>\"\",Data!D582 > 0),Data!D582,\"\")","v":""}]
[{"$f":"IF(D582<>\"\",Data!A583,\"\")","v":""},{"$f":"IF(D582<>\"\",Data!B583,\"\")","v":""},"",{"$f":"IF(AND(Data!D583<>\"\",Data!D583 > 0),Data!D583,\"\")","v":""}]
[{"$f":"IF(D583<>\"\",Data!A584,\"\")","v":""},{"$f":"IF(D583<>\"\",Data!B584,\"\")","v":""},"",{"$f":"IF(AND(Data!D584<>\"\",Data!D584 > 0),Data!D584,\"\")","v":""}]
[{"$f":"IF(D584<>\"\",Data!A585,\"\")","v":""},{"$f":"IF(D584<>\"\",Data!B585,\"\")","v":""},"",{"$f":"IF(AND(Data!D585<>\"\",Data!D585 > 0),Data!D585,\"\")","v":""}]
[{"$f":"IF(D585<>\"\",Data!A586,\"\")","v":""},{"$f":"IF(D585<>\"\",Data!B586,\"\")","v":""},"",{"$f":"IF(AND(Data!D586<>\"\",Data!D586 > 0),Data!D586,\"\")","v":""}]
[{"$f":"IF(D586<>\"\",Data!A587,\"\")","v":""},{"$f":"IF(D586<>\"\",Data!B587,\"\")","v":""},"",{"$f":"IF(AND(Data!D587<>\"\",Data!D587 > 0),Data!D587,\"\")","v":""}]
[{"$f":"IF(D587<>\"\",Data!A588,\"\")","v":""},{"$f":"IF(D587<>\"\",Data!B588,\"\")","v":""},"",{"$f":"IF(AND(Data!D588<>\"\",Data!D588 > 0),Data!D588,\"\")","v":""}]
[{"$f":"IF(D588<>\"\",Data!A589,\"\")","v":""},{"$f":"IF(D588<>\"\",Data!B589,\"\")","v":""},"",{"$f":"IF(AND(Data!D589<>\"\",Data!D589 > 0),Data!D589,\"\")","v":""}]
[{"$f":"IF(D589<>\"\",Data!A590,\"\")","v":""},{"$f":"IF(D589<>\"\",Data!B590,\"\")","v":""},"",{"$f":"IF(AND(Data!D590<>\"\",Data!D590 > 0),Data!D590,\"\")","v":""}]
[{"$f":"IF(D590<>\"\",Data!A591,\"\")","v":""},{"$f":"IF(D590<>\"\",Data!B591,\"\")","v":""},"",{"$f":"IF(AND(Data!D591<>\"\",Data!D591 > 0),Data!D591,\"\")","v":""}]
[{"$f":"IF(D591<>\"\",Data!A592,\"\")","v":""},{"$f":"IF(D591<>\"\",Data!B592,\"\")","v":""},"",{"$f":"IF(AND(Data!D592<>\"\",Data!D592 > 0),Data!D592,\"\")","v":""}]
[{"$f":"IF(D592<>\"\",Data!A593,\"\")","v":""},{"$f":"IF(D592<>\"\",Data!B593,\"\")","v":""},"",{"$f":"IF(AND(Data!D593<>\"\",Data!D593 > 0),Data!D593,\"\")","v":""}]
[{"$f":"IF(D593<>\"\",Data!A594,\"\")","v":""},{"$f":"IF(D593<>\"\",Data!B594,\"\")","v":""},"",{"$f":"IF(AND(Data!D594<>\"\",Data!D594 > 0),Data!D594,\"\")","v":""}]
[{"$f":"IF(D594<>\"\",Data!A595,\"\")","v":""},{"$f":"IF(D594<>\"\",Data!B595,\"\")","v":""},"",{"$f":"IF(AND(Data!D595<>\"\",Data!D595 > 0),Data!D595,\"\")","v":""}]
[{"$f":"IF(D595<>\"\",Data!A596,\"\")","v":""},{"$f":"IF(D595<>\"\",Data!B596,\"\")","v":""},"",{"$f":"IF(AND(Data!D596<>\"\",Data!D596 > 0),Data!D596,\"\")","v":""}]
[{"$f":"IF(D596<>\"\",Data!A597,\"\")","v":""},{"$f":"IF(D596<>\"\",Data!B597,\"\")","v":""},"",{"$f":"IF(AND(Data!D597<>\"\",Data!D597 > 0),Data!D597,\"\")","v":""}]
[{"$f":"IF(D597<>\"\",Data!A598,\"\")","v":""},{"$f":"IF(D597<>\"\",Data!B598,\"\")","v":""},"",{"$f":"IF(AND(Data!D598<>\"\",Data!D598 > 0),Data!D598,\"\")","v":""}]
[{"$f":"IF(D598<>\"\",Data!A599,\"\")","v":""},{"$f":"IF(D598<>\"\",Data!B599,\"\")","v":""},"",{"$f":"IF(AND(Data!D599<>\"\",Data!D599 > 0),Data!D599,\"\")","v":""}]
[{"$f":"IF(D599<>\"\",Data!A600,\"\")","v":""},{"$f":"IF(D599<>\"\",Data!B600,\"\")","v":""},"",{"$f":"IF(AND(Data!D600<>\"\",Data!D600 > 0),Data!D600,\"\")","v":""}]
[{"$f":"IF(D600<>\"\",Data!A601,\"\")","v":""},{"$f":"IF(D600<>\"\",Data!B601,\"\")","v":""},"",{"$f":"IF(AND(Data!D601<>\"\",Data!D601 > 0),Data!D601,\"\")","v":""}]
[{"$f":"IF(D601<>\"\",Data!A602,\"\")","v":""},{"$f":"IF(D601<>\"\",Data!B602,\"\")","v":""},"",{"$f":"IF(AND(Data!D602<>\"\",Data!D602 > 0),Data!D602,\"\")","v":""}]
[{"$f":"IF(D602<>\"\",Data!A603,\"\")","v":""},{"$f":"IF(D602<>\"\",Data!B603,\"\")","v":""},"",{"$f":"IF(AND(Data!D603<>\"\",Data!D603 > 0),Data!D603,\"\")","v":""}]
[{"$f":"IF(D603<>\"\",Data!A604,\"\")","v":""},{"$f":"IF(D603<>\"\",Data!B604,\"\")","v":""},"",{"$f":"IF(AND(Data!D604<>\"\",Data!D604 > 0),Data!D604,\"\")","v":""}]
[{"$f":"IF(D604<>\"\",Data!A605,\"\")","v":""},{"$f":"IF(D604<>\"\",Data!B605,\"\")","v":""},"",{"$f":"IF(AND(Data!D605<>\"\",Data!D605 > 0),Data!D605,\"\")","v":""}]
[{"$f":"IF(D605<>\"\",Data!A606,\"\")","v":""},{"$f":"IF(D605<>\"\",Data!B606,\"\")","v":""},"",{"$f":"IF(AND(Data!D606<>\"\",Data!D606 > 0),Data!D606,\"\")","v":""}]
[{"$f":"IF(D606<>\"\",Data!A607,\"\")","v":""},{"$f":"IF(D606<>\"\",Data!B607,\"\")","v":""},"",{"$f":"IF(AND(Data!D607<>\"\",Data!D607 > 0),Data!D607,\"\")","v":""}]
[{"$f":"IF(D607<>\"\",Data!A608,\"\")","v":""},{"$f":"IF(D607<>\"\",Data!B608,\"\")","v":""},"",{"$f":"IF(AND(Data!D608<>\"\",Data!D608 > 0),Data!D608,\"\")","v":""}]
[{"$f":"IF(D608<>\"\",Data!A609,\"\")","v":""},{"$f":"IF(D608<>\"\",Data!B609,\"\")","v":""},"",{"$f":"IF(AND(Data!D609<>\"\",Data!D609 > 0),Data!D609,\"\")","v":""}]
[{"$f":"IF(D609<>\"\",Data!A610,\"\")","v":""},{"$f":"IF(D609<>\"\",Data!B610,\"\")","v":""},"",{"$f":"IF(AND(Data!D610<>\"\",Data!D610 > 0),Data!D610,\"\")","v":""}]
[{"$f":"IF(D610<>\"\",Data!A611,\"\")","v":""},{"$f":"IF(D610<>\"\",Data!B611,\"\")","v":""},"",{"$f":"IF(AND(Data!D611<>\"\",Data!D611 > 0),Data!D611,\"\")","v":""}]
[{"$f":"IF(D611<>\"\",Data!A612,\"\")","v":""},{"$f":"IF(D611<>\"\",Data!B612,\"\")","v":""},"",{"$f":"IF(AND(Data!D612<>\"\",Data!D612 > 0),Data!D612,\"\")","v":""}]
[{"$f":"IF(D612<>\"\",Data!A613,\"\")","v":""},{"$f":"IF(D612<>\"\",Data!B613,\"\")","v":""},"",{"$f":"IF(AND(Data!D613<>\"\",Data!D613 > 0),Data!D613,\"\")","v":""}]
[{"$f":"IF(D613<>\"\",Data!A614,\"\")","v":""},{"$f":"IF(D613<>\"\",Data!B614,\"\")","v":""},"",{"$f":"IF(AND(Data!D614<>\"\",Data!D614 > 0),Data!D614,\"\")","v":""}]
[{"$f":"IF(D614<>\"\",Data!A615,\"\")","v":""},{"$f":"IF(D614<>\"\",Data!B615,\"\")","v":""},"",{"$f":"IF(AND(Data!D615<>\"\",Data!D615 > 0),Data!D615,\"\")","v":""}]
[{"$f":"IF(D615<>\"\",Data!A616,\"\")","v":""},{"$f":"IF(D615<>\"\",Data!B616,\"\")","v":""},"",{"$f":"IF(AND(Data!D616<>\"\",Data!D616 > 0),Data!D616,\"\")","v":""}]
[{"$f":"IF(D616<>\"\",Data!A617,\"\")","v":""},{"$f":"IF(D616<>\"\",Data!B617,\"\")","v":""},"",{"$f":"IF(AND(Data!D617<>\"\",Data!D617 > 0),Data!D617,\"\")","v":""}]
[{"$f":"IF(D617<>\"\",Data!A618,\"\")","v":""},{"$f":"IF(D617<>\"\",Data!B618,\"\")","v":""},"",{"$f":"IF(AND(Data!D618<>\"\",Data!D618 > 0),Data!D618,\"\")","v":""}]
[{"$f":"IF(D618<>\"\",Data!A619,\"\")","v":""},{"$f":"IF(D618<>\"\",Data!B619,\"\")","v":""},"",{"$f":"IF(AND(Data!D619<>\"\",Data!D619 > 0),Data!D619,\"\")","v":""}]
[{"$f":"IF(D619<>\"\",Data!A620,\"\")","v":""},{"$f":"IF(D619<>\"\",Data!B620,\"\")","v":""},"",{"$f":"IF(AND(Data!D620<>\"\",Data!D620 > 0),Data!D620,\"\")","v":""}]
[{"$f":"IF(D620<>\"\",Data!A621,\"\")","v":""},{"$f":"IF(D620<>\"\",Data!B621,\"\")","v":""},"",{"$f":"IF(AND(Data!D621<>\"\",Data!D621 > 0),Data!D621,\"\")","v":""}]
[{"$f":"IF(D621<>\"\",Data!A622,\"\")","v":""},{"$f":"IF(D621<>\"\",Data!B622,\"\")","v":""},"",{"$f":"IF(AND(Data!D622<>\"\",Data!D622 > 0),Data!D622,\"\")","v":""}]
[{"$f":"IF(D622<>\"\",Data!A623,\"\")","v":""},{"$f":"IF(D622<>\"\",Data!B623,\"\")","v":""},"",{"$f":"IF(AND(Data!D623<>\"\",Data!D623 > 0),Data!D623,\"\")","v":""}]
[{"$f":"IF(D623<>\"\",Data!A624,\"\")","v":""},{"$f":"IF(D623<>\"\",Data!B624,\"\")","v":""},"",{"$f":"IF(AND(Data!D624<>\"\",Data!D624 > 0),Data!D624,\"\")","v":""}]
[{"$f":"IF(D624<>\"\",Data!A625,\"\")","v":""},{"$f":"IF(D624<>\"\",Data!B625,\"\")","v":""},"",{"$f":"IF(AND(Data!D625<>\"\",Data!D625 > 0),Data!D625,\"\")","v":""}]
[{"$f":"IF(D625<>\"\",Data!A626,\"\")","v":""},{"$f":"IF(D625<>\"\",Data!B626,\"\")","v":""},"",{"$f":"IF(AND(Data!D626<>\"\",Data!D626 > 0),Data!D626,\"\")","v":""}]
[{"$f":"IF(D626<>\"\",Data!A627,\"\")","v":""},{"$f":"IF(D626<>\"\",Data!B627,\"\")","v":""},"",{"$f":"IF(AND(Data!D627<>\"\",Data!D627 > 0),Data!D627,\"\")","v":""}]
[{"$f":"IF(D627<>\"\",Data!A628,\"\")","v":""},{"$f":"IF(D627<>\"\",Data!B628,\"\")","v":""},"",{"$f":"IF(AND(Data!D628<>\"\",Data!D628 > 0),Data!D628,\"\")","v":""}]
[{"$f":"IF(D628<>\"\",Data!A629,\"\")","v":""},{"$f":"IF(D628<>\"\",Data!B629,\"\")","v":""},"",{"$f":"IF(AND(Data!D629<>\"\",Data!D629 > 0),Data!D629,\"\")","v":""}]
[{"$f":"IF(D629<>\"\",Data!A630,\"\")","v":""},{"$f":"IF(D629<>\"\",Data!B630,\"\")","v":""},"",{"$f":"IF(AND(Data!D630<>\"\",Data!D630 > 0),Data!D630,\"\")","v":""}]
[{"$f":"IF(D630<>\"\",Data!A631,\"\")","v":""},{"$f":"IF(D630<>\"\",Data!B631,\"\")","v":""},"",{"$f":"IF(AND(Data!D631<>\"\",Data!D631 > 0),Data!D631,\"\")","v":""}]
[{"$f":"IF(D631<>\"\",Data!A632,\"\")","v":""},{"$f":"IF(D631<>\"\",Data!B632,\"\")","v":""},"",{"$f":"IF(AND(Data!D632<>\"\",Data!D632 > 0),Data!D632,\"\")","v":""}]
[{"$f":"IF(D632<>\"\",Data!A633,\"\")","v":""},{"$f":"IF(D632<>\"\",Data!B633,\"\")","v":""},"",{"$f":"IF(AND(Data!D633<>\"\",Data!D633 > 0),Data!D633,\"\")","v":""}]
[{"$f":"IF(D633<>\"\",Data!A634,\"\")","v":""},{"$f":"IF(D633<>\"\",Data!B634,\"\")","v":""},"",{"$f":"IF(AND(Data!D634<>\"\",Data!D634 > 0),Data!D634,\"\")","v":""}]
[{"$f":"IF(D634<>\"\",Data!A635,\"\")","v":""},{"$f":"IF(D634<>\"\",Data!B635,\"\")","v":""},"",{"$f":"IF(AND(Data!D635<>\"\",Data!D635 > 0),Data!D635,\"\")","v":""}]
[{"$f":"IF(D635<>\"\",Data!A636,\"\")","v":""},{"$f":"IF(D635<>\"\",Data!B636,\"\")","v":""},"",{"$f":"IF(AND(Data!D636<>\"\",Data!D636 > 0),Data!D636,\"\")","v":""}]
[{"$f":"IF(D636<>\"\",Data!A637,\"\")","v":""},{"$f":"IF(D636<>\"\",Data!B637,\"\")","v":""},"",{"$f":"IF(AND(Data!D637<>\"\",Data!D637 > 0),Data!D637,\"\")","v":""}]
[{"$f":"IF(D637<>\"\",Data!A638,\"\")","v":""},{"$f":"IF(D637<>\"\",Data!B638,\"\")","v":""},"",{"$f":"IF(AND(Data!D638<>\"\",Data!D638 > 0),Data!D638,\"\")","v":""}]
[{"$f":"IF(D638<>\"\",Data!A639,\"\")","v":""},{"$f":"IF(D638<>\"\",Data!B639,\"\")","v":""},"",{"$f":"IF(AND(Data!D639<>\"\",Data!D639 > 0),Data!D639,\"\")","v":""}]
[{"$f":"IF(D639<>\"\",Data!A640,\"\")","v":""},{"$f":"IF(D639<>\"\",Data!B640,\"\")","v":""},"",{"$f":"IF(AND(Data!D640<>\"\",Data!D640 > 0),Data!D640,\"\")","v":""}]
[{"$f":"IF(D640<>\"\",Data!A641,\"\")","v":""},{"$f":"IF(D640<>\"\",Data!B641,\"\")","v":""},"",{"$f":"IF(AND(Data!D641<>\"\",Data!D641 > 0),Data!D641,\"\")","v":""}]
[{"$f":"IF(D641<>\"\",Data!A642,\"\")","v":""},{"$f":"IF(D641<>\"\",Data!B642,\"\")","v":""},"",{"$f":"IF(AND(Data!D642<>\"\",Data!D642 > 0),Data!D642,\"\")","v":""}]
[{"$f":"IF(D642<>\"\",Data!A643,\"\")","v":""},{"$f":"IF(D642<>\"\",Data!B643,\"\")","v":""},{"$f":"IF(D642<>\"\",MID(CELL(\"filename\",B642),FIND(\"]\",CELL(\"filename\",B642))+1,32),\"\")","v":""},{"$f":"IF(AND(Data!D643<>\"\",Data!D643 > 0),Data!D643,\"\")","v":""}]
[{"$f":"IF(D643<>\"\",Data!A644,\"\")","v":""},{"$f":"IF(D643<>\"\",Data!B644,\"\")","v":""},"",{"$f":"IF(AND(Data!D644<>\"\",Data!D644 > 0),Data!D644,\"\")","v":""}]
[{"$f":"IF(D644<>\"\",Data!A645,\"\")","v":""},{"$f":"IF(D644<>\"\",Data!B645,\"\")","v":""},"",{"$f":"IF(AND(Data!D645<>\"\",Data!D645 > 0),Data!D645,\"\")","v":""}]
[{"$f":"IF(D645<>\"\",Data!A646,\"\")","v":""},{"$f":"IF(D645<>\"\",Data!B646,\"\")","v":""},"",{"$f":"IF(AND(Data!D646<>\"\",Data!D646 > 0),Data!D646,\"\")","v":""}]
[{"$f":"IF(D646<>\"\",Data!A647,\"\")","v":""},{"$f":"IF(D646<>\"\",Data!B647,\"\")","v":""},"",{"$f":"IF(AND(Data!D647<>\"\",Data!D647 > 0),Data!D647,\"\")","v":""}]
[{"$f":"IF(D647<>\"\",Data!A648,\"\")","v":""},{"$f":"IF(D647<>\"\",Data!B648,\"\")","v":""},"",{"$f":"IF(AND(Data!D648<>\"\",Data!D648 > 0),Data!D648,\"\")","v":""}]
[{"$f":"IF(D648<>\"\",Data!A649,\"\")","v":""},{"$f":"IF(D648<>\"\",Data!B649,\"\")","v":""},"",{"$f":"IF(AND(Data!D649<>\"\",Data!D649 > 0),Data!D649,\"\")","v":""}]
[{"$f":"IF(D649<>\"\",Data!A650,\"\")","v":""},{"$f":"IF(D649<>\"\",Data!B650,\"\")","v":""},"",{"$f":"IF(AND(Data!D650<>\"\",Data!D650 > 0),Data!D650,\"\")","v":""}]
[{"$f":"IF(D650<>\"\",Data!A651,\"\")","v":""},{"$f":"IF(D650<>\"\",Data!B651,\"\")","v":""},"",{"$f":"IF(AND(Data!D651<>\"\",Data!D651 > 0),Data!D651,\"\")","v":""}]
[{"$f":"IF(D651<>\"\",Data!A652,\"\")","v":""},{"$f":"IF(D651<>\"\",Data!B652,\"\")","v":""},"",{"$f":"IF(AND(Data!D652<>\"\",Data!D652 > 0),Data!D652,\"\")","v":""}]
[{"$f":"IF(D652<>\"\",Data!A653,\"\")","v":""},{"$f":"IF(D652<>\"\",Data!B653,\"\")","v":""},"",{"$f":"IF(AND(Data!D653<>\"\",Data!D653 > 0),Data!D653,\"\")","v":""}]
[{"$f":"IF(D653<>\"\",Data!A654,\"\")","v":""},{"$f":"IF(D653<>\"\",Data!B654,\"\")","v":""},"",{"$f":"IF(AND(Data!D654<>\"\",Data!D654 > 0),Data!D654,\"\")","v":""}]
[{"$f":"IF(D654<>\"\",Data!A655,\"\")","v":""},{"$f":"IF(D654<>\"\",Data!B655,\"\")","v":""},"",{"$f":"IF(AND(Data!D655<>\"\",Data!D655 > 0),Data!D655,\"\")","v":""}]
[{"$f":"IF(D655<>\"\",Data!A656,\"\")","v":""},{"$f":"IF(D655<>\"\",Data!B656,\"\")","v":""},"",{"$f":"IF(AND(Data!D656<>\"\",Data!D656 > 0),Data!D656,\"\")","v":""}]
[{"$f":"IF(D656<>\"\",Data!A657,\"\")","v":""},{"$f":"IF(D656<>\"\",Data!B657,\"\")","v":""},"",{"$f":"IF(AND(Data!D657<>\"\",Data!D657 > 0),Data!D657,\"\")","v":""}]
[{"$f":"IF(D657<>\"\",Data!A658,\"\")","v":""},{"$f":"IF(D657<>\"\",Data!B658,\"\")","v":""},"",{"$f":"IF(AND(Data!D658<>\"\",Data!D658 > 0),Data!D658,\"\")","v":""}]
[{"$f":"IF(D658<>\"\",Data!A659,\"\")","v":""},{"$f":"IF(D658<>\"\",Data!B659,\"\")","v":""},"",{"$f":"IF(AND(Data!D659<>\"\",Data!D659 > 0),Data!D659,\"\")","v":""}]
[{"$f":"IF(D659<>\"\",Data!A660,\"\")","v":""},{"$f":"IF(D659<>\"\",Data!B660,\"\")","v":""},"",{"$f":"IF(AND(Data!D660<>\"\",Data!D660 > 0),Data!D660,\"\")","v":""}]
[{"$f":"IF(D660<>\"\",Data!A661,\"\")","v":""},{"$f":"IF(D660<>\"\",Data!B661,\"\")","v":""},"",{"$f":"IF(AND(Data!D661<>\"\",Data!D661 > 0),Data!D661,\"\")","v":""}]
[{"$f":"IF(D661<>\"\",Data!A662,\"\")","v":""},{"$f":"IF(D661<>\"\",Data!B662,\"\")","v":""},"",{"$f":"IF(AND(Data!D662<>\"\",Data!D662 > 0),Data!D662,\"\")","v":""}]
[{"$f":"IF(D662<>\"\",Data!A663,\"\")","v":""},{"$f":"IF(D662<>\"\",Data!B663,\"\")","v":""},"",{"$f":"IF(AND(Data!D663<>\"\",Data!D663 > 0),Data!D663,\"\")","v":""}]
[{"$f":"IF(D663<>\"\",Data!A664,\"\")","v":""},{"$f":"IF(D663<>\"\",Data!B664,\"\")","v":""},"",{"$f":"IF(AND(Data!D664<>\"\",Data!D664 > 0),Data!D664,\"\")","v":""}]
[{"$f":"IF(D664<>\"\",Data!A665,\"\")","v":""},{"$f":"IF(D664<>\"\",Data!B665,\"\")","v":""},"",{"$f":"IF(AND(Data!D665<>\"\",Data!D665 > 0),Data!D665,\"\")","v":""}]
[{"$f":"IF(D665<>\"\",Data!A666,\"\")","v":""},{"$f":"IF(D665<>\"\",Data!B666,\"\")","v":""},"",{"$f":"IF(AND(Data!D666<>\"\",Data!D666 > 0),Data!D666,\"\")","v":""}]
[{"$f":"IF(D666<>\"\",Data!A667,\"\")","v":""},{"$f":"IF(D666<>\"\",Data!B667,\"\")","v":""},"",{"$f":"IF(AND(Data!D667<>\"\",Data!D667 > 0),Data!D667,\"\")","v":""}]
[{"$f":"IF(D667<>\"\",Data!A668,\"\")","v":""},{"$f":"IF(D667<>\"\",Data!B668,\"\")","v":""},"",{"$f":"IF(AND(Data!D668<>\"\",Data!D668 > 0),Data!D668,\"\")","v":""}]
[{"$f":"IF(D668<>\"\",Data!A669,\"\")","v":""},{"$f":"IF(D668<>\"\",Data!B669,\"\")","v":""},"",{"$f":"IF(AND(Data!D669<>\"\",Data!D669 > 0),Data!D669,\"\")","v":""}]
[{"$f":"IF(D669<>\"\",Data!A670,\"\")","v":""},{"$f":"IF(D669<>\"\",Data!B670,\"\")","v":""},"",{"$f":"IF(AND(Data!D670<>\"\",Data!D670 > 0),Data!D670,\"\")","v":""}]
[{"$f":"IF(D670<>\"\",Data!A671,\"\")","v":""},{"$f":"IF(D670<>\"\",Data!B671,\"\")","v":""},"",{"$f":"IF(AND(Data!D671<>\"\",Data!D671 > 0),Data!D671,\"\")","v":""}]
[{"$f":"IF(D671<>\"\",Data!A672,\"\")","v":""},{"$f":"IF(D671<>\"\",Data!B672,\"\")","v":""},"",{"$f":"IF(AND(Data!D672<>\"\",Data!D672 > 0),Data!D672,\"\")","v":""}]
[{"$f":"IF(D672<>\"\",Data!A673,\"\")","v":""},{"$f":"IF(D672<>\"\",Data!B673,\"\")","v":""},"",{"$f":"IF(AND(Data!D673<>\"\",Data!D673 > 0),Data!D673,\"\")","v":""}]
[{"$f":"IF(D673<>\"\",Data!A674,\"\")","v":""},{"$f":"IF(D673<>\"\",Data!B674,\"\")","v":""},"",{"$f":"IF(AND(Data!D674<>\"\",Data!D674 > 0),Data!D674,\"\")","v":""}]
[{"$f":"IF(D674<>\"\",Data!A675,\"\")","v":""},{"$f":"IF(D674<>\"\",Data!B675,\"\")","v":""},"",{"$f":"IF(AND(Data!D675<>\"\",Data!D675 > 0),Data!D675,\"\")","v":""}]
[{"$f":"IF(D675<>\"\",Data!A676,\"\")","v":""},{"$f":"IF(D675<>\"\",Data!B676,\"\")","v":""},"",{"$f":"IF(AND(Data!D676<>\"\",Data!D676 > 0),Data!D676,\"\")","v":""}]
[{"$f":"IF(D676<>\"\",Data!A677,\"\")","v":""},{"$f":"IF(D676<>\"\",Data!B677,\"\")","v":""},"",{"$f":"IF(AND(Data!D677<>\"\",Data!D677 > 0),Data!D677,\"\")","v":""}]
[{"$f":"IF(D677<>\"\",Data!A678,\"\")","v":""},{"$f":"IF(D677<>\"\",Data!B678,\"\")","v":""},"",{"$f":"IF(AND(Data!D678<>\"\",Data!D678 > 0),Data!D678,\"\")","v":""}]
[{"$f":"IF(D678<>\"\",Data!A679,\"\")","v":""},{"$f":"IF(D678<>\"\",Data!B679,\"\")","v":""},"",{"$f":"IF(AND(Data!D679<>\"\",Data!D679 > 0),Data!D679,\"\")","v":""}]
[{"$f":"IF(D679<>\"\",Data!A680,\"\")","v":""},{"$f":"IF(D679<>\"\",Data!B680,\"\")","v":""},"",{"$f":"IF(AND(Data!D680<>\"\",Data!D680 > 0),Data!D680,\"\")","v":""}]
[{"$f":"IF(D680<>\"\",Data!A681,\"\")","v":""},{"$f":"IF(D680<>\"\",Data!B681,\"\")","v":""},"",{"$f":"IF(AND(Data!D681<>\"\",Data!D681 > 0),Data!D681,\"\")","v":""}]
[{"$f":"IF(D681<>\"\",Data!A682,\"\")","v":""},{"$f":"IF(D681<>\"\",Data!B682,\"\")","v":""},"",{"$f":"IF(AND(Data!D682<>\"\",Data!D682 > 0),Data!D682,\"\")","v":""}]
[{"$f":"IF(D682<>\"\",Data!A683,\"\")","v":""},{"$f":"IF(D682<>\"\",Data!B683,\"\")","v":""},"",{"$f":"IF(AND(Data!D683<>\"\",Data!D683 > 0),Data!D683,\"\")","v":""}]
[{"$f":"IF(D683<>\"\",Data!A684,\"\")","v":""},{"$f":"IF(D683<>\"\",Data!B684,\"\")","v":""},"",{"$f":"IF(AND(Data!D684<>\"\",Data!D684 > 0),Data!D684,\"\")","v":""}]
[{"$f":"IF(D684<>\"\",Data!A685,\"\")","v":""},{"$f":"IF(D684<>\"\",Data!B685,\"\")","v":""},"",{"$f":"IF(AND(Data!D685<>\"\",Data!D685 > 0),Data!D685,\"\")","v":""}]
[{"$f":"IF(D685<>\"\",Data!A686,\"\")","v":""},{"$f":"IF(D685<>\"\",Data!B686,\"\")","v":""},"",{"$f":"IF(AND(Data!D686<>\"\",Data!D686 > 0),Data!D686,\"\")","v":""}]
[{"$f":"IF(D686<>\"\",Data!A687,\"\")","v":""},{"$f":"IF(D686<>\"\",Data!B687,\"\")","v":""},"",{"$f":"IF(AND(Data!D687<>\"\",Data!D687 > 0),Data!D687,\"\")","v":""}]
[{"$f":"IF(D687<>\"\",Data!A688,\"\")","v":""},{"$f":"IF(D687<>\"\",Data!B688,\"\")","v":""},"",{"$f":"IF(AND(Data!D688<>\"\",Data!D688 > 0),Data!D688,\"\")","v":""}]
[{"$f":"IF(D688<>\"\",Data!A689,\"\")","v":""},{"$f":"IF(D688<>\"\",Data!B689,\"\")","v":""},"",{"$f":"IF(AND(Data!D689<>\"\",Data!D689 > 0),Data!D689,\"\")","v":""}]
[{"$f":"IF(D689<>\"\",Data!A690,\"\")","v":""},{"$f":"IF(D689<>\"\",Data!B690,\"\")","v":""},"",{"$f":"IF(AND(Data!D690<>\"\",Data!D690 > 0),Data!D690,\"\")","v":""}]
[{"$f":"IF(D690<>\"\",Data!A691,\"\")","v":""},{"$f":"IF(D690<>\"\",Data!B691,\"\")","v":""},"",{"$f":"IF(AND(Data!D691<>\"\",Data!D691 > 0),Data!D691,\"\")","v":""}]
[{"$f":"IF(D691<>\"\",Data!A692,\"\")","v":""},{"$f":"IF(D691<>\"\",Data!B692,\"\")","v":""},"",{"$f":"IF(AND(Data!D692<>\"\",Data!D692 > 0),Data!D692,\"\")","v":""}]
[{"$f":"IF(D692<>\"\",Data!A693,\"\")","v":""},{"$f":"IF(D692<>\"\",Data!B693,\"\")","v":""},"",{"$f":"IF(AND(Data!D693<>\"\",Data!D693 > 0),Data!D693,\"\")","v":""}]
[{"$f":"IF(D693<>\"\",Data!A694,\"\")","v":""},{"$f":"IF(D693<>\"\",Data!B694,\"\")","v":""},"",{"$f":"IF(AND(Data!D694<>\"\",Data!D694 > 0),Data!D694,\"\")","v":""}]
[{"$f":"IF(D694<>\"\",Data!A695,\"\")","v":""},{"$f":"IF(D694<>\"\",Data!B695,\"\")","v":""},"",{"$f":"IF(AND(Data!D695<>\"\",Data!D695 > 0),Data!D695,\"\")","v":""}]
[{"$f":"IF(D695<>\"\",Data!A696,\"\")","v":""},{"$f":"IF(D695<>\"\",Data!B696,\"\")","v":""},"",{"$f":"IF(AND(Data!D696<>\"\",Data!D696 > 0),Data!D696,\"\")","v":""}]
[{"$f":"IF(D696<>\"\",Data!A697,\"\")","v":""},{"$f":"IF(D696<>\"\",Data!B697,\"\")","v":""},"",{"$f":"IF(AND(Data!D697<>\"\",Data!D697 > 0),Data!D697,\"\")","v":""}]
[{"$f":"IF(D697<>\"\",Data!A698,\"\")","v":""},{"$f":"IF(D697<>\"\",Data!B698,\"\")","v":""},"",{"$f":"IF(AND(Data!D698<>\"\",Data!D698 > 0),Data!D698,\"\")","v":""}]
[{"$f":"IF(D698<>\"\",Data!A699,\"\")","v":""},{"$f":"IF(D698<>\"\",Data!B699,\"\")","v":""},"",{"$f":"IF(AND(Data!D699<>\"\",Data!D699 > 0),Data!D699,\"\")","v":""}]
[{"$f":"IF(D699<>\"\",Data!A700,\"\")","v":""},{"$f":"IF(D699<>\"\",Data!B700,\"\")","v":""},"",{"$f":"IF(AND(Data!D700<>\"\",Data!D700 > 0),Data!D700,\"\")","v":""}]
[{"$f":"IF(D700<>\"\",Data!A701,\"\")","v":""},{"$f":"IF(D700<>\"\",Data!B701,\"\")","v":""},"",{"$f":"IF(AND(Data!D701<>\"\",Data!D701 > 0),Data!D701,\"\")","v":""}]
[{"$f":"IF(D701<>\"\",Data!A702,\"\")","v":""},{"$f":"IF(D701<>\"\",Data!B702,\"\")","v":""},"",{"$f":"IF(AND(Data!D702<>\"\",Data!D702 > 0),Data!D702,\"\")","v":""}]
[{"$f":"IF(D702<>\"\",Data!A703,\"\")","v":""},{"$f":"IF(D702<>\"\",Data!B703,\"\")","v":""},"",{"$f":"IF(AND(Data!D703<>\"\",Data!D703 > 0),Data!D703,\"\")","v":""}]
[{"$f":"IF(D703<>\"\",Data!A704,\"\")","v":""},{"$f":"IF(D703<>\"\",Data!B704,\"\")","v":""},"",{"$f":"IF(AND(Data!D704<>\"\",Data!D704 > 0),Data!D704,\"\")","v":""}]
[{"$f":"IF(D704<>\"\",Data!A705,\"\")","v":""},{"$f":"IF(D704<>\"\",Data!B705,\"\")","v":""},"",{"$f":"IF(AND(Data!D705<>\"\",Data!D705 > 0),Data!D705,\"\")","v":""}]
[{"$f":"IF(D705<>\"\",Data!A706,\"\")","v":""},{"$f":"IF(D705<>\"\",Data!B706,\"\")","v":""},"",{"$f":"IF(AND(Data!D706<>\"\",Data!D706 > 0),Data!D706,\"\")","v":""}]
[{"$f":"IF(D706<>\"\",Data!A707,\"\")","v":""},{"$f":"IF(D706<>\"\",Data!B707,\"\")","v":""},{"$f":"IF(D706<>\"\",MID(CELL(\"filename\",B706),FIND(\"]\",CELL(\"filename\",B706))+1,32),\"\")","v":""},{"$f":"IF(AND(Data!D707<>\"\",Data!D707 > 0),Data!D707,\"\")","v":""}]
[{"$f":"IF(D707<>\"\",Data!A708,\"\")","v":""},{"$f":"IF(D707<>\"\",Data!B708,\"\")","v":""},"",{"$f":"IF(AND(Data!D708<>\"\",Data!D708 > 0),Data!D708,\"\")","v":""}]
[{"$f":"IF(D708<>\"\",Data!A709,\"\")","v":""},{"$f":"IF(D708<>\"\",Data!B709,\"\")","v":""},"",{"$f":"IF(AND(Data!D709<>\"\",Data!D709 > 0),Data!D709,\"\")","v":""}]
[{"$f":"IF(D709<>\"\",Data!A710,\"\")","v":""},{"$f":"IF(D709<>\"\",Data!B710,\"\")","v":""},"",{"$f":"IF(AND(Data!D710<>\"\",Data!D710 > 0),Data!D710,\"\")","v":""}]
[{"$f":"IF(D710<>\"\",Data!A711,\"\")","v":""},{"$f":"IF(D710<>\"\",Data!B711,\"\")","v":""},"",{"$f":"IF(AND(Data!D711<>\"\",Data!D711 > 0),Data!D711,\"\")","v":""}]
[{"$f":"IF(D711<>\"\",Data!A712,\"\")","v":""},{"$f":"IF(D711<>\"\",Data!B712,\"\")","v":""},"",{"$f":"IF(AND(Data!D712<>\"\",Data!D712 > 0),Data!D712,\"\")","v":""}]
[{"$f":"IF(D712<>\"\",Data!A713,\"\")","v":""},{"$f":"IF(D712<>\"\",Data!B713,\"\")","v":""},"",{"$f":"IF(AND(Data!D713<>\"\",Data!D713 > 0),Data!D713,\"\")","v":""}]
[{"$f":"IF(D713<>\"\",Data!A714,\"\")","v":""},{"$f":"IF(D713<>\"\",Data!B714,\"\")","v":""},"",{"$f":"IF(AND(Data!D714<>\"\",Data!D714 > 0),Data!D714,\"\")","v":""}]
[{"$f":"IF(D714<>\"\",Data!A715,\"\")","v":""},{"$f":"IF(D714<>\"\",Data!B715,\"\")","v":""},"",{"$f":"IF(AND(Data!D715<>\"\",Data!D715 > 0),Data!D715,\"\")","v":""}]
[{"$f":"IF(D715<>\"\",Data!A716,\"\")","v":""},{"$f":"IF(D715<>\"\",Data!B716,\"\")","v":""},"",{"$f":"IF(AND(Data!D716<>\"\",Data!D716 > 0),Data!D716,\"\")","v":""}]
[{"$f":"IF(D716<>\"\",Data!A717,\"\")","v":""},{"$f":"IF(D716<>\"\",Data!B717,\"\")","v":""},"",{"$f":"IF(AND(Data!D717<>\"\",Data!D717 > 0),Data!D717,\"\")","v":""}]
[{"$f":"IF(D717<>\"\",Data!A718,\"\")","v":""},{"$f":"IF(D717<>\"\",Data!B718,\"\")","v":""},"",{"$f":"IF(AND(Data!D718<>\"\",Data!D718 > 0),Data!D718,\"\")","v":""}]
[{"$f":"IF(D718<>\"\",Data!A719,\"\")","v":""},{"$f":"IF(D718<>\"\",Data!B719,\"\")","v":""},"",{"$f":"IF(AND(Data!D719<>\"\",Data!D719 > 0),Data!D719,\"\")","v":""}]
[{"$f":"IF(D719<>\"\",Data!A720,\"\")","v":""},{"$f":"IF(D719<>\"\",Data!B720,\"\")","v":""},"",{"$f":"IF(AND(Data!D720<>\"\",Data!D720 > 0),Data!D720,\"\")","v":""}]
[{"$f":"IF(D720<>\"\",Data!A721,\"\")","v":""},{"$f":"IF(D720<>\"\",Data!B721,\"\")","v":""},"",{"$f":"IF(AND(Data!D721<>\"\",Data!D721 > 0),Data!D721,\"\")","v":""}]
[{"$f":"IF(D721<>\"\",Data!A722,\"\")","v":""},{"$f":"IF(D721<>\"\",Data!B722,\"\")","v":""},"",{"$f":"IF(AND(Data!D722<>\"\",Data!D722 > 0),Data!D722,\"\")","v":""}]
[{"$f":"IF(D722<>\"\",Data!A723,\"\")","v":""},{"$f":"IF(D722<>\"\",Data!B723,\"\")","v":""},"",{"$f":"IF(AND(Data!D723<>\"\",Data!D723 > 0),Data!D723,\"\")","v":""}]
[{"$f":"IF(D723<>\"\",Data!A724,\"\")","v":""},{"$f":"IF(D723<>\"\",Data!B724,\"\")","v":""},"",{"$f":"IF(AND(Data!D724<>\"\",Data!D724 > 0),Data!D724,\"\")","v":""}]
[{"$f":"IF(D724<>\"\",Data!A725,\"\")","v":""},{"$f":"IF(D724<>\"\",Data!B725,\"\")","v":""},"",{"$f":"IF(AND(Data!D725<>\"\",Data!D725 > 0),Data!D725,\"\")","v":""}]
[{"$f":"IF(D725<>\"\",Data!A726,\"\")","v":""},{"$f":"IF(D725<>\"\",Data!B726,\"\")","v":""},"",{"$f":"IF(AND(Data!D726<>\"\",Data!D726 > 0),Data!D726,\"\")","v":""}]
[{"$f":"IF(D726<>\"\",Data!A727,\"\")","v":""},{"$f":"IF(D726<>\"\",Data!B727,\"\")","v":""},"",{"$f":"IF(AND(Data!D727<>\"\",Data!D727 > 0),Data!D727,\"\")","v":""}]
[{"$f":"IF(D727<>\"\",Data!A728,\"\")","v":""},{"$f":"IF(D727<>\"\",Data!B728,\"\")","v":""},"",{"$f":"IF(AND(Data!D728<>\"\",Data!D728 > 0),Data!D728,\"\")","v":""}]
[{"$f":"IF(D728<>\"\",Data!A729,\"\")","v":""},{"$f":"IF(D728<>\"\",Data!B729,\"\")","v":""},"",{"$f":"IF(AND(Data!D729<>\"\",Data!D729 > 0),Data!D729,\"\")","v":""}]
[{"$f":"IF(D729<>\"\",Data!A730,\"\")","v":""},{"$f":"IF(D729<>\"\",Data!B730,\"\")","v":""},"",{"$f":"IF(AND(Data!D730<>\"\",Data!D730 > 0),Data!D730,\"\")","v":""}]
[{"$f":"IF(D730<>\"\",Data!A731,\"\")","v":""},{"$f":"IF(D730<>\"\",Data!B731,\"\")","v":""},"",{"$f":"IF(AND(Data!D731<>\"\",Data!D731 > 0),Data!D731,\"\")","v":""}]
[{"$f":"IF(D731<>\"\",Data!A732,\"\")","v":""},{"$f":"IF(D731<>\"\",Data!B732,\"\")","v":""},"",{"$f":"IF(AND(Data!D732<>\"\",Data!D732 > 0),Data!D732,\"\")","v":""}]
[{"$f":"IF(D732<>\"\",Data!A733,\"\")","v":""},{"$f":"IF(D732<>\"\",Data!B733,\"\")","v":""},"",{"$f":"IF(AND(Data!D733<>\"\",Data!D733 > 0),Data!D733,\"\")","v":""}]
[{"$f":"IF(D733<>\"\",Data!A734,\"\")","v":""},{"$f":"IF(D733<>\"\",Data!B734,\"\")","v":""},"",{"$f":"IF(AND(Data!D734<>\"\",Data!D734 > 0),Data!D734,\"\")","v":""}]
[{"$f":"IF(D734<>\"\",Data!A735,\"\")","v":""},{"$f":"IF(D734<>\"\",Data!B735,\"\")","v":""},"",{"$f":"IF(AND(Data!D735<>\"\",Data!D735 > 0),Data!D735,\"\")","v":""}]
[{"$f":"IF(D735<>\"\",Data!A736,\"\")","v":""},{"$f":"IF(D735<>\"\",Data!B736,\"\")","v":""},"",{"$f":"IF(AND(Data!D736<>\"\",Data!D736 > 0),Data!D736,\"\")","v":""}]
[{"$f":"IF(D736<>\"\",Data!A737,\"\")","v":""},{"$f":"IF(D736<>\"\",Data!B737,\"\")","v":""},"",{"$f":"IF(AND(Data!D737<>\"\",Data!D737 > 0),Data!D737,\"\")","v":""}]
[{"$f":"IF(D737<>\"\",Data!A738,\"\")","v":""},{"$f":"IF(D737<>\"\",Data!B738,\"\")","v":""},"",{"$f":"IF(AND(Data!D738<>\"\",Data!D738 > 0),Data!D738,\"\")","v":""}]
[{"$f":"IF(D738<>\"\",Data!A739,\"\")","v":""},{"$f":"IF(D738<>\"\",Data!B739,\"\")","v":""},"",{"$f":"IF(AND(Data!D739<>\"\",Data!D739 > 0),Data!D739,\"\")","v":""}]
[{"$f":"IF(D739<>\"\",Data!A740,\"\")","v":""},{"$f":"IF(D739<>\"\",Data!B740,\"\")","v":""},"",{"$f":"IF(AND(Data!D740<>\"\",Data!D740 > 0),Data!D740,\"\")","v":""}]
[{"$f":"IF(D740<>\"\",Data!A741,\"\")","v":""},{"$f":"IF(D740<>\"\",Data!B741,\"\")","v":""},"",{"$f":"IF(AND(Data!D741<>\"\",Data!D741 > 0),Data!D741,\"\")","v":""}]
[{"$f":"IF(D741<>\"\",Data!A742,\"\")","v":""},{"$f":"IF(D741<>\"\",Data!B742,\"\")","v":""},"",{"$f":"IF(AND(Data!D742<>\"\",Data!D742 > 0),Data!D742,\"\")","v":""}]
[{"$f":"IF(D742<>\"\",Data!A743,\"\")","v":""},{"$f":"IF(D742<>\"\",Data!B743,\"\")","v":""},"",{"$f":"IF(AND(Data!D743<>\"\",Data!D743 > 0),Data!D743,\"\")","v":""}]
[{"$f":"IF(D743<>\"\",Data!A744,\"\")","v":""},{"$f":"IF(D743<>\"\",Data!B744,\"\")","v":""},"",{"$f":"IF(AND(Data!D744<>\"\",Data!D744 > 0),Data!D744,\"\")","v":""}]
[{"$f":"IF(D744<>\"\",Data!A745,\"\")","v":""},{"$f":"IF(D744<>\"\",Data!B745,\"\")","v":""},"",{"$f":"IF(AND(Data!D745<>\"\",Data!D745 > 0),Data!D745,\"\")","v":""}]
[{"$f":"IF(D745<>\"\",Data!A746,\"\")","v":""},{"$f":"IF(D745<>\"\",Data!B746,\"\")","v":""},"",{"$f":"IF(AND(Data!D746<>\"\",Data!D746 > 0),Data!D746,\"\")","v":""}]
[{"$f":"IF(D746<>\"\",Data!A747,\"\")","v":""},{"$f":"IF(D746<>\"\",Data!B747,\"\")","v":""},"",{"$f":"IF(AND(Data!D747<>\"\",Data!D747 > 0),Data!D747,\"\")","v":""}]
[{"$f":"IF(D747<>\"\",Data!A748,\"\")","v":""},{"$f":"IF(D747<>\"\",Data!B748,\"\")","v":""},"",{"$f":"IF(AND(Data!D748<>\"\",Data!D748 > 0),Data!D748,\"\")","v":""}]
[{"$f":"IF(D748<>\"\",Data!A749,\"\")","v":""},{"$f":"IF(D748<>\"\",Data!B749,\"\")","v":""},"",{"$f":"IF(AND(Data!D749<>\"\",Data!D749 > 0),Data!D749,\"\")","v":""}]
[{"$f":"IF(D749<>\"\",Data!A750,\"\")","v":""},{"$f":"IF(D749<>\"\",Data!B750,\"\")","v":""},"",{"$f":"IF(AND(Data!D750<>\"\",Data!D750 > 0),Data!D750,\"\")","v":""}]
[{"$f":"IF(D750<>\"\",Data!A751,\"\")","v":""},{"$f":"IF(D750<>\"\",Data!B751,\"\")","v":""},"",{"$f":"IF(AND(Data!D751<>\"\",Data!D751 > 0),Data!D751,\"\")","v":""}]
[{"$f":"IF(D751<>\"\",Data!A752,\"\")","v":""},{"$f":"IF(D751<>\"\",Data!B752,\"\")","v":""},"",{"$f":"IF(AND(Data!D752<>\"\",Data!D752 > 0),Data!D752,\"\")","v":""}]
[{"$f":"IF(D752<>\"\",Data!A753,\"\")","v":""},{"$f":"IF(D752<>\"\",Data!B753,\"\")","v":""},"",{"$f":"IF(AND(Data!D753<>\"\",Data!D753 > 0),Data!D753,\"\")","v":""}]
[{"$f":"IF(D753<>\"\",Data!A754,\"\")","v":""},{"$f":"IF(D753<>\"\",Data!B754,\"\")","v":""},"",{"$f":"IF(AND(Data!D754<>\"\",Data!D754 > 0),Data!D754,\"\")","v":""}]
[{"$f":"IF(D754<>\"\",Data!A755,\"\")","v":""},{"$f":"IF(D754<>\"\",Data!B755,\"\")","v":""},"",{"$f":"IF(AND(Data!D755<>\"\",Data!D755 > 0),Data!D755,\"\")","v":""}]
[{"$f":"IF(D755<>\"\",Data!A756,\"\")","v":""},{"$f":"IF(D755<>\"\",Data!B756,\"\")","v":""},"",{"$f":"IF(AND(Data!D756<>\"\",Data!D756 > 0),Data!D756,\"\")","v":""}]
[{"$f":"IF(D756<>\"\",Data!A757,\"\")","v":""},{"$f":"IF(D756<>\"\",Data!B757,\"\")","v":""},"",{"$f":"IF(AND(Data!D757<>\"\",Data!D757 > 0),Data!D757,\"\")","v":""}]
[{"$f":"IF(D757<>\"\",Data!A758,\"\")","v":""},{"$f":"IF(D757<>\"\",Data!B758,\"\")","v":""},"",{"$f":"IF(AND(Data!D758<>\"\",Data!D758 > 0),Data!D758,\"\")","v":""}]
[{"$f":"IF(D758<>\"\",Data!A759,\"\")","v":""},{"$f":"IF(D758<>\"\",Data!B759,\"\")","v":""},"",{"$f":"IF(AND(Data!D759<>\"\",Data!D759 > 0),Data!D759,\"\")","v":""}]
[{"$f":"IF(D759<>\"\",Data!A760,\"\")","v":""},{"$f":"IF(D759<>\"\",Data!B760,\"\")","v":""},"",{"$f":"IF(AND(Data!D760<>\"\",Data!D760 > 0),Data!D760,\"\")","v":""}]
[{"$f":"IF(D760<>\"\",Data!A761,\"\")","v":""},{"$f":"IF(D760<>\"\",Data!B761,\"\")","v":""},"",{"$f":"IF(AND(Data!D761<>\"\",Data!D761 > 0),Data!D761,\"\")","v":""}]
[{"$f":"IF(D761<>\"\",Data!A762,\"\")","v":""},{"$f":"IF(D761<>\"\",Data!B762,\"\")","v":""},"",{"$f":"IF(AND(Data!D762<>\"\",Data!D762 > 0),Data!D762,\"\")","v":""}]
[{"$f":"IF(D762<>\"\",Data!A763,\"\")","v":""},{"$f":"IF(D762<>\"\",Data!B763,\"\")","v":""},"",{"$f":"IF(AND(Data!D763<>\"\",Data!D763 > 0),Data!D763,\"\")","v":""}]
[{"$f":"IF(D763<>\"\",Data!A764,\"\")","v":""},{"$f":"IF(D763<>\"\",Data!B764,\"\")","v":""},"",{"$f":"IF(AND(Data!D764<>\"\",Data!D764 > 0),Data!D764,\"\")","v":""}]
[{"$f":"IF(D764<>\"\",Data!A765,\"\")","v":""},{"$f":"IF(D764<>\"\",Data!B765,\"\")","v":""},"",{"$f":"IF(AND(Data!D765<>\"\",Data!D765 > 0),Data!D765,\"\")","v":""}]
[{"$f":"IF(D765<>\"\",Data!A766,\"\")","v":""},{"$f":"IF(D765<>\"\",Data!B766,\"\")","v":""},"",{"$f":"IF(AND(Data!D766<>\"\",Data!D766 > 0),Data!D766,\"\")","v":""}]
[{"$f":"IF(D766<>\"\",Data!A767,\"\")","v":""},{"$f":"IF(D766<>\"\",Data!B767,\"\")","v":""},"",{"$f":"IF(AND(Data!D767<>\"\",Data!D767 > 0),Data!D767,\"\")","v":""}]
[{"$f":"IF(D767<>\"\",Data!A768,\"\")","v":""},{"$f":"IF(D767<>\"\",Data!B768,\"\")","v":""},"",{"$f":"IF(AND(Data!D768<>\"\",Data!D768 > 0),Data!D768,\"\")","v":""}]
[{"$f":"IF(D768<>\"\",Data!A769,\"\")","v":""},{"$f":"IF(D768<>\"\",Data!B769,\"\")","v":""},"",{"$f":"IF(AND(Data!D769<>\"\",Data!D769 > 0),Data!D769,\"\")","v":""}]
[{"$f":"IF(D769<>\"\",Data!A770,\"\")","v":""},{"$f":"IF(D769<>\"\",Data!B770,\"\")","v":""},"",{"$f":"IF(AND(Data!D770<>\"\",Data!D770 > 0),Data!D770,\"\")","v":""}]
[{"$f":"IF(D770<>\"\",Data!A771,\"\")","v":""},{"$f":"IF(D770<>\"\",Data!B771,\"\")","v":""},{"$f":"IF(D770<>\"\",MID(CELL(\"filename\",B770),FIND(\"]\",CELL(\"filename\",B770))+1,32),\"\")","v":""},{"$f":"IF(AND(Data!D771<>\"\",Data!D771 > 0),Data!D771,\"\")","v":""}]
[{"$f":"IF(D771<>\"\",Data!A772,\"\")","v":""},{"$f":"IF(D771<>\"\",Data!B772,\"\")","v":""},"",{"$f":"IF(AND(Data!D772<>\"\",Data!D772 > 0),Data!D772,\"\")","v":""}]
[{"$f":"IF(D772<>\"\",Data!A773,\"\")","v":""},{"$f":"IF(D772<>\"\",Data!B773,\"\")","v":""},"",{"$f":"IF(AND(Data!D773<>\"\",Data!D773 > 0),Data!D773,\"\")","v":""}]
[{"$f":"IF(D773<>\"\",Data!A774,\"\")","v":""},{"$f":"IF(D773<>\"\",Data!B774,\"\")","v":""},"",{"$f":"IF(AND(Data!D774<>\"\",Data!D774 > 0),Data!D774,\"\")","v":""}]
[{"$f":"IF(D774<>\"\",Data!A775,\"\")","v":""},{"$f":"IF(D774<>\"\",Data!B775,\"\")","v":""},"",{"$f":"IF(AND(Data!D775<>\"\",Data!D775 > 0),Data!D775,\"\")","v":""}]
[{"$f":"IF(D775<>\"\",Data!A776,\"\")","v":""},{"$f":"IF(D775<>\"\",Data!B776,\"\")","v":""},"",{"$f":"IF(AND(Data!D776<>\"\",Data!D776 > 0),Data!D776,\"\")","v":""}]
[{"$f":"IF(D776<>\"\",Data!A777,\"\")","v":""},{"$f":"IF(D776<>\"\",Data!B777,\"\")","v":""},"",{"$f":"IF(AND(Data!D777<>\"\",Data!D777 > 0),Data!D777,\"\")","v":""}]
[{"$f":"IF(D777<>\"\",Data!A778,\"\")","v":""},{"$f":"IF(D777<>\"\",Data!B778,\"\")","v":""},"",{"$f":"IF(AND(Data!D778<>\"\",Data!D778 > 0),Data!D778,\"\")","v":""}]
[{"$f":"IF(D778<>\"\",Data!A779,\"\")","v":""},{"$f":"IF(D778<>\"\",Data!B779,\"\")","v":""},"",{"$f":"IF(AND(Data!D779<>\"\",Data!D779 > 0),Data!D779,\"\")","v":""}]
[{"$f":"IF(D779<>\"\",Data!A780,\"\")","v":""},{"$f":"IF(D779<>\"\",Data!B780,\"\")","v":""},"",{"$f":"IF(AND(Data!D780<>\"\",Data!D780 > 0),Data!D780,\"\")","v":""}]
[{"$f":"IF(D780<>\"\",Data!A781,\"\")","v":""},{"$f":"IF(D780<>\"\",Data!B781,\"\")","v":""},"",{"$f":"IF(AND(Data!D781<>\"\",Data!D781 > 0),Data!D781,\"\")","v":""}]
[{"$f":"IF(D781<>\"\",Data!A782,\"\")","v":""},{"$f":"IF(D781<>\"\",Data!B782,\"\")","v":""},"",{"$f":"IF(AND(Data!D782<>\"\",Data!D782 > 0),Data!D782,\"\")","v":""}]
[{"$f":"IF(D782<>\"\",Data!A783,\"\")","v":""},{"$f":"IF(D782<>\"\",Data!B783,\"\")","v":""},"",{"$f":"IF(AND(Data!D783<>\"\",Data!D783 > 0),Data!D783,\"\")","v":""}]
[{"$f":"IF(D783<>\"\",Data!A784,\"\")","v":""},{"$f":"IF(D783<>\"\",Data!B784,\"\")","v":""},"",{"$f":"IF(AND(Data!D784<>\"\",Data!D784 > 0),Data!D784,\"\")","v":""}]
[{"$f":"IF(D784<>\"\",Data!A785,\"\")","v":""},{"$f":"IF(D784<>\"\",Data!B785,\"\")","v":""},"",{"$f":"IF(AND(Data!D785<>\"\",Data!D785 > 0),Data!D785,\"\")","v":""}]
[{"$f":"IF(D785<>\"\",Data!A786,\"\")","v":""},{"$f":"IF(D785<>\"\",Data!B786,\"\")","v":""},"",{"$f":"IF(AND(Data!D786<>\"\",Data!D786 > 0),Data!D786,\"\")","v":""}]
[{"$f":"IF(D786<>\"\",Data!A787,\"\")","v":""},{"$f":"IF(D786<>\"\",Data!B787,\"\")","v":""},"",{"$f":"IF(AND(Data!D787<>\"\",Data!D787 > 0),Data!D787,\"\")","v":""}]
[{"$f":"IF(D787<>\"\",Data!A788,\"\")","v":""},{"$f":"IF(D787<>\"\",Data!B788,\"\")","v":""},"",{"$f":"IF(AND(Data!D788<>\"\",Data!D788 > 0),Data!D788,\"\")","v":""}]
[{"$f":"IF(D788<>\"\",Data!A789,\"\")","v":""},{"$f":"IF(D788<>\"\",Data!B789,\"\")","v":""},"",{"$f":"IF(AND(Data!D789<>\"\",Data!D789 > 0),Data!D789,\"\")","v":""}]
[{"$f":"IF(D789<>\"\",Data!A790,\"\")","v":""},{"$f":"IF(D789<>\"\",Data!B790,\"\")","v":""},"",{"$f":"IF(AND(Data!D790<>\"\",Data!D790 > 0),Data!D790,\"\")","v":""}]
[{"$f":"IF(D790<>\"\",Data!A791,\"\")","v":""},{"$f":"IF(D790<>\"\",Data!B791,\"\")","v":""},"",{"$f":"IF(AND(Data!D791<>\"\",Data!D791 > 0),Data!D791,\"\")","v":""}]
[{"$f":"IF(D791<>\"\",Data!A792,\"\")","v":""},{"$f":"IF(D791<>\"\",Data!B792,\"\")","v":""},"",{"$f":"IF(AND(Data!D792<>\"\",Data!D792 > 0),Data!D792,\"\")","v":""}]
[{"$f":"IF(D792<>\"\",Data!A793,\"\")","v":""},{"$f":"IF(D792<>\"\",Data!B793,\"\")","v":""},"",{"$f":"IF(AND(Data!D793<>\"\",Data!D793 > 0),Data!D793,\"\")","v":""}]
[{"$f":"IF(D793<>\"\",Data!A794,\"\")","v":""},{"$f":"IF(D793<>\"\",Data!B794,\"\")","v":""},"",{"$f":"IF(AND(Data!D794<>\"\",Data!D794 > 0),Data!D794,\"\")","v":""}]
[{"$f":"IF(D794<>\"\",Data!A795,\"\")","v":""},{"$f":"IF(D794<>\"\",Data!B795,\"\")","v":""},"",{"$f":"IF(AND(Data!D795<>\"\",Data!D795 > 0),Data!D795,\"\")","v":""}]
[{"$f":"IF(D795<>\"\",Data!A796,\"\")","v":""},{"$f":"IF(D795<>\"\",Data!B796,\"\")","v":""},"",{"$f":"IF(AND(Data!D796<>\"\",Data!D796 > 0),Data!D796,\"\")","v":""}]
[{"$f":"IF(D796<>\"\",Data!A797,\"\")","v":""},{"$f":"IF(D796<>\"\",Data!B797,\"\")","v":""},"",{"$f":"IF(AND(Data!D797<>\"\",Data!D797 > 0),Data!D797,\"\")","v":""}]
[{"$f":"IF(D797<>\"\",Data!A798,\"\")","v":""},{"$f":"IF(D797<>\"\",Data!B798,\"\")","v":""},"",{"$f":"IF(AND(Data!D798<>\"\",Data!D798 > 0),Data!D798,\"\")","v":""}]
[{"$f":"IF(D798<>\"\",Data!A799,\"\")","v":""},{"$f":"IF(D798<>\"\",Data!B799,\"\")","v":""},"",{"$f":"IF(AND(Data!D799<>\"\",Data!D799 > 0),Data!D799,\"\")","v":""}]
[{"$f":"IF(D799<>\"\",Data!A800,\"\")","v":""},{"$f":"IF(D799<>\"\",Data!B800,\"\")","v":""},"",{"$f":"IF(AND(Data!D800<>\"\",Data!D800 > 0),Data!D800,\"\")","v":""}]
[{"$f":"IF(D800<>\"\",Data!A801,\"\")","v":""},{"$f":"IF(D800<>\"\",Data!B801,\"\")","v":""},"",{"$f":"IF(AND(Data!D801<>\"\",Data!D801 > 0),Data!D801,\"\")","v":""}]
[{"$f":"IF(D801<>\"\",Data!A802,\"\")","v":""},{"$f":"IF(D801<>\"\",Data!B802,\"\")","v":""},"",{"$f":"IF(AND(Data!D802<>\"\",Data!D802 > 0),Data!D802,\"\")","v":""}]
[{"$f":"IF(D802<>\"\",Data!A803,\"\")","v":""},{"$f":"IF(D802<>\"\",Data!B803,\"\")","v":""},"",{"$f":"IF(AND(Data!D803<>\"\",Data!D803 > 0),Data!D803,\"\")","v":""}]
[{"$f":"IF(D803<>\"\",Data!A804,\"\")","v":""},{"$f":"IF(D803<>\"\",Data!B804,\"\")","v":""},"",{"$f":"IF(AND(Data!D804<>\"\",Data!D804 > 0),Data!D804,\"\")","v":""}]
[{"$f":"IF(D804<>\"\",Data!A805,\"\")","v":""},{"$f":"IF(D804<>\"\",Data!B805,\"\")","v":""},"",{"$f":"IF(AND(Data!D805<>\"\",Data!D805 > 0),Data!D805,\"\")","v":""}]
[{"$f":"IF(D805<>\"\",Data!A806,\"\")","v":""},{"$f":"IF(D805<>\"\",Data!B806,\"\")","v":""},"",{"$f":"IF(AND(Data!D806<>\"\",Data!D806 > 0),Data!D806,\"\")","v":""}]
[{"$f":"IF(D806<>\"\",Data!A807,\"\")","v":""},{"$f":"IF(D806<>\"\",Data!B807,\"\")","v":""},"",{"$f":"IF(AND(Data!D807<>\"\",Data!D807 > 0),Data!D807,\"\")","v":""}]
[{"$f":"IF(D807<>\"\",Data!A808,\"\")","v":""},{"$f":"IF(D807<>\"\",Data!B808,\"\")","v":""},"",{"$f":"IF(AND(Data!D808<>\"\",Data!D808 > 0),Data!D808,\"\")","v":""}]
[{"$f":"IF(D808<>\"\",Data!A809,\"\")","v":""},{"$f":"IF(D808<>\"\",Data!B809,\"\")","v":""},"",{"$f":"IF(AND(Data!D809<>\"\",Data!D809 > 0),Data!D809,\"\")","v":""}]
[{"$f":"IF(D809<>\"\",Data!A810,\"\")","v":""},{"$f":"IF(D809<>\"\",Data!B810,\"\")","v":""},"",{"$f":"IF(AND(Data!D810<>\"\",Data!D810 > 0),Data!D810,\"\")","v":""}]
[{"$f":"IF(D810<>\"\",Data!A811,\"\")","v":""},{"$f":"IF(D810<>\"\",Data!B811,\"\")","v":""},"",{"$f":"IF(AND(Data!D811<>\"\",Data!D811 > 0),Data!D811,\"\")","v":""}]
[{"$f":"IF(D811<>\"\",Data!A812,\"\")","v":""},{"$f":"IF(D811<>\"\",Data!B812,\"\")","v":""},"",{"$f":"IF(AND(Data!D812<>\"\",Data!D812 > 0),Data!D812,\"\")","v":""}]
[{"$f":"IF(D812<>\"\",Data!A813,\"\")","v":""},{"$f":"IF(D812<>\"\",Data!B813,\"\")","v":""},"",{"$f":"IF(AND(Data!D813<>\"\",Data!D813 > 0),Data!D813,\"\")","v":""}]
[{"$f":"IF(D813<>\"\",Data!A814,\"\")","v":""},{"$f":"IF(D813<>\"\",Data!B814,\"\")","v":""},"",{"$f":"IF(AND(Data!D814<>\"\",Data!D814 > 0),Data!D814,\"\")","v":""}]
[{"$f":"IF(D814<>\"\",Data!A815,\"\")","v":""},{"$f":"IF(D814<>\"\",Data!B815,\"\")","v":""},"",{"$f":"IF(AND(Data!D815<>\"\",Data!D815 > 0),Data!D815,\"\")","v":""}]
[{"$f":"IF(D815<>\"\",Data!A816,\"\")","v":""},{"$f":"IF(D815<>\"\",Data!B816,\"\")","v":""},"",{"$f":"IF(AND(Data!D816<>\"\",Data!D816 > 0),Data!D816,\"\")","v":""}]
[{"$f":"IF(D816<>\"\",Data!A817,\"\")","v":""},{"$f":"IF(D816<>\"\",Data!B817,\"\")","v":""},"",{"$f":"IF(AND(Data!D817<>\"\",Data!D817 > 0),Data!D817,\"\")","v":""}]
[{"$f":"IF(D817<>\"\",Data!A818,\"\")","v":""},{"$f":"IF(D817<>\"\",Data!B818,\"\")","v":""},"",{"$f":"IF(AND(Data!D818<>\"\",Data!D818 > 0),Data!D818,\"\")","v":""}]
[{"$f":"IF(D818<>\"\",Data!A819,\"\")","v":""},{"$f":"IF(D818<>\"\",Data!B819,\"\")","v":""},"",{"$f":"IF(AND(Data!D819<>\"\",Data!D819 > 0),Data!D819,\"\")","v":""}]
[{"$f":"IF(D819<>\"\",Data!A820,\"\")","v":""},{"$f":"IF(D819<>\"\",Data!B820,\"\")","v":""},"",{"$f":"IF(AND(Data!D820<>\"\",Data!D820 > 0),Data!D820,\"\")","v":""}]
[{"$f":"IF(D820<>\"\",Data!A821,\"\")","v":""},{"$f":"IF(D820<>\"\",Data!B821,\"\")","v":""},"",{"$f":"IF(AND(Data!D821<>\"\",Data!D821 > 0),Data!D821,\"\")","v":""}]
[{"$f":"IF(D821<>\"\",Data!A822,\"\")","v":""},{"$f":"IF(D821<>\"\",Data!B822,\"\")","v":""},"",{"$f":"IF(AND(Data!D822<>\"\",Data!D822 > 0),Data!D822,\"\")","v":""}]
[{"$f":"IF(D822<>\"\",Data!A823,\"\")","v":""},{"$f":"IF(D822<>\"\",Data!B823,\"\")","v":""},"",{"$f":"IF(AND(Data!D823<>\"\",Data!D823 > 0),Data!D823,\"\")","v":""}]
[{"$f":"IF(D823<>\"\",Data!A824,\"\")","v":""},{"$f":"IF(D823<>\"\",Data!B824,\"\")","v":""},"",{"$f":"IF(AND(Data!D824<>\"\",Data!D824 > 0),Data!D824,\"\")","v":""}]
[{"$f":"IF(D824<>\"\",Data!A825,\"\")","v":""},{"$f":"IF(D824<>\"\",Data!B825,\"\")","v":""},"",{"$f":"IF(AND(Data!D825<>\"\",Data!D825 > 0),Data!D825,\"\")","v":""}]
[{"$f":"IF(D825<>\"\",Data!A826,\"\")","v":""},{"$f":"IF(D825<>\"\",Data!B826,\"\")","v":""},"",{"$f":"IF(AND(Data!D826<>\"\",Data!D826 > 0),Data!D826,\"\")","v":""}]
[{"$f":"IF(D826<>\"\",Data!A827,\"\")","v":""},{"$f":"IF(D826<>\"\",Data!B827,\"\")","v":""},"",{"$f":"IF(AND(Data!D827<>\"\",Data!D827 > 0),Data!D827,\"\")","v":""}]
[{"$f":"IF(D827<>\"\",Data!A828,\"\")","v":""},{"$f":"IF(D827<>\"\",Data!B828,\"\")","v":""},"",{"$f":"IF(AND(Data!D828<>\"\",Data!D828 > 0),Data!D828,\"\")","v":""}]
[{"$f":"IF(D828<>\"\",Data!A829,\"\")","v":""},{"$f":"IF(D828<>\"\",Data!B829,\"\")","v":""},"",{"$f":"IF(AND(Data!D829<>\"\",Data!D829 > 0),Data!D829,\"\")","v":""}]
[{"$f":"IF(D829<>\"\",Data!A830,\"\")","v":""},{"$f":"IF(D829<>\"\",Data!B830,\"\")","v":""},"",{"$f":"IF(AND(Data!D830<>\"\",Data!D830 > 0),Data!D830,\"\")","v":""}]
[{"$f":"IF(D830<>\"\",Data!A831,\"\")","v":""},{"$f":"IF(D830<>\"\",Data!B831,\"\")","v":""},"",{"$f":"IF(AND(Data!D831<>\"\",Data!D831 > 0),Data!D831,\"\")","v":""}]
[{"$f":"IF(D831<>\"\",Data!A832,\"\")","v":""},{"$f":"IF(D831<>\"\",Data!B832,\"\")","v":""},"",{"$f":"IF(AND(Data!D832<>\"\",Data!D832 > 0),Data!D832,\"\")","v":""}]
[{"$f":"IF(D832<>\"\",Data!A833,\"\")","v":""},{"$f":"IF(D832<>\"\",Data!B833,\"\")","v":""},"",{"$f":"IF(AND(Data!D833<>\"\",Data!D833 > 0),Data!D833,\"\")","v":""}]
[{"$f":"IF(D833<>\"\",Data!A834,\"\")","v":""},{"$f":"IF(D833<>\"\",Data!B834,\"\")","v":""},"",{"$f":"IF(AND(Data!D834<>\"\",Data!D834 > 0),Data!D834,\"\")","v":""}]
[{"$f":"IF(D834<>\"\",Data!A835,\"\")","v":""},{"$f":"IF(D834<>\"\",Data!B835,\"\")","v":""},{"$f":"IF(D834<>\"\",MID(CELL(\"filename\",B834),FIND(\"]\",CELL(\"filename\",B834))+1,32),\"\")","v":""},{"$f":"IF(AND(Data!D835<>\"\",Data!D835 > 0),Data!D835,\"\")","v":""}]
[{"$f":"IF(D835<>\"\",Data!A836,\"\")","v":""},{"$f":"IF(D835<>\"\",Data!B836,\"\")","v":""},"",{"$f":"IF(AND(Data!D836<>\"\",Data!D836 > 0),Data!D836,\"\")","v":""}]
[{"$f":"IF(D836<>\"\",Data!A837,\"\")","v":""},{"$f":"IF(D836<>\"\",Data!B837,\"\")","v":""},"",{"$f":"IF(AND(Data!D837<>\"\",Data!D837 > 0),Data!D837,\"\")","v":""}]
[{"$f":"IF(D837<>\"\",Data!A838,\"\")","v":""},{"$f":"IF(D837<>\"\",Data!B838,\"\")","v":""},"",{"$f":"IF(AND(Data!D838<>\"\",Data!D838 > 0),Data!D838,\"\")","v":""}]
[{"$f":"IF(D838<>\"\",Data!A839,\"\")","v":""},{"$f":"IF(D838<>\"\",Data!B839,\"\")","v":""},"",{"$f":"IF(AND(Data!D839<>\"\",Data!D839 > 0),Data!D839,\"\")","v":""}]
[{"$f":"IF(D839<>\"\",Data!A840,\"\")","v":""},{"$f":"IF(D839<>\"\",Data!B840,\"\")","v":""},"",{"$f":"IF(AND(Data!D840<>\"\",Data!D840 > 0),Data!D840,\"\")","v":""}]
[{"$f":"IF(D840<>\"\",Data!A841,\"\")","v":""},{"$f":"IF(D840<>\"\",Data!B841,\"\")","v":""},"",{"$f":"IF(AND(Data!D841<>\"\",Data!D841 > 0),Data!D841,\"\")","v":""}]
[{"$f":"IF(D841<>\"\",Data!A842,\"\")","v":""},{"$f":"IF(D841<>\"\",Data!B842,\"\")","v":""},"",{"$f":"IF(AND(Data!D842<>\"\",Data!D842 > 0),Data!D842,\"\")","v":""}]
[{"$f":"IF(D842<>\"\",Data!A843,\"\")","v":""},{"$f":"IF(D842<>\"\",Data!B843,\"\")","v":""},"",{"$f":"IF(AND(Data!D843<>\"\",Data!D843 > 0),Data!D843,\"\")","v":""}]
[{"$f":"IF(D843<>\"\",Data!A844,\"\")","v":""},{"$f":"IF(D843<>\"\",Data!B844,\"\")","v":""},"",{"$f":"IF(AND(Data!D844<>\"\",Data!D844 > 0),Data!D844,\"\")","v":""}]
[{"$f":"IF(D844<>\"\",Data!A845,\"\")","v":""},{"$f":"IF(D844<>\"\",Data!B845,\"\")","v":""},"",{"$f":"IF(AND(Data!D845<>\"\",Data!D845 > 0),Data!D845,\"\")","v":""}]
[{"$f":"IF(D845<>\"\",Data!A846,\"\")","v":""},{"$f":"IF(D845<>\"\",Data!B846,\"\")","v":""},"",{"$f":"IF(AND(Data!D846<>\"\",Data!D846 > 0),Data!D846,\"\")","v":""}]
[{"$f":"IF(D846<>\"\",Data!A847,\"\")","v":""},{"$f":"IF(D846<>\"\",Data!B847,\"\")","v":""},"",{"$f":"IF(AND(Data!D847<>\"\",Data!D847 > 0),Data!D847,\"\")","v":""}]
[{"$f":"IF(D847<>\"\",Data!A848,\"\")","v":""},{"$f":"IF(D847<>\"\",Data!B848,\"\")","v":""},"",{"$f":"IF(AND(Data!D848<>\"\",Data!D848 > 0),Data!D848,\"\")","v":""}]
[{"$f":"IF(D848<>\"\",Data!A849,\"\")","v":""},{"$f":"IF(D848<>\"\",Data!B849,\"\")","v":""},"",{"$f":"IF(AND(Data!D849<>\"\",Data!D849 > 0),Data!D849,\"\")","v":""}]
[{"$f":"IF(D849<>\"\",Data!A850,\"\")","v":""},{"$f":"IF(D849<>\"\",Data!B850,\"\")","v":""},"",{"$f":"IF(AND(Data!D850<>\"\",Data!D850 > 0),Data!D850,\"\")","v":""}]
[{"$f":"IF(D850<>\"\",Data!A851,\"\")","v":""},{"$f":"IF(D850<>\"\",Data!B851,\"\")","v":""},"",{"$f":"IF(AND(Data!D851<>\"\",Data!D851 > 0),Data!D851,\"\")","v":""}]
[{"$f":"IF(D851<>\"\",Data!A852,\"\")","v":""},{"$f":"IF(D851<>\"\",Data!B852,\"\")","v":""},"",{"$f":"IF(AND(Data!D852<>\"\",Data!D852 > 0),Data!D852,\"\")","v":""}]
[{"$f":"IF(D852<>\"\",Data!A853,\"\")","v":""},{"$f":"IF(D852<>\"\",Data!B853,\"\")","v":""},"",{"$f":"IF(AND(Data!D853<>\"\",Data!D853 > 0),Data!D853,\"\")","v":""}]
[{"$f":"IF(D853<>\"\",Data!A854,\"\")","v":""},{"$f":"IF(D853<>\"\",Data!B854,\"\")","v":""},"",{"$f":"IF(AND(Data!D854<>\"\",Data!D854 > 0),Data!D854,\"\")","v":""}]
[{"$f":"IF(D854<>\"\",Data!A855,\"\")","v":""},{"$f":"IF(D854<>\"\",Data!B855,\"\")","v":""},"",{"$f":"IF(AND(Data!D855<>\"\",Data!D855 > 0),Data!D855,\"\")","v":""}]
[{"$f":"IF(D855<>\"\",Data!A856,\"\")","v":""},{"$f":"IF(D855<>\"\",Data!B856,\"\")","v":""},"",{"$f":"IF(AND(Data!D856<>\"\",Data!D856 > 0),Data!D856,\"\")","v":""}]
[{"$f":"IF(D856<>\"\",Data!A857,\"\")","v":""},{"$f":"IF(D856<>\"\",Data!B857,\"\")","v":""},"",{"$f":"IF(AND(Data!D857<>\"\",Data!D857 > 0),Data!D857,\"\")","v":""}]
[{"$f":"IF(D857<>\"\",Data!A858,\"\")","v":""},{"$f":"IF(D857<>\"\",Data!B858,\"\")","v":""},"",{"$f":"IF(AND(Data!D858<>\"\",Data!D858 > 0),Data!D858,\"\")","v":""}]
[{"$f":"IF(D858<>\"\",Data!A859,\"\")","v":""},{"$f":"IF(D858<>\"\",Data!B859,\"\")","v":""},"",{"$f":"IF(AND(Data!D859<>\"\",Data!D859 > 0),Data!D859,\"\")","v":""}]
[{"$f":"IF(D859<>\"\",Data!A860,\"\")","v":""},{"$f":"IF(D859<>\"\",Data!B860,\"\")","v":""},"",{"$f":"IF(AND(Data!D860<>\"\",Data!D860 > 0),Data!D860,\"\")","v":""}]
[{"$f":"IF(D860<>\"\",Data!A861,\"\")","v":""},{"$f":"IF(D860<>\"\",Data!B861,\"\")","v":""},"",{"$f":"IF(AND(Data!D861<>\"\",Data!D861 > 0),Data!D861,\"\")","v":""}]
[{"$f":"IF(D861<>\"\",Data!A862,\"\")","v":""},{"$f":"IF(D861<>\"\",Data!B862,\"\")","v":""},"",{"$f":"IF(AND(Data!D862<>\"\",Data!D862 > 0),Data!D862,\"\")","v":""}]
[{"$f":"IF(D862<>\"\",Data!A863,\"\")","v":""},{"$f":"IF(D862<>\"\",Data!B863,\"\")","v":""},"",{"$f":"IF(AND(Data!D863<>\"\",Data!D863 > 0),Data!D863,\"\")","v":""}]
[{"$f":"IF(D863<>\"\",Data!A864,\"\")","v":""},{"$f":"IF(D863<>\"\",Data!B864,\"\")","v":""},"",{"$f":"IF(AND(Data!D864<>\"\",Data!D864 > 0),Data!D864,\"\")","v":""}]
[{"$f":"IF(D864<>\"\",Data!A865,\"\")","v":""},{"$f":"IF(D864<>\"\",Data!B865,\"\")","v":""},"",{"$f":"IF(AND(Data!D865<>\"\",Data!D865 > 0),Data!D865,\"\")","v":""}]
[{"$f":"IF(D865<>\"\",Data!A866,\"\")","v":""},{"$f":"IF(D865<>\"\",Data!B866,\"\")","v":""},"",{"$f":"IF(AND(Data!D866<>\"\",Data!D866 > 0),Data!D866,\"\")","v":""}]
[{"$f":"IF(D866<>\"\",Data!A867,\"\")","v":""},{"$f":"IF(D866<>\"\",Data!B867,\"\")","v":""},"",{"$f":"IF(AND(Data!D867<>\"\",Data!D867 > 0),Data!D867,\"\")","v":""}]
[{"$f":"IF(D867<>\"\",Data!A868,\"\")","v":""},{"$f":"IF(D867<>\"\",Data!B868,\"\")","v":""},"",{"$f":"IF(AND(Data!D868<>\"\",Data!D868 > 0),Data!D868,\"\")","v":""}]
[{"$f":"IF(D868<>\"\",Data!A869,\"\")","v":""},{"$f":"IF(D868<>\"\",Data!B869,\"\")","v":""},"",{"$f":"IF(AND(Data!D869<>\"\",Data!D869 > 0),Data!D869,\"\")","v":""}]
[{"$f":"IF(D869<>\"\",Data!A870,\"\")","v":""},{"$f":"IF(D869<>\"\",Data!B870,\"\")","v":""},"",{"$f":"IF(AND(Data!D870<>\"\",Data!D870 > 0),Data!D870,\"\")","v":""}]
[{"$f":"IF(D870<>\"\",Data!A871,\"\")","v":""},{"$f":"IF(D870<>\"\",Data!B871,\"\")","v":""},"",{"$f":"IF(AND(Data!D871<>\"\",Data!D871 > 0),Data!D871,\"\")","v":""}]
[{"$f":"IF(D871<>\"\",Data!A872,\"\")","v":""},{"$f":"IF(D871<>\"\",Data!B872,\"\")","v":""},"",{"$f":"IF(AND(Data!D872<>\"\",Data!D872 > 0),Data!D872,\"\")","v":""}]
[{"$f":"IF(D872<>\"\",Data!A873,\"\")","v":""},{"$f":"IF(D872<>\"\",Data!B873,\"\")","v":""},"",{"$f":"IF(AND(Data!D873<>\"\",Data!D873 > 0),Data!D873,\"\")","v":""}]
[{"$f":"IF(D873<>\"\",Data!A874,\"\")","v":""},{"$f":"IF(D873<>\"\",Data!B874,\"\")","v":""},"",{"$f":"IF(AND(Data!D874<>\"\",Data!D874 > 0),Data!D874,\"\")","v":""}]
[{"$f":"IF(D874<>\"\",Data!A875,\"\")","v":""},{"$f":"IF(D874<>\"\",Data!B875,\"\")","v":""},"",{"$f":"IF(AND(Data!D875<>\"\",Data!D875 > 0),Data!D875,\"\")","v":""}]
[{"$f":"IF(D875<>\"\",Data!A876,\"\")","v":""},{"$f":"IF(D875<>\"\",Data!B876,\"\")","v":""},"",{"$f":"IF(AND(Data!D876<>\"\",Data!D876 > 0),Data!D876,\"\")","v":""}]
[{"$f":"IF(D876<>\"\",Data!A877,\"\")","v":""},{"$f":"IF(D876<>\"\",Data!B877,\"\")","v":""},"",{"$f":"IF(AND(Data!D877<>\"\",Data!D877 > 0),Data!D877,\"\")","v":""}]
[{"$f":"IF(D877<>\"\",Data!A878,\"\")","v":""},{"$f":"IF(D877<>\"\",Data!B878,\"\")","v":""},"",{"$f":"IF(AND(Data!D878<>\"\",Data!D878 > 0),Data!D878,\"\")","v":""}]
[{"$f":"IF(D878<>\"\",Data!A879,\"\")","v":""},{"$f":"IF(D878<>\"\",Data!B879,\"\")","v":""},"",{"$f":"IF(AND(Data!D879<>\"\",Data!D879 > 0),Data!D879,\"\")","v":""}]
[{"$f":"IF(D879<>\"\",Data!A880,\"\")","v":""},{"$f":"IF(D879<>\"\",Data!B880,\"\")","v":""},"",{"$f":"IF(AND(Data!D880<>\"\",Data!D880 > 0),Data!D880,\"\")","v":""}]
[{"$f":"IF(D880<>\"\",Data!A881,\"\")","v":""},{"$f":"IF(D880<>\"\",Data!B881,\"\")","v":""},"",{"$f":"IF(AND(Data!D881<>\"\",Data!D881 > 0),Data!D881,\"\")","v":""}]
[{"$f":"IF(D881<>\"\",Data!A882,\"\")","v":""},{"$f":"IF(D881<>\"\",Data!B882,\"\")","v":""},"",{"$f":"IF(AND(Data!D882<>\"\",Data!D882 > 0),Data!D882,\"\")","v":""}]
[{"$f":"IF(D882<>\"\",Data!A883,\"\")","v":""},{"$f":"IF(D882<>\"\",Data!B883,\"\")","v":""},"",{"$f":"IF(AND(Data!D883<>\"\",Data!D883 > 0),Data!D883,\"\")","v":""}]
[{"$f":"IF(D883<>\"\",Data!A884,\"\")","v":""},{"$f":"IF(D883<>\"\",Data!B884,\"\")","v":""},"",{"$f":"IF(AND(Data!D884<>\"\",Data!D884 > 0),Data!D884,\"\")","v":""}]
[{"$f":"IF(D884<>\"\",Data!A885,\"\")","v":""},{"$f":"IF(D884<>\"\",Data!B885,\"\")","v":""},"",{"$f":"IF(AND(Data!D885<>\"\",Data!D885 > 0),Data!D885,\"\")","v":""}]
[{"$f":"IF(D885<>\"\",Data!A886,\"\")","v":""},{"$f":"IF(D885<>\"\",Data!B886,\"\")","v":""},"",{"$f":"IF(AND(Data!D886<>\"\",Data!D886 > 0),Data!D886,\"\")","v":""}]
[{"$f":"IF(D886<>\"\",Data!A887,\"\")","v":""},{"$f":"IF(D886<>\"\",Data!B887,\"\")","v":""},"",{"$f":"IF(AND(Data!D887<>\"\",Data!D887 > 0),Data!D887,\"\")","v":""}]
[{"$f":"IF(D887<>\"\",Data!A888,\"\")","v":""},{"$f":"IF(D887<>\"\",Data!B888,\"\")","v":""},"",{"$f":"IF(AND(Data!D888<>\"\",Data!D888 > 0),Data!D888,\"\")","v":""}]
[{"$f":"IF(D888<>\"\",Data!A889,\"\")","v":""},{"$f":"IF(D888<>\"\",Data!B889,\"\")","v":""},"",{"$f":"IF(AND(Data!D889<>\"\",Data!D889 > 0),Data!D889,\"\")","v":""}]
[{"$f":"IF(D889<>\"\",Data!A890,\"\")","v":""},{"$f":"IF(D889<>\"\",Data!B890,\"\")","v":""},"",{"$f":"IF(AND(Data!D890<>\"\",Data!D890 > 0),Data!D890,\"\")","v":""}]
[{"$f":"IF(D890<>\"\",Data!A891,\"\")","v":""},{"$f":"IF(D890<>\"\",Data!B891,\"\")","v":""},"",{"$f":"IF(AND(Data!D891<>\"\",Data!D891 > 0),Data!D891,\"\")","v":""}]
[{"$f":"IF(D891<>\"\",Data!A892,\"\")","v":""},{"$f":"IF(D891<>\"\",Data!B892,\"\")","v":""},"",{"$f":"IF(AND(Data!D892<>\"\",Data!D892 > 0),Data!D892,\"\")","v":""}]
[{"$f":"IF(D892<>\"\",Data!A893,\"\")","v":""},{"$f":"IF(D892<>\"\",Data!B893,\"\")","v":""},"",{"$f":"IF(AND(Data!D893<>\"\",Data!D893 > 0),Data!D893,\"\")","v":""}]
[{"$f":"IF(D893<>\"\",Data!A894,\"\")","v":""},{"$f":"IF(D893<>\"\",Data!B894,\"\")","v":""},"",{"$f":"IF(AND(Data!D894<>\"\",Data!D894 > 0),Data!D894,\"\")","v":""}]
[{"$f":"IF(D894<>\"\",Data!A895,\"\")","v":""},{"$f":"IF(D894<>\"\",Data!B895,\"\")","v":""},"",{"$f":"IF(AND(Data!D895<>\"\",Data!D895 > 0),Data!D895,\"\")","v":""}]
[{"$f":"IF(D895<>\"\",Data!A896,\"\")","v":""},{"$f":"IF(D895<>\"\",Data!B896,\"\")","v":""},"",{"$f":"IF(AND(Data!D896<>\"\",Data!D896 > 0),Data!D896,\"\")","v":""}]
[{"$f":"IF(D896<>\"\",Data!A897,\"\")","v":""},{"$f":"IF(D896<>\"\",Data!B897,\"\")","v":""},"",{"$f":"IF(AND(Data!D897<>\"\",Data!D897 > 0),Data!D897,\"\")","v":""}]
[{"$f":"IF(D897<>\"\",Data!A898,\"\")","v":""},{"$f":"IF(D897<>\"\",Data!B898,\"\")","v":""},"",{"$f":"IF(AND(Data!D898<>\"\",Data!D898 > 0),Data!D898,\"\")","v":""}]
[{"$f":"IF(D898<>\"\",Data!A899,\"\")","v":""},{"$f":"IF(D898<>\"\",Data!B899,\"\")","v":""},{"$f":"IF(D898<>\"\",MID(CELL(\"filename\",B898),FIND(\"]\",CELL(\"filename\",B898))+1,32),\"\")","v":""},{"$f":"IF(AND(Data!D899<>\"\",Data!D899 > 0),Data!D899,\"\")","v":""}]
[{"$f":"IF(D899<>\"\",Data!A900,\"\")","v":""},{"$f":"IF(D899<>\"\",Data!B900,\"\")","v":""},"",{"$f":"IF(AND(Data!D900<>\"\",Data!D900 > 0),Data!D900,\"\")","v":""}]
[{"$f":"IF(D900<>\"\",Data!A901,\"\")","v":""},{"$f":"IF(D900<>\"\",Data!B901,\"\")","v":""},"",{"$f":"IF(AND(Data!D901<>\"\",Data!D901 > 0),Data!D901,\"\")","v":""}]
[{"$f":"IF(D901<>\"\",Data!A902,\"\")","v":""},{"$f":"IF(D901<>\"\",Data!B902,\"\")","v":""},"",{"$f":"IF(AND(Data!D902<>\"\",Data!D902 > 0),Data!D902,\"\")","v":""}]
[{"$f":"IF(D902<>\"\",Data!A903,\"\")","v":""},{"$f":"IF(D902<>\"\",Data!B903,\"\")","v":""},"",{"$f":"IF(AND(Data!D903<>\"\",Data!D903 > 0),Data!D903,\"\")","v":""}]
[{"$f":"IF(D903<>\"\",Data!A904,\"\")","v":""},{"$f":"IF(D903<>\"\",Data!B904,\"\")","v":""},"",{"$f":"IF(AND(Data!D904<>\"\",Data!D904 > 0),Data!D904,\"\")","v":""}]
[{"$f":"IF(D904<>\"\",Data!A905,\"\")","v":""},{"$f":"IF(D904<>\"\",Data!B905,\"\")","v":""},"",{"$f":"IF(AND(Data!D905<>\"\",Data!D905 > 0),Data!D905,\"\")","v":""}]
[{"$f":"IF(D905<>\"\",Data!A906,\"\")","v":""},{"$f":"IF(D905<>\"\",Data!B906,\"\")","v":""},"",{"$f":"IF(AND(Data!D906<>\"\",Data!D906 > 0),Data!D906,\"\")","v":""}]
[{"$f":"IF(D906<>\"\",Data!A907,\"\")","v":""},{"$f":"IF(D906<>\"\",Data!B907,\"\")","v":""},"",{"$f":"IF(AND(Data!D907<>\"\",Data!D907 > 0),Data!D907,\"\")","v":""}]
[{"$f":"IF(D907<>\"\",Data!A908,\"\")","v":""},{"$f":"IF(D907<>\"\",Data!B908,\"\")","v":""},"",{"$f":"IF(AND(Data!D908<>\"\",Data!D908 > 0),Data!D908,\"\")","v":""}]
[{"$f":"IF(D908<>\"\",Data!A909,\"\")","v":""},{"$f":"IF(D908<>\"\",Data!B909,\"\")","v":""},"",{"$f":"IF(AND(Data!D909<>\"\",Data!D909 > 0),Data!D909,\"\")","v":""}]
[{"$f":"IF(D909<>\"\",Data!A910,\"\")","v":""},{"$f":"IF(D909<>\"\",Data!B910,\"\")","v":""},"",{"$f":"IF(AND(Data!D910<>\"\",Data!D910 > 0),Data!D910,\"\")","v":""}]
[{"$f":"IF(D910<>\"\",Data!A911,\"\")","v":""},{"$f":"IF(D910<>\"\",Data!B911,\"\")","v":""},"",{"$f":"IF(AND(Data!D911<>\"\",Data!D911 > 0),Data!D911,\"\")","v":""}]
[{"$f":"IF(D911<>\"\",Data!A912,\"\")","v":""},{"$f":"IF(D911<>\"\",Data!B912,\"\")","v":""},"",{"$f":"IF(AND(Data!D912<>\"\",Data!D912 > 0),Data!D912,\"\")","v":""}]
[{"$f":"IF(D912<>\"\",Data!A913,\"\")","v":""},{"$f":"IF(D912<>\"\",Data!B913,\"\")","v":""},"",{"$f":"IF(AND(Data!D913<>\"\",Data!D913 > 0),Data!D913,\"\")","v":""}]
[{"$f":"IF(D913<>\"\",Data!A914,\"\")","v":""},{"$f":"IF(D913<>\"\",Data!B914,\"\")","v":""},"",{"$f":"IF(AND(Data!D914<>\"\",Data!D914 > 0),Data!D914,\"\")","v":""}]
[{"$f":"IF(D914<>\"\",Data!A915,\"\")","v":""},{"$f":"IF(D914<>\"\",Data!B915,\"\")","v":""},"",{"$f":"IF(AND(Data!D915<>\"\",Data!D915 > 0),Data!D915,\"\")","v":""}]
[{"$f":"IF(D915<>\"\",Data!A916,\"\")","v":""},{"$f":"IF(D915<>\"\",Data!B916,\"\")","v":""},"",{"$f":"IF(AND(Data!D916<>\"\",Data!D916 > 0),Data!D916,\"\")","v":""}]
[{"$f":"IF(D916<>\"\",Data!A917,\"\")","v":""},{"$f":"IF(D916<>\"\",Data!B917,\"\")","v":""},"",{"$f":"IF(AND(Data!D917<>\"\",Data!D917 > 0),Data!D917,\"\")","v":""}]
[{"$f":"IF(D917<>\"\",Data!A918,\"\")","v":""},{"$f":"IF(D917<>\"\",Data!B918,\"\")","v":""},"",{"$f":"IF(AND(Data!D918<>\"\",Data!D918 > 0),Data!D918,\"\")","v":""}]
[{"$f":"IF(D918<>\"\",Data!A919,\"\")","v":""},{"$f":"IF(D918<>\"\",Data!B919,\"\")","v":""},"",{"$f":"IF(AND(Data!D919<>\"\",Data!D919 > 0),Data!D919,\"\")","v":""}]
[{"$f":"IF(D919<>\"\",Data!A920,\"\")","v":""},{"$f":"IF(D919<>\"\",Data!B920,\"\")","v":""},"",{"$f":"IF(AND(Data!D920<>\"\",Data!D920 > 0),Data!D920,\"\")","v":""}]
[{"$f":"IF(D920<>\"\",Data!A921,\"\")","v":""},{"$f":"IF(D920<>\"\",Data!B921,\"\")","v":""},"",{"$f":"IF(AND(Data!D921<>\"\",Data!D921 > 0),Data!D921,\"\")","v":""}]
[{"$f":"IF(D921<>\"\",Data!A922,\"\")","v":""},{"$f":"IF(D921<>\"\",Data!B922,\"\")","v":""},"",{"$f":"IF(AND(Data!D922<>\"\",Data!D922 > 0),Data!D922,\"\")","v":""}]
[{"$f":"IF(D922<>\"\",Data!A923,\"\")","v":""},{"$f":"IF(D922<>\"\",Data!B923,\"\")","v":""},"",{"$f":"IF(AND(Data!D923<>\"\",Data!D923 > 0),Data!D923,\"\")","v":""}]
[{"$f":"IF(D923<>\"\",Data!A924,\"\")","v":""},{"$f":"IF(D923<>\"\",Data!B924,\"\")","v":""},"",{"$f":"IF(AND(Data!D924<>\"\",Data!D924 > 0),Data!D924,\"\")","v":""}]
[{"$f":"IF(D924<>\"\",Data!A925,\"\")","v":""},{"$f":"IF(D924<>\"\",Data!B925,\"\")","v":""},"",{"$f":"IF(AND(Data!D925<>\"\",Data!D925 > 0),Data!D925,\"\")","v":""}]
[{"$f":"IF(D925<>\"\",Data!A926,\"\")","v":""},{"$f":"IF(D925<>\"\",Data!B926,\"\")","v":""},"",{"$f":"IF(AND(Data!D926<>\"\",Data!D926 > 0),Data!D926,\"\")","v":""}]
[{"$f":"IF(D926<>\"\",Data!A927,\"\")","v":""},{"$f":"IF(D926<>\"\",Data!B927,\"\")","v":""},"",{"$f":"IF(AND(Data!D927<>\"\",Data!D927 > 0),Data!D927,\"\")","v":""}]
[{"$f":"IF(D927<>\"\",Data!A928,\"\")","v":""},{"$f":"IF(D927<>\"\",Data!B928,\"\")","v":""},"",{"$f":"IF(AND(Data!D928<>\"\",Data!D928 > 0),Data!D928,\"\")","v":""}]
[{"$f":"IF(D928<>\"\",Data!A929,\"\")","v":""},{"$f":"IF(D928<>\"\",Data!B929,\"\")","v":""},"",{"$f":"IF(AND(Data!D929<>\"\",Data!D929 > 0),Data!D929,\"\")","v":""}]
[{"$f":"IF(D929<>\"\",Data!A930,\"\")","v":""},{"$f":"IF(D929<>\"\",Data!B930,\"\")","v":""},"",{"$f":"IF(AND(Data!D930<>\"\",Data!D930 > 0),Data!D930,\"\")","v":""}]
[{"$f":"IF(D930<>\"\",Data!A931,\"\")","v":""},{"$f":"IF(D930<>\"\",Data!B931,\"\")","v":""},"",{"$f":"IF(AND(Data!D931<>\"\",Data!D931 > 0),Data!D931,\"\")","v":""}]
[{"$f":"IF(D931<>\"\",Data!A932,\"\")","v":""},{"$f":"IF(D931<>\"\",Data!B932,\"\")","v":""},"",{"$f":"IF(AND(Data!D932<>\"\",Data!D932 > 0),Data!D932,\"\")","v":""}]
[{"$f":"IF(D932<>\"\",Data!A933,\"\")","v":""},{"$f":"IF(D932<>\"\",Data!B933,\"\")","v":""},"",{"$f":"IF(AND(Data!D933<>\"\",Data!D933 > 0),Data!D933,\"\")","v":""}]
[{"$f":"IF(D933<>\"\",Data!A934,\"\")","v":""},{"$f":"IF(D933<>\"\",Data!B934,\"\")","v":""},"",{"$f":"IF(AND(Data!D934<>\"\",Data!D934 > 0),Data!D934,\"\")","v":""}]
[{"$f":"IF(D934<>\"\",Data!A935,\"\")","v":""},{"$f":"IF(D934<>\"\",Data!B935,\"\")","v":""},"",{"$f":"IF(AND(Data!D935<>\"\",Data!D935 > 0),Data!D935,\"\")","v":""}]
[{"$f":"IF(D935<>\"\",Data!A936,\"\")","v":""},{"$f":"IF(D935<>\"\",Data!B936,\"\")","v":""},"",{"$f":"IF(AND(Data!D936<>\"\",Data!D936 > 0),Data!D936,\"\")","v":""}]
[{"$f":"IF(D936<>\"\",Data!A937,\"\")","v":""},{"$f":"IF(D936<>\"\",Data!B937,\"\")","v":""},"",{"$f":"IF(AND(Data!D937<>\"\",Data!D937 > 0),Data!D937,\"\")","v":""}]
[{"$f":"IF(D937<>\"\",Data!A938,\"\")","v":""},{"$f":"IF(D937<>\"\",Data!B938,\"\")","v":""},"",{"$f":"IF(AND(Data!D938<>\"\",Data!D938 > 0),Data!D938,\"\")","v":""}]
[{"$f":"IF(D938<>\"\",Data!A939,\"\")","v":""},{"$f":"IF(D938<>\"\",Data!B939,\"\")","v":""},"",{"$f":"IF(AND(Data!D939<>\"\",Data!D939 > 0),Data!D939,\"\")","v":""}]
[{"$f":"IF(D939<>\"\",Data!A940,\"\")","v":""},{"$f":"IF(D939<>\"\",Data!B940,\"\")","v":""},"",{"$f":"IF(AND(Data!D940<>\"\",Data!D940 > 0),Data!D940,\"\")","v":""}]
[{"$f":"IF(D940<>\"\",Data!A941,\"\")","v":""},{"$f":"IF(D940<>\"\",Data!B941,\"\")","v":""},"",{"$f":"IF(AND(Data!D941<>\"\",Data!D941 > 0),Data!D941,\"\")","v":""}]
[{"$f":"IF(D941<>\"\",Data!A942,\"\")","v":""},{"$f":"IF(D941<>\"\",Data!B942,\"\")","v":""},"",{"$f":"IF(AND(Data!D942<>\"\",Data!D942 > 0),Data!D942,\"\")","v":""}]
[{"$f":"IF(D942<>\"\",Data!A943,\"\")","v":""},{"$f":"IF(D942<>\"\",Data!B943,\"\")","v":""},"",{"$f":"IF(AND(Data!D943<>\"\",Data!D943 > 0),Data!D943,\"\")","v":""}]
[{"$f":"IF(D943<>\"\",Data!A944,\"\")","v":""},{"$f":"IF(D943<>\"\",Data!B944,\"\")","v":""},"",{"$f":"IF(AND(Data!D944<>\"\",Data!D944 > 0),Data!D944,\"\")","v":""}]
[{"$f":"IF(D944<>\"\",Data!A945,\"\")","v":""},{"$f":"IF(D944<>\"\",Data!B945,\"\")","v":""},"",{"$f":"IF(AND(Data!D945<>\"\",Data!D945 > 0),Data!D945,\"\")","v":""}]
[{"$f":"IF(D945<>\"\",Data!A946,\"\")","v":""},{"$f":"IF(D945<>\"\",Data!B946,\"\")","v":""},"",{"$f":"IF(AND(Data!D946<>\"\",Data!D946 > 0),Data!D946,\"\")","v":""}]
[{"$f":"IF(D946<>\"\",Data!A947,\"\")","v":""},{"$f":"IF(D946<>\"\",Data!B947,\"\")","v":""},"",{"$f":"IF(AND(Data!D947<>\"\",Data!D947 > 0),Data!D947,\"\")","v":""}]
[{"$f":"IF(D947<>\"\",Data!A948,\"\")","v":""},{"$f":"IF(D947<>\"\",Data!B948,\"\")","v":""},"",{"$f":"IF(AND(Data!D948<>\"\",Data!D948 > 0),Data!D948,\"\")","v":""}]
[{"$f":"IF(D948<>\"\",Data!A949,\"\")","v":""},{"$f":"IF(D948<>\"\",Data!B949,\"\")","v":""},"",{"$f":"IF(AND(Data!D949<>\"\",Data!D949 > 0),Data!D949,\"\")","v":""}]
[{"$f":"IF(D949<>\"\",Data!A950,\"\")","v":""},{"$f":"IF(D949<>\"\",Data!B950,\"\")","v":""},"",{"$f":"IF(AND(Data!D950<>\"\",Data!D950 > 0),Data!D950,\"\")","v":""}]
[{"$f":"IF(D950<>\"\",Data!A951,\"\")","v":""},{"$f":"IF(D950<>\"\",Data!B951,\"\")","v":""},"",{"$f":"IF(AND(Data!D951<>\"\",Data!D951 > 0),Data!D951,\"\")","v":""}]
[{"$f":"IF(D951<>\"\",Data!A952,\"\")","v":""},{"$f":"IF(D951<>\"\",Data!B952,\"\")","v":""},"",{"$f":"IF(AND(Data!D952<>\"\",Data!D952 > 0),Data!D952,\"\")","v":""}]
[{"$f":"IF(D952<>\"\",Data!A953,\"\")","v":""},{"$f":"IF(D952<>\"\",Data!B953,\"\")","v":""},"",{"$f":"IF(AND(Data!D953<>\"\",Data!D953 > 0),Data!D953,\"\")","v":""}]
[{"$f":"IF(D953<>\"\",Data!A954,\"\")","v":""},{"$f":"IF(D953<>\"\",Data!B954,\"\")","v":""},"",{"$f":"IF(AND(Data!D954<>\"\",Data!D954 > 0),Data!D954,\"\")","v":""}]
[{"$f":"IF(D954<>\"\",Data!A955,\"\")","v":""},{"$f":"IF(D954<>\"\",Data!B955,\"\")","v":""},"",{"$f":"IF(AND(Data!D955<>\"\",Data!D955 > 0),Data!D955,\"\")","v":""}]
[{"$f":"IF(D955<>\"\",Data!A956,\"\")","v":""},{"$f":"IF(D955<>\"\",Data!B956,\"\")","v":""},"",{"$f":"IF(AND(Data!D956<>\"\",Data!D956 > 0),Data!D956,\"\")","v":""}]
[{"$f":"IF(D956<>\"\",Data!A957,\"\")","v":""},{"$f":"IF(D956<>\"\",Data!B957,\"\")","v":""},"",{"$f":"IF(AND(Data!D957<>\"\",Data!D957 > 0),Data!D957,\"\")","v":""}]
[{"$f":"IF(D957<>\"\",Data!A958,\"\")","v":""},{"$f":"IF(D957<>\"\",Data!B958,\"\")","v":""},"",{"$f":"IF(AND(Data!D958<>\"\",Data!D958 > 0),Data!D958,\"\")","v":""}]
[{"$f":"IF(D958<>\"\",Data!A959,\"\")","v":""},{"$f":"IF(D958<>\"\",Data!B959,\"\")","v":""},"",{"$f":"IF(AND(Data!D959<>\"\",Data!D959 > 0),Data!D959,\"\")","v":""}]
[{"$f":"IF(D959<>\"\",Data!A960,\"\")","v":""},{"$f":"IF(D959<>\"\",Data!B960,\"\")","v":""},"",{"$f":"IF(AND(Data!D960<>\"\",Data!D960 > 0),Data!D960,\"\")","v":""}]
[{"$f":"IF(D960<>\"\",Data!A961,\"\")","v":""},{"$f":"IF(D960<>\"\",Data!B961,\"\")","v":""},"",{"$f":"IF(AND(Data!D961<>\"\",Data!D961 > 0),Data!D961,\"\")","v":""}]
[{"$f":"IF(D961<>\"\",Data!A962,\"\")","v":""},{"$f":"IF(D961<>\"\",Data!B962,\"\")","v":""},"",{"$f":"IF(AND(Data!D962<>\"\",Data!D962 > 0),Data!D962,\"\")","v":""}]
[{"$f":"IF(D962<>\"\",Data!A963,\"\")","v":""},{"$f":"IF(D962<>\"\",Data!B963,\"\")","v":""},{"$f":"IF(D962<>\"\",MID(CELL(\"filename\",B962),FIND(\"]\",CELL(\"filename\",B962))+1,32),\"\")","v":""},{"$f":"IF(AND(Data!D963<>\"\",Data!D963 > 0),Data!D963,\"\")","v":""}]
[{"$f":"IF(D963<>\"\",Data!A964,\"\")","v":""},{"$f":"IF(D963<>\"\",Data!B964,\"\")","v":""},"",{"$f":"IF(AND(Data!D964<>\"\",Data!D964 > 0),Data!D964,\"\")","v":""}]
[{"$f":"IF(D964<>\"\",Data!A965,\"\")","v":""},{"$f":"IF(D964<>\"\",Data!B965,\"\")","v":""},"",{"$f":"IF(AND(Data!D965<>\"\",Data!D965 > 0),Data!D965,\"\")","v":""}]
[{"$f":"IF(D965<>\"\",Data!A966,\"\")","v":""},{"$f":"IF(D965<>\"\",Data!B966,\"\")","v":""},"",{"$f":"IF(AND(Data!D966<>\"\",Data!D966 > 0),Data!D966,\"\")","v":""}]
[{"$f":"IF(D966<>\"\",Data!A967,\"\")","v":""},{"$f":"IF(D966<>\"\",Data!B967,\"\")","v":""},"",{"$f":"IF(AND(Data!D967<>\"\",Data!D967 > 0),Data!D967,\"\")","v":""}]
[{"$f":"IF(D967<>\"\",Data!A968,\"\")","v":""},{"$f":"IF(D967<>\"\",Data!B968,\"\")","v":""},"",{"$f":"IF(AND(Data!D968<>\"\",Data!D968 > 0),Data!D968,\"\")","v":""}]
[{"$f":"IF(D968<>\"\",Data!A969,\"\")","v":""},{"$f":"IF(D968<>\"\",Data!B969,\"\")","v":""},"",{"$f":"IF(AND(Data!D969<>\"\",Data!D969 > 0),Data!D969,\"\")","v":""}]
[{"$f":"IF(D969<>\"\",Data!A970,\"\")","v":""},{"$f":"IF(D969<>\"\",Data!B970,\"\")","v":""},"",{"$f":"IF(AND(Data!D970<>\"\",Data!D970 > 0),Data!D970,\"\")","v":""}]
[{"$f":"IF(D970<>\"\",Data!A971,\"\")","v":""},{"$f":"IF(D970<>\"\",Data!B971,\"\")","v":""},"",{"$f":"IF(AND(Data!D971<>\"\",Data!D971 > 0),Data!D971,\"\")","v":""}]
[{"$f":"IF(D971<>\"\",Data!A972,\"\")","v":""},{"$f":"IF(D971<>\"\",Data!B972,\"\")","v":""},"",{"$f":"IF(AND(Data!D972<>\"\",Data!D972 > 0),Data!D972,\"\")","v":""}]
[{"$f":"IF(D972<>\"\",Data!A973,\"\")","v":""},{"$f":"IF(D972<>\"\",Data!B973,\"\")","v":""},"",{"$f":"IF(AND(Data!D973<>\"\",Data!D973 > 0),Data!D973,\"\")","v":""}]
[{"$f":"IF(D973<>\"\",Data!A974,\"\")","v":""},{"$f":"IF(D973<>\"\",Data!B974,\"\")","v":""},"",{"$f":"IF(AND(Data!D974<>\"\",Data!D974 > 0),Data!D974,\"\")","v":""}]
[{"$f":"IF(D974<>\"\",Data!A975,\"\")","v":""},{"$f":"IF(D974<>\"\",Data!B975,\"\")","v":""},"",{"$f":"IF(AND(Data!D975<>\"\",Data!D975 > 0),Data!D975,\"\")","v":""}]
[{"$f":"IF(D975<>\"\",Data!A976,\"\")","v":""},{"$f":"IF(D975<>\"\",Data!B976,\"\")","v":""},"",{"$f":"IF(AND(Data!D976<>\"\",Data!D976 > 0),Data!D976,\"\")","v":""}]
[{"$f":"IF(D976<>\"\",Data!A977,\"\")","v":""},{"$f":"IF(D976<>\"\",Data!B977,\"\")","v":""},"",{"$f":"IF(AND(Data!D977<>\"\",Data!D977 > 0),Data!D977,\"\")","v":""}]
[{"$f":"IF(D977<>\"\",Data!A978,\"\")","v":""},{"$f":"IF(D977<>\"\",Data!B978,\"\")","v":""},"",{"$f":"IF(AND(Data!D978<>\"\",Data!D978 > 0),Data!D978,\"\")","v":""}]
[{"$f":"IF(D978<>\"\",Data!A979,\"\")","v":""},{"$f":"IF(D978<>\"\",Data!B979,\"\")","v":""},"",{"$f":"IF(AND(Data!D979<>\"\",Data!D979 > 0),Data!D979,\"\")","v":""}]
[{"$f":"IF(D979<>\"\",Data!A980,\"\")","v":""},{"$f":"IF(D979<>\"\",Data!B980,\"\")","v":""},"",{"$f":"IF(AND(Data!D980<>\"\",Data!D980 > 0),Data!D980,\"\")","v":""}]
[{"$f":"IF(D980<>\"\",Data!A981,\"\")","v":""},{"$f":"IF(D980<>\"\",Data!B981,\"\")","v":""},"",{"$f":"IF(AND(Data!D981<>\"\",Data!D981 > 0),Data!D981,\"\")","v":""}]
[{"$f":"IF(D981<>\"\",Data!A982,\"\")","v":""},{"$f":"IF(D981<>\"\",Data!B982,\"\")","v":""},"",{"$f":"IF(AND(Data!D982<>\"\",Data!D982 > 0),Data!D982,\"\")","v":""}]
[{"$f":"IF(D982<>\"\",Data!A983,\"\")","v":""},{"$f":"IF(D982<>\"\",Data!B983,\"\")","v":""},"",{"$f":"IF(AND(Data!D983<>\"\",Data!D983 > 0),Data!D983,\"\")","v":""}]
[{"$f":"IF(D983<>\"\",Data!A984,\"\")","v":""},{"$f":"IF(D983<>\"\",Data!B984,\"\")","v":""},"",{"$f":"IF(AND(Data!D984<>\"\",Data!D984 > 0),Data!D984,\"\")","v":""}]
[{"$f":"IF(D984<>\"\",Data!A985,\"\")","v":""},{"$f":"IF(D984<>\"\",Data!B985,\"\")","v":""},"",{"$f":"IF(AND(Data!D985<>\"\",Data!D985 > 0),Data!D985,\"\")","v":""}]
[{"$f":"IF(D985<>\"\",Data!A986,\"\")","v":""},{"$f":"IF(D985<>\"\",Data!B986,\"\")","v":""},"",{"$f":"IF(AND(Data!D986<>\"\",Data!D986 > 0),Data!D986,\"\")","v":""}]
[{"$f":"IF(D986<>\"\",Data!A987,\"\")","v":""},{"$f":"IF(D986<>\"\",Data!B987,\"\")","v":""},"",{"$f":"IF(AND(Data!D987<>\"\",Data!D987 > 0),Data!D987,\"\")","v":""}]
[{"$f":"IF(D987<>\"\",Data!A988,\"\")","v":""},{"$f":"IF(D987<>\"\",Data!B988,\"\")","v":""},"",{"$f":"IF(AND(Data!D988<>\"\",Data!D988 > 0),Data!D988,\"\")","v":""}]
[{"$f":"IF(D988<>\"\",Data!A989,\"\")","v":""},{"$f":"IF(D988<>\"\",Data!B989,\"\")","v":""},"",{"$f":"IF(AND(Data!D989<>\"\",Data!D989 > 0),Data!D989,\"\")","v":""}]
[{"$f":"IF(D989<>\"\",Data!A990,\"\")","v":""},{"$f":"IF(D989<>\"\",Data!B990,\"\")","v":""},"",{"$f":"IF(AND(Data!D990<>\"\",Data!D990 > 0),Data!D990,\"\")","v":""}]
[{"$f":"IF(D990<>\"\",Data!A991,\"\")","v":""},{"$f":"IF(D990<>\"\",Data!B991,\"\")","v":""},"",{"$f":"IF(AND(Data!D991<>\"\",Data!D991 > 0),Data!D991,\"\")","v":""}]
[{"$f":"IF(D991<>\"\",Data!A992,\"\")","v":""},{"$f":"IF(D991<>\"\",Data!B992,\"\")","v":""},"",{"$f":"IF(AND(Data!D992<>\"\",Data!D992 > 0),Data!D992,\"\")","v":""}]
[{"$f":"IF(D992<>\"\",Data!A993,\"\")","v":""},{"$f":"IF(D992<>\"\",Data!B993,\"\")","v":""},"",{"$f":"IF(AND(Data!D993<>\"\",Data!D993 > 0),Data!D993,\"\")","v":""}]
[{"$f":"IF(D993<>\"\",Data!A994,\"\")","v":""},{"$f":"IF(D993<>\"\",Data!B994,\"\")","v":""},"",{"$f":"IF(AND(Data!D994<>\"\",Data!D994 > 0),Data!D994,\"\")","v":""}]
[{"$f":"IF(D994<>\"\",Data!A995,\"\")","v":""},{"$f":"IF(D994<>\"\",Data!B995,\"\")","v":""},"",{"$f":"IF(AND(Data!D995<>\"\",Data!D995 > 0),Data!D995,\"\")","v":""}]
[{"$f":"IF(D995<>\"\",Data!A996,\"\")","v":""},{"$f":"IF(D995<>\"\",Data!B996,\"\")","v":""},"",{"$f":"IF(AND(Data!D996<>\"\",Data!D996 > 0),Data!D996,\"\")","v":""}]
[{"$f":"IF(D996<>\"\",Data!A997,\"\")","v":""},{"$f":"IF(D996<>\"\",Data!B997,\"\")","v":""},"",{"$f":"IF(AND(Data!D997<>\"\",Data!D997 > 0),Data!D997,\"\")","v":""}]
[{"$f":"IF(D997<>\"\",Data!A998,\"\")","v":""},{"$f":"IF(D997<>\"\",Data!B998,\"\")","v":""},"",{"$f":"IF(AND(Data!D998<>\"\",Data!D998 > 0),Data!D998,\"\")","v":""}]
[{"$f":"IF(D998<>\"\",Data!A999,\"\")","v":""},{"$f":"IF(D998<>\"\",Data!B999,\"\")","v":""},"",{"$f":"IF(AND(Data!D999<>\"\",Data!D999 > 0),Data!D999,\"\")","v":""}]
[{"$f":"IF(D999<>\"\",Data!A1000,\"\")","v":""},{"$f":"IF(D999<>\"\",Data!B1000,\"\")","v":""},"",{"$f":"IF(AND(Data!D1000<>\"\",Data!D1000 > 0),Data!D1000,\"\")","v":""}]
[{"$f":"IF(D1000<>\"\",Data!A1001,\"\")","v":""},{"$f":"IF(D1000<>\"\",Data!B1001,\"\")","v":""},"",{"$f":"IF(AND(Data!D1001<>\"\",Data!D1001 > 0),Data!D1001,\"\")","v":""}]

{"sheet":"250%","index":4,"n_rows":1000,"n_cols":4,"rows_kept":1000,"cut":false,"hidden":false,"merged":[]}
[{"$f":"IF(D1<>\"\",Data!A2,\"\")","v":""},{"$f":"IF(D1<>\"\",Data!B2,\"\")","v":""},{"$f":"IF(D1<>\"\",MID(CELL(\"filename\",B1),FIND(\"]\",CELL(\"filename\",B1))+1,32),\"\")","v":""},{"$f":"IF(AND(Data!E2<>\"\",Data!E2 > 0),Data!E2,\"\")","v":""}]
[{"$f":"IF(D2<>\"\",Data!A3,\"\")","v":""},{"$f":"IF(D2<>\"\",Data!B3,\"\")","v":""},{"$f":"IF(D2<>\"\",MID(CELL(\"filename\",B2),FIND(\"]\",CELL(\"filename\",B2))+1,32),\"\")","v":""},{"$f":"IF(AND(Data!E3<>\"\",Data!E3 > 0),Data!E3,\"\")","v":""}]
[{"$f":"IF(D3<>\"\",Data!A4,\"\")","v":""},{"$f":"IF(D3<>\"\",Data!B4,\"\")","v":""},"",{"$f":"IF(AND(Data!E4<>\"\",Data!E4 > 0),Data!E4,\"\")","v":""}]
[{"$f":"IF(D4<>\"\",Data!A5,\"\")","v":"John Smith"},{"$f":"IF(D4<>\"\",Data!B5,\"\")","v":"2023-05-04"},"250%",{"$f":"IF(AND(Data!E5<>\"\",Data!E5 > 0),Data!E5,\"\")","v":1}]
[{"$f":"IF(D5<>\"\",Data!A6,\"\")","v":""},{"$f":"IF(D5<>\"\",Data!B6,\"\")","v":""},"",{"$f":"IF(AND(Data!E6<>\"\",Data!E6 > 0),Data!E6,\"\")","v":""}]
[{"$f":"IF(D6<>\"\",Data!A7,\"\")","v":""},{"$f":"IF(D6<>\"\",Data!B7,\"\")","v":""},"",{"$f":"IF(AND(Data!E7<>\"\",Data!E7 > 0),Data!E7,\"\")","v":""}]
[{"$f":"IF(D7<>\"\",Data!A8,\"\")","v":""},{"$f":"IF(D7<>\"\",Data!B8,\"\")","v":""},"",{"$f":"IF(AND(Data!E8<>\"\",Data!E8 > 0),Data!E8,\"\")","v":""}]
[{"$f":"IF(D8<>\"\",Data!A9,\"\")","v":""},{"$f":"IF(D8<>\"\",Data!B9,\"\")","v":""},"",{"$f":"IF(AND(Data!E9<>\"\",Data!E9 > 0),Data!E9,\"\")","v":""}]
[{"$f":"IF(D9<>\"\",Data!A10,\"\")","v":""},{"$f":"IF(D9<>\"\",Data!B10,\"\")","v":""},"",{"$f":"IF(AND(Data!E10<>\"\",Data!E10 > 0),Data!E10,\"\")","v":""}]
[{"$f":"IF(D10<>\"\",Data!A11,\"\")","v":""},{"$f":"IF(D10<>\"\",Data!B11,\"\")","v":""},"",{"$f":"IF(AND(Data!E11<>\"\",Data!E11 > 0),Data!E11,\"\")","v":""}]
[{"$f":"IF(D11<>\"\",Data!A12,\"\")","v":"Jane Jones"},{"$f":"IF(D11<>\"\",Data!B12,\"\")","v":"2023-05-04"},"250%",{"$f":"IF(AND(Data!E12<>\"\",Data!E12 > 0),Data!E12,\"\")","v":1}]
[{"$f":"IF(D12<>\"\",Data!A13,\"\")","v":""},{"$f":"IF(D12<>\"\",Data!B13,\"\")","v":""},"",{"$f":"IF(AND(Data!E13<>\"\",Data!E13 > 0),Data!E13,\"\")","v":""}]
[{"$f":"IF(D13<>\"\",Data!A14,\"\")","v":""},{"$f":"IF(D13<>\"\",Data!B14,\"\")","v":""},"",{"$f":"IF(AND(Data!E14<>\"\",Data!E14 > 0),Data!E14,\"\")","v":""}]
[{"$f":"IF(D14<>\"\",Data!A15,\"\")","v":""},{"$f":"IF(D14<>\"\",Data!B15,\"\")","v":""},"",{"$f":"IF(AND(Data!E15<>\"\",Data!E15 > 0),Data!E15,\"\")","v":""}]
[{"$f":"IF(D15<>\"\",Data!A16,\"\")","v":""},{"$f":"IF(D15<>\"\",Data!B16,\"\")","v":""},"",{"$f":"IF(AND(Data!E16<>\"\",Data!E16 > 0),Data!E16,\"\")","v":""}]
[{"$f":"IF(D16<>\"\",Data!A17,\"\")","v":""},{"$f":"IF(D16<>\"\",Data!B17,\"\")","v":""},"",{"$f":"IF(AND(Data!E17<>\"\",Data!E17 > 0),Data!E17,\"\")","v":""}]
[{"$f":"IF(D17<>\"\",Data!A18,\"\")","v":""},{"$f":"IF(D17<>\"\",Data!B18,\"\")","v":""},"",{"$f":"IF(AND(Data!E18<>\"\",Data!E18 > 0),Data!E18,\"\")","v":""}]
[{"$f":"IF(D18<>\"\",Data!A19,\"\")","v":""},{"$f":"IF(D18<>\"\",Data!B19,\"\")","v":""},"",{"$f":"IF(AND(Data!E19<>\"\",Data!E19 > 0),Data!E19,\"\")","v":""}]
[{"$f":"IF(D19<>\"\",Data!A20,\"\")","v":""},{"$f":"IF(D19<>\"\",Data!B20,\"\")","v":""},"",{"$f":"IF(AND(Data!E20<>\"\",Data!E20 > 0),Data!E20,\"\")","v":""}]
[{"$f":"IF(D20<>\"\",Data!A21,\"\")","v":""},{"$f":"IF(D20<>\"\",Data!B21,\"\")","v":""},"",{"$f":"IF(AND(Data!E21<>\"\",Data!E21 > 0),Data!E21,\"\")","v":""}]
[{"$f":"IF(D21<>\"\",Data!A22,\"\")","v":""},{"$f":"IF(D21<>\"\",Data!B22,\"\")","v":""},"",{"$f":"IF(AND(Data!E22<>\"\",Data!E22 > 0),Data!E22,\"\")","v":""}]
[{"$f":"IF(D22<>\"\",Data!A23,\"\")","v":""},{"$f":"IF(D22<>\"\",Data!B23,\"\")","v":""},"",{"$f":"IF(AND(Data!E23<>\"\",Data!E23 > 0),Data!E23,\"\")","v":""}]
[{"$f":"IF(D23<>\"\",Data!A24,\"\")","v":""},{"$f":"IF(D23<>\"\",Data!B24,\"\")","v":""},"",{"$f":"IF(AND(Data!E24<>\"\",Data!E24 > 0),Data!E24,\"\")","v":""}]
[{"$f":"IF(D24<>\"\",Data!A25,\"\")","v":""},{"$f":"IF(D24<>\"\",Data!B25,\"\")","v":""},"",{"$f":"IF(AND(Data!E25<>\"\",Data!E25 > 0),Data!E25,\"\")","v":""}]
[{"$f":"IF(D25<>\"\",Data!A26,\"\")","v":""},{"$f":"IF(D25<>\"\",Data!B26,\"\")","v":""},"",{"$f":"IF(AND(Data!E26<>\"\",Data!E26 > 0),Data!E26,\"\")","v":""}]
[{"$f":"IF(D26<>\"\",Data!A27,\"\")","v":""},{"$f":"IF(D26<>\"\",Data!B27,\"\")","v":""},"",{"$f":"IF(AND(Data!E27<>\"\",Data!E27 > 0),Data!E27,\"\")","v":""}]
[{"$f":"IF(D27<>\"\",Data!A28,\"\")","v":""},{"$f":"IF(D27<>\"\",Data!B28,\"\")","v":""},"",{"$f":"IF(AND(Data!E28<>\"\",Data!E28 > 0),Data!E28,\"\")","v":""}]
[{"$f":"IF(D28<>\"\",Data!A29,\"\")","v":""},{"$f":"IF(D28<>\"\",Data!B29,\"\")","v":""},"",{"$f":"IF(AND(Data!E29<>\"\",Data!E29 > 0),Data!E29,\"\")","v":""}]
[{"$f":"IF(D29<>\"\",Data!A30,\"\")","v":""},{"$f":"IF(D29<>\"\",Data!B30,\"\")","v":""},"",{"$f":"IF(AND(Data!E30<>\"\",Data!E30 > 0),Data!E30,\"\")","v":""}]
[{"$f":"IF(D30<>\"\",Data!A31,\"\")","v":""},{"$f":"IF(D30<>\"\",Data!B31,\"\")","v":""},"",{"$f":"IF(AND(Data!E31<>\"\",Data!E31 > 0),Data!E31,\"\")","v":""}]
[{"$f":"IF(D31<>\"\",Data!A32,\"\")","v":""},{"$f":"IF(D31<>\"\",Data!B32,\"\")","v":""},"",{"$f":"IF(AND(Data!E32<>\"\",Data!E32 > 0),Data!E32,\"\")","v":""}]
[{"$f":"IF(D32<>\"\",Data!A33,\"\")","v":""},{"$f":"IF(D32<>\"\",Data!B33,\"\")","v":""},"",{"$f":"IF(AND(Data!E33<>\"\",Data!E33 > 0),Data!E33,\"\")","v":""}]
[{"$f":"IF(D33<>\"\",Data!A34,\"\")","v":""},{"$f":"IF(D33<>\"\",Data!B34,\"\")","v":""},"",{"$f":"IF(AND(Data!E34<>\"\",Data!E34 > 0),Data!E34,\"\")","v":""}]
[{"$f":"IF(D34<>\"\",Data!A35,\"\")","v":""},{"$f":"IF(D34<>\"\",Data!B35,\"\")","v":""},"",{"$f":"IF(AND(Data!E35<>\"\",Data!E35 > 0),Data!E35,\"\")","v":""}]
[{"$f":"IF(D35<>\"\",Data!A36,\"\")","v":""},{"$f":"IF(D35<>\"\",Data!B36,\"\")","v":""},"",{"$f":"IF(AND(Data!E36<>\"\",Data!E36 > 0),Data!E36,\"\")","v":""}]
[{"$f":"IF(D36<>\"\",Data!A37,\"\")","v":""},{"$f":"IF(D36<>\"\",Data!B37,\"\")","v":""},"",{"$f":"IF(AND(Data!E37<>\"\",Data!E37 > 0),Data!E37,\"\")","v":""}]
[{"$f":"IF(D37<>\"\",Data!A38,\"\")","v":""},{"$f":"IF(D37<>\"\",Data!B38,\"\")","v":""},"",{"$f":"IF(AND(Data!E38<>\"\",Data!E38 > 0),Data!E38,\"\")","v":""}]
[{"$f":"IF(D38<>\"\",Data!A39,\"\")","v":""},{"$f":"IF(D38<>\"\",Data!B39,\"\")","v":""},"",{"$f":"IF(AND(Data!E39<>\"\",Data!E39 > 0),Data!E39,\"\")","v":""}]
[{"$f":"IF(D39<>\"\",Data!A40,\"\")","v":""},{"$f":"IF(D39<>\"\",Data!B40,\"\")","v":""},"",{"$f":"IF(AND(Data!E40<>\"\",Data!E40 > 0),Data!E40,\"\")","v":""}]
[{"$f":"IF(D40<>\"\",Data!A41,\"\")","v":""},{"$f":"IF(D40<>\"\",Data!B41,\"\")","v":""},"",{"$f":"IF(AND(Data!E41<>\"\",Data!E41 > 0),Data!E41,\"\")","v":""}]
[{"$f":"IF(D41<>\"\",Data!A42,\"\")","v":""},{"$f":"IF(D41<>\"\",Data!B42,\"\")","v":""},"",{"$f":"IF(AND(Data!E42<>\"\",Data!E42 > 0),Data!E42,\"\")","v":""}]
[{"$f":"IF(D42<>\"\",Data!A43,\"\")","v":""},{"$f":"IF(D42<>\"\",Data!B43,\"\")","v":""},"",{"$f":"IF(AND(Data!E43<>\"\",Data!E43 > 0),Data!E43,\"\")","v":""}]
[{"$f":"IF(D43<>\"\",Data!A44,\"\")","v":""},{"$f":"IF(D43<>\"\",Data!B44,\"\")","v":""},"",{"$f":"IF(AND(Data!E44<>\"\",Data!E44 > 0),Data!E44,\"\")","v":""}]
[{"$f":"IF(D44<>\"\",Data!A45,\"\")","v":""},{"$f":"IF(D44<>\"\",Data!B45,\"\")","v":""},"",{"$f":"IF(AND(Data!E45<>\"\",Data!E45 > 0),Data!E45,\"\")","v":""}]
[{"$f":"IF(D45<>\"\",Data!A46,\"\")","v":""},{"$f":"IF(D45<>\"\",Data!B46,\"\")","v":""},"",{"$f":"IF(AND(Data!E46<>\"\",Data!E46 > 0),Data!E46,\"\")","v":""}]
[{"$f":"IF(D46<>\"\",Data!A47,\"\")","v":""},{"$f":"IF(D46<>\"\",Data!B47,\"\")","v":""},"",{"$f":"IF(AND(Data!E47<>\"\",Data!E47 > 0),Data!E47,\"\")","v":""}]
[{"$f":"IF(D47<>\"\",Data!A48,\"\")","v":""},{"$f":"IF(D47<>\"\",Data!B48,\"\")","v":""},"",{"$f":"IF(AND(Data!E48<>\"\",Data!E48 > 0),Data!E48,\"\")","v":""}]
[{"$f":"IF(D48<>\"\",Data!A49,\"\")","v":""},{"$f":"IF(D48<>\"\",Data!B49,\"\")","v":""},"",{"$f":"IF(AND(Data!E49<>\"\",Data!E49 > 0),Data!E49,\"\")","v":""}]
[{"$f":"IF(D49<>\"\",Data!A50,\"\")","v":""},{"$f":"IF(D49<>\"\",Data!B50,\"\")","v":""},"",{"$f":"IF(AND(Data!E50<>\"\",Data!E50 > 0),Data!E50,\"\")","v":""}]
[{"$f":"IF(D50<>\"\",Data!A51,\"\")","v":""},{"$f":"IF(D50<>\"\",Data!B51,\"\")","v":""},"",{"$f":"IF(AND(Data!E51<>\"\",Data!E51 > 0),Data!E51,\"\")","v":""}]
[{"$f":"IF(D51<>\"\",Data!A52,\"\")","v":""},{"$f":"IF(D51<>\"\",Data!B52,\"\")","v":""},"",{"$f":"IF(AND(Data!E52<>\"\",Data!E52 > 0),Data!E52,\"\")","v":""}]
[{"$f":"IF(D52<>\"\",Data!A53,\"\")","v":""},{"$f":"IF(D52<>\"\",Data!B53,\"\")","v":""},"",{"$f":"IF(AND(Data!E53<>\"\",Data!E53 > 0),Data!E53,\"\")","v":""}]
[{"$f":"IF(D53<>\"\",Data!A54,\"\")","v":""},{"$f":"IF(D53<>\"\",Data!B54,\"\")","v":""},"",{"$f":"IF(AND(Data!E54<>\"\",Data!E54 > 0),Data!E54,\"\")","v":""}]
[{"$f":"IF(D54<>\"\",Data!A55,\"\")","v":""},{"$f":"IF(D54<>\"\",Data!B55,\"\")","v":""},"",{"$f":"IF(AND(Data!E55<>\"\",Data!E55 > 0),Data!E55,\"\")","v":""}]
[{"$f":"IF(D55<>\"\",Data!A56,\"\")","v":""},{"$f":"IF(D55<>\"\",Data!B56,\"\")","v":""},"",{"$f":"IF(AND(Data!E56<>\"\",Data!E56 > 0),Data!E56,\"\")","v":""}]
[{"$f":"IF(D56<>\"\",Data!A57,\"\")","v":""},{"$f":"IF(D56<>\"\",Data!B57,\"\")","v":""},"",{"$f":"IF(AND(Data!E57<>\"\",Data!E57 > 0),Data!E57,\"\")","v":""}]
[{"$f":"IF(D57<>\"\",Data!A58,\"\")","v":""},{"$f":"IF(D57<>\"\",Data!B58,\"\")","v":""},"",{"$f":"IF(AND(Data!E58<>\"\",Data!E58 > 0),Data!E58,\"\")","v":""}]
[{"$f":"IF(D58<>\"\",Data!A59,\"\")","v":""},{"$f":"IF(D58<>\"\",Data!B59,\"\")","v":""},"",{"$f":"IF(AND(Data!E59<>\"\",Data!E59 > 0),Data!E59,\"\")","v":""}]
[{"$f":"IF(D59<>\"\",Data!A60,\"\")","v":""},{"$f":"IF(D59<>\"\",Data!B60,\"\")","v":""},"",{"$f":"IF(AND(Data!E60<>\"\",Data!E60 > 0),Data!E60,\"\")","v":""}]
[{"$f":"IF(D60<>\"\",Data!A61,\"\")","v":""},{"$f":"IF(D60<>\"\",Data!B61,\"\")","v":""},"",{"$f":"IF(AND(Data!E61<>\"\",Data!E61 > 0),Data!E61,\"\")","v":""}]
[{"$f":"IF(D61<>\"\",Data!A62,\"\")","v":""},{"$f":"IF(D61<>\"\",Data!B62,\"\")","v":""},"",{"$f":"IF(AND(Data!E62<>\"\",Data!E62 > 0),Data!E62,\"\")","v":""}]
[{"$f":"IF(D62<>\"\",Data!A63,\"\")","v":""},{"$f":"IF(D62<>\"\",Data!B63,\"\")","v":""},"",{"$f":"IF(AND(Data!E63<>\"\",Data!E63 > 0),Data!E63,\"\")","v":""}]
[{"$f":"IF(D63<>\"\",Data!A64,\"\")","v":""},{"$f":"IF(D63<>\"\",Data!B64,\"\")","v":""},"",{"$f":"IF(AND(Data!E64<>\"\",Data!E64 > 0),Data!E64,\"\")","v":""}]
[{"$f":"IF(D64<>\"\",Data!A65,\"\")","v":""},{"$f":"IF(D64<>\"\",Data!B65,\"\")","v":""},"",{"$f":"IF(AND(Data!E65<>\"\",Data!E65 > 0),Data!E65,\"\")","v":""}]
[{"$f":"IF(D65<>\"\",Data!A66,\"\")","v":""},{"$f":"IF(D65<>\"\",Data!B66,\"\")","v":""},"",{"$f":"IF(AND(Data!E66<>\"\",Data!E66 > 0),Data!E66,\"\")","v":""}]
[{"$f":"IF(D66<>\"\",Data!A67,\"\")","v":""},{"$f":"IF(D66<>\"\",Data!B67,\"\")","v":""},{"$f":"IF(D66<>\"\",MID(CELL(\"filename\",B66),FIND(\"]\",CELL(\"filename\",B66))+1,32),\"\")","v":""},{"$f":"IF(AND(Data!E67<>\"\",Data!E67 > 0),Data!E67,\"\")","v":""}]
[{"$f":"IF(D67<>\"\",Data!A68,\"\")","v":""},{"$f":"IF(D67<>\"\",Data!B68,\"\")","v":""},"",{"$f":"IF(AND(Data!E68<>\"\",Data!E68 > 0),Data!E68,\"\")","v":""}]
[{"$f":"IF(D68<>\"\",Data!A69,\"\")","v":""},{"$f":"IF(D68<>\"\",Data!B69,\"\")","v":""},"",{"$f":"IF(AND(Data!E69<>\"\",Data!E69 > 0),Data!E69,\"\")","v":""}]
[{"$f":"IF(D69<>\"\",Data!A70,\"\")","v":""},{"$f":"IF(D69<>\"\",Data!B70,\"\")","v":""},"",{"$f":"IF(AND(Data!E70<>\"\",Data!E70 > 0),Data!E70,\"\")","v":""}]
[{"$f":"IF(D70<>\"\",Data!A71,\"\")","v":""},{"$f":"IF(D70<>\"\",Data!B71,\"\")","v":""},"",{"$f":"IF(AND(Data!E71<>\"\",Data!E71 > 0),Data!E71,\"\")","v":""}]
[{"$f":"IF(D71<>\"\",Data!A72,\"\")","v":""},{"$f":"IF(D71<>\"\",Data!B72,\"\")","v":""},"",{"$f":"IF(AND(Data!E72<>\"\",Data!E72 > 0),Data!E72,\"\")","v":""}]
[{"$f":"IF(D72<>\"\",Data!A73,\"\")","v":""},{"$f":"IF(D72<>\"\",Data!B73,\"\")","v":""},"",{"$f":"IF(AND(Data!E73<>\"\",Data!E73 > 0),Data!E73,\"\")","v":""}]
[{"$f":"IF(D73<>\"\",Data!A74,\"\")","v":""},{"$f":"IF(D73<>\"\",Data!B74,\"\")","v":""},"",{"$f":"IF(AND(Data!E74<>\"\",Data!E74 > 0),Data!E74,\"\")","v":""}]
[{"$f":"IF(D74<>\"\",Data!A75,\"\")","v":""},{"$f":"IF(D74<>\"\",Data!B75,\"\")","v":""},"",{"$f":"IF(AND(Data!E75<>\"\",Data!E75 > 0),Data!E75,\"\")","v":""}]
[{"$f":"IF(D75<>\"\",Data!A76,\"\")","v":""},{"$f":"IF(D75<>\"\",Data!B76,\"\")","v":""},"",{"$f":"IF(AND(Data!E76<>\"\",Data!E76 > 0),Data!E76,\"\")","v":""}]
[{"$f":"IF(D76<>\"\",Data!A77,\"\")","v":""},{"$f":"IF(D76<>\"\",Data!B77,\"\")","v":""},"",{"$f":"IF(AND(Data!E77<>\"\",Data!E77 > 0),Data!E77,\"\")","v":""}]
[{"$f":"IF(D77<>\"\",Data!A78,\"\")","v":""},{"$f":"IF(D77<>\"\",Data!B78,\"\")","v":""},"",{"$f":"IF(AND(Data!E78<>\"\",Data!E78 > 0),Data!E78,\"\")","v":""}]
[{"$f":"IF(D78<>\"\",Data!A79,\"\")","v":""},{"$f":"IF(D78<>\"\",Data!B79,\"\")","v":""},"",{"$f":"IF(AND(Data!E79<>\"\",Data!E79 > 0),Data!E79,\"\")","v":""}]
[{"$f":"IF(D79<>\"\",Data!A80,\"\")","v":""},{"$f":"IF(D79<>\"\",Data!B80,\"\")","v":""},"",{"$f":"IF(AND(Data!E80<>\"\",Data!E80 > 0),Data!E80,\"\")","v":""}]
[{"$f":"IF(D80<>\"\",Data!A81,\"\")","v":""},{"$f":"IF(D80<>\"\",Data!B81,\"\")","v":""},"",{"$f":"IF(AND(Data!E81<>\"\",Data!E81 > 0),Data!E81,\"\")","v":""}]
[{"$f":"IF(D81<>\"\",Data!A82,\"\")","v":""},{"$f":"IF(D81<>\"\",Data!B82,\"\")","v":""},"",{"$f":"IF(AND(Data!E82<>\"\",Data!E82 > 0),Data!E82,\"\")","v":""}]
[{"$f":"IF(D82<>\"\",Data!A83,\"\")","v":""},{"$f":"IF(D82<>\"\",Data!B83,\"\")","v":""},"",{"$f":"IF(AND(Data!E83<>\"\",Data!E83 > 0),Data!E83,\"\")","v":""}]
[{"$f":"IF(D83<>\"\",Data!A84,\"\")","v":""},{"$f":"IF(D83<>\"\",Data!B84,\"\")","v":""},"",{"$f":"IF(AND(Data!E84<>\"\",Data!E84 > 0),Data!E84,\"\")","v":""}]
[{"$f":"IF(D84<>\"\",Data!A85,\"\")","v":""},{"$f":"IF(D84<>\"\",Data!B85,\"\")","v":""},"",{"$f":"IF(AND(Data!E85<>\"\",Data!E85 > 0),Data!E85,\"\")","v":""}]
[{"$f":"IF(D85<>\"\",Data!A86,\"\")","v":""},{"$f":"IF(D85<>\"\",Data!B86,\"\")","v":""},"",{"$f":"IF(AND(Data!E86<>\"\",Data!E86 > 0),Data!E86,\"\")","v":""}]
[{"$f":"IF(D86<>\"\",Data!A87,\"\")","v":""},{"$f":"IF(D86<>\"\",Data!B87,\"\")","v":""},"",{"$f":"IF(AND(Data!E87<>\"\",Data!E87 > 0),Data!E87,\"\")","v":""}]
[{"$f":"IF(D87<>\"\",Data!A88,\"\")","v":""},{"$f":"IF(D87<>\"\",Data!B88,\"\")","v":""},"",{"$f":"IF(AND(Data!E88<>\"\",Data!E88 > 0),Data!E88,\"\")","v":""}]
[{"$f":"IF(D88<>\"\",Data!A89,\"\")","v":""},{"$f":"IF(D88<>\"\",Data!B89,\"\")","v":""},"",{"$f":"IF(AND(Data!E89<>\"\",Data!E89 > 0),Data!E89,\"\")","v":""}]
[{"$f":"IF(D89<>\"\",Data!A90,\"\")","v":""},{"$f":"IF(D89<>\"\",Data!B90,\"\")","v":""},"",{"$f":"IF(AND(Data!E90<>\"\",Data!E90 > 0),Data!E90,\"\")","v":""}]
[{"$f":"IF(D90<>\"\",Data!A91,\"\")","v":""},{"$f":"IF(D90<>\"\",Data!B91,\"\")","v":""},"",{"$f":"IF(AND(Data!E91<>\"\",Data!E91 > 0),Data!E91,\"\")","v":""}]
[{"$f":"IF(D91<>\"\",Data!A92,\"\")","v":""},{"$f":"IF(D91<>\"\",Data!B92,\"\")","v":""},"",{"$f":"IF(AND(Data!E92<>\"\",Data!E92 > 0),Data!E92,\"\")","v":""}]
[{"$f":"IF(D92<>\"\",Data!A93,\"\")","v":""},{"$f":"IF(D92<>\"\",Data!B93,\"\")","v":""},"",{"$f":"IF(AND(Data!E93<>\"\",Data!E93 > 0),Data!E93,\"\")","v":""}]
[{"$f":"IF(D93<>\"\",Data!A94,\"\")","v":""},{"$f":"IF(D93<>\"\",Data!B94,\"\")","v":""},"",{"$f":"IF(AND(Data!E94<>\"\",Data!E94 > 0),Data!E94,\"\")","v":""}]
[{"$f":"IF(D94<>\"\",Data!A95,\"\")","v":""},{"$f":"IF(D94<>\"\",Data!B95,\"\")","v":""},"",{"$f":"IF(AND(Data!E95<>\"\",Data!E95 > 0),Data!E95,\"\")","v":""}]
[{"$f":"IF(D95<>\"\",Data!A96,\"\")","v":""},{"$f":"IF(D95<>\"\",Data!B96,\"\")","v":""},"",{"$f":"IF(AND(Data!E96<>\"\",Data!E96 > 0),Data!E96,\"\")","v":""}]
[{"$f":"IF(D96<>\"\",Data!A97,\"\")","v":""},{"$f":"IF(D96<>\"\",Data!B97,\"\")","v":""},"",{"$f":"IF(AND(Data!E97<>\"\",Data!E97 > 0),Data!E97,\"\")","v":""}]
[{"$f":"IF(D97<>\"\",Data!A98,\"\")","v":""},{"$f":"IF(D97<>\"\",Data!B98,\"\")","v":""},"",{"$f":"IF(AND(Data!E98<>\"\",Data!E98 > 0),Data!E98,\"\")","v":""}]
[{"$f":"IF(D98<>\"\",Data!A99,\"\")","v":""},{"$f":"IF(D98<>\"\",Data!B99,\"\")","v":""},"",{"$f":"IF(AND(Data!E99<>\"\",Data!E99 > 0),Data!E99,\"\")","v":""}]
[{"$f":"IF(D99<>\"\",Data!A100,\"\")","v":""},{"$f":"IF(D99<>\"\",Data!B100,\"\")","v":""},"",{"$f":"IF(AND(Data!E100<>\"\",Data!E100 > 0),Data!E100,\"\")","v":""}]
[{"$f":"IF(D100<>\"\",Data!A101,\"\")","v":""},{"$f":"IF(D100<>\"\",Data!B101,\"\")","v":""},"",{"$f":"IF(AND(Data!E101<>\"\",Data!E101 > 0),Data!E101,\"\")","v":""}]
[{"$f":"IF(D101<>\"\",Data!A102,\"\")","v":""},{"$f":"IF(D101<>\"\",Data!B102,\"\")","v":""},"",{"$f":"IF(AND(Data!E102<>\"\",Data!E102 > 0),Data!E102,\"\")","v":""}]
[{"$f":"IF(D102<>\"\",Data!A103,\"\")","v":""},{"$f":"IF(D102<>\"\",Data!B103,\"\")","v":""},"",{"$f":"IF(AND(Data!E103<>\"\",Data!E103 > 0),Data!E103,\"\")","v":""}]
[{"$f":"IF(D103<>\"\",Data!A104,\"\")","v":""},{"$f":"IF(D103<>\"\",Data!B104,\"\")","v":""},"",{"$f":"IF(AND(Data!E104<>\"\",Data!E104 > 0),Data!E104,\"\")","v":""}]
[{"$f":"IF(D104<>\"\",Data!A105,\"\")","v":""},{"$f":"IF(D104<>\"\",Data!B105,\"\")","v":""},"",{"$f":"IF(AND(Data!E105<>\"\",Data!E105 > 0),Data!E105,\"\")","v":""}]
[{"$f":"IF(D105<>\"\",Data!A106,\"\")","v":""},{"$f":"IF(D105<>\"\",Data!B106,\"\")","v":""},"",{"$f":"IF(AND(Data!E106<>\"\",Data!E106 > 0),Data!E106,\"\")","v":""}]
[{"$f":"IF(D106<>\"\",Data!A107,\"\")","v":""},{"$f":"IF(D106<>\"\",Data!B107,\"\")","v":""},"",{"$f":"IF(AND(Data!E107<>\"\",Data!E107 > 0),Data!E107,\"\")","v":""}]
[{"$f":"IF(D107<>\"\",Data!A108,\"\")","v":""},{"$f":"IF(D107<>\"\",Data!B108,\"\")","v":""},"",{"$f":"IF(AND(Data!E108<>\"\",Data!E108 > 0),Data!E108,\"\")","v":""}]
[{"$f":"IF(D108<>\"\",Data!A109,\"\")","v":""},{"$f":"IF(D108<>\"\",Data!B109,\"\")","v":""},"",{"$f":"IF(AND(Data!E109<>\"\",Data!E109 > 0),Data!E109,\"\")","v":""}]
[{"$f":"IF(D109<>\"\",Data!A110,\"\")","v":""},{"$f":"IF(D109<>\"\",Data!B110,\"\")","v":""},"",{"$f":"IF(AND(Data!E110<>\"\",Data!E110 > 0),Data!E110,\"\")","v":""}]
[{"$f":"IF(D110<>\"\",Data!A111,\"\")","v":""},{"$f":"IF(D110<>\"\",Data!B111,\"\")","v":""},"",{"$f":"IF(AND(Data!E111<>\"\",Data!E111 > 0),Data!E111,\"\")","v":""}]
[{"$f":"IF(D111<>\"\",Data!A112,\"\")","v":""},{"$f":"IF(D111<>\"\",Data!B112,\"\")","v":""},"",{"$f":"IF(AND(Data!E112<>\"\",Data!E112 > 0),Data!E112,\"\")","v":""}]
[{"$f":"IF(D112<>\"\",Data!A113,\"\")","v":""},{"$f":"IF(D112<>\"\",Data!B113,\"\")","v":""},"",{"$f":"IF(AND(Data!E113<>\"\",Data!E113 > 0),Data!E113,\"\")","v":""}]
[{"$f":"IF(D113<>\"\",Data!A114,\"\")","v":""},{"$f":"IF(D113<>\"\",Data!B114,\"\")","v":""},"",{"$f":"IF(AND(Data!E114<>\"\",Data!E114 > 0),Data!E114,\"\")","v":""}]
[{"$f":"IF(D114<>\"\",Data!A115,\"\")","v":""},{"$f":"IF(D114<>\"\",Data!B115,\"\")","v":""},"",{"$f":"IF(AND(Data!E115<>\"\",Data!E115 > 0),Data!E115,\"\")","v":""}]
[{"$f":"IF(D115<>\"\",Data!A116,\"\")","v":""},{"$f":"IF(D115<>\"\",Data!B116,\"\")","v":""},"",{"$f":"IF(AND(Data!E116<>\"\",Data!E116 > 0),Data!E116,\"\")","v":""}]
[{"$f":"IF(D116<>\"\",Data!A117,\"\")","v":""},{"$f":"IF(D116<>\"\",Data!B117,\"\")","v":""},"",{"$f":"IF(AND(Data!E117<>\"\",Data!E117 > 0),Data!E117,\"\")","v":""}]
[{"$f":"IF(D117<>\"\",Data!A118,\"\")","v":""},{"$f":"IF(D117<>\"\",Data!B118,\"\")","v":""},"",{"$f":"IF(AND(Data!E118<>\"\",Data!E118 > 0),Data!E118,\"\")","v":""}]
[{"$f":"IF(D118<>\"\",Data!A119,\"\")","v":""},{"$f":"IF(D118<>\"\",Data!B119,\"\")","v":""},"",{"$f":"IF(AND(Data!E119<>\"\",Data!E119 > 0),Data!E119,\"\")","v":""}]
[{"$f":"IF(D119<>\"\",Data!A120,\"\")","v":""},{"$f":"IF(D119<>\"\",Data!B120,\"\")","v":""},"",{"$f":"IF(AND(Data!E120<>\"\",Data!E120 > 0),Data!E120,\"\")","v":""}]
[{"$f":"IF(D120<>\"\",Data!A121,\"\")","v":""},{"$f":"IF(D120<>\"\",Data!B121,\"\")","v":""},"",{"$f":"IF(AND(Data!E121<>\"\",Data!E121 > 0),Data!E121,\"\")","v":""}]
[{"$f":"IF(D121<>\"\",Data!A122,\"\")","v":""},{"$f":"IF(D121<>\"\",Data!B122,\"\")","v":""},"",{"$f":"IF(AND(Data!E122<>\"\",Data!E122 > 0),Data!E122,\"\")","v":""}]
[{"$f":"IF(D122<>\"\",Data!A123,\"\")","v":""},{"$f":"IF(D122<>\"\",Data!B123,\"\")","v":""},"",{"$f":"IF(AND(Data!E123<>\"\",Data!E123 > 0),Data!E123,\"\")","v":""}]
[{"$f":"IF(D123<>\"\",Data!A124,\"\")","v":""},{"$f":"IF(D123<>\"\",Data!B124,\"\")","v":""},"",{"$f":"IF(AND(Data!E124<>\"\",Data!E124 > 0),Data!E124,\"\")","v":""}]
[{"$f":"IF(D124<>\"\",Data!A125,\"\")","v":""},{"$f":"IF(D124<>\"\",Data!B125,\"\")","v":""},"",{"$f":"IF(AND(Data!E125<>\"\",Data!E125 > 0),Data!E125,\"\")","v":""}]
[{"$f":"IF(D125<>\"\",Data!A126,\"\")","v":""},{"$f":"IF(D125<>\"\",Data!B126,\"\")","v":""},"",{"$f":"IF(AND(Data!E126<>\"\",Data!E126 > 0),Data!E126,\"\")","v":""}]
[{"$f":"IF(D126<>\"\",Data!A127,\"\")","v":""},{"$f":"IF(D126<>\"\",Data!B127,\"\")","v":""},"",{"$f":"IF(AND(Data!E127<>\"\",Data!E127 > 0),Data!E127,\"\")","v":""}]
[{"$f":"IF(D127<>\"\",Data!A128,\"\")","v":""},{"$f":"IF(D127<>\"\",Data!B128,\"\")","v":""},"",{"$f":"IF(AND(Data!E128<>\"\",Data!E128 > 0),Data!E128,\"\")","v":""}]
[{"$f":"IF(D128<>\"\",Data!A129,\"\")","v":""},{"$f":"IF(D128<>\"\",Data!B129,\"\")","v":""},"",{"$f":"IF(AND(Data!E129<>\"\",Data!E129 > 0),Data!E129,\"\")","v":""}]
[{"$f":"IF(D129<>\"\",Data!A130,\"\")","v":""},{"$f":"IF(D129<>\"\",Data!B130,\"\")","v":""},"",{"$f":"IF(AND(Data!E130<>\"\",Data!E130 > 0),Data!E130,\"\")","v":""}]
[{"$f":"IF(D130<>\"\",Data!A131,\"\")","v":""},{"$f":"IF(D130<>\"\",Data!B131,\"\")","v":""},{"$f":"IF(D130<>\"\",MID(CELL(\"filename\",B130),FIND(\"]\",CELL(\"filename\",B130))+1,32),\"\")","v":""},{"$f":"IF(AND(Data!E131<>\"\",Data!E131 > 0),Data!E131,\"\")","v":""}]
[{"$f":"IF(D131<>\"\",Data!A132,\"\")","v":""},{"$f":"IF(D131<>\"\",Data!B132,\"\")","v":""},"",{"$f":"IF(AND(Data!E132<>\"\",Data!E132 > 0),Data!E132,\"\")","v":""}]
[{"$f":"IF(D132<>\"\",Data!A133,\"\")","v":""},{"$f":"IF(D132<>\"\",Data!B133,\"\")","v":""},"",{"$f":"IF(AND(Data!E133<>\"\",Data!E133 > 0),Data!E133,\"\")","v":""}]
[{"$f":"IF(D133<>\"\",Data!A134,\"\")","v":""},{"$f":"IF(D133<>\"\",Data!B134,\"\")","v":""},"",{"$f":"IF(AND(Data!E134<>\"\",Data!E134 > 0),Data!E134,\"\")","v":""}]
[{"$f":"IF(D134<>\"\",Data!A135,\"\")","v":""},{"$f":"IF(D134<>\"\",Data!B135,\"\")","v":""},"",{"$f":"IF(AND(Data!E135<>\"\",Data!E135 > 0),Data!E135,\"\")","v":""}]
[{"$f":"IF(D135<>\"\",Data!A136,\"\")","v":""},{"$f":"IF(D135<>\"\",Data!B136,\"\")","v":""},"",{"$f":"IF(AND(Data!E136<>\"\",Data!E136 > 0),Data!E136,\"\")","v":""}]
[{"$f":"IF(D136<>\"\",Data!A137,\"\")","v":""},{"$f":"IF(D136<>\"\",Data!B137,\"\")","v":""},"",{"$f":"IF(AND(Data!E137<>\"\",Data!E137 > 0),Data!E137,\"\")","v":""}]
[{"$f":"IF(D137<>\"\",Data!A138,\"\")","v":""},{"$f":"IF(D137<>\"\",Data!B138,\"\")","v":""},"",{"$f":"IF(AND(Data!E138<>\"\",Data!E138 > 0),Data!E138,\"\")","v":""}]
[{"$f":"IF(D138<>\"\",Data!A139,\"\")","v":""},{"$f":"IF(D138<>\"\",Data!B139,\"\")","v":""},"",{"$f":"IF(AND(Data!E139<>\"\",Data!E139 > 0),Data!E139,\"\")","v":""}]
[{"$f":"IF(D139<>\"\",Data!A140,\"\")","v":""},{"$f":"IF(D139<>\"\",Data!B140,\"\")","v":""},"",{"$f":"IF(AND(Data!E140<>\"\",Data!E140 > 0),Data!E140,\"\")","v":""}]
[{"$f":"IF(D140<>\"\",Data!A141,\"\")","v":""},{"$f":"IF(D140<>\"\",Data!B141,\"\")","v":""},"",{"$f":"IF(AND(Data!E141<>\"\",Data!E141 > 0),Data!E141,\"\")","v":""}]
[{"$f":"IF(D141<>\"\",Data!A142,\"\")","v":""},{"$f":"IF(D141<>\"\",Data!B142,\"\")","v":""},"",{"$f":"IF(AND(Data!E142<>\"\",Data!E142 > 0),Data!E142,\"\")","v":""}]
[{"$f":"IF(D142<>\"\",Data!A143,\"\")","v":""},{"$f":"IF(D142<>\"\",Data!B143,\"\")","v":""},"",{"$f":"IF(AND(Data!E143<>\"\",Data!E143 > 0),Data!E143,\"\")","v":""}]
[{"$f":"IF(D143<>\"\",Data!A144,\"\")","v":""},{"$f":"IF(D143<>\"\",Data!B144,\"\")","v":""},"",{"$f":"IF(AND(Data!E144<>\"\",Data!E144 > 0),Data!E144,\"\")","v":""}]
[{"$f":"IF(D144<>\"\",Data!A145,\"\")","v":""},{"$f":"IF(D144<>\"\",Data!B145,\"\")","v":""},"",{"$f":"IF(AND(Data!E145<>\"\",Data!E145 > 0),Data!E145,\"\")","v":""}]
[{"$f":"IF(D145<>\"\",Data!A146,\"\")","v":""},{"$f":"IF(D145<>\"\",Data!B146,\"\")","v":""},"",{"$f":"IF(AND(Data!E146<>\"\",Data!E146 > 0),Data!E146,\"\")","v":""}]
[{"$f":"IF(D146<>\"\",Data!A147,\"\")","v":""},{"$f":"IF(D146<>\"\",Data!B147,\"\")","v":""},"",{"$f":"IF(AND(Data!E147<>\"\",Data!E147 > 0),Data!E147,\"\")","v":""}]
[{"$f":"IF(D147<>\"\",Data!A148,\"\")","v":""},{"$f":"IF(D147<>\"\",Data!B148,\"\")","v":""},"",{"$f":"IF(AND(Data!E148<>\"\",Data!E148 > 0),Data!E148,\"\")","v":""}]
[{"$f":"IF(D148<>\"\",Data!A149,\"\")","v":""},{"$f":"IF(D148<>\"\",Data!B149,\"\")","v":""},"",{"$f":"IF(AND(Data!E149<>\"\",Data!E149 > 0),Data!E149,\"\")","v":""}]
[{"$f":"IF(D149<>\"\",Data!A150,\"\")","v":""},{"$f":"IF(D149<>\"\",Data!B150,\"\")","v":""},"",{"$f":"IF(AND(Data!E150<>\"\",Data!E150 > 0),Data!E150,\"\")","v":""}]
[{"$f":"IF(D150<>\"\",Data!A151,\"\")","v":""},{"$f":"IF(D150<>\"\",Data!B151,\"\")","v":""},"",{"$f":"IF(AND(Data!E151<>\"\",Data!E151 > 0),Data!E151,\"\")","v":""}]
[{"$f":"IF(D151<>\"\",Data!A152,\"\")","v":""},{"$f":"IF(D151<>\"\",Data!B152,\"\")","v":""},"",{"$f":"IF(AND(Data!E152<>\"\",Data!E152 > 0),Data!E152,\"\")","v":""}]
[{"$f":"IF(D152<>\"\",Data!A153,\"\")","v":""},{"$f":"IF(D152<>\"\",Data!B153,\"\")","v":""},"",{"$f":"IF(AND(Data!E153<>\"\",Data!E153 > 0),Data!E153,\"\")","v":""}]
[{"$f":"IF(D153<>\"\",Data!A154,\"\")","v":""},{"$f":"IF(D153<>\"\",Data!B154,\"\")","v":""},"",{"$f":"IF(AND(Data!E154<>\"\",Data!E154 > 0),Data!E154,\"\")","v":""}]
[{"$f":"IF(D154<>\"\",Data!A155,\"\")","v":""},{"$f":"IF(D154<>\"\",Data!B155,\"\")","v":""},"",{"$f":"IF(AND(Data!E155<>\"\",Data!E155 > 0),Data!E155,\"\")","v":""}]
[{"$f":"IF(D155<>\"\",Data!A156,\"\")","v":""},{"$f":"IF(D155<>\"\",Data!B156,\"\")","v":""},"",{"$f":"IF(AND(Data!E156<>\"\",Data!E156 > 0),Data!E156,\"\")","v":""}]
[{"$f":"IF(D156<>\"\",Data!A157,\"\")","v":""},{"$f":"IF(D156<>\"\",Data!B157,\"\")","v":""},"",{"$f":"IF(AND(Data!E157<>\"\",Data!E157 > 0),Data!E157,\"\")","v":""}]
[{"$f":"IF(D157<>\"\",Data!A158,\"\")","v":""},{"$f":"IF(D157<>\"\",Data!B158,\"\")","v":""},"",{"$f":"IF(AND(Data!E158<>\"\",Data!E158 > 0),Data!E158,\"\")","v":""}]
[{"$f":"IF(D158<>\"\",Data!A159,\"\")","v":""},{"$f":"IF(D158<>\"\",Data!B159,\"\")","v":""},"",{"$f":"IF(AND(Data!E159<>\"\",Data!E159 > 0),Data!E159,\"\")","v":""}]
[{"$f":"IF(D159<>\"\",Data!A160,\"\")","v":""},{"$f":"IF(D159<>\"\",Data!B160,\"\")","v":""},"",{"$f":"IF(AND(Data!E160<>\"\",Data!E160 > 0),Data!E160,\"\")","v":""}]
[{"$f":"IF(D160<>\"\",Data!A161,\"\")","v":""},{"$f":"IF(D160<>\"\",Data!B161,\"\")","v":""},"",{"$f":"IF(AND(Data!E161<>\"\",Data!E161 > 0),Data!E161,\"\")","v":""}]
[{"$f":"IF(D161<>\"\",Data!A162,\"\")","v":""},{"$f":"IF(D161<>\"\",Data!B162,\"\")","v":""},"",{"$f":"IF(AND(Data!E162<>\"\",Data!E162 > 0),Data!E162,\"\")","v":""}]
[{"$f":"IF(D162<>\"\",Data!A163,\"\")","v":""},{"$f":"IF(D162<>\"\",Data!B163,\"\")","v":""},"",{"$f":"IF(AND(Data!E163<>\"\",Data!E163 > 0),Data!E163,\"\")","v":""}]
[{"$f":"IF(D163<>\"\",Data!A164,\"\")","v":""},{"$f":"IF(D163<>\"\",Data!B164,\"\")","v":""},"",{"$f":"IF(AND(Data!E164<>\"\",Data!E164 > 0),Data!E164,\"\")","v":""}]
[{"$f":"IF(D164<>\"\",Data!A165,\"\")","v":""},{"$f":"IF(D164<>\"\",Data!B165,\"\")","v":""},"",{"$f":"IF(AND(Data!E165<>\"\",Data!E165 > 0),Data!E165,\"\")","v":""}]
[{"$f":"IF(D165<>\"\",Data!A166,\"\")","v":""},{"$f":"IF(D165<>\"\",Data!B166,\"\")","v":""},"",{"$f":"IF(AND(Data!E166<>\"\",Data!E166 > 0),Data!E166,\"\")","v":""}]
[{"$f":"IF(D166<>\"\",Data!A167,\"\")","v":""},{"$f":"IF(D166<>\"\",Data!B167,\"\")","v":""},"",{"$f":"IF(AND(Data!E167<>\"\",Data!E167 > 0),Data!E167,\"\")","v":""}]
[{"$f":"IF(D167<>\"\",Data!A168,\"\")","v":""},{"$f":"IF(D167<>\"\",Data!B168,\"\")","v":""},"",{"$f":"IF(AND(Data!E168<>\"\",Data!E168 > 0),Data!E168,\"\")","v":""}]
[{"$f":"IF(D168<>\"\",Data!A169,\"\")","v":""},{"$f":"IF(D168<>\"\",Data!B169,\"\")","v":""},"",{"$f":"IF(AND(Data!E169<>\"\",Data!E169 > 0),Data!E169,\"\")","v":""}]
[{"$f":"IF(D169<>\"\",Data!A170,\"\")","v":""},{"$f":"IF(D169<>\"\",Data!B170,\"\")","v":""},"",{"$f":"IF(AND(Data!E170<>\"\",Data!E170 > 0),Data!E170,\"\")","v":""}]
[{"$f":"IF(D170<>\"\",Data!A171,\"\")","v":""},{"$f":"IF(D170<>\"\",Data!B171,\"\")","v":""},"",{"$f":"IF(AND(Data!E171<>\"\",Data!E171 > 0),Data!E171,\"\")","v":""}]
[{"$f":"IF(D171<>\"\",Data!A172,\"\")","v":""},{"$f":"IF(D171<>\"\",Data!B172,\"\")","v":""},"",{"$f":"IF(AND(Data!E172<>\"\",Data!E172 > 0),Data!E172,\"\")","v":""}]
[{"$f":"IF(D172<>\"\",Data!A173,\"\")","v":""},{"$f":"IF(D172<>\"\",Data!B173,\"\")","v":""},"",{"$f":"IF(AND(Data!E173<>\"\",Data!E173 > 0),Data!E173,\"\")","v":""}]
[{"$f":"IF(D173<>\"\",Data!A174,\"\")","v":""},{"$f":"IF(D173<>\"\",Data!B174,\"\")","v":""},"",{"$f":"IF(AND(Data!E174<>\"\",Data!E174 > 0),Data!E174,\"\")","v":""}]
[{"$f":"IF(D174<>\"\",Data!A175,\"\")","v":""},{"$f":"IF(D174<>\"\",Data!B175,\"\")","v":""},"",{"$f":"IF(AND(Data!E175<>\"\",Data!E175 > 0),Data!E175,\"\")","v":""}]
[{"$f":"IF(D175<>\"\",Data!A176,\"\")","v":""},{"$f":"IF(D175<>\"\",Data!B176,\"\")","v":""},"",{"$f":"IF(AND(Data!E176<>\"\",Data!E176 > 0),Data!E176,\"\")","v":""}]
[{"$f":"IF(D176<>\"\",Data!A177,\"\")","v":""},{"$f":"IF(D176<>\"\",Data!B177,\"\")","v":""},"",{"$f":"IF(AND(Data!E177<>\"\",Data!E177 > 0),Data!E177,\"\")","v":""}]
[{"$f":"IF(D177<>\"\",Data!A178,\"\")","v":""},{"$f":"IF(D177<>\"\",Data!B178,\"\")","v":""},"",{"$f":"IF(AND(Data!E178<>\"\",Data!E178 > 0),Data!E178,\"\")","v":""}]
[{"$f":"IF(D178<>\"\",Data!A179,\"\")","v":""},{"$f":"IF(D178<>\"\",Data!B179,\"\")","v":""},"",{"$f":"IF(AND(Data!E179<>\"\",Data!E179 > 0),Data!E179,\"\")","v":""}]
[{"$f":"IF(D179<>\"\",Data!A180,\"\")","v":""},{"$f":"IF(D179<>\"\",Data!B180,\"\")","v":""},"",{"$f":"IF(AND(Data!E180<>\"\",Data!E180 > 0),Data!E180,\"\")","v":""}]
[{"$f":"IF(D180<>\"\",Data!A181,\"\")","v":""},{"$f":"IF(D180<>\"\",Data!B181,\"\")","v":""},"",{"$f":"IF(AND(Data!E181<>\"\",Data!E181 > 0),Data!E181,\"\")","v":""}]
[{"$f":"IF(D181<>\"\",Data!A182,\"\")","v":""},{"$f":"IF(D181<>\"\",Data!B182,\"\")","v":""},"",{"$f":"IF(AND(Data!E182<>\"\",Data!E182 > 0),Data!E182,\"\")","v":""}]
[{"$f":"IF(D182<>\"\",Data!A183,\"\")","v":""},{"$f":"IF(D182<>\"\",Data!B183,\"\")","v":""},"",{"$f":"IF(AND(Data!E183<>\"\",Data!E183 > 0),Data!E183,\"\")","v":""}]
[{"$f":"IF(D183<>\"\",Data!A184,\"\")","v":""},{"$f":"IF(D183<>\"\",Data!B184,\"\")","v":""},"",{"$f":"IF(AND(Data!E184<>\"\",Data!E184 > 0),Data!E184,\"\")","v":""}]
[{"$f":"IF(D184<>\"\",Data!A185,\"\")","v":""},{"$f":"IF(D184<>\"\",Data!B185,\"\")","v":""},"",{"$f":"IF(AND(Data!E185<>\"\",Data!E185 > 0),Data!E185,\"\")","v":""}]
[{"$f":"IF(D185<>\"\",Data!A186,\"\")","v":""},{"$f":"IF(D185<>\"\",Data!B186,\"\")","v":""},"",{"$f":"IF(AND(Data!E186<>\"\",Data!E186 > 0),Data!E186,\"\")","v":""}]
[{"$f":"IF(D186<>\"\",Data!A187,\"\")","v":""},{"$f":"IF(D186<>\"\",Data!B187,\"\")","v":""},"",{"$f":"IF(AND(Data!E187<>\"\",Data!E187 > 0),Data!E187,\"\")","v":""}]
[{"$f":"IF(D187<>\"\",Data!A188,\"\")","v":""},{"$f":"IF(D187<>\"\",Data!B188,\"\")","v":""},"",{"$f":"IF(AND(Data!E188<>\"\",Data!E188 > 0),Data!E188,\"\")","v":""}]
[{"$f":"IF(D188<>\"\",Data!A189,\"\")","v":""},{"$f":"IF(D188<>\"\",Data!B189,\"\")","v":""},"",{"$f":"IF(AND(Data!E189<>\"\",Data!E189 > 0),Data!E189,\"\")","v":""}]
[{"$f":"IF(D189<>\"\",Data!A190,\"\")","v":""},{"$f":"IF(D189<>\"\",Data!B190,\"\")","v":""},"",{"$f":"IF(AND(Data!E190<>\"\",Data!E190 > 0),Data!E190,\"\")","v":""}]
[{"$f":"IF(D190<>\"\",Data!A191,\"\")","v":""},{"$f":"IF(D190<>\"\",Data!B191,\"\")","v":""},"",{"$f":"IF(AND(Data!E191<>\"\",Data!E191 > 0),Data!E191,\"\")","v":""}]
[{"$f":"IF(D191<>\"\",Data!A192,\"\")","v":""},{"$f":"IF(D191<>\"\",Data!B192,\"\")","v":""},"",{"$f":"IF(AND(Data!E192<>\"\",Data!E192 > 0),Data!E192,\"\")","v":""}]
[{"$f":"IF(D192<>\"\",Data!A193,\"\")","v":""},{"$f":"IF(D192<>\"\",Data!B193,\"\")","v":""},"",{"$f":"IF(AND(Data!E193<>\"\",Data!E193 > 0),Data!E193,\"\")","v":""}]
[{"$f":"IF(D193<>\"\",Data!A194,\"\")","v":""},{"$f":"IF(D193<>\"\",Data!B194,\"\")","v":""},"",{"$f":"IF(AND(Data!E194<>\"\",Data!E194 > 0),Data!E194,\"\")","v":""}]
[{"$f":"IF(D194<>\"\",Data!A195,\"\")","v":""},{"$f":"IF(D194<>\"\",Data!B195,\"\")","v":""},{"$f":"IF(D194<>\"\",MID(CELL(\"filename\",B194),FIND(\"]\",CELL(\"filename\",B194))+1,32),\"\")","v":""},{"$f":"IF(AND(Data!E195<>\"\",Data!E195 > 0),Data!E195,\"\")","v":""}]
[{"$f":"IF(D195<>\"\",Data!A196,\"\")","v":""},{"$f":"IF(D195<>\"\",Data!B196,\"\")","v":""},"",{"$f":"IF(AND(Data!E196<>\"\",Data!E196 > 0),Data!E196,\"\")","v":""}]
[{"$f":"IF(D196<>\"\",Data!A197,\"\")","v":""},{"$f":"IF(D196<>\"\",Data!B197,\"\")","v":""},"",{"$f":"IF(AND(Data!E197<>\"\",Data!E197 > 0),Data!E197,\"\")","v":""}]
[{"$f":"IF(D197<>\"\",Data!A198,\"\")","v":""},{"$f":"IF(D197<>\"\",Data!B198,\"\")","v":""},"",{"$f":"IF(AND(Data!E198<>\"\",Data!E198 > 0),Data!E198,\"\")","v":""}]
[{"$f":"IF(D198<>\"\",Data!A199,\"\")","v":""},{"$f":"IF(D198<>\"\",Data!B199,\"\")","v":""},"",{"$f":"IF(AND(Data!E199<>\"\",Data!E199 > 0),Data!E199,\"\")","v":""}]
[{"$f":"IF(D199<>\"\",Data!A200,\"\")","v":""},{"$f":"IF(D199<>\"\",Data!B200,\"\")","v":""},"",{"$f":"IF(AND(Data!E200<>\"\",Data!E200 > 0),Data!E200,\"\")","v":""}]
[{"$f":"IF(D200<>\"\",Data!A201,\"\")","v":""},{"$f":"IF(D200<>\"\",Data!B201,\"\")","v":""},"",{"$f":"IF(AND(Data!E201<>\"\",Data!E201 > 0),Data!E201,\"\")","v":""}]
[{"$f":"IF(D201<>\"\",Data!A202,\"\")","v":""},{"$f":"IF(D201<>\"\",Data!B202,\"\")","v":""},"",{"$f":"IF(AND(Data!E202<>\"\",Data!E202 > 0),Data!E202,\"\")","v":""}]
[{"$f":"IF(D202<>\"\",Data!A203,\"\")","v":""},{"$f":"IF(D202<>\"\",Data!B203,\"\")","v":""},"",{"$f":"IF(AND(Data!E203<>\"\",Data!E203 > 0),Data!E203,\"\")","v":""}]
[{"$f":"IF(D203<>\"\",Data!A204,\"\")","v":""},{"$f":"IF(D203<>\"\",Data!B204,\"\")","v":""},"",{"$f":"IF(AND(Data!E204<>\"\",Data!E204 > 0),Data!E204,\"\")","v":""}]
[{"$f":"IF(D204<>\"\",Data!A205,\"\")","v":""},{"$f":"IF(D204<>\"\",Data!B205,\"\")","v":""},"",{"$f":"IF(AND(Data!E205<>\"\",Data!E205 > 0),Data!E205,\"\")","v":""}]
[{"$f":"IF(D205<>\"\",Data!A206,\"\")","v":""},{"$f":"IF(D205<>\"\",Data!B206,\"\")","v":""},"",{"$f":"IF(AND(Data!E206<>\"\",Data!E206 > 0),Data!E206,\"\")","v":""}]
[{"$f":"IF(D206<>\"\",Data!A207,\"\")","v":""},{"$f":"IF(D206<>\"\",Data!B207,\"\")","v":""},"",{"$f":"IF(AND(Data!E207<>\"\",Data!E207 > 0),Data!E207,\"\")","v":""}]
[{"$f":"IF(D207<>\"\",Data!A208,\"\")","v":""},{"$f":"IF(D207<>\"\",Data!B208,\"\")","v":""},"",{"$f":"IF(AND(Data!E208<>\"\",Data!E208 > 0),Data!E208,\"\")","v":""}]
[{"$f":"IF(D208<>\"\",Data!A209,\"\")","v":""},{"$f":"IF(D208<>\"\",Data!B209,\"\")","v":""},"",{"$f":"IF(AND(Data!E209<>\"\",Data!E209 > 0),Data!E209,\"\")","v":""}]
[{"$f":"IF(D209<>\"\",Data!A210,\"\")","v":""},{"$f":"IF(D209<>\"\",Data!B210,\"\")","v":""},"",{"$f":"IF(AND(Data!E210<>\"\",Data!E210 > 0),Data!E210,\"\")","v":""}]
[{"$f":"IF(D210<>\"\",Data!A211,\"\")","v":""},{"$f":"IF(D210<>\"\",Data!B211,\"\")","v":""},"",{"$f":"IF(AND(Data!E211<>\"\",Data!E211 > 0),Data!E211,\"\")","v":""}]
[{"$f":"IF(D211<>\"\",Data!A212,\"\")","v":""},{"$f":"IF(D211<>\"\",Data!B212,\"\")","v":""},"",{"$f":"IF(AND(Data!E212<>\"\",Data!E212 > 0),Data!E212,\"\")","v":""}]
[{"$f":"IF(D212<>\"\",Data!A213,\"\")","v":""},{"$f":"IF(D212<>\"\",Data!B213,\"\")","v":""},"",{"$f":"IF(AND(Data!E213<>\"\",Data!E213 > 0),Data!E213,\"\")","v":""}]
[{"$f":"IF(D213<>\"\",Data!A214,\"\")","v":""},{"$f":"IF(D213<>\"\",Data!B214,\"\")","v":""},"",{"$f":"IF(AND(Data!E214<>\"\",Data!E214 > 0),Data!E214,\"\")","v":""}]
[{"$f":"IF(D214<>\"\",Data!A215,\"\")","v":""},{"$f":"IF(D214<>\"\",Data!B215,\"\")","v":""},"",{"$f":"IF(AND(Data!E215<>\"\",Data!E215 > 0),Data!E215,\"\")","v":""}]
[{"$f":"IF(D215<>\"\",Data!A216,\"\")","v":""},{"$f":"IF(D215<>\"\",Data!B216,\"\")","v":""},"",{"$f":"IF(AND(Data!E216<>\"\",Data!E216 > 0),Data!E216,\"\")","v":""}]
[{"$f":"IF(D216<>\"\",Data!A217,\"\")","v":""},{"$f":"IF(D216<>\"\",Data!B217,\"\")","v":""},"",{"$f":"IF(AND(Data!E217<>\"\",Data!E217 > 0),Data!E217,\"\")","v":""}]
[{"$f":"IF(D217<>\"\",Data!A218,\"\")","v":""},{"$f":"IF(D217<>\"\",Data!B218,\"\")","v":""},"",{"$f":"IF(AND(Data!E218<>\"\",Data!E218 > 0),Data!E218,\"\")","v":""}]
[{"$f":"IF(D218<>\"\",Data!A219,\"\")","v":""},{"$f":"IF(D218<>\"\",Data!B219,\"\")","v":""},"",{"$f":"IF(AND(Data!E219<>\"\",Data!E219 > 0),Data!E219,\"\")","v":""}]
[{"$f":"IF(D219<>\"\",Data!A220,\"\")","v":""},{"$f":"IF(D219<>\"\",Data!B220,\"\")","v":""},"",{"$f":"IF(AND(Data!E220<>\"\",Data!E220 > 0),Data!E220,\"\")","v":""}]
[{"$f":"IF(D220<>\"\",Data!A221,\"\")","v":""},{"$f":"IF(D220<>\"\",Data!B221,\"\")","v":""},"",{"$f":"IF(AND(Data!E221<>\"\",Data!E221 > 0),Data!E221,\"\")","v":""}]
[{"$f":"IF(D221<>\"\",Data!A222,\"\")","v":""},{"$f":"IF(D221<>\"\",Data!B222,\"\")","v":""},"",{"$f":"IF(AND(Data!E222<>\"\",Data!E222 > 0),Data!E222,\"\")","v":""}]
[{"$f":"IF(D222<>\"\",Data!A223,\"\")","v":""},{"$f":"IF(D222<>\"\",Data!B223,\"\")","v":""},"",{"$f":"IF(AND(Data!E223<>\"\",Data!E223 > 0),Data!E223,\"\")","v":""}]
[{"$f":"IF(D223<>\"\",Data!A224,\"\")","v":""},{"$f":"IF(D223<>\"\",Data!B224,\"\")","v":""},"",{"$f":"IF(AND(Data!E224<>\"\",Data!E224 > 0),Data!E224,\"\")","v":""}]
[{"$f":"IF(D224<>\"\",Data!A225,\"\")","v":""},{"$f":"IF(D224<>\"\",Data!B225,\"\")","v":""},"",{"$f":"IF(AND(Data!E225<>\"\",Data!E225 > 0),Data!E225,\"\")","v":""}]
[{"$f":"IF(D225<>\"\",Data!A226,\"\")","v":""},{"$f":"IF(D225<>\"\",Data!B226,\"\")","v":""},"",{"$f":"IF(AND(Data!E226<>\"\",Data!E226 > 0),Data!E226,\"\")","v":""}]
[{"$f":"IF(D226<>\"\",Data!A227,\"\")","v":""},{"$f":"IF(D226<>\"\",Data!B227,\"\")","v":""},"",{"$f":"IF(AND(Data!E227<>\"\",Data!E227 > 0),Data!E227,\"\")","v":""}]
[{"$f":"IF(D227<>\"\",Data!A228,\"\")","v":""},{"$f":"IF(D227<>\"\",Data!B228,\"\")","v":""},"",{"$f":"IF(AND(Data!E228<>\"\",Data!E228 > 0),Data!E228,\"\")","v":""}]
[{"$f":"IF(D228<>\"\",Data!A229,\"\")","v":""},{"$f":"IF(D228<>\"\",Data!B229,\"\")","v":""},"",{"$f":"IF(AND(Data!E229<>\"\",Data!E229 > 0),Data!E229,\"\")","v":""}]
[{"$f":"IF(D229<>\"\",Data!A230,\"\")","v":""},{"$f":"IF(D229<>\"\",Data!B230,\"\")","v":""},"",{"$f":"IF(AND(Data!E230<>\"\",Data!E230 > 0),Data!E230,\"\")","v":""}]
[{"$f":"IF(D230<>\"\",Data!A231,\"\")","v":""},{"$f":"IF(D230<>\"\",Data!B231,\"\")","v":""},"",{"$f":"IF(AND(Data!E231<>\"\",Data!E231 > 0),Data!E231,\"\")","v":""}]
[{"$f":"IF(D231<>\"\",Data!A232,\"\")","v":""},{"$f":"IF(D231<>\"\",Data!B232,\"\")","v":""},"",{"$f":"IF(AND(Data!E232<>\"\",Data!E232 > 0),Data!E232,\"\")","v":""}]
[{"$f":"IF(D232<>\"\",Data!A233,\"\")","v":""},{"$f":"IF(D232<>\"\",Data!B233,\"\")","v":""},"",{"$f":"IF(AND(Data!E233<>\"\",Data!E233 > 0),Data!E233,\"\")","v":""}]
[{"$f":"IF(D233<>\"\",Data!A234,\"\")","v":""},{"$f":"IF(D233<>\"\",Data!B234,\"\")","v":""},"",{"$f":"IF(AND(Data!E234<>\"\",Data!E234 > 0),Data!E234,\"\")","v":""}]
[{"$f":"IF(D234<>\"\",Data!A235,\"\")","v":""},{"$f":"IF(D234<>\"\",Data!B235,\"\")","v":""},"",{"$f":"IF(AND(Data!E235<>\"\",Data!E235 > 0),Data!E235,\"\")","v":""}]
[{"$f":"IF(D235<>\"\",Data!A236,\"\")","v":""},{"$f":"IF(D235<>\"\",Data!B236,\"\")","v":""},"",{"$f":"IF(AND(Data!E236<>\"\",Data!E236 > 0),Data!E236,\"\")","v":""}]
[{"$f":"IF(D236<>\"\",Data!A237,\"\")","v":""},{"$f":"IF(D236<>\"\",Data!B237,\"\")","v":""},"",{"$f":"IF(AND(Data!E237<>\"\",Data!E237 > 0),Data!E237,\"\")","v":""}]
[{"$f":"IF(D237<>\"\",Data!A238,\"\")","v":""},{"$f":"IF(D237<>\"\",Data!B238,\"\")","v":""},"",{"$f":"IF(AND(Data!E238<>\"\",Data!E238 > 0),Data!E238,\"\")","v":""}]
[{"$f":"IF(D238<>\"\",Data!A239,\"\")","v":""},{"$f":"IF(D238<>\"\",Data!B239,\"\")","v":""},"",{"$f":"IF(AND(Data!E239<>\"\",Data!E239 > 0),Data!E239,\"\")","v":""}]
[{"$f":"IF(D239<>\"\",Data!A240,\"\")","v":""},{"$f":"IF(D239<>\"\",Data!B240,\"\")","v":""},"",{"$f":"IF(AND(Data!E240<>\"\",Data!E240 > 0),Data!E240,\"\")","v":""}]
[{"$f":"IF(D240<>\"\",Data!A241,\"\")","v":""},{"$f":"IF(D240<>\"\",Data!B241,\"\")","v":""},"",{"$f":"IF(AND(Data!E241<>\"\",Data!E241 > 0),Data!E241,\"\")","v":""}]
[{"$f":"IF(D241<>\"\",Data!A242,\"\")","v":""},{"$f":"IF(D241<>\"\",Data!B242,\"\")","v":""},"",{"$f":"IF(AND(Data!E242<>\"\",Data!E242 > 0),Data!E242,\"\")","v":""}]
[{"$f":"IF(D242<>\"\",Data!A243,\"\")","v":""},{"$f":"IF(D242<>\"\",Data!B243,\"\")","v":""},"",{"$f":"IF(AND(Data!E243<>\"\",Data!E243 > 0),Data!E243,\"\")","v":""}]
[{"$f":"IF(D243<>\"\",Data!A244,\"\")","v":""},{"$f":"IF(D243<>\"\",Data!B244,\"\")","v":""},"",{"$f":"IF(AND(Data!E244<>\"\",Data!E244 > 0),Data!E244,\"\")","v":""}]
[{"$f":"IF(D244<>\"\",Data!A245,\"\")","v":""},{"$f":"IF(D244<>\"\",Data!B245,\"\")","v":""},"",{"$f":"IF(AND(Data!E245<>\"\",Data!E245 > 0),Data!E245,\"\")","v":""}]
[{"$f":"IF(D245<>\"\",Data!A246,\"\")","v":""},{"$f":"IF(D245<>\"\",Data!B246,\"\")","v":""},"",{"$f":"IF(AND(Data!E246<>\"\",Data!E246 > 0),Data!E246,\"\")","v":""}]
[{"$f":"IF(D246<>\"\",Data!A247,\"\")","v":""},{"$f":"IF(D246<>\"\",Data!B247,\"\")","v":""},"",{"$f":"IF(AND(Data!E247<>\"\",Data!E247 > 0),Data!E247,\"\")","v":""}]
[{"$f":"IF(D247<>\"\",Data!A248,\"\")","v":""},{"$f":"IF(D247<>\"\",Data!B248,\"\")","v":""},"",{"$f":"IF(AND(Data!E248<>\"\",Data!E248 > 0),Data!E248,\"\")","v":""}]
[{"$f":"IF(D248<>\"\",Data!A249,\"\")","v":""},{"$f":"IF(D248<>\"\",Data!B249,\"\")","v":""},"",{"$f":"IF(AND(Data!E249<>\"\",Data!E249 > 0),Data!E249,\"\")","v":""}]
[{"$f":"IF(D249<>\"\",Data!A250,\"\")","v":""},{"$f":"IF(D249<>\"\",Data!B250,\"\")","v":""},"",{"$f":"IF(AND(Data!E250<>\"\",Data!E250 > 0),Data!E250,\"\")","v":""}]
[{"$f":"IF(D250<>\"\",Data!A251,\"\")","v":""},{"$f":"IF(D250<>\"\",Data!B251,\"\")","v":""},"",{"$f":"IF(AND(Data!E251<>\"\",Data!E251 > 0),Data!E251,\"\")","v":""}]
[{"$f":"IF(D251<>\"\",Data!A252,\"\")","v":""},{"$f":"IF(D251<>\"\",Data!B252,\"\")","v":""},"",{"$f":"IF(AND(Data!E252<>\"\",Data!E252 > 0),Data!E252,\"\")","v":""}]
[{"$f":"IF(D252<>\"\",Data!A253,\"\")","v":""},{"$f":"IF(D252<>\"\",Data!B253,\"\")","v":""},"",{"$f":"IF(AND(Data!E253<>\"\",Data!E253 > 0),Data!E253,\"\")","v":""}]
[{"$f":"IF(D253<>\"\",Data!A254,\"\")","v":""},{"$f":"IF(D253<>\"\",Data!B254,\"\")","v":""},"",{"$f":"IF(AND(Data!E254<>\"\",Data!E254 > 0),Data!E254,\"\")","v":""}]
[{"$f":"IF(D254<>\"\",Data!A255,\"\")","v":""},{"$f":"IF(D254<>\"\",Data!B255,\"\")","v":""},"",{"$f":"IF(AND(Data!E255<>\"\",Data!E255 > 0),Data!E255,\"\")","v":""}]
[{"$f":"IF(D255<>\"\",Data!A256,\"\")","v":""},{"$f":"IF(D255<>\"\",Data!B256,\"\")","v":""},"",{"$f":"IF(AND(Data!E256<>\"\",Data!E256 > 0),Data!E256,\"\")","v":""}]
[{"$f":"IF(D256<>\"\",Data!A257,\"\")","v":""},{"$f":"IF(D256<>\"\",Data!B257,\"\")","v":""},"",{"$f":"IF(AND(Data!E257<>\"\",Data!E257 > 0),Data!E257,\"\")","v":""}]
[{"$f":"IF(D257<>\"\",Data!A258,\"\")","v":""},{"$f":"IF(D257<>\"\",Data!B258,\"\")","v":""},"",{"$f":"IF(AND(Data!E258<>\"\",Data!E258 > 0),Data!E258,\"\")","v":""}]
[{"$f":"IF(D258<>\"\",Data!A259,\"\")","v":""},{"$f":"IF(D258<>\"\",Data!B259,\"\")","v":""},{"$f":"IF(D258<>\"\",MID(CELL(\"filename\",B258),FIND(\"]\",CELL(\"filename\",B258))+1,32),\"\")","v":""},{"$f":"IF(AND(Data!E259<>\"\",Data!E259 > 0),Data!E259,\"\")","v":""}]
[{"$f":"IF(D259<>\"\",Data!A260,\"\")","v":""},{"$f":"IF(D259<>\"\",Data!B260,\"\")","v":""},"",{"$f":"IF(AND(Data!E260<>\"\",Data!E260 > 0),Data!E260,\"\")","v":""}]
[{"$f":"IF(D260<>\"\",Data!A261,\"\")","v":""},{"$f":"IF(D260<>\"\",Data!B261,\"\")","v":""},"",{"$f":"IF(AND(Data!E261<>\"\",Data!E261 > 0),Data!E261,\"\")","v":""}]
[{"$f":"IF(D261<>\"\",Data!A262,\"\")","v":""},{"$f":"IF(D261<>\"\",Data!B262,\"\")","v":""},"",{"$f":"IF(AND(Data!E262<>\"\",Data!E262 > 0),Data!E262,\"\")","v":""}]
[{"$f":"IF(D262<>\"\",Data!A263,\"\")","v":""},{"$f":"IF(D262<>\"\",Data!B263,\"\")","v":""},"",{"$f":"IF(AND(Data!E263<>\"\",Data!E263 > 0),Data!E263,\"\")","v":""}]
[{"$f":"IF(D263<>\"\",Data!A264,\"\")","v":""},{"$f":"IF(D263<>\"\",Data!B264,\"\")","v":""},"",{"$f":"IF(AND(Data!E264<>\"\",Data!E264 > 0),Data!E264,\"\")","v":""}]
[{"$f":"IF(D264<>\"\",Data!A265,\"\")","v":""},{"$f":"IF(D264<>\"\",Data!B265,\"\")","v":""},"",{"$f":"IF(AND(Data!E265<>\"\",Data!E265 > 0),Data!E265,\"\")","v":""}]
[{"$f":"IF(D265<>\"\",Data!A266,\"\")","v":""},{"$f":"IF(D265<>\"\",Data!B266,\"\")","v":""},"",{"$f":"IF(AND(Data!E266<>\"\",Data!E266 > 0),Data!E266,\"\")","v":""}]
[{"$f":"IF(D266<>\"\",Data!A267,\"\")","v":""},{"$f":"IF(D266<>\"\",Data!B267,\"\")","v":""},"",{"$f":"IF(AND(Data!E267<>\"\",Data!E267 > 0),Data!E267,\"\")","v":""}]
[{"$f":"IF(D267<>\"\",Data!A268,\"\")","v":""},{"$f":"IF(D267<>\"\",Data!B268,\"\")","v":""},"",{"$f":"IF(AND(Data!E268<>\"\",Data!E268 > 0),Data!E268,\"\")","v":""}]
[{"$f":"IF(D268<>\"\",Data!A269,\"\")","v":""},{"$f":"IF(D268<>\"\",Data!B269,\"\")","v":""},"",{"$f":"IF(AND(Data!E269<>\"\",Data!E269 > 0),Data!E269,\"\")","v":""}]
[{"$f":"IF(D269<>\"\",Data!A270,\"\")","v":""},{"$f":"IF(D269<>\"\",Data!B270,\"\")","v":""},"",{"$f":"IF(AND(Data!E270<>\"\",Data!E270 > 0),Data!E270,\"\")","v":""}]
[{"$f":"IF(D270<>\"\",Data!A271,\"\")","v":""},{"$f":"IF(D270<>\"\",Data!B271,\"\")","v":""},"",{"$f":"IF(AND(Data!E271<>\"\",Data!E271 > 0),Data!E271,\"\")","v":""}]
[{"$f":"IF(D271<>\"\",Data!A272,\"\")","v":""},{"$f":"IF(D271<>\"\",Data!B272,\"\")","v":""},"",{"$f":"IF(AND(Data!E272<>\"\",Data!E272 > 0),Data!E272,\"\")","v":""}]
[{"$f":"IF(D272<>\"\",Data!A273,\"\")","v":""},{"$f":"IF(D272<>\"\",Data!B273,\"\")","v":""},"",{"$f":"IF(AND(Data!E273<>\"\",Data!E273 > 0),Data!E273,\"\")","v":""}]
[{"$f":"IF(D273<>\"\",Data!A274,\"\")","v":""},{"$f":"IF(D273<>\"\",Data!B274,\"\")","v":""},"",{"$f":"IF(AND(Data!E274<>\"\",Data!E274 > 0),Data!E274,\"\")","v":""}]
[{"$f":"IF(D274<>\"\",Data!A275,\"\")","v":""},{"$f":"IF(D274<>\"\",Data!B275,\"\")","v":""},"",{"$f":"IF(AND(Data!E275<>\"\",Data!E275 > 0),Data!E275,\"\")","v":""}]
[{"$f":"IF(D275<>\"\",Data!A276,\"\")","v":""},{"$f":"IF(D275<>\"\",Data!B276,\"\")","v":""},"",{"$f":"IF(AND(Data!E276<>\"\",Data!E276 > 0),Data!E276,\"\")","v":""}]
[{"$f":"IF(D276<>\"\",Data!A277,\"\")","v":""},{"$f":"IF(D276<>\"\",Data!B277,\"\")","v":""},"",{"$f":"IF(AND(Data!E277<>\"\",Data!E277 > 0),Data!E277,\"\")","v":""}]
[{"$f":"IF(D277<>\"\",Data!A278,\"\")","v":""},{"$f":"IF(D277<>\"\",Data!B278,\"\")","v":""},"",{"$f":"IF(AND(Data!E278<>\"\",Data!E278 > 0),Data!E278,\"\")","v":""}]
[{"$f":"IF(D278<>\"\",Data!A279,\"\")","v":""},{"$f":"IF(D278<>\"\",Data!B279,\"\")","v":""},"",{"$f":"IF(AND(Data!E279<>\"\",Data!E279 > 0),Data!E279,\"\")","v":""}]
[{"$f":"IF(D279<>\"\",Data!A280,\"\")","v":""},{"$f":"IF(D279<>\"\",Data!B280,\"\")","v":""},"",{"$f":"IF(AND(Data!E280<>\"\",Data!E280 > 0),Data!E280,\"\")","v":""}]
[{"$f":"IF(D280<>\"\",Data!A281,\"\")","v":""},{"$f":"IF(D280<>\"\",Data!B281,\"\")","v":""},"",{"$f":"IF(AND(Data!E281<>\"\",Data!E281 > 0),Data!E281,\"\")","v":""}]
[{"$f":"IF(D281<>\"\",Data!A282,\"\")","v":""},{"$f":"IF(D281<>\"\",Data!B282,\"\")","v":""},"",{"$f":"IF(AND(Data!E282<>\"\",Data!E282 > 0),Data!E282,\"\")","v":""}]
[{"$f":"IF(D282<>\"\",Data!A283,\"\")","v":""},{"$f":"IF(D282<>\"\",Data!B283,\"\")","v":""},"",{"$f":"IF(AND(Data!E283<>\"\",Data!E283 > 0),Data!E283,\"\")","v":""}]
[{"$f":"IF(D283<>\"\",Data!A284,\"\")","v":""},{"$f":"IF(D283<>\"\",Data!B284,\"\")","v":""},"",{"$f":"IF(AND(Data!E284<>\"\",Data!E284 > 0),Data!E284,\"\")","v":""}]
[{"$f":"IF(D284<>\"\",Data!A285,\"\")","v":""},{"$f":"IF(D284<>\"\",Data!B285,\"\")","v":""},"",{"$f":"IF(AND(Data!E285<>\"\",Data!E285 > 0),Data!E285,\"\")","v":""}]
[{"$f":"IF(D285<>\"\",Data!A286,\"\")","v":""},{"$f":"IF(D285<>\"\",Data!B286,\"\")","v":""},"",{"$f":"IF(AND(Data!E286<>\"\",Data!E286 > 0),Data!E286,\"\")","v":""}]
[{"$f":"IF(D286<>\"\",Data!A287,\"\")","v":""},{"$f":"IF(D286<>\"\",Data!B287,\"\")","v":""},"",{"$f":"IF(AND(Data!E287<>\"\",Data!E287 > 0),Data!E287,\"\")","v":""}]
[{"$f":"IF(D287<>\"\",Data!A288,\"\")","v":""},{"$f":"IF(D287<>\"\",Data!B288,\"\")","v":""},"",{"$f":"IF(AND(Data!E288<>\"\",Data!E288 > 0),Data!E288,\"\")","v":""}]
[{"$f":"IF(D288<>\"\",Data!A289,\"\")","v":""},{"$f":"IF(D288<>\"\",Data!B289,\"\")","v":""},"",{"$f":"IF(AND(Data!E289<>\"\",Data!E289 > 0),Data!E289,\"\")","v":""}]
[{"$f":"IF(D289<>\"\",Data!A290,\"\")","v":""},{"$f":"IF(D289<>\"\",Data!B290,\"\")","v":""},"",{"$f":"IF(AND(Data!E290<>\"\",Data!E290 > 0),Data!E290,\"\")","v":""}]
[{"$f":"IF(D290<>\"\",Data!A291,\"\")","v":""},{"$f":"IF(D290<>\"\",Data!B291,\"\")","v":""},"",{"$f":"IF(AND(Data!E291<>\"\",Data!E291 > 0),Data!E291,\"\")","v":""}]
[{"$f":"IF(D291<>\"\",Data!A292,\"\")","v":""},{"$f":"IF(D291<>\"\",Data!B292,\"\")","v":""},"",{"$f":"IF(AND(Data!E292<>\"\",Data!E292 > 0),Data!E292,\"\")","v":""}]
[{"$f":"IF(D292<>\"\",Data!A293,\"\")","v":""},{"$f":"IF(D292<>\"\",Data!B293,\"\")","v":""},"",{"$f":"IF(AND(Data!E293<>\"\",Data!E293 > 0),Data!E293,\"\")","v":""}]
[{"$f":"IF(D293<>\"\",Data!A294,\"\")","v":""},{"$f":"IF(D293<>\"\",Data!B294,\"\")","v":""},"",{"$f":"IF(AND(Data!E294<>\"\",Data!E294 > 0),Data!E294,\"\")","v":""}]
[{"$f":"IF(D294<>\"\",Data!A295,\"\")","v":""},{"$f":"IF(D294<>\"\",Data!B295,\"\")","v":""},"",{"$f":"IF(AND(Data!E295<>\"\",Data!E295 > 0),Data!E295,\"\")","v":""}]
[{"$f":"IF(D295<>\"\",Data!A296,\"\")","v":""},{"$f":"IF(D295<>\"\",Data!B296,\"\")","v":""},"",{"$f":"IF(AND(Data!E296<>\"\",Data!E296 > 0),Data!E296,\"\")","v":""}]
[{"$f":"IF(D296<>\"\",Data!A297,\"\")","v":""},{"$f":"IF(D296<>\"\",Data!B297,\"\")","v":""},"",{"$f":"IF(AND(Data!E297<>\"\",Data!E297 > 0),Data!E297,\"\")","v":""}]
[{"$f":"IF(D297<>\"\",Data!A298,\"\")","v":""},{"$f":"IF(D297<>\"\",Data!B298,\"\")","v":""},"",{"$f":"IF(AND(Data!E298<>\"\",Data!E298 > 0),Data!E298,\"\")","v":""}]
[{"$f":"IF(D298<>\"\",Data!A299,\"\")","v":""},{"$f":"IF(D298<>\"\",Data!B299,\"\")","v":""},"",{"$f":"IF(AND(Data!E299<>\"\",Data!E299 > 0),Data!E299,\"\")","v":""}]
[{"$f":"IF(D299<>\"\",Data!A300,\"\")","v":""},{"$f":"IF(D299<>\"\",Data!B300,\"\")","v":""},"",{"$f":"IF(AND(Data!E300<>\"\",Data!E300 > 0),Data!E300,\"\")","v":""}]
[{"$f":"IF(D300<>\"\",Data!A301,\"\")","v":""},{"$f":"IF(D300<>\"\",Data!B301,\"\")","v":""},"",{"$f":"IF(AND(Data!E301<>\"\",Data!E301 > 0),Data!E301,\"\")","v":""}]
[{"$f":"IF(D301<>\"\",Data!A302,\"\")","v":""},{"$f":"IF(D301<>\"\",Data!B302,\"\")","v":""},"",{"$f":"IF(AND(Data!E302<>\"\",Data!E302 > 0),Data!E302,\"\")","v":""}]
[{"$f":"IF(D302<>\"\",Data!A303,\"\")","v":""},{"$f":"IF(D302<>\"\",Data!B303,\"\")","v":""},"",{"$f":"IF(AND(Data!E303<>\"\",Data!E303 > 0),Data!E303,\"\")","v":""}]
[{"$f":"IF(D303<>\"\",Data!A304,\"\")","v":""},{"$f":"IF(D303<>\"\",Data!B304,\"\")","v":""},"",{"$f":"IF(AND(Data!E304<>\"\",Data!E304 > 0),Data!E304,\"\")","v":""}]
[{"$f":"IF(D304<>\"\",Data!A305,\"\")","v":""},{"$f":"IF(D304<>\"\",Data!B305,\"\")","v":""},"",{"$f":"IF(AND(Data!E305<>\"\",Data!E305 > 0),Data!E305,\"\")","v":""}]
[{"$f":"IF(D305<>\"\",Data!A306,\"\")","v":""},{"$f":"IF(D305<>\"\",Data!B306,\"\")","v":""},"",{"$f":"IF(AND(Data!E306<>\"\",Data!E306 > 0),Data!E306,\"\")","v":""}]
[{"$f":"IF(D306<>\"\",Data!A307,\"\")","v":""},{"$f":"IF(D306<>\"\",Data!B307,\"\")","v":""},"",{"$f":"IF(AND(Data!E307<>\"\",Data!E307 > 0),Data!E307,\"\")","v":""}]
[{"$f":"IF(D307<>\"\",Data!A308,\"\")","v":""},{"$f":"IF(D307<>\"\",Data!B308,\"\")","v":""},"",{"$f":"IF(AND(Data!E308<>\"\",Data!E308 > 0),Data!E308,\"\")","v":""}]
[{"$f":"IF(D308<>\"\",Data!A309,\"\")","v":""},{"$f":"IF(D308<>\"\",Data!B309,\"\")","v":""},"",{"$f":"IF(AND(Data!E309<>\"\",Data!E309 > 0),Data!E309,\"\")","v":""}]
[{"$f":"IF(D309<>\"\",Data!A310,\"\")","v":""},{"$f":"IF(D309<>\"\",Data!B310,\"\")","v":""},"",{"$f":"IF(AND(Data!E310<>\"\",Data!E310 > 0),Data!E310,\"\")","v":""}]
[{"$f":"IF(D310<>\"\",Data!A311,\"\")","v":""},{"$f":"IF(D310<>\"\",Data!B311,\"\")","v":""},"",{"$f":"IF(AND(Data!E311<>\"\",Data!E311 > 0),Data!E311,\"\")","v":""}]
[{"$f":"IF(D311<>\"\",Data!A312,\"\")","v":""},{"$f":"IF(D311<>\"\",Data!B312,\"\")","v":""},"",{"$f":"IF(AND(Data!E312<>\"\",Data!E312 > 0),Data!E312,\"\")","v":""}]
[{"$f":"IF(D312<>\"\",Data!A313,\"\")","v":""},{"$f":"IF(D312<>\"\",Data!B313,\"\")","v":""},"",{"$f":"IF(AND(Data!E313<>\"\",Data!E313 > 0),Data!E313,\"\")","v":""}]
[{"$f":"IF(D313<>\"\",Data!A314,\"\")","v":""},{"$f":"IF(D313<>\"\",Data!B314,\"\")","v":""},"",{"$f":"IF(AND(Data!E314<>\"\",Data!E314 > 0),Data!E314,\"\")","v":""}]
[{"$f":"IF(D314<>\"\",Data!A315,\"\")","v":""},{"$f":"IF(D314<>\"\",Data!B315,\"\")","v":""},"",{"$f":"IF(AND(Data!E315<>\"\",Data!E315 > 0),Data!E315,\"\")","v":""}]
[{"$f":"IF(D315<>\"\",Data!A316,\"\")","v":""},{"$f":"IF(D315<>\"\",Data!B316,\"\")","v":""},"",{"$f":"IF(AND(Data!E316<>\"\",Data!E316 > 0),Data!E316,\"\")","v":""}]
[{"$f":"IF(D316<>\"\",Data!A317,\"\")","v":""},{"$f":"IF(D316<>\"\",Data!B317,\"\")","v":""},"",{"$f":"IF(AND(Data!E317<>\"\",Data!E317 > 0),Data!E317,\"\")","v":""}]
[{"$f":"IF(D317<>\"\",Data!A318,\"\")","v":""},{"$f":"IF(D317<>\"\",Data!B318,\"\")","v":""},"",{"$f":"IF(AND(Data!E318<>\"\",Data!E318 > 0),Data!E318,\"\")","v":""}]
[{"$f":"IF(D318<>\"\",Data!A319,\"\")","v":""},{"$f":"IF(D318<>\"\",Data!B319,\"\")","v":""},"",{"$f":"IF(AND(Data!E319<>\"\",Data!E319 > 0),Data!E319,\"\")","v":""}]
[{"$f":"IF(D319<>\"\",Data!A320,\"\")","v":""},{"$f":"IF(D319<>\"\",Data!B320,\"\")","v":""},"",{"$f":"IF(AND(Data!E320<>\"\",Data!E320 > 0),Data!E320,\"\")","v":""}]
[{"$f":"IF(D320<>\"\",Data!A321,\"\")","v":""},{"$f":"IF(D320<>\"\",Data!B321,\"\")","v":""},"",{"$f":"IF(AND(Data!E321<>\"\",Data!E321 > 0),Data!E321,\"\")","v":""}]
[{"$f":"IF(D321<>\"\",Data!A322,\"\")","v":""},{"$f":"IF(D321<>\"\",Data!B322,\"\")","v":""},"",{"$f":"IF(AND(Data!E322<>\"\",Data!E322 > 0),Data!E322,\"\")","v":""}]
[{"$f":"IF(D322<>\"\",Data!A323,\"\")","v":""},{"$f":"IF(D322<>\"\",Data!B323,\"\")","v":""},{"$f":"IF(D322<>\"\",MID(CELL(\"filename\",B322),FIND(\"]\",CELL(\"filename\",B322))+1,32),\"\")","v":""},{"$f":"IF(AND(Data!E323<>\"\",Data!E323 > 0),Data!E323,\"\")","v":""}]
[{"$f":"IF(D323<>\"\",Data!A324,\"\")","v":""},{"$f":"IF(D323<>\"\",Data!B324,\"\")","v":""},"",{"$f":"IF(AND(Data!E324<>\"\",Data!E324 > 0),Data!E324,\"\")","v":""}]
[{"$f":"IF(D324<>\"\",Data!A325,\"\")","v":""},{"$f":"IF(D324<>\"\",Data!B325,\"\")","v":""},"",{"$f":"IF(AND(Data!E325<>\"\",Data!E325 > 0),Data!E325,\"\")","v":""}]
[{"$f":"IF(D325<>\"\",Data!A326,\"\")","v":""},{"$f":"IF(D325<>\"\",Data!B326,\"\")","v":""},"",{"$f":"IF(AND(Data!E326<>\"\",Data!E326 > 0),Data!E326,\"\")","v":""}]
[{"$f":"IF(D326<>\"\",Data!A327,\"\")","v":""},{"$f":"IF(D326<>\"\",Data!B327,\"\")","v":""},"",{"$f":"IF(AND(Data!E327<>\"\",Data!E327 > 0),Data!E327,\"\")","v":""}]
[{"$f":"IF(D327<>\"\",Data!A328,\"\")","v":""},{"$f":"IF(D327<>\"\",Data!B328,\"\")","v":""},"",{"$f":"IF(AND(Data!E328<>\"\",Data!E328 > 0),Data!E328,\"\")","v":""}]
[{"$f":"IF(D328<>\"\",Data!A329,\"\")","v":""},{"$f":"IF(D328<>\"\",Data!B329,\"\")","v":""},"",{"$f":"IF(AND(Data!E329<>\"\",Data!E329 > 0),Data!E329,\"\")","v":""}]
[{"$f":"IF(D329<>\"\",Data!A330,\"\")","v":""},{"$f":"IF(D329<>\"\",Data!B330,\"\")","v":""},"",{"$f":"IF(AND(Data!E330<>\"\",Data!E330 > 0),Data!E330,\"\")","v":""}]
[{"$f":"IF(D330<>\"\",Data!A331,\"\")","v":""},{"$f":"IF(D330<>\"\",Data!B331,\"\")","v":""},"",{"$f":"IF(AND(Data!E331<>\"\",Data!E331 > 0),Data!E331,\"\")","v":""}]
[{"$f":"IF(D331<>\"\",Data!A332,\"\")","v":""},{"$f":"IF(D331<>\"\",Data!B332,\"\")","v":""},"",{"$f":"IF(AND(Data!E332<>\"\",Data!E332 > 0),Data!E332,\"\")","v":""}]
[{"$f":"IF(D332<>\"\",Data!A333,\"\")","v":""},{"$f":"IF(D332<>\"\",Data!B333,\"\")","v":""},"",{"$f":"IF(AND(Data!E333<>\"\",Data!E333 > 0),Data!E333,\"\")","v":""}]
[{"$f":"IF(D333<>\"\",Data!A334,\"\")","v":""},{"$f":"IF(D333<>\"\",Data!B334,\"\")","v":""},"",{"$f":"IF(AND(Data!E334<>\"\",Data!E334 > 0),Data!E334,\"\")","v":""}]
[{"$f":"IF(D334<>\"\",Data!A335,\"\")","v":""},{"$f":"IF(D334<>\"\",Data!B335,\"\")","v":""},"",{"$f":"IF(AND(Data!E335<>\"\",Data!E335 > 0),Data!E335,\"\")","v":""}]
[{"$f":"IF(D335<>\"\",Data!A336,\"\")","v":""},{"$f":"IF(D335<>\"\",Data!B336,\"\")","v":""},"",{"$f":"IF(AND(Data!E336<>\"\",Data!E336 > 0),Data!E336,\"\")","v":""}]
[{"$f":"IF(D336<>\"\",Data!A337,\"\")","v":""},{"$f":"IF(D336<>\"\",Data!B337,\"\")","v":""},"",{"$f":"IF(AND(Data!E337<>\"\",Data!E337 > 0),Data!E337,\"\")","v":""}]
[{"$f":"IF(D337<>\"\",Data!A338,\"\")","v":""},{"$f":"IF(D337<>\"\",Data!B338,\"\")","v":""},"",{"$f":"IF(AND(Data!E338<>\"\",Data!E338 > 0),Data!E338,\"\")","v":""}]
[{"$f":"IF(D338<>\"\",Data!A339,\"\")","v":""},{"$f":"IF(D338<>\"\",Data!B339,\"\")","v":""},"",{"$f":"IF(AND(Data!E339<>\"\",Data!E339 > 0),Data!E339,\"\")","v":""}]
[{"$f":"IF(D339<>\"\",Data!A340,\"\")","v":""},{"$f":"IF(D339<>\"\",Data!B340,\"\")","v":""},"",{"$f":"IF(AND(Data!E340<>\"\",Data!E340 > 0),Data!E340,\"\")","v":""}]
[{"$f":"IF(D340<>\"\",Data!A341,\"\")","v":""},{"$f":"IF(D340<>\"\",Data!B341,\"\")","v":""},"",{"$f":"IF(AND(Data!E341<>\"\",Data!E341 > 0),Data!E341,\"\")","v":""}]
[{"$f":"IF(D341<>\"\",Data!A342,\"\")","v":""},{"$f":"IF(D341<>\"\",Data!B342,\"\")","v":""},"",{"$f":"IF(AND(Data!E342<>\"\",Data!E342 > 0),Data!E342,\"\")","v":""}]
[{"$f":"IF(D342<>\"\",Data!A343,\"\")","v":""},{"$f":"IF(D342<>\"\",Data!B343,\"\")","v":""},"",{"$f":"IF(AND(Data!E343<>\"\",Data!E343 > 0),Data!E343,\"\")","v":""}]
[{"$f":"IF(D343<>\"\",Data!A344,\"\")","v":""},{"$f":"IF(D343<>\"\",Data!B344,\"\")","v":""},"",{"$f":"IF(AND(Data!E344<>\"\",Data!E344 > 0),Data!E344,\"\")","v":""}]
[{"$f":"IF(D344<>\"\",Data!A345,\"\")","v":""},{"$f":"IF(D344<>\"\",Data!B345,\"\")","v":""},"",{"$f":"IF(AND(Data!E345<>\"\",Data!E345 > 0),Data!E345,\"\")","v":""}]
[{"$f":"IF(D345<>\"\",Data!A346,\"\")","v":""},{"$f":"IF(D345<>\"\",Data!B346,\"\")","v":""},"",{"$f":"IF(AND(Data!E346<>\"\",Data!E346 > 0),Data!E346,\"\")","v":""}]
[{"$f":"IF(D346<>\"\",Data!A347,\"\")","v":""},{"$f":"IF(D346<>\"\",Data!B347,\"\")","v":""},"",{"$f":"IF(AND(Data!E347<>\"\",Data!E347 > 0),Data!E347,\"\")","v":""}]
[{"$f":"IF(D347<>\"\",Data!A348,\"\")","v":""},{"$f":"IF(D347<>\"\",Data!B348,\"\")","v":""},"",{"$f":"IF(AND(Data!E348<>\"\",Data!E348 > 0),Data!E348,\"\")","v":""}]
[{"$f":"IF(D348<>\"\",Data!A349,\"\")","v":""},{"$f":"IF(D348<>\"\",Data!B349,\"\")","v":""},"",{"$f":"IF(AND(Data!E349<>\"\",Data!E349 > 0),Data!E349,\"\")","v":""}]
[{"$f":"IF(D349<>\"\",Data!A350,\"\")","v":""},{"$f":"IF(D349<>\"\",Data!B350,\"\")","v":""},"",{"$f":"IF(AND(Data!E350<>\"\",Data!E350 > 0),Data!E350,\"\")","v":""}]
[{"$f":"IF(D350<>\"\",Data!A351,\"\")","v":""},{"$f":"IF(D350<>\"\",Data!B351,\"\")","v":""},"",{"$f":"IF(AND(Data!E351<>\"\",Data!E351 > 0),Data!E351,\"\")","v":""}]
[{"$f":"IF(D351<>\"\",Data!A352,\"\")","v":""},{"$f":"IF(D351<>\"\",Data!B352,\"\")","v":""},"",{"$f":"IF(AND(Data!E352<>\"\",Data!E352 > 0),Data!E352,\"\")","v":""}]
[{"$f":"IF(D352<>\"\",Data!A353,\"\")","v":""},{"$f":"IF(D352<>\"\",Data!B353,\"\")","v":""},"",{"$f":"IF(AND(Data!E353<>\"\",Data!E353 > 0),Data!E353,\"\")","v":""}]
[{"$f":"IF(D353<>\"\",Data!A354,\"\")","v":""},{"$f":"IF(D353<>\"\",Data!B354,\"\")","v":""},"",{"$f":"IF(AND(Data!E354<>\"\",Data!E354 > 0),Data!E354,\"\")","v":""}]
[{"$f":"IF(D354<>\"\",Data!A355,\"\")","v":""},{"$f":"IF(D354<>\"\",Data!B355,\"\")","v":""},"",{"$f":"IF(AND(Data!E355<>\"\",Data!E355 > 0),Data!E355,\"\")","v":""}]
[{"$f":"IF(D355<>\"\",Data!A356,\"\")","v":""},{"$f":"IF(D355<>\"\",Data!B356,\"\")","v":""},"",{"$f":"IF(AND(Data!E356<>\"\",Data!E356 > 0),Data!E356,\"\")","v":""}]
[{"$f":"IF(D356<>\"\",Data!A357,\"\")","v":""},{"$f":"IF(D356<>\"\",Data!B357,\"\")","v":""},"",{"$f":"IF(AND(Data!E357<>\"\",Data!E357 > 0),Data!E357,\"\")","v":""}]
[{"$f":"IF(D357<>\"\",Data!A358,\"\")","v":""},{"$f":"IF(D357<>\"\",Data!B358,\"\")","v":""},"",{"$f":"IF(AND(Data!E358<>\"\",Data!E358 > 0),Data!E358,\"\")","v":""}]
[{"$f":"IF(D358<>\"\",Data!A359,\"\")","v":""},{"$f":"IF(D358<>\"\",Data!B359,\"\")","v":""},"",{"$f":"IF(AND(Data!E359<>\"\",Data!E359 > 0),Data!E359,\"\")","v":""}]
[{"$f":"IF(D359<>\"\",Data!A360,\"\")","v":""},{"$f":"IF(D359<>\"\",Data!B360,\"\")","v":""},"",{"$f":"IF(AND(Data!E360<>\"\",Data!E360 > 0),Data!E360,\"\")","v":""}]
[{"$f":"IF(D360<>\"\",Data!A361,\"\")","v":""},{"$f":"IF(D360<>\"\",Data!B361,\"\")","v":""},"",{"$f":"IF(AND(Data!E361<>\"\",Data!E361 > 0),Data!E361,\"\")","v":""}]
[{"$f":"IF(D361<>\"\",Data!A362,\"\")","v":""},{"$f":"IF(D361<>\"\",Data!B362,\"\")","v":""},"",{"$f":"IF(AND(Data!E362<>\"\",Data!E362 > 0),Data!E362,\"\")","v":""}]
[{"$f":"IF(D362<>\"\",Data!A363,\"\")","v":""},{"$f":"IF(D362<>\"\",Data!B363,\"\")","v":""},"",{"$f":"IF(AND(Data!E363<>\"\",Data!E363 > 0),Data!E363,\"\")","v":""}]
[{"$f":"IF(D363<>\"\",Data!A364,\"\")","v":""},{"$f":"IF(D363<>\"\",Data!B364,\"\")","v":""},"",{"$f":"IF(AND(Data!E364<>\"\",Data!E364 > 0),Data!E364,\"\")","v":""}]
[{"$f":"IF(D364<>\"\",Data!A365,\"\")","v":""},{"$f":"IF(D364<>\"\",Data!B365,\"\")","v":""},"",{"$f":"IF(AND(Data!E365<>\"\",Data!E365 > 0),Data!E365,\"\")","v":""}]
[{"$f":"IF(D365<>\"\",Data!A366,\"\")","v":""},{"$f":"IF(D365<>\"\",Data!B366,\"\")","v":""},"",{"$f":"IF(AND(Data!E366<>\"\",Data!E366 > 0),Data!E366,\"\")","v":""}]
[{"$f":"IF(D366<>\"\",Data!A367,\"\")","v":""},{"$f":"IF(D366<>\"\",Data!B367,\"\")","v":""},"",{"$f":"IF(AND(Data!E367<>\"\",Data!E367 > 0),Data!E367,\"\")","v":""}]
[{"$f":"IF(D367<>\"\",Data!A368,\"\")","v":""},{"$f":"IF(D367<>\"\",Data!B368,\"\")","v":""},"",{"$f":"IF(AND(Data!E368<>\"\",Data!E368 > 0),Data!E368,\"\")","v":""}]
[{"$f":"IF(D368<>\"\",Data!A369,\"\")","v":""},{"$f":"IF(D368<>\"\",Data!B369,\"\")","v":""},"",{"$f":"IF(AND(Data!E369<>\"\",Data!E369 > 0),Data!E369,\"\")","v":""}]
[{"$f":"IF(D369<>\"\",Data!A370,\"\")","v":""},{"$f":"IF(D369<>\"\",Data!B370,\"\")","v":""},"",{"$f":"IF(AND(Data!E370<>\"\",Data!E370 > 0),Data!E370,\"\")","v":""}]
[{"$f":"IF(D370<>\"\",Data!A371,\"\")","v":""},{"$f":"IF(D370<>\"\",Data!B371,\"\")","v":""},"",{"$f":"IF(AND(Data!E371<>\"\",Data!E371 > 0),Data!E371,\"\")","v":""}]
[{"$f":"IF(D371<>\"\",Data!A372,\"\")","v":""},{"$f":"IF(D371<>\"\",Data!B372,\"\")","v":""},"",{"$f":"IF(AND(Data!E372<>\"\",Data!E372 > 0),Data!E372,\"\")","v":""}]
[{"$f":"IF(D372<>\"\",Data!A373,\"\")","v":""},{"$f":"IF(D372<>\"\",Data!B373,\"\")","v":""},"",{"$f":"IF(AND(Data!E373<>\"\",Data!E373 > 0),Data!E373,\"\")","v":""}]
[{"$f":"IF(D373<>\"\",Data!A374,\"\")","v":""},{"$f":"IF(D373<>\"\",Data!B374,\"\")","v":""},"",{"$f":"IF(AND(Data!E374<>\"\",Data!E374 > 0),Data!E374,\"\")","v":""}]
[{"$f":"IF(D374<>\"\",Data!A375,\"\")","v":""},{"$f":"IF(D374<>\"\",Data!B375,\"\")","v":""},"",{"$f":"IF(AND(Data!E375<>\"\",Data!E375 > 0),Data!E375,\"\")","v":""}]
[{"$f":"IF(D375<>\"\",Data!A376,\"\")","v":""},{"$f":"IF(D375<>\"\",Data!B376,\"\")","v":""},"",{"$f":"IF(AND(Data!E376<>\"\",Data!E376 > 0),Data!E376,\"\")","v":""}]
[{"$f":"IF(D376<>\"\",Data!A377,\"\")","v":""},{"$f":"IF(D376<>\"\",Data!B377,\"\")","v":""},"",{"$f":"IF(AND(Data!E377<>\"\",Data!E377 > 0),Data!E377,\"\")","v":""}]
[{"$f":"IF(D377<>\"\",Data!A378,\"\")","v":""},{"$f":"IF(D377<>\"\",Data!B378,\"\")","v":""},"",{"$f":"IF(AND(Data!E378<>\"\",Data!E378 > 0),Data!E378,\"\")","v":""}]
[{"$f":"IF(D378<>\"\",Data!A379,\"\")","v":""},{"$f":"IF(D378<>\"\",Data!B379,\"\")","v":""},"",{"$f":"IF(AND(Data!E379<>\"\",Data!E379 > 0),Data!E379,\"\")","v":""}]
[{"$f":"IF(D379<>\"\",Data!A380,\"\")","v":""},{"$f":"IF(D379<>\"\",Data!B380,\"\")","v":""},"",{"$f":"IF(AND(Data!E380<>\"\",Data!E380 > 0),Data!E380,\"\")","v":""}]
[{"$f":"IF(D380<>\"\",Data!A381,\"\")","v":""},{"$f":"IF(D380<>\"\",Data!B381,\"\")","v":""},"",{"$f":"IF(AND(Data!E381<>\"\",Data!E381 > 0),Data!E381,\"\")","v":""}]
[{"$f":"IF(D381<>\"\",Data!A382,\"\")","v":""},{"$f":"IF(D381<>\"\",Data!B382,\"\")","v":""},"",{"$f":"IF(AND(Data!E382<>\"\",Data!E382 > 0),Data!E382,\"\")","v":""}]
[{"$f":"IF(D382<>\"\",Data!A383,\"\")","v":""},{"$f":"IF(D382<>\"\",Data!B383,\"\")","v":""},"",{"$f":"IF(AND(Data!E383<>\"\",Data!E383 > 0),Data!E383,\"\")","v":""}]
[{"$f":"IF(D383<>\"\",Data!A384,\"\")","v":""},{"$f":"IF(D383<>\"\",Data!B384,\"\")","v":""},"",{"$f":"IF(AND(Data!E384<>\"\",Data!E384 > 0),Data!E384,\"\")","v":""}]
[{"$f":"IF(D384<>\"\",Data!A385,\"\")","v":""},{"$f":"IF(D384<>\"\",Data!B385,\"\")","v":""},"",{"$f":"IF(AND(Data!E385<>\"\",Data!E385 > 0),Data!E385,\"\")","v":""}]
[{"$f":"IF(D385<>\"\",Data!A386,\"\")","v":""},{"$f":"IF(D385<>\"\",Data!B386,\"\")","v":""},"",{"$f":"IF(AND(Data!E386<>\"\",Data!E386 > 0),Data!E386,\"\")","v":""}]
[{"$f":"IF(D386<>\"\",Data!A387,\"\")","v":""},{"$f":"IF(D386<>\"\",Data!B387,\"\")","v":""},{"$f":"IF(D386<>\"\",MID(CELL(\"filename\",B386),FIND(\"]\",CELL(\"filename\",B386))+1,32),\"\")","v":""},{"$f":"IF(AND(Data!E387<>\"\",Data!E387 > 0),Data!E387,\"\")","v":""}]
[{"$f":"IF(D387<>\"\",Data!A388,\"\")","v":""},{"$f":"IF(D387<>\"\",Data!B388,\"\")","v":""},"",{"$f":"IF(AND(Data!E388<>\"\",Data!E388 > 0),Data!E388,\"\")","v":""}]
[{"$f":"IF(D388<>\"\",Data!A389,\"\")","v":""},{"$f":"IF(D388<>\"\",Data!B389,\"\")","v":""},"",{"$f":"IF(AND(Data!E389<>\"\",Data!E389 > 0),Data!E389,\"\")","v":""}]
[{"$f":"IF(D389<>\"\",Data!A390,\"\")","v":""},{"$f":"IF(D389<>\"\",Data!B390,\"\")","v":""},"",{"$f":"IF(AND(Data!E390<>\"\",Data!E390 > 0),Data!E390,\"\")","v":""}]
[{"$f":"IF(D390<>\"\",Data!A391,\"\")","v":""},{"$f":"IF(D390<>\"\",Data!B391,\"\")","v":""},"",{"$f":"IF(AND(Data!E391<>\"\",Data!E391 > 0),Data!E391,\"\")","v":""}]
[{"$f":"IF(D391<>\"\",Data!A392,\"\")","v":""},{"$f":"IF(D391<>\"\",Data!B392,\"\")","v":""},"",{"$f":"IF(AND(Data!E392<>\"\",Data!E392 > 0),Data!E392,\"\")","v":""}]
[{"$f":"IF(D392<>\"\",Data!A393,\"\")","v":""},{"$f":"IF(D392<>\"\",Data!B393,\"\")","v":""},"",{"$f":"IF(AND(Data!E393<>\"\",Data!E393 > 0),Data!E393,\"\")","v":""}]
[{"$f":"IF(D393<>\"\",Data!A394,\"\")","v":""},{"$f":"IF(D393<>\"\",Data!B394,\"\")","v":""},"",{"$f":"IF(AND(Data!E394<>\"\",Data!E394 > 0),Data!E394,\"\")","v":""}]
[{"$f":"IF(D394<>\"\",Data!A395,\"\")","v":""},{"$f":"IF(D394<>\"\",Data!B395,\"\")","v":""},"",{"$f":"IF(AND(Data!E395<>\"\",Data!E395 > 0),Data!E395,\"\")","v":""}]
[{"$f":"IF(D395<>\"\",Data!A396,\"\")","v":""},{"$f":"IF(D395<>\"\",Data!B396,\"\")","v":""},"",{"$f":"IF(AND(Data!E396<>\"\",Data!E396 > 0),Data!E396,\"\")","v":""}]
[{"$f":"IF(D396<>\"\",Data!A397,\"\")","v":""},{"$f":"IF(D396<>\"\",Data!B397,\"\")","v":""},"",{"$f":"IF(AND(Data!E397<>\"\",Data!E397 > 0),Data!E397,\"\")","v":""}]
[{"$f":"IF(D397<>\"\",Data!A398,\"\")","v":""},{"$f":"IF(D397<>\"\",Data!B398,\"\")","v":""},"",{"$f":"IF(AND(Data!E398<>\"\",Data!E398 > 0),Data!E398,\"\")","v":""}]
[{"$f":"IF(D398<>\"\",Data!A399,\"\")","v":""},{"$f":"IF(D398<>\"\",Data!B399,\"\")","v":""},"",{"$f":"IF(AND(Data!E399<>\"\",Data!E399 > 0),Data!E399,\"\")","v":""}]
[{"$f":"IF(D399<>\"\",Data!A400,\"\")","v":""},{"$f":"IF(D399<>\"\",Data!B400,\"\")","v":""},"",{"$f":"IF(AND(Data!E400<>\"\",Data!E400 > 0),Data!E400,\"\")","v":""}]
[{"$f":"IF(D400<>\"\",Data!A401,\"\")","v":""},{"$f":"IF(D400<>\"\",Data!B401,\"\")","v":""},"",{"$f":"IF(AND(Data!E401<>\"\",Data!E401 > 0),Data!E401,\"\")","v":""}]
[{"$f":"IF(D401<>\"\",Data!A402,\"\")","v":""},{"$f":"IF(D401<>\"\",Data!B402,\"\")","v":""},"",{"$f":"IF(AND(Data!E402<>\"\",Data!E402 > 0),Data!E402,\"\")","v":""}]
[{"$f":"IF(D402<>\"\",Data!A403,\"\")","v":""},{"$f":"IF(D402<>\"\",Data!B403,\"\")","v":""},"",{"$f":"IF(AND(Data!E403<>\"\",Data!E403 > 0),Data!E403,\"\")","v":""}]
[{"$f":"IF(D403<>\"\",Data!A404,\"\")","v":""},{"$f":"IF(D403<>\"\",Data!B404,\"\")","v":""},"",{"$f":"IF(AND(Data!E404<>\"\",Data!E404 > 0),Data!E404,\"\")","v":""}]
[{"$f":"IF(D404<>\"\",Data!A405,\"\")","v":""},{"$f":"IF(D404<>\"\",Data!B405,\"\")","v":""},"",{"$f":"IF(AND(Data!E405<>\"\",Data!E405 > 0),Data!E405,\"\")","v":""}]
[{"$f":"IF(D405<>\"\",Data!A406,\"\")","v":""},{"$f":"IF(D405<>\"\",Data!B406,\"\")","v":""},"",{"$f":"IF(AND(Data!E406<>\"\",Data!E406 > 0),Data!E406,\"\")","v":""}]
[{"$f":"IF(D406<>\"\",Data!A407,\"\")","v":""},{"$f":"IF(D406<>\"\",Data!B407,\"\")","v":""},"",{"$f":"IF(AND(Data!E407<>\"\",Data!E407 > 0),Data!E407,\"\")","v":""}]
[{"$f":"IF(D407<>\"\",Data!A408,\"\")","v":""},{"$f":"IF(D407<>\"\",Data!B408,\"\")","v":""},"",{"$f":"IF(AND(Data!E408<>\"\",Data!E408 > 0),Data!E408,\"\")","v":""}]
[{"$f":"IF(D408<>\"\",Data!A409,\"\")","v":""},{"$f":"IF(D408<>\"\",Data!B409,\"\")","v":""},"",{"$f":"IF(AND(Data!E409<>\"\",Data!E409 > 0),Data!E409,\"\")","v":""}]
[{"$f":"IF(D409<>\"\",Data!A410,\"\")","v":""},{"$f":"IF(D409<>\"\",Data!B410,\"\")","v":""},"",{"$f":"IF(AND(Data!E410<>\"\",Data!E410 > 0),Data!E410,\"\")","v":""}]
[{"$f":"IF(D410<>\"\",Data!A411,\"\")","v":""},{"$f":"IF(D410<>\"\",Data!B411,\"\")","v":""},"",{"$f":"IF(AND(Data!E411<>\"\",Data!E411 > 0),Data!E411,\"\")","v":""}]
[{"$f":"IF(D411<>\"\",Data!A412,\"\")","v":""},{"$f":"IF(D411<>\"\",Data!B412,\"\")","v":""},"",{"$f":"IF(AND(Data!E412<>\"\",Data!E412 > 0),Data!E412,\"\")","v":""}]
[{"$f":"IF(D412<>\"\",Data!A413,\"\")","v":""},{"$f":"IF(D412<>\"\",Data!B413,\"\")","v":""},"",{"$f":"IF(AND(Data!E413<>\"\",Data!E413 > 0),Data!E413,\"\")","v":""}]
[{"$f":"IF(D413<>\"\",Data!A414,\"\")","v":""},{"$f":"IF(D413<>\"\",Data!B414,\"\")","v":""},"",{"$f":"IF(AND(Data!E414<>\"\",Data!E414 > 0),Data!E414,\"\")","v":""}]
[{"$f":"IF(D414<>\"\",Data!A415,\"\")","v":""},{"$f":"IF(D414<>\"\",Data!B415,\"\")","v":""},"",{"$f":"IF(AND(Data!E415<>\"\",Data!E415 > 0),Data!E415,\"\")","v":""}]
[{"$f":"IF(D415<>\"\",Data!A416,\"\")","v":""},{"$f":"IF(D415<>\"\",Data!B416,\"\")","v":""},"",{"$f":"IF(AND(Data!E416<>\"\",Data!E416 > 0),Data!E416,\"\")","v":""}]
[{"$f":"IF(D416<>\"\",Data!A417,\"\")","v":""},{"$f":"IF(D416<>\"\",Data!B417,\"\")","v":""},"",{"$f":"IF(AND(Data!E417<>\"\",Data!E417 > 0),Data!E417,\"\")","v":""}]
[{"$f":"IF(D417<>\"\",Data!A418,\"\")","v":""},{"$f":"IF(D417<>\"\",Data!B418,\"\")","v":""},"",{"$f":"IF(AND(Data!E418<>\"\",Data!E418 > 0),Data!E418,\"\")","v":""}]
[{"$f":"IF(D418<>\"\",Data!A419,\"\")","v":""},{"$f":"IF(D418<>\"\",Data!B419,\"\")","v":""},"",{"$f":"IF(AND(Data!E419<>\"\",Data!E419 > 0),Data!E419,\"\")","v":""}]
[{"$f":"IF(D419<>\"\",Data!A420,\"\")","v":""},{"$f":"IF(D419<>\"\",Data!B420,\"\")","v":""},"",{"$f":"IF(AND(Data!E420<>\"\",Data!E420 > 0),Data!E420,\"\")","v":""}]
[{"$f":"IF(D420<>\"\",Data!A421,\"\")","v":""},{"$f":"IF(D420<>\"\",Data!B421,\"\")","v":""},"",{"$f":"IF(AND(Data!E421<>\"\",Data!E421 > 0),Data!E421,\"\")","v":""}]
[{"$f":"IF(D421<>\"\",Data!A422,\"\")","v":""},{"$f":"IF(D421<>\"\",Data!B422,\"\")","v":""},"",{"$f":"IF(AND(Data!E422<>\"\",Data!E422 > 0),Data!E422,\"\")","v":""}]
[{"$f":"IF(D422<>\"\",Data!A423,\"\")","v":""},{"$f":"IF(D422<>\"\",Data!B423,\"\")","v":""},"",{"$f":"IF(AND(Data!E423<>\"\",Data!E423 > 0),Data!E423,\"\")","v":""}]
[{"$f":"IF(D423<>\"\",Data!A424,\"\")","v":""},{"$f":"IF(D423<>\"\",Data!B424,\"\")","v":""},"",{"$f":"IF(AND(Data!E424<>\"\",Data!E424 > 0),Data!E424,\"\")","v":""}]
[{"$f":"IF(D424<>\"\",Data!A425,\"\")","v":""},{"$f":"IF(D424<>\"\",Data!B425,\"\")","v":""},"",{"$f":"IF(AND(Data!E425<>\"\",Data!E425 > 0),Data!E425,\"\")","v":""}]
[{"$f":"IF(D425<>\"\",Data!A426,\"\")","v":""},{"$f":"IF(D425<>\"\",Data!B426,\"\")","v":""},"",{"$f":"IF(AND(Data!E426<>\"\",Data!E426 > 0),Data!E426,\"\")","v":""}]
[{"$f":"IF(D426<>\"\",Data!A427,\"\")","v":""},{"$f":"IF(D426<>\"\",Data!B427,\"\")","v":""},"",{"$f":"IF(AND(Data!E427<>\"\",Data!E427 > 0),Data!E427,\"\")","v":""}]
[{"$f":"IF(D427<>\"\",Data!A428,\"\")","v":""},{"$f":"IF(D427<>\"\",Data!B428,\"\")","v":""},"",{"$f":"IF(AND(Data!E428<>\"\",Data!E428 > 0),Data!E428,\"\")","v":""}]
[{"$f":"IF(D428<>\"\",Data!A429,\"\")","v":""},{"$f":"IF(D428<>\"\",Data!B429,\"\")","v":""},"",{"$f":"IF(AND(Data!E429<>\"\",Data!E429 > 0),Data!E429,\"\")","v":""}]
[{"$f":"IF(D429<>\"\",Data!A430,\"\")","v":""},{"$f":"IF(D429<>\"\",Data!B430,\"\")","v":""},"",{"$f":"IF(AND(Data!E430<>\"\",Data!E430 > 0),Data!E430,\"\")","v":""}]
[{"$f":"IF(D430<>\"\",Data!A431,\"\")","v":""},{"$f":"IF(D430<>\"\",Data!B431,\"\")","v":""},"",{"$f":"IF(AND(Data!E431<>\"\",Data!E431 > 0),Data!E431,\"\")","v":""}]
[{"$f":"IF(D431<>\"\",Data!A432,\"\")","v":""},{"$f":"IF(D431<>\"\",Data!B432,\"\")","v":""},"",{"$f":"IF(AND(Data!E432<>\"\",Data!E432 > 0),Data!E432,\"\")","v":""}]
[{"$f":"IF(D432<>\"\",Data!A433,\"\")","v":""},{"$f":"IF(D432<>\"\",Data!B433,\"\")","v":""},"",{"$f":"IF(AND(Data!E433<>\"\",Data!E433 > 0),Data!E433,\"\")","v":""}]
[{"$f":"IF(D433<>\"\",Data!A434,\"\")","v":""},{"$f":"IF(D433<>\"\",Data!B434,\"\")","v":""},"",{"$f":"IF(AND(Data!E434<>\"\",Data!E434 > 0),Data!E434,\"\")","v":""}]
[{"$f":"IF(D434<>\"\",Data!A435,\"\")","v":""},{"$f":"IF(D434<>\"\",Data!B435,\"\")","v":""},"",{"$f":"IF(AND(Data!E435<>\"\",Data!E435 > 0),Data!E435,\"\")","v":""}]
[{"$f":"IF(D435<>\"\",Data!A436,\"\")","v":""},{"$f":"IF(D435<>\"\",Data!B436,\"\")","v":""},"",{"$f":"IF(AND(Data!E436<>\"\",Data!E436 > 0),Data!E436,\"\")","v":""}]
[{"$f":"IF(D436<>\"\",Data!A437,\"\")","v":""},{"$f":"IF(D436<>\"\",Data!B437,\"\")","v":""},"",{"$f":"IF(AND(Data!E437<>\"\",Data!E437 > 0),Data!E437,\"\")","v":""}]
[{"$f":"IF(D437<>\"\",Data!A438,\"\")","v":""},{"$f":"IF(D437<>\"\",Data!B438,\"\")","v":""},"",{"$f":"IF(AND(Data!E438<>\"\",Data!E438 > 0),Data!E438,\"\")","v":""}]
[{"$f":"IF(D438<>\"\",Data!A439,\"\")","v":""},{"$f":"IF(D438<>\"\",Data!B439,\"\")","v":""},"",{"$f":"IF(AND(Data!E439<>\"\",Data!E439 > 0),Data!E439,\"\")","v":""}]
[{"$f":"IF(D439<>\"\",Data!A440,\"\")","v":""},{"$f":"IF(D439<>\"\",Data!B440,\"\")","v":""},"",{"$f":"IF(AND(Data!E440<>\"\",Data!E440 > 0),Data!E440,\"\")","v":""}]
[{"$f":"IF(D440<>\"\",Data!A441,\"\")","v":""},{"$f":"IF(D440<>\"\",Data!B441,\"\")","v":""},"",{"$f":"IF(AND(Data!E441<>\"\",Data!E441 > 0),Data!E441,\"\")","v":""}]
[{"$f":"IF(D441<>\"\",Data!A442,\"\")","v":""},{"$f":"IF(D441<>\"\",Data!B442,\"\")","v":""},"",{"$f":"IF(AND(Data!E442<>\"\",Data!E442 > 0),Data!E442,\"\")","v":""}]
[{"$f":"IF(D442<>\"\",Data!A443,\"\")","v":""},{"$f":"IF(D442<>\"\",Data!B443,\"\")","v":""},"",{"$f":"IF(AND(Data!E443<>\"\",Data!E443 > 0),Data!E443,\"\")","v":""}]
[{"$f":"IF(D443<>\"\",Data!A444,\"\")","v":""},{"$f":"IF(D443<>\"\",Data!B444,\"\")","v":""},"",{"$f":"IF(AND(Data!E444<>\"\",Data!E444 > 0),Data!E444,\"\")","v":""}]
[{"$f":"IF(D444<>\"\",Data!A445,\"\")","v":""},{"$f":"IF(D444<>\"\",Data!B445,\"\")","v":""},"",{"$f":"IF(AND(Data!E445<>\"\",Data!E445 > 0),Data!E445,\"\")","v":""}]
[{"$f":"IF(D445<>\"\",Data!A446,\"\")","v":""},{"$f":"IF(D445<>\"\",Data!B446,\"\")","v":""},"",{"$f":"IF(AND(Data!E446<>\"\",Data!E446 > 0),Data!E446,\"\")","v":""}]
[{"$f":"IF(D446<>\"\",Data!A447,\"\")","v":""},{"$f":"IF(D446<>\"\",Data!B447,\"\")","v":""},"",{"$f":"IF(AND(Data!E447<>\"\",Data!E447 > 0),Data!E447,\"\")","v":""}]
[{"$f":"IF(D447<>\"\",Data!A448,\"\")","v":""},{"$f":"IF(D447<>\"\",Data!B448,\"\")","v":""},"",{"$f":"IF(AND(Data!E448<>\"\",Data!E448 > 0),Data!E448,\"\")","v":""}]
[{"$f":"IF(D448<>\"\",Data!A449,\"\")","v":""},{"$f":"IF(D448<>\"\",Data!B449,\"\")","v":""},"",{"$f":"IF(AND(Data!E449<>\"\",Data!E449 > 0),Data!E449,\"\")","v":""}]
[{"$f":"IF(D449<>\"\",Data!A450,\"\")","v":""},{"$f":"IF(D449<>\"\",Data!B450,\"\")","v":""},"",{"$f":"IF(AND(Data!E450<>\"\",Data!E450 > 0),Data!E450,\"\")","v":""}]
[{"$f":"IF(D450<>\"\",Data!A451,\"\")","v":""},{"$f":"IF(D450<>\"\",Data!B451,\"\")","v":""},{"$f":"IF(D450<>\"\",MID(CELL(\"filename\",B450),FIND(\"]\",CELL(\"filename\",B450))+1,32),\"\")","v":""},{"$f":"IF(AND(Data!E451<>\"\",Data!E451 > 0),Data!E451,\"\")","v":""}]
[{"$f":"IF(D451<>\"\",Data!A452,\"\")","v":""},{"$f":"IF(D451<>\"\",Data!B452,\"\")","v":""},"",{"$f":"IF(AND(Data!E452<>\"\",Data!E452 > 0),Data!E452,\"\")","v":""}]
[{"$f":"IF(D452<>\"\",Data!A453,\"\")","v":""},{"$f":"IF(D452<>\"\",Data!B453,\"\")","v":""},"",{"$f":"IF(AND(Data!E453<>\"\",Data!E453 > 0),Data!E453,\"\")","v":""}]
[{"$f":"IF(D453<>\"\",Data!A454,\"\")","v":""},{"$f":"IF(D453<>\"\",Data!B454,\"\")","v":""},"",{"$f":"IF(AND(Data!E454<>\"\",Data!E454 > 0),Data!E454,\"\")","v":""}]
[{"$f":"IF(D454<>\"\",Data!A455,\"\")","v":""},{"$f":"IF(D454<>\"\",Data!B455,\"\")","v":""},"",{"$f":"IF(AND(Data!E455<>\"\",Data!E455 > 0),Data!E455,\"\")","v":""}]
[{"$f":"IF(D455<>\"\",Data!A456,\"\")","v":""},{"$f":"IF(D455<>\"\",Data!B456,\"\")","v":""},"",{"$f":"IF(AND(Data!E456<>\"\",Data!E456 > 0),Data!E456,\"\")","v":""}]
[{"$f":"IF(D456<>\"\",Data!A457,\"\")","v":""},{"$f":"IF(D456<>\"\",Data!B457,\"\")","v":""},"",{"$f":"IF(AND(Data!E457<>\"\",Data!E457 > 0),Data!E457,\"\")","v":""}]
[{"$f":"IF(D457<>\"\",Data!A458,\"\")","v":""},{"$f":"IF(D457<>\"\",Data!B458,\"\")","v":""},"",{"$f":"IF(AND(Data!E458<>\"\",Data!E458 > 0),Data!E458,\"\")","v":""}]
[{"$f":"IF(D458<>\"\",Data!A459,\"\")","v":""},{"$f":"IF(D458<>\"\",Data!B459,\"\")","v":""},"",{"$f":"IF(AND(Data!E459<>\"\",Data!E459 > 0),Data!E459,\"\")","v":""}]
[{"$f":"IF(D459<>\"\",Data!A460,\"\")","v":""},{"$f":"IF(D459<>\"\",Data!B460,\"\")","v":""},"",{"$f":"IF(AND(Data!E460<>\"\",Data!E460 > 0),Data!E460,\"\")","v":""}]
[{"$f":"IF(D460<>\"\",Data!A461,\"\")","v":""},{"$f":"IF(D460<>\"\",Data!B461,\"\")","v":""},"",{"$f":"IF(AND(Data!E461<>\"\",Data!E461 > 0),Data!E461,\"\")","v":""}]
[{"$f":"IF(D461<>\"\",Data!A462,\"\")","v":""},{"$f":"IF(D461<>\"\",Data!B462,\"\")","v":""},"",{"$f":"IF(AND(Data!E462<>\"\",Data!E462 > 0),Data!E462,\"\")","v":""}]
[{"$f":"IF(D462<>\"\",Data!A463,\"\")","v":""},{"$f":"IF(D462<>\"\",Data!B463,\"\")","v":""},"",{"$f":"IF(AND(Data!E463<>\"\",Data!E463 > 0),Data!E463,\"\")","v":""}]
[{"$f":"IF(D463<>\"\",Data!A464,\"\")","v":""},{"$f":"IF(D463<>\"\",Data!B464,\"\")","v":""},"",{"$f":"IF(AND(Data!E464<>\"\",Data!E464 > 0),Data!E464,\"\")","v":""}]
[{"$f":"IF(D464<>\"\",Data!A465,\"\")","v":""},{"$f":"IF(D464<>\"\",Data!B465,\"\")","v":""},"",{"$f":"IF(AND(Data!E465<>\"\",Data!E465 > 0),Data!E465,\"\")","v":""}]
[{"$f":"IF(D465<>\"\",Data!A466,\"\")","v":""},{"$f":"IF(D465<>\"\",Data!B466,\"\")","v":""},"",{"$f":"IF(AND(Data!E466<>\"\",Data!E466 > 0),Data!E466,\"\")","v":""}]
[{"$f":"IF(D466<>\"\",Data!A467,\"\")","v":""},{"$f":"IF(D466<>\"\",Data!B467,\"\")","v":""},"",{"$f":"IF(AND(Data!E467<>\"\",Data!E467 > 0),Data!E467,\"\")","v":""}]
[{"$f":"IF(D467<>\"\",Data!A468,\"\")","v":""},{"$f":"IF(D467<>\"\",Data!B468,\"\")","v":""},"",{"$f":"IF(AND(Data!E468<>\"\",Data!E468 > 0),Data!E468,\"\")","v":""}]
[{"$f":"IF(D468<>\"\",Data!A469,\"\")","v":""},{"$f":"IF(D468<>\"\",Data!B469,\"\")","v":""},"",{"$f":"IF(AND(Data!E469<>\"\",Data!E469 > 0),Data!E469,\"\")","v":""}]
[{"$f":"IF(D469<>\"\",Data!A470,\"\")","v":""},{"$f":"IF(D469<>\"\",Data!B470,\"\")","v":""},"",{"$f":"IF(AND(Data!E470<>\"\",Data!E470 > 0),Data!E470,\"\")","v":""}]
[{"$f":"IF(D470<>\"\",Data!A471,\"\")","v":""},{"$f":"IF(D470<>\"\",Data!B471,\"\")","v":""},"",{"$f":"IF(AND(Data!E471<>\"\",Data!E471 > 0),Data!E471,\"\")","v":""}]
[{"$f":"IF(D471<>\"\",Data!A472,\"\")","v":""},{"$f":"IF(D471<>\"\",Data!B472,\"\")","v":""},"",{"$f":"IF(AND(Data!E472<>\"\",Data!E472 > 0),Data!E472,\"\")","v":""}]
[{"$f":"IF(D472<>\"\",Data!A473,\"\")","v":""},{"$f":"IF(D472<>\"\",Data!B473,\"\")","v":""},"",{"$f":"IF(AND(Data!E473<>\"\",Data!E473 > 0),Data!E473,\"\")","v":""}]
[{"$f":"IF(D473<>\"\",Data!A474,\"\")","v":""},{"$f":"IF(D473<>\"\",Data!B474,\"\")","v":""},"",{"$f":"IF(AND(Data!E474<>\"\",Data!E474 > 0),Data!E474,\"\")","v":""}]
[{"$f":"IF(D474<>\"\",Data!A475,\"\")","v":""},{"$f":"IF(D474<>\"\",Data!B475,\"\")","v":""},"",{"$f":"IF(AND(Data!E475<>\"\",Data!E475 > 0),Data!E475,\"\")","v":""}]
[{"$f":"IF(D475<>\"\",Data!A476,\"\")","v":""},{"$f":"IF(D475<>\"\",Data!B476,\"\")","v":""},"",{"$f":"IF(AND(Data!E476<>\"\",Data!E476 > 0),Data!E476,\"\")","v":""}]
[{"$f":"IF(D476<>\"\",Data!A477,\"\")","v":""},{"$f":"IF(D476<>\"\",Data!B477,\"\")","v":""},"",{"$f":"IF(AND(Data!E477<>\"\",Data!E477 > 0),Data!E477,\"\")","v":""}]
[{"$f":"IF(D477<>\"\",Data!A478,\"\")","v":""},{"$f":"IF(D477<>\"\",Data!B478,\"\")","v":""},"",{"$f":"IF(AND(Data!E478<>\"\",Data!E478 > 0),Data!E478,\"\")","v":""}]
[{"$f":"IF(D478<>\"\",Data!A479,\"\")","v":""},{"$f":"IF(D478<>\"\",Data!B479,\"\")","v":""},"",{"$f":"IF(AND(Data!E479<>\"\",Data!E479 > 0),Data!E479,\"\")","v":""}]
[{"$f":"IF(D479<>\"\",Data!A480,\"\")","v":""},{"$f":"IF(D479<>\"\",Data!B480,\"\")","v":""},"",{"$f":"IF(AND(Data!E480<>\"\",Data!E480 > 0),Data!E480,\"\")","v":""}]
[{"$f":"IF(D480<>\"\",Data!A481,\"\")","v":""},{"$f":"IF(D480<>\"\",Data!B481,\"\")","v":""},"",{"$f":"IF(AND(Data!E481<>\"\",Data!E481 > 0),Data!E481,\"\")","v":""}]
[{"$f":"IF(D481<>\"\",Data!A482,\"\")","v":""},{"$f":"IF(D481<>\"\",Data!B482,\"\")","v":""},"",{"$f":"IF(AND(Data!E482<>\"\",Data!E482 > 0),Data!E482,\"\")","v":""}]
[{"$f":"IF(D482<>\"\",Data!A483,\"\")","v":""},{"$f":"IF(D482<>\"\",Data!B483,\"\")","v":""},"",{"$f":"IF(AND(Data!E483<>\"\",Data!E483 > 0),Data!E483,\"\")","v":""}]
[{"$f":"IF(D483<>\"\",Data!A484,\"\")","v":""},{"$f":"IF(D483<>\"\",Data!B484,\"\")","v":""},"",{"$f":"IF(AND(Data!E484<>\"\",Data!E484 > 0),Data!E484,\"\")","v":""}]
[{"$f":"IF(D484<>\"\",Data!A485,\"\")","v":""},{"$f":"IF(D484<>\"\",Data!B485,\"\")","v":""},"",{"$f":"IF(AND(Data!E485<>\"\",Data!E485 > 0),Data!E485,\"\")","v":""}]
[{"$f":"IF(D485<>\"\",Data!A486,\"\")","v":""},{"$f":"IF(D485<>\"\",Data!B486,\"\")","v":""},"",{"$f":"IF(AND(Data!E486<>\"\",Data!E486 > 0),Data!E486,\"\")","v":""}]
[{"$f":"IF(D486<>\"\",Data!A487,\"\")","v":""},{"$f":"IF(D486<>\"\",Data!B487,\"\")","v":""},"",{"$f":"IF(AND(Data!E487<>\"\",Data!E487 > 0),Data!E487,\"\")","v":""}]
[{"$f":"IF(D487<>\"\",Data!A488,\"\")","v":""},{"$f":"IF(D487<>\"\",Data!B488,\"\")","v":""},"",{"$f":"IF(AND(Data!E488<>\"\",Data!E488 > 0),Data!E488,\"\")","v":""}]
[{"$f":"IF(D488<>\"\",Data!A489,\"\")","v":""},{"$f":"IF(D488<>\"\",Data!B489,\"\")","v":""},"",{"$f":"IF(AND(Data!E489<>\"\",Data!E489 > 0),Data!E489,\"\")","v":""}]
[{"$f":"IF(D489<>\"\",Data!A490,\"\")","v":""},{"$f":"IF(D489<>\"\",Data!B490,\"\")","v":""},"",{"$f":"IF(AND(Data!E490<>\"\",Data!E490 > 0),Data!E490,\"\")","v":""}]
[{"$f":"IF(D490<>\"\",Data!A491,\"\")","v":""},{"$f":"IF(D490<>\"\",Data!B491,\"\")","v":""},"",{"$f":"IF(AND(Data!E491<>\"\",Data!E491 > 0),Data!E491,\"\")","v":""}]
[{"$f":"IF(D491<>\"\",Data!A492,\"\")","v":""},{"$f":"IF(D491<>\"\",Data!B492,\"\")","v":""},"",{"$f":"IF(AND(Data!E492<>\"\",Data!E492 > 0),Data!E492,\"\")","v":""}]
[{"$f":"IF(D492<>\"\",Data!A493,\"\")","v":""},{"$f":"IF(D492<>\"\",Data!B493,\"\")","v":""},"",{"$f":"IF(AND(Data!E493<>\"\",Data!E493 > 0),Data!E493,\"\")","v":""}]
[{"$f":"IF(D493<>\"\",Data!A494,\"\")","v":""},{"$f":"IF(D493<>\"\",Data!B494,\"\")","v":""},"",{"$f":"IF(AND(Data!E494<>\"\",Data!E494 > 0),Data!E494,\"\")","v":""}]
[{"$f":"IF(D494<>\"\",Data!A495,\"\")","v":""},{"$f":"IF(D494<>\"\",Data!B495,\"\")","v":""},"",{"$f":"IF(AND(Data!E495<>\"\",Data!E495 > 0),Data!E495,\"\")","v":""}]
[{"$f":"IF(D495<>\"\",Data!A496,\"\")","v":""},{"$f":"IF(D495<>\"\",Data!B496,\"\")","v":""},"",{"$f":"IF(AND(Data!E496<>\"\",Data!E496 > 0),Data!E496,\"\")","v":""}]
[{"$f":"IF(D496<>\"\",Data!A497,\"\")","v":""},{"$f":"IF(D496<>\"\",Data!B497,\"\")","v":""},"",{"$f":"IF(AND(Data!E497<>\"\",Data!E497 > 0),Data!E497,\"\")","v":""}]
[{"$f":"IF(D497<>\"\",Data!A498,\"\")","v":""},{"$f":"IF(D497<>\"\",Data!B498,\"\")","v":""},"",{"$f":"IF(AND(Data!E498<>\"\",Data!E498 > 0),Data!E498,\"\")","v":""}]
[{"$f":"IF(D498<>\"\",Data!A499,\"\")","v":""},{"$f":"IF(D498<>\"\",Data!B499,\"\")","v":""},"",{"$f":"IF(AND(Data!E499<>\"\",Data!E499 > 0),Data!E499,\"\")","v":""}]
[{"$f":"IF(D499<>\"\",Data!A500,\"\")","v":""},{"$f":"IF(D499<>\"\",Data!B500,\"\")","v":""},"",{"$f":"IF(AND(Data!E500<>\"\",Data!E500 > 0),Data!E500,\"\")","v":""}]
[{"$f":"IF(D500<>\"\",Data!A501,\"\")","v":""},{"$f":"IF(D500<>\"\",Data!B501,\"\")","v":""},"",{"$f":"IF(AND(Data!E501<>\"\",Data!E501 > 0),Data!E501,\"\")","v":""}]
[{"$f":"IF(D501<>\"\",Data!A502,\"\")","v":""},{"$f":"IF(D501<>\"\",Data!B502,\"\")","v":""},"",{"$f":"IF(AND(Data!E502<>\"\",Data!E502 > 0),Data!E502,\"\")","v":""}]
[{"$f":"IF(D502<>\"\",Data!A503,\"\")","v":""},{"$f":"IF(D502<>\"\",Data!B503,\"\")","v":""},"",{"$f":"IF(AND(Data!E503<>\"\",Data!E503 > 0),Data!E503,\"\")","v":""}]
[{"$f":"IF(D503<>\"\",Data!A504,\"\")","v":""},{"$f":"IF(D503<>\"\",Data!B504,\"\")","v":""},"",{"$f":"IF(AND(Data!E504<>\"\",Data!E504 > 0),Data!E504,\"\")","v":""}]
[{"$f":"IF(D504<>\"\",Data!A505,\"\")","v":""},{"$f":"IF(D504<>\"\",Data!B505,\"\")","v":""},"",{"$f":"IF(AND(Data!E505<>\"\",Data!E505 > 0),Data!E505,\"\")","v":""}]
[{"$f":"IF(D505<>\"\",Data!A506,\"\")","v":""},{"$f":"IF(D505<>\"\",Data!B506,\"\")","v":""},"",{"$f":"IF(AND(Data!E506<>\"\",Data!E506 > 0),Data!E506,\"\")","v":""}]
[{"$f":"IF(D506<>\"\",Data!A507,\"\")","v":""},{"$f":"IF(D506<>\"\",Data!B507,\"\")","v":""},"",{"$f":"IF(AND(Data!E507<>\"\",Data!E507 > 0),Data!E507,\"\")","v":""}]
[{"$f":"IF(D507<>\"\",Data!A508,\"\")","v":""},{"$f":"IF(D507<>\"\",Data!B508,\"\")","v":""},"",{"$f":"IF(AND(Data!E508<>\"\",Data!E508 > 0),Data!E508,\"\")","v":""}]
[{"$f":"IF(D508<>\"\",Data!A509,\"\")","v":""},{"$f":"IF(D508<>\"\",Data!B509,\"\")","v":""},"",{"$f":"IF(AND(Data!E509<>\"\",Data!E509 > 0),Data!E509,\"\")","v":""}]
[{"$f":"IF(D509<>\"\",Data!A510,\"\")","v":""},{"$f":"IF(D509<>\"\",Data!B510,\"\")","v":""},"",{"$f":"IF(AND(Data!E510<>\"\",Data!E510 > 0),Data!E510,\"\")","v":""}]
[{"$f":"IF(D510<>\"\",Data!A511,\"\")","v":""},{"$f":"IF(D510<>\"\",Data!B511,\"\")","v":""},"",{"$f":"IF(AND(Data!E511<>\"\",Data!E511 > 0),Data!E511,\"\")","v":""}]
[{"$f":"IF(D511<>\"\",Data!A512,\"\")","v":""},{"$f":"IF(D511<>\"\",Data!B512,\"\")","v":""},"",{"$f":"IF(AND(Data!E512<>\"\",Data!E512 > 0),Data!E512,\"\")","v":""}]
[{"$f":"IF(D512<>\"\",Data!A513,\"\")","v":""},{"$f":"IF(D512<>\"\",Data!B513,\"\")","v":""},"",{"$f":"IF(AND(Data!E513<>\"\",Data!E513 > 0),Data!E513,\"\")","v":""}]
[{"$f":"IF(D513<>\"\",Data!A514,\"\")","v":""},{"$f":"IF(D513<>\"\",Data!B514,\"\")","v":""},"",{"$f":"IF(AND(Data!E514<>\"\",Data!E514 > 0),Data!E514,\"\")","v":""}]
[{"$f":"IF(D514<>\"\",Data!A515,\"\")","v":""},{"$f":"IF(D514<>\"\",Data!B515,\"\")","v":""},{"$f":"IF(D514<>\"\",MID(CELL(\"filename\",B514),FIND(\"]\",CELL(\"filename\",B514))+1,32),\"\")","v":""},{"$f":"IF(AND(Data!E515<>\"\",Data!E515 > 0),Data!E515,\"\")","v":""}]
[{"$f":"IF(D515<>\"\",Data!A516,\"\")","v":""},{"$f":"IF(D515<>\"\",Data!B516,\"\")","v":""},"",{"$f":"IF(AND(Data!E516<>\"\",Data!E516 > 0),Data!E516,\"\")","v":""}]
[{"$f":"IF(D516<>\"\",Data!A517,\"\")","v":""},{"$f":"IF(D516<>\"\",Data!B517,\"\")","v":""},"",{"$f":"IF(AND(Data!E517<>\"\",Data!E517 > 0),Data!E517,\"\")","v":""}]
[{"$f":"IF(D517<>\"\",Data!A518,\"\")","v":""},{"$f":"IF(D517<>\"\",Data!B518,\"\")","v":""},"",{"$f":"IF(AND(Data!E518<>\"\",Data!E518 > 0),Data!E518,\"\")","v":""}]
[{"$f":"IF(D518<>\"\",Data!A519,\"\")","v":""},{"$f":"IF(D518<>\"\",Data!B519,\"\")","v":""},"",{"$f":"IF(AND(Data!E519<>\"\",Data!E519 > 0),Data!E519,\"\")","v":""}]
[{"$f":"IF(D519<>\"\",Data!A520,\"\")","v":""},{"$f":"IF(D519<>\"\",Data!B520,\"\")","v":""},"",{"$f":"IF(AND(Data!E520<>\"\",Data!E520 > 0),Data!E520,\"\")","v":""}]
[{"$f":"IF(D520<>\"\",Data!A521,\"\")","v":""},{"$f":"IF(D520<>\"\",Data!B521,\"\")","v":""},"",{"$f":"IF(AND(Data!E521<>\"\",Data!E521 > 0),Data!E521,\"\")","v":""}]
[{"$f":"IF(D521<>\"\",Data!A522,\"\")","v":""},{"$f":"IF(D521<>\"\",Data!B522,\"\")","v":""},"",{"$f":"IF(AND(Data!E522<>\"\",Data!E522 > 0),Data!E522,\"\")","v":""}]
[{"$f":"IF(D522<>\"\",Data!A523,\"\")","v":""},{"$f":"IF(D522<>\"\",Data!B523,\"\")","v":""},"",{"$f":"IF(AND(Data!E523<>\"\",Data!E523 > 0),Data!E523,\"\")","v":""}]
[{"$f":"IF(D523<>\"\",Data!A524,\"\")","v":""},{"$f":"IF(D523<>\"\",Data!B524,\"\")","v":""},"",{"$f":"IF(AND(Data!E524<>\"\",Data!E524 > 0),Data!E524,\"\")","v":""}]
[{"$f":"IF(D524<>\"\",Data!A525,\"\")","v":""},{"$f":"IF(D524<>\"\",Data!B525,\"\")","v":""},"",{"$f":"IF(AND(Data!E525<>\"\",Data!E525 > 0),Data!E525,\"\")","v":""}]
[{"$f":"IF(D525<>\"\",Data!A526,\"\")","v":""},{"$f":"IF(D525<>\"\",Data!B526,\"\")","v":""},"",{"$f":"IF(AND(Data!E526<>\"\",Data!E526 > 0),Data!E526,\"\")","v":""}]
[{"$f":"IF(D526<>\"\",Data!A527,\"\")","v":""},{"$f":"IF(D526<>\"\",Data!B527,\"\")","v":""},"",{"$f":"IF(AND(Data!E527<>\"\",Data!E527 > 0),Data!E527,\"\")","v":""}]
[{"$f":"IF(D527<>\"\",Data!A528,\"\")","v":""},{"$f":"IF(D527<>\"\",Data!B528,\"\")","v":""},"",{"$f":"IF(AND(Data!E528<>\"\",Data!E528 > 0),Data!E528,\"\")","v":""}]
[{"$f":"IF(D528<>\"\",Data!A529,\"\")","v":""},{"$f":"IF(D528<>\"\",Data!B529,\"\")","v":""},"",{"$f":"IF(AND(Data!E529<>\"\",Data!E529 > 0),Data!E529,\"\")","v":""}]
[{"$f":"IF(D529<>\"\",Data!A530,\"\")","v":""},{"$f":"IF(D529<>\"\",Data!B530,\"\")","v":""},"",{"$f":"IF(AND(Data!E530<>\"\",Data!E530 > 0),Data!E530,\"\")","v":""}]
[{"$f":"IF(D530<>\"\",Data!A531,\"\")","v":""},{"$f":"IF(D530<>\"\",Data!B531,\"\")","v":""},"",{"$f":"IF(AND(Data!E531<>\"\",Data!E531 > 0),Data!E531,\"\")","v":""}]
[{"$f":"IF(D531<>\"\",Data!A532,\"\")","v":""},{"$f":"IF(D531<>\"\",Data!B532,\"\")","v":""},"",{"$f":"IF(AND(Data!E532<>\"\",Data!E532 > 0),Data!E532,\"\")","v":""}]
[{"$f":"IF(D532<>\"\",Data!A533,\"\")","v":""},{"$f":"IF(D532<>\"\",Data!B533,\"\")","v":""},"",{"$f":"IF(AND(Data!E533<>\"\",Data!E533 > 0),Data!E533,\"\")","v":""}]
[{"$f":"IF(D533<>\"\",Data!A534,\"\")","v":""},{"$f":"IF(D533<>\"\",Data!B534,\"\")","v":""},"",{"$f":"IF(AND(Data!E534<>\"\",Data!E534 > 0),Data!E534,\"\")","v":""}]
[{"$f":"IF(D534<>\"\",Data!A535,\"\")","v":""},{"$f":"IF(D534<>\"\",Data!B535,\"\")","v":""},"",{"$f":"IF(AND(Data!E535<>\"\",Data!E535 > 0),Data!E535,\"\")","v":""}]
[{"$f":"IF(D535<>\"\",Data!A536,\"\")","v":""},{"$f":"IF(D535<>\"\",Data!B536,\"\")","v":""},"",{"$f":"IF(AND(Data!E536<>\"\",Data!E536 > 0),Data!E536,\"\")","v":""}]
[{"$f":"IF(D536<>\"\",Data!A537,\"\")","v":""},{"$f":"IF(D536<>\"\",Data!B537,\"\")","v":""},"",{"$f":"IF(AND(Data!E537<>\"\",Data!E537 > 0),Data!E537,\"\")","v":""}]
[{"$f":"IF(D537<>\"\",Data!A538,\"\")","v":""},{"$f":"IF(D537<>\"\",Data!B538,\"\")","v":""},"",{"$f":"IF(AND(Data!E538<>\"\",Data!E538 > 0),Data!E538,\"\")","v":""}]
[{"$f":"IF(D538<>\"\",Data!A539,\"\")","v":""},{"$f":"IF(D538<>\"\",Data!B539,\"\")","v":""},"",{"$f":"IF(AND(Data!E539<>\"\",Data!E539 > 0),Data!E539,\"\")","v":""}]
[{"$f":"IF(D539<>\"\",Data!A540,\"\")","v":""},{"$f":"IF(D539<>\"\",Data!B540,\"\")","v":""},"",{"$f":"IF(AND(Data!E540<>\"\",Data!E540 > 0),Data!E540,\"\")","v":""}]
[{"$f":"IF(D540<>\"\",Data!A541,\"\")","v":""},{"$f":"IF(D540<>\"\",Data!B541,\"\")","v":""},"",{"$f":"IF(AND(Data!E541<>\"\",Data!E541 > 0),Data!E541,\"\")","v":""}]
[{"$f":"IF(D541<>\"\",Data!A542,\"\")","v":""},{"$f":"IF(D541<>\"\",Data!B542,\"\")","v":""},"",{"$f":"IF(AND(Data!E542<>\"\",Data!E542 > 0),Data!E542,\"\")","v":""}]
[{"$f":"IF(D542<>\"\",Data!A543,\"\")","v":""},{"$f":"IF(D542<>\"\",Data!B543,\"\")","v":""},"",{"$f":"IF(AND(Data!E543<>\"\",Data!E543 > 0),Data!E543,\"\")","v":""}]
[{"$f":"IF(D543<>\"\",Data!A544,\"\")","v":""},{"$f":"IF(D543<>\"\",Data!B544,\"\")","v":""},"",{"$f":"IF(AND(Data!E544<>\"\",Data!E544 > 0),Data!E544,\"\")","v":""}]
[{"$f":"IF(D544<>\"\",Data!A545,\"\")","v":""},{"$f":"IF(D544<>\"\",Data!B545,\"\")","v":""},"",{"$f":"IF(AND(Data!E545<>\"\",Data!E545 > 0),Data!E545,\"\")","v":""}]
[{"$f":"IF(D545<>\"\",Data!A546,\"\")","v":""},{"$f":"IF(D545<>\"\",Data!B546,\"\")","v":""},"",{"$f":"IF(AND(Data!E546<>\"\",Data!E546 > 0),Data!E546,\"\")","v":""}]
[{"$f":"IF(D546<>\"\",Data!A547,\"\")","v":""},{"$f":"IF(D546<>\"\",Data!B547,\"\")","v":""},"",{"$f":"IF(AND(Data!E547<>\"\",Data!E547 > 0),Data!E547,\"\")","v":""}]
[{"$f":"IF(D547<>\"\",Data!A548,\"\")","v":""},{"$f":"IF(D547<>\"\",Data!B548,\"\")","v":""},"",{"$f":"IF(AND(Data!E548<>\"\",Data!E548 > 0),Data!E548,\"\")","v":""}]
[{"$f":"IF(D548<>\"\",Data!A549,\"\")","v":""},{"$f":"IF(D548<>\"\",Data!B549,\"\")","v":""},"",{"$f":"IF(AND(Data!E549<>\"\",Data!E549 > 0),Data!E549,\"\")","v":""}]
[{"$f":"IF(D549<>\"\",Data!A550,\"\")","v":""},{"$f":"IF(D549<>\"\",Data!B550,\"\")","v":""},"",{"$f":"IF(AND(Data!E550<>\"\",Data!E550 > 0),Data!E550,\"\")","v":""}]
[{"$f":"IF(D550<>\"\",Data!A551,\"\")","v":""},{"$f":"IF(D550<>\"\",Data!B551,\"\")","v":""},"",{"$f":"IF(AND(Data!E551<>\"\",Data!E551 > 0),Data!E551,\"\")","v":""}]
[{"$f":"IF(D551<>\"\",Data!A552,\"\")","v":""},{"$f":"IF(D551<>\"\",Data!B552,\"\")","v":""},"",{"$f":"IF(AND(Data!E552<>\"\",Data!E552 > 0),Data!E552,\"\")","v":""}]
[{"$f":"IF(D552<>\"\",Data!A553,\"\")","v":""},{"$f":"IF(D552<>\"\",Data!B553,\"\")","v":""},"",{"$f":"IF(AND(Data!E553<>\"\",Data!E553 > 0),Data!E553,\"\")","v":""}]
[{"$f":"IF(D553<>\"\",Data!A554,\"\")","v":""},{"$f":"IF(D553<>\"\",Data!B554,\"\")","v":""},"",{"$f":"IF(AND(Data!E554<>\"\",Data!E554 > 0),Data!E554,\"\")","v":""}]
[{"$f":"IF(D554<>\"\",Data!A555,\"\")","v":""},{"$f":"IF(D554<>\"\",Data!B555,\"\")","v":""},"",{"$f":"IF(AND(Data!E555<>\"\",Data!E555 > 0),Data!E555,\"\")","v":""}]
[{"$f":"IF(D555<>\"\",Data!A556,\"\")","v":""},{"$f":"IF(D555<>\"\",Data!B556,\"\")","v":""},"",{"$f":"IF(AND(Data!E556<>\"\",Data!E556 > 0),Data!E556,\"\")","v":""}]
[{"$f":"IF(D556<>\"\",Data!A557,\"\")","v":""},{"$f":"IF(D556<>\"\",Data!B557,\"\")","v":""},"",{"$f":"IF(AND(Data!E557<>\"\",Data!E557 > 0),Data!E557,\"\")","v":""}]
[{"$f":"IF(D557<>\"\",Data!A558,\"\")","v":""},{"$f":"IF(D557<>\"\",Data!B558,\"\")","v":""},"",{"$f":"IF(AND(Data!E558<>\"\",Data!E558 > 0),Data!E558,\"\")","v":""}]
[{"$f":"IF(D558<>\"\",Data!A559,\"\")","v":""},{"$f":"IF(D558<>\"\",Data!B559,\"\")","v":""},"",{"$f":"IF(AND(Data!E559<>\"\",Data!E559 > 0),Data!E559,\"\")","v":""}]
[{"$f":"IF(D559<>\"\",Data!A560,\"\")","v":""},{"$f":"IF(D559<>\"\",Data!B560,\"\")","v":""},"",{"$f":"IF(AND(Data!E560<>\"\",Data!E560 > 0),Data!E560,\"\")","v":""}]
[{"$f":"IF(D560<>\"\",Data!A561,\"\")","v":""},{"$f":"IF(D560<>\"\",Data!B561,\"\")","v":""},"",{"$f":"IF(AND(Data!E561<>\"\",Data!E561 > 0),Data!E561,\"\")","v":""}]
[{"$f":"IF(D561<>\"\",Data!A562,\"\")","v":""},{"$f":"IF(D561<>\"\",Data!B562,\"\")","v":""},"",{"$f":"IF(AND(Data!E562<>\"\",Data!E562 > 0),Data!E562,\"\")","v":""}]
[{"$f":"IF(D562<>\"\",Data!A563,\"\")","v":""},{"$f":"IF(D562<>\"\",Data!B563,\"\")","v":""},"",{"$f":"IF(AND(Data!E563<>\"\",Data!E563 > 0),Data!E563,\"\")","v":""}]
[{"$f":"IF(D563<>\"\",Data!A564,\"\")","v":""},{"$f":"IF(D563<>\"\",Data!B564,\"\")","v":""},"",{"$f":"IF(AND(Data!E564<>\"\",Data!E564 > 0),Data!E564,\"\")","v":""}]
[{"$f":"IF(D564<>\"\",Data!A565,\"\")","v":""},{"$f":"IF(D564<>\"\",Data!B565,\"\")","v":""},"",{"$f":"IF(AND(Data!E565<>\"\",Data!E565 > 0),Data!E565,\"\")","v":""}]
[{"$f":"IF(D565<>\"\",Data!A566,\"\")","v":""},{"$f":"IF(D565<>\"\",Data!B566,\"\")","v":""},"",{"$f":"IF(AND(Data!E566<>\"\",Data!E566 > 0),Data!E566,\"\")","v":""}]
[{"$f":"IF(D566<>\"\",Data!A567,\"\")","v":""},{"$f":"IF(D566<>\"\",Data!B567,\"\")","v":""},"",{"$f":"IF(AND(Data!E567<>\"\",Data!E567 > 0),Data!E567,\"\")","v":""}]
[{"$f":"IF(D567<>\"\",Data!A568,\"\")","v":""},{"$f":"IF(D567<>\"\",Data!B568,\"\")","v":""},"",{"$f":"IF(AND(Data!E568<>\"\",Data!E568 > 0),Data!E568,\"\")","v":""}]
[{"$f":"IF(D568<>\"\",Data!A569,\"\")","v":""},{"$f":"IF(D568<>\"\",Data!B569,\"\")","v":""},"",{"$f":"IF(AND(Data!E569<>\"\",Data!E569 > 0),Data!E569,\"\")","v":""}]
[{"$f":"IF(D569<>\"\",Data!A570,\"\")","v":""},{"$f":"IF(D569<>\"\",Data!B570,\"\")","v":""},"",{"$f":"IF(AND(Data!E570<>\"\",Data!E570 > 0),Data!E570,\"\")","v":""}]
[{"$f":"IF(D570<>\"\",Data!A571,\"\")","v":""},{"$f":"IF(D570<>\"\",Data!B571,\"\")","v":""},"",{"$f":"IF(AND(Data!E571<>\"\",Data!E571 > 0),Data!E571,\"\")","v":""}]
[{"$f":"IF(D571<>\"\",Data!A572,\"\")","v":""},{"$f":"IF(D571<>\"\",Data!B572,\"\")","v":""},"",{"$f":"IF(AND(Data!E572<>\"\",Data!E572 > 0),Data!E572,\"\")","v":""}]
[{"$f":"IF(D572<>\"\",Data!A573,\"\")","v":""},{"$f":"IF(D572<>\"\",Data!B573,\"\")","v":""},"",{"$f":"IF(AND(Data!E573<>\"\",Data!E573 > 0),Data!E573,\"\")","v":""}]
[{"$f":"IF(D573<>\"\",Data!A574,\"\")","v":""},{"$f":"IF(D573<>\"\",Data!B574,\"\")","v":""},"",{"$f":"IF(AND(Data!E574<>\"\",Data!E574 > 0),Data!E574,\"\")","v":""}]
[{"$f":"IF(D574<>\"\",Data!A575,\"\")","v":""},{"$f":"IF(D574<>\"\",Data!B575,\"\")","v":""},"",{"$f":"IF(AND(Data!E575<>\"\",Data!E575 > 0),Data!E575,\"\")","v":""}]
[{"$f":"IF(D575<>\"\",Data!A576,\"\")","v":""},{"$f":"IF(D575<>\"\",Data!B576,\"\")","v":""},"",{"$f":"IF(AND(Data!E576<>\"\",Data!E576 > 0),Data!E576,\"\")","v":""}]
[{"$f":"IF(D576<>\"\",Data!A577,\"\")","v":""},{"$f":"IF(D576<>\"\",Data!B577,\"\")","v":""},"",{"$f":"IF(AND(Data!E577<>\"\",Data!E577 > 0),Data!E577,\"\")","v":""}]
[{"$f":"IF(D577<>\"\",Data!A578,\"\")","v":""},{"$f":"IF(D577<>\"\",Data!B578,\"\")","v":""},"",{"$f":"IF(AND(Data!E578<>\"\",Data!E578 > 0),Data!E578,\"\")","v":""}]
[{"$f":"IF(D578<>\"\",Data!A579,\"\")","v":""},{"$f":"IF(D578<>\"\",Data!B579,\"\")","v":""},{"$f":"IF(D578<>\"\",MID(CELL(\"filename\",B578),FIND(\"]\",CELL(\"filename\",B578))+1,32),\"\")","v":""},{"$f":"IF(AND(Data!E579<>\"\",Data!E579 > 0),Data!E579,\"\")","v":""}]
[{"$f":"IF(D579<>\"\",Data!A580,\"\")","v":""},{"$f":"IF(D579<>\"\",Data!B580,\"\")","v":""},"",{"$f":"IF(AND(Data!E580<>\"\",Data!E580 > 0),Data!E580,\"\")","v":""}]
[{"$f":"IF(D580<>\"\",Data!A581,\"\")","v":""},{"$f":"IF(D580<>\"\",Data!B581,\"\")","v":""},"",{"$f":"IF(AND(Data!E581<>\"\",Data!E581 > 0),Data!E581,\"\")","v":""}]
[{"$f":"IF(D581<>\"\",Data!A582,\"\")","v":""},{"$f":"IF(D581<>\"\",Data!B582,\"\")","v":""},"",{"$f":"IF(AND(Data!E582<>\"\",Data!E582 > 0),Data!E582,\"\")","v":""}]
[{"$f":"IF(D582<>\"\",Data!A583,\"\")","v":""},{"$f":"IF(D582<>\"\",Data!B583,\"\")","v":""},"",{"$f":"IF(AND(Data!E583<>\"\",Data!E583 > 0),Data!E583,\"\")","v":""}]
[{"$f":"IF(D583<>\"\",Data!A584,\"\")","v":""},{"$f":"IF(D583<>\"\",Data!B584,\"\")","v":""},"",{"$f":"IF(AND(Data!E584<>\"\",Data!E584 > 0),Data!E584,\"\")","v":""}]
[{"$f":"IF(D584<>\"\",Data!A585,\"\")","v":""},{"$f":"IF(D584<>\"\",Data!B585,\"\")","v":""},"",{"$f":"IF(AND(Data!E585<>\"\",Data!E585 > 0),Data!E585,\"\")","v":""}]
[{"$f":"IF(D585<>\"\",Data!A586,\"\")","v":""},{"$f":"IF(D585<>\"\",Data!B586,\"\")","v":""},"",{"$f":"IF(AND(Data!E586<>\"\",Data!E586 > 0),Data!E586,\"\")","v":""}]
[{"$f":"IF(D586<>\"\",Data!A587,\"\")","v":""},{"$f":"IF(D586<>\"\",Data!B587,\"\")","v":""},"",{"$f":"IF(AND(Data!E587<>\"\",Data!E587 > 0),Data!E587,\"\")","v":""}]
[{"$f":"IF(D587<>\"\",Data!A588,\"\")","v":""},{"$f":"IF(D587<>\"\",Data!B588,\"\")","v":""},"",{"$f":"IF(AND(Data!E588<>\"\",Data!E588 > 0),Data!E588,\"\")","v":""}]
[{"$f":"IF(D588<>\"\",Data!A589,\"\")","v":""},{"$f":"IF(D588<>\"\",Data!B589,\"\")","v":""},"",{"$f":"IF(AND(Data!E589<>\"\",Data!E589 > 0),Data!E589,\"\")","v":""}]
[{"$f":"IF(D589<>\"\",Data!A590,\"\")","v":""},{"$f":"IF(D589<>\"\",Data!B590,\"\")","v":""},"",{"$f":"IF(AND(Data!E590<>\"\",Data!E590 > 0),Data!E590,\"\")","v":""}]
[{"$f":"IF(D590<>\"\",Data!A591,\"\")","v":""},{"$f":"IF(D590<>\"\",Data!B591,\"\")","v":""},"",{"$f":"IF(AND(Data!E591<>\"\",Data!E591 > 0),Data!E591,\"\")","v":""}]
[{"$f":"IF(D591<>\"\",Data!A592,\"\")","v":""},{"$f":"IF(D591<>\"\",Data!B592,\"\")","v":""},"",{"$f":"IF(AND(Data!E592<>\"\",Data!E592 > 0),Data!E592,\"\")","v":""}]
[{"$f":"IF(D592<>\"\",Data!A593,\"\")","v":""},{"$f":"IF(D592<>\"\",Data!B593,\"\")","v":""},"",{"$f":"IF(AND(Data!E593<>\"\",Data!E593 > 0),Data!E593,\"\")","v":""}]
[{"$f":"IF(D593<>\"\",Data!A594,\"\")","v":""},{"$f":"IF(D593<>\"\",Data!B594,\"\")","v":""},"",{"$f":"IF(AND(Data!E594<>\"\",Data!E594 > 0),Data!E594,\"\")","v":""}]
[{"$f":"IF(D594<>\"\",Data!A595,\"\")","v":""},{"$f":"IF(D594<>\"\",Data!B595,\"\")","v":""},"",{"$f":"IF(AND(Data!E595<>\"\",Data!E595 > 0),Data!E595,\"\")","v":""}]
[{"$f":"IF(D595<>\"\",Data!A596,\"\")","v":""},{"$f":"IF(D595<>\"\",Data!B596,\"\")","v":""},"",{"$f":"IF(AND(Data!E596<>\"\",Data!E596 > 0),Data!E596,\"\")","v":""}]
[{"$f":"IF(D596<>\"\",Data!A597,\"\")","v":""},{"$f":"IF(D596<>\"\",Data!B597,\"\")","v":""},"",{"$f":"IF(AND(Data!E597<>\"\",Data!E597 > 0),Data!E597,\"\")","v":""}]
[{"$f":"IF(D597<>\"\",Data!A598,\"\")","v":""},{"$f":"IF(D597<>\"\",Data!B598,\"\")","v":""},"",{"$f":"IF(AND(Data!E598<>\"\",Data!E598 > 0),Data!E598,\"\")","v":""}]
[{"$f":"IF(D598<>\"\",Data!A599,\"\")","v":""},{"$f":"IF(D598<>\"\",Data!B599,\"\")","v":""},"",{"$f":"IF(AND(Data!E599<>\"\",Data!E599 > 0),Data!E599,\"\")","v":""}]
[{"$f":"IF(D599<>\"\",Data!A600,\"\")","v":""},{"$f":"IF(D599<>\"\",Data!B600,\"\")","v":""},"",{"$f":"IF(AND(Data!E600<>\"\",Data!E600 > 0),Data!E600,\"\")","v":""}]
[{"$f":"IF(D600<>\"\",Data!A601,\"\")","v":""},{"$f":"IF(D600<>\"\",Data!B601,\"\")","v":""},"",{"$f":"IF(AND(Data!E601<>\"\",Data!E601 > 0),Data!E601,\"\")","v":""}]
[{"$f":"IF(D601<>\"\",Data!A602,\"\")","v":""},{"$f":"IF(D601<>\"\",Data!B602,\"\")","v":""},"",{"$f":"IF(AND(Data!E602<>\"\",Data!E602 > 0),Data!E602,\"\")","v":""}]
[{"$f":"IF(D602<>\"\",Data!A603,\"\")","v":""},{"$f":"IF(D602<>\"\",Data!B603,\"\")","v":""},"",{"$f":"IF(AND(Data!E603<>\"\",Data!E603 > 0),Data!E603,\"\")","v":""}]
[{"$f":"IF(D603<>\"\",Data!A604,\"\")","v":""},{"$f":"IF(D603<>\"\",Data!B604,\"\")","v":""},"",{"$f":"IF(AND(Data!E604<>\"\",Data!E604 > 0),Data!E604,\"\")","v":""}]
[{"$f":"IF(D604<>\"\",Data!A605,\"\")","v":""},{"$f":"IF(D604<>\"\",Data!B605,\"\")","v":""},"",{"$f":"IF(AND(Data!E605<>\"\",Data!E605 > 0),Data!E605,\"\")","v":""}]
[{"$f":"IF(D605<>\"\",Data!A606,\"\")","v":""},{"$f":"IF(D605<>\"\",Data!B606,\"\")","v":""},"",{"$f":"IF(AND(Data!E606<>\"\",Data!E606 > 0),Data!E606,\"\")","v":""}]
[{"$f":"IF(D606<>\"\",Data!A607,\"\")","v":""},{"$f":"IF(D606<>\"\",Data!B607,\"\")","v":""},"",{"$f":"IF(AND(Data!E607<>\"\",Data!E607 > 0),Data!E607,\"\")","v":""}]
[{"$f":"IF(D607<>\"\",Data!A608,\"\")","v":""},{"$f":"IF(D607<>\"\",Data!B608,\"\")","v":""},"",{"$f":"IF(AND(Data!E608<>\"\",Data!E608 > 0),Data!E608,\"\")","v":""}]
[{"$f":"IF(D608<>\"\",Data!A609,\"\")","v":""},{"$f":"IF(D608<>\"\",Data!B609,\"\")","v":""},"",{"$f":"IF(AND(Data!E609<>\"\",Data!E609 > 0),Data!E609,\"\")","v":""}]
[{"$f":"IF(D609<>\"\",Data!A610,\"\")","v":""},{"$f":"IF(D609<>\"\",Data!B610,\"\")","v":""},"",{"$f":"IF(AND(Data!E610<>\"\",Data!E610 > 0),Data!E610,\"\")","v":""}]
[{"$f":"IF(D610<>\"\",Data!A611,\"\")","v":""},{"$f":"IF(D610<>\"\",Data!B611,\"\")","v":""},"",{"$f":"IF(AND(Data!E611<>\"\",Data!E611 > 0),Data!E611,\"\")","v":""}]
[{"$f":"IF(D611<>\"\",Data!A612,\"\")","v":""},{"$f":"IF(D611<>\"\",Data!B612,\"\")","v":""},"",{"$f":"IF(AND(Data!E612<>\"\",Data!E612 > 0),Data!E612,\"\")","v":""}]
[{"$f":"IF(D612<>\"\",Data!A613,\"\")","v":""},{"$f":"IF(D612<>\"\",Data!B613,\"\")","v":""},"",{"$f":"IF(AND(Data!E613<>\"\",Data!E613 > 0),Data!E613,\"\")","v":""}]
[{"$f":"IF(D613<>\"\",Data!A614,\"\")","v":""},{"$f":"IF(D613<>\"\",Data!B614,\"\")","v":""},"",{"$f":"IF(AND(Data!E614<>\"\",Data!E614 > 0),Data!E614,\"\")","v":""}]
[{"$f":"IF(D614<>\"\",Data!A615,\"\")","v":""},{"$f":"IF(D614<>\"\",Data!B615,\"\")","v":""},"",{"$f":"IF(AND(Data!E615<>\"\",Data!E615 > 0),Data!E615,\"\")","v":""}]
[{"$f":"IF(D615<>\"\",Data!A616,\"\")","v":""},{"$f":"IF(D615<>\"\",Data!B616,\"\")","v":""},"",{"$f":"IF(AND(Data!E616<>\"\",Data!E616 > 0),Data!E616,\"\")","v":""}]
[{"$f":"IF(D616<>\"\",Data!A617,\"\")","v":""},{"$f":"IF(D616<>\"\",Data!B617,\"\")","v":""},"",{"$f":"IF(AND(Data!E617<>\"\",Data!E617 > 0),Data!E617,\"\")","v":""}]
[{"$f":"IF(D617<>\"\",Data!A618,\"\")","v":""},{"$f":"IF(D617<>\"\",Data!B618,\"\")","v":""},"",{"$f":"IF(AND(Data!E618<>\"\",Data!E618 > 0),Data!E618,\"\")","v":""}]
[{"$f":"IF(D618<>\"\",Data!A619,\"\")","v":""},{"$f":"IF(D618<>\"\",Data!B619,\"\")","v":""},"",{"$f":"IF(AND(Data!E619<>\"\",Data!E619 > 0),Data!E619,\"\")","v":""}]
[{"$f":"IF(D619<>\"\",Data!A620,\"\")","v":""},{"$f":"IF(D619<>\"\",Data!B620,\"\")","v":""},"",{"$f":"IF(AND(Data!E620<>\"\",Data!E620 > 0),Data!E620,\"\")","v":""}]
[{"$f":"IF(D620<>\"\",Data!A621,\"\")","v":""},{"$f":"IF(D620<>\"\",Data!B621,\"\")","v":""},"",{"$f":"IF(AND(Data!E621<>\"\",Data!E621 > 0),Data!E621,\"\")","v":""}]
[{"$f":"IF(D621<>\"\",Data!A622,\"\")","v":""},{"$f":"IF(D621<>\"\",Data!B622,\"\")","v":""},"",{"$f":"IF(AND(Data!E622<>\"\",Data!E622 > 0),Data!E622,\"\")","v":""}]
[{"$f":"IF(D622<>\"\",Data!A623,\"\")","v":""},{"$f":"IF(D622<>\"\",Data!B623,\"\")","v":""},"",{"$f":"IF(AND(Data!E623<>\"\",Data!E623 > 0),Data!E623,\"\")","v":""}]
[{"$f":"IF(D623<>\"\",Data!A624,\"\")","v":""},{"$f":"IF(D623<>\"\",Data!B624,\"\")","v":""},"",{"$f":"IF(AND(Data!E624<>\"\",Data!E624 > 0),Data!E624,\"\")","v":""}]
[{"$f":"IF(D624<>\"\",Data!A625,\"\")","v":""},{"$f":"IF(D624<>\"\",Data!B625,\"\")","v":""},"",{"$f":"IF(AND(Data!E625<>\"\",Data!E625 > 0),Data!E625,\"\")","v":""}]
[{"$f":"IF(D625<>\"\",Data!A626,\"\")","v":""},{"$f":"IF(D625<>\"\",Data!B626,\"\")","v":""},"",{"$f":"IF(AND(Data!E626<>\"\",Data!E626 > 0),Data!E626,\"\")","v":""}]
[{"$f":"IF(D626<>\"\",Data!A627,\"\")","v":""},{"$f":"IF(D626<>\"\",Data!B627,\"\")","v":""},"",{"$f":"IF(AND(Data!E627<>\"\",Data!E627 > 0),Data!E627,\"\")","v":""}]
[{"$f":"IF(D627<>\"\",Data!A628,\"\")","v":""},{"$f":"IF(D627<>\"\",Data!B628,\"\")","v":""},"",{"$f":"IF(AND(Data!E628<>\"\",Data!E628 > 0),Data!E628,\"\")","v":""}]
[{"$f":"IF(D628<>\"\",Data!A629,\"\")","v":""},{"$f":"IF(D628<>\"\",Data!B629,\"\")","v":""},"",{"$f":"IF(AND(Data!E629<>\"\",Data!E629 > 0),Data!E629,\"\")","v":""}]
[{"$f":"IF(D629<>\"\",Data!A630,\"\")","v":""},{"$f":"IF(D629<>\"\",Data!B630,\"\")","v":""},"",{"$f":"IF(AND(Data!E630<>\"\",Data!E630 > 0),Data!E630,\"\")","v":""}]
[{"$f":"IF(D630<>\"\",Data!A631,\"\")","v":""},{"$f":"IF(D630<>\"\",Data!B631,\"\")","v":""},"",{"$f":"IF(AND(Data!E631<>\"\",Data!E631 > 0),Data!E631,\"\")","v":""}]
[{"$f":"IF(D631<>\"\",Data!A632,\"\")","v":""},{"$f":"IF(D631<>\"\",Data!B632,\"\")","v":""},"",{"$f":"IF(AND(Data!E632<>\"\",Data!E632 > 0),Data!E632,\"\")","v":""}]
[{"$f":"IF(D632<>\"\",Data!A633,\"\")","v":""},{"$f":"IF(D632<>\"\",Data!B633,\"\")","v":""},"",{"$f":"IF(AND(Data!E633<>\"\",Data!E633 > 0),Data!E633,\"\")","v":""}]
[{"$f":"IF(D633<>\"\",Data!A634,\"\")","v":""},{"$f":"IF(D633<>\"\",Data!B634,\"\")","v":""},"",{"$f":"IF(AND(Data!E634<>\"\",Data!E634 > 0),Data!E634,\"\")","v":""}]
[{"$f":"IF(D634<>\"\",Data!A635,\"\")","v":""},{"$f":"IF(D634<>\"\",Data!B635,\"\")","v":""},"",{"$f":"IF(AND(Data!E635<>\"\",Data!E635 > 0),Data!E635,\"\")","v":""}]
[{"$f":"IF(D635<>\"\",Data!A636,\"\")","v":""},{"$f":"IF(D635<>\"\",Data!B636,\"\")","v":""},"",{"$f":"IF(AND(Data!E636<>\"\",Data!E636 > 0),Data!E636,\"\")","v":""}]
[{"$f":"IF(D636<>\"\",Data!A637,\"\")","v":""},{"$f":"IF(D636<>\"\",Data!B637,\"\")","v":""},"",{"$f":"IF(AND(Data!E637<>\"\",Data!E637 > 0),Data!E637,\"\")","v":""}]
[{"$f":"IF(D637<>\"\",Data!A638,\"\")","v":""},{"$f":"IF(D637<>\"\",Data!B638,\"\")","v":""},"",{"$f":"IF(AND(Data!E638<>\"\",Data!E638 > 0),Data!E638,\"\")","v":""}]
[{"$f":"IF(D638<>\"\",Data!A639,\"\")","v":""},{"$f":"IF(D638<>\"\",Data!B639,\"\")","v":""},"",{"$f":"IF(AND(Data!E639<>\"\",Data!E639 > 0),Data!E639,\"\")","v":""}]
[{"$f":"IF(D639<>\"\",Data!A640,\"\")","v":""},{"$f":"IF(D639<>\"\",Data!B640,\"\")","v":""},"",{"$f":"IF(AND(Data!E640<>\"\",Data!E640 > 0),Data!E640,\"\")","v":""}]
[{"$f":"IF(D640<>\"\",Data!A641,\"\")","v":""},{"$f":"IF(D640<>\"\",Data!B641,\"\")","v":""},"",{"$f":"IF(AND(Data!E641<>\"\",Data!E641 > 0),Data!E641,\"\")","v":""}]
[{"$f":"IF(D641<>\"\",Data!A642,\"\")","v":""},{"$f":"IF(D641<>\"\",Data!B642,\"\")","v":""},"",{"$f":"IF(AND(Data!E642<>\"\",Data!E642 > 0),Data!E642,\"\")","v":""}]
[{"$f":"IF(D642<>\"\",Data!A643,\"\")","v":""},{"$f":"IF(D642<>\"\",Data!B643,\"\")","v":""},{"$f":"IF(D642<>\"\",MID(CELL(\"filename\",B642),FIND(\"]\",CELL(\"filename\",B642))+1,32),\"\")","v":""},{"$f":"IF(AND(Data!E643<>\"\",Data!E643 > 0),Data!E643,\"\")","v":""}]
[{"$f":"IF(D643<>\"\",Data!A644,\"\")","v":""},{"$f":"IF(D643<>\"\",Data!B644,\"\")","v":""},"",{"$f":"IF(AND(Data!E644<>\"\",Data!E644 > 0),Data!E644,\"\")","v":""}]
[{"$f":"IF(D644<>\"\",Data!A645,\"\")","v":""},{"$f":"IF(D644<>\"\",Data!B645,\"\")","v":""},"",{"$f":"IF(AND(Data!E645<>\"\",Data!E645 > 0),Data!E645,\"\")","v":""}]
[{"$f":"IF(D645<>\"\",Data!A646,\"\")","v":""},{"$f":"IF(D645<>\"\",Data!B646,\"\")","v":""},"",{"$f":"IF(AND(Data!E646<>\"\",Data!E646 > 0),Data!E646,\"\")","v":""}]
[{"$f":"IF(D646<>\"\",Data!A647,\"\")","v":""},{"$f":"IF(D646<>\"\",Data!B647,\"\")","v":""},"",{"$f":"IF(AND(Data!E647<>\"\",Data!E647 > 0),Data!E647,\"\")","v":""}]
[{"$f":"IF(D647<>\"\",Data!A648,\"\")","v":""},{"$f":"IF(D647<>\"\",Data!B648,\"\")","v":""},"",{"$f":"IF(AND(Data!E648<>\"\",Data!E648 > 0),Data!E648,\"\")","v":""}]
[{"$f":"IF(D648<>\"\",Data!A649,\"\")","v":""},{"$f":"IF(D648<>\"\",Data!B649,\"\")","v":""},"",{"$f":"IF(AND(Data!E649<>\"\",Data!E649 > 0),Data!E649,\"\")","v":""}]
[{"$f":"IF(D649<>\"\",Data!A650,\"\")","v":""},{"$f":"IF(D649<>\"\",Data!B650,\"\")","v":""},"",{"$f":"IF(AND(Data!E650<>\"\",Data!E650 > 0),Data!E650,\"\")","v":""}]
[{"$f":"IF(D650<>\"\",Data!A651,\"\")","v":""},{"$f":"IF(D650<>\"\",Data!B651,\"\")","v":""},"",{"$f":"IF(AND(Data!E651<>\"\",Data!E651 > 0),Data!E651,\"\")","v":""}]
[{"$f":"IF(D651<>\"\",Data!A652,\"\")","v":""},{"$f":"IF(D651<>\"\",Data!B652,\"\")","v":""},"",{"$f":"IF(AND(Data!E652<>\"\",Data!E652 > 0),Data!E652,\"\")","v":""}]
[{"$f":"IF(D652<>\"\",Data!A653,\"\")","v":""},{"$f":"IF(D652<>\"\",Data!B653,\"\")","v":""},"",{"$f":"IF(AND(Data!E653<>\"\",Data!E653 > 0),Data!E653,\"\")","v":""}]
[{"$f":"IF(D653<>\"\",Data!A654,\"\")","v":""},{"$f":"IF(D653<>\"\",Data!B654,\"\")","v":""},"",{"$f":"IF(AND(Data!E654<>\"\",Data!E654 > 0),Data!E654,\"\")","v":""}]
[{"$f":"IF(D654<>\"\",Data!A655,\"\")","v":""},{"$f":"IF(D654<>\"\",Data!B655,\"\")","v":""},"",{"$f":"IF(AND(Data!E655<>\"\",Data!E655 > 0),Data!E655,\"\")","v":""}]
[{"$f":"IF(D655<>\"\",Data!A656,\"\")","v":""},{"$f":"IF(D655<>\"\",Data!B656,\"\")","v":""},"",{"$f":"IF(AND(Data!E656<>\"\",Data!E656 > 0),Data!E656,\"\")","v":""}]
[{"$f":"IF(D656<>\"\",Data!A657,\"\")","v":""},{"$f":"IF(D656<>\"\",Data!B657,\"\")","v":""},"",{"$f":"IF(AND(Data!E657<>\"\",Data!E657 > 0),Data!E657,\"\")","v":""}]
[{"$f":"IF(D657<>\"\",Data!A658,\"\")","v":""},{"$f":"IF(D657<>\"\",Data!B658,\"\")","v":""},"",{"$f":"IF(AND(Data!E658<>\"\",Data!E658 > 0),Data!E658,\"\")","v":""}]
[{"$f":"IF(D658<>\"\",Data!A659,\"\")","v":""},{"$f":"IF(D658<>\"\",Data!B659,\"\")","v":""},"",{"$f":"IF(AND(Data!E659<>\"\",Data!E659 > 0),Data!E659,\"\")","v":""}]
[{"$f":"IF(D659<>\"\",Data!A660,\"\")","v":""},{"$f":"IF(D659<>\"\",Data!B660,\"\")","v":""},"",{"$f":"IF(AND(Data!E660<>\"\",Data!E660 > 0),Data!E660,\"\")","v":""}]
[{"$f":"IF(D660<>\"\",Data!A661,\"\")","v":""},{"$f":"IF(D660<>\"\",Data!B661,\"\")","v":""},"",{"$f":"IF(AND(Data!E661<>\"\",Data!E661 > 0),Data!E661,\"\")","v":""}]
[{"$f":"IF(D661<>\"\",Data!A662,\"\")","v":""},{"$f":"IF(D661<>\"\",Data!B662,\"\")","v":""},"",{"$f":"IF(AND(Data!E662<>\"\",Data!E662 > 0),Data!E662,\"\")","v":""}]
[{"$f":"IF(D662<>\"\",Data!A663,\"\")","v":""},{"$f":"IF(D662<>\"\",Data!B663,\"\")","v":""},"",{"$f":"IF(AND(Data!E663<>\"\",Data!E663 > 0),Data!E663,\"\")","v":""}]
[{"$f":"IF(D663<>\"\",Data!A664,\"\")","v":""},{"$f":"IF(D663<>\"\",Data!B664,\"\")","v":""},"",{"$f":"IF(AND(Data!E664<>\"\",Data!E664 > 0),Data!E664,\"\")","v":""}]
[{"$f":"IF(D664<>\"\",Data!A665,\"\")","v":""},{"$f":"IF(D664<>\"\",Data!B665,\"\")","v":""},"",{"$f":"IF(AND(Data!E665<>\"\",Data!E665 > 0),Data!E665,\"\")","v":""}]
[{"$f":"IF(D665<>\"\",Data!A666,\"\")","v":""},{"$f":"IF(D665<>\"\",Data!B666,\"\")","v":""},"",{"$f":"IF(AND(Data!E666<>\"\",Data!E666 > 0),Data!E666,\"\")","v":""}]
[{"$f":"IF(D666<>\"\",Data!A667,\"\")","v":""},{"$f":"IF(D666<>\"\",Data!B667,\"\")","v":""},"",{"$f":"IF(AND(Data!E667<>\"\",Data!E667 > 0),Data!E667,\"\")","v":""}]
[{"$f":"IF(D667<>\"\",Data!A668,\"\")","v":""},{"$f":"IF(D667<>\"\",Data!B668,\"\")","v":""},"",{"$f":"IF(AND(Data!E668<>\"\",Data!E668 > 0),Data!E668,\"\")","v":""}]
[{"$f":"IF(D668<>\"\",Data!A669,\"\")","v":""},{"$f":"IF(D668<>\"\",Data!B669,\"\")","v":""},"",{"$f":"IF(AND(Data!E669<>\"\",Data!E669 > 0),Data!E669,\"\")","v":""}]
[{"$f":"IF(D669<>\"\",Data!A670,\"\")","v":""},{"$f":"IF(D669<>\"\",Data!B670,\"\")","v":""},"",{"$f":"IF(AND(Data!E670<>\"\",Data!E670 > 0),Data!E670,\"\")","v":""}]
[{"$f":"IF(D670<>\"\",Data!A671,\"\")","v":""},{"$f":"IF(D670<>\"\",Data!B671,\"\")","v":""},"",{"$f":"IF(AND(Data!E671<>\"\",Data!E671 > 0),Data!E671,\"\")","v":""}]
[{"$f":"IF(D671<>\"\",Data!A672,\"\")","v":""},{"$f":"IF(D671<>\"\",Data!B672,\"\")","v":""},"",{"$f":"IF(AND(Data!E672<>\"\",Data!E672 > 0),Data!E672,\"\")","v":""}]
[{"$f":"IF(D672<>\"\",Data!A673,\"\")","v":""},{"$f":"IF(D672<>\"\",Data!B673,\"\")","v":""},"",{"$f":"IF(AND(Data!E673<>\"\",Data!E673 > 0),Data!E673,\"\")","v":""}]
[{"$f":"IF(D673<>\"\",Data!A674,\"\")","v":""},{"$f":"IF(D673<>\"\",Data!B674,\"\")","v":""},"",{"$f":"IF(AND(Data!E674<>\"\",Data!E674 > 0),Data!E674,\"\")","v":""}]
[{"$f":"IF(D674<>\"\",Data!A675,\"\")","v":""},{"$f":"IF(D674<>\"\",Data!B675,\"\")","v":""},"",{"$f":"IF(AND(Data!E675<>\"\",Data!E675 > 0),Data!E675,\"\")","v":""}]
[{"$f":"IF(D675<>\"\",Data!A676,\"\")","v":""},{"$f":"IF(D675<>\"\",Data!B676,\"\")","v":""},"",{"$f":"IF(AND(Data!E676<>\"\",Data!E676 > 0),Data!E676,\"\")","v":""}]
[{"$f":"IF(D676<>\"\",Data!A677,\"\")","v":""},{"$f":"IF(D676<>\"\",Data!B677,\"\")","v":""},"",{"$f":"IF(AND(Data!E677<>\"\",Data!E677 > 0),Data!E677,\"\")","v":""}]
[{"$f":"IF(D677<>\"\",Data!A678,\"\")","v":""},{"$f":"IF(D677<>\"\",Data!B678,\"\")","v":""},"",{"$f":"IF(AND(Data!E678<>\"\",Data!E678 > 0),Data!E678,\"\")","v":""}]
[{"$f":"IF(D678<>\"\",Data!A679,\"\")","v":""},{"$f":"IF(D678<>\"\",Data!B679,\"\")","v":""},"",{"$f":"IF(AND(Data!E679<>\"\",Data!E679 > 0),Data!E679,\"\")","v":""}]
[{"$f":"IF(D679<>\"\",Data!A680,\"\")","v":""},{"$f":"IF(D679<>\"\",Data!B680,\"\")","v":""},"",{"$f":"IF(AND(Data!E680<>\"\",Data!E680 > 0),Data!E680,\"\")","v":""}]
[{"$f":"IF(D680<>\"\",Data!A681,\"\")","v":""},{"$f":"IF(D680<>\"\",Data!B681,\"\")","v":""},"",{"$f":"IF(AND(Data!E681<>\"\",Data!E681 > 0),Data!E681,\"\")","v":""}]
[{"$f":"IF(D681<>\"\",Data!A682,\"\")","v":""},{"$f":"IF(D681<>\"\",Data!B682,\"\")","v":""},"",{"$f":"IF(AND(Data!E682<>\"\",Data!E682 > 0),Data!E682,\"\")","v":""}]
[{"$f":"IF(D682<>\"\",Data!A683,\"\")","v":""},{"$f":"IF(D682<>\"\",Data!B683,\"\")","v":""},"",{"$f":"IF(AND(Data!E683<>\"\",Data!E683 > 0),Data!E683,\"\")","v":""}]
[{"$f":"IF(D683<>\"\",Data!A684,\"\")","v":""},{"$f":"IF(D683<>\"\",Data!B684,\"\")","v":""},"",{"$f":"IF(AND(Data!E684<>\"\",Data!E684 > 0),Data!E684,\"\")","v":""}]
[{"$f":"IF(D684<>\"\",Data!A685,\"\")","v":""},{"$f":"IF(D684<>\"\",Data!B685,\"\")","v":""},"",{"$f":"IF(AND(Data!E685<>\"\",Data!E685 > 0),Data!E685,\"\")","v":""}]
[{"$f":"IF(D685<>\"\",Data!A686,\"\")","v":""},{"$f":"IF(D685<>\"\",Data!B686,\"\")","v":""},"",{"$f":"IF(AND(Data!E686<>\"\",Data!E686 > 0),Data!E686,\"\")","v":""}]
[{"$f":"IF(D686<>\"\",Data!A687,\"\")","v":""},{"$f":"IF(D686<>\"\",Data!B687,\"\")","v":""},"",{"$f":"IF(AND(Data!E687<>\"\",Data!E687 > 0),Data!E687,\"\")","v":""}]
[{"$f":"IF(D687<>\"\",Data!A688,\"\")","v":""},{"$f":"IF(D687<>\"\",Data!B688,\"\")","v":""},"",{"$f":"IF(AND(Data!E688<>\"\",Data!E688 > 0),Data!E688,\"\")","v":""}]
[{"$f":"IF(D688<>\"\",Data!A689,\"\")","v":""},{"$f":"IF(D688<>\"\",Data!B689,\"\")","v":""},"",{"$f":"IF(AND(Data!E689<>\"\",Data!E689 > 0),Data!E689,\"\")","v":""}]
[{"$f":"IF(D689<>\"\",Data!A690,\"\")","v":""},{"$f":"IF(D689<>\"\",Data!B690,\"\")","v":""},"",{"$f":"IF(AND(Data!E690<>\"\",Data!E690 > 0),Data!E690,\"\")","v":""}]
[{"$f":"IF(D690<>\"\",Data!A691,\"\")","v":""},{"$f":"IF(D690<>\"\",Data!B691,\"\")","v":""},"",{"$f":"IF(AND(Data!E691<>\"\",Data!E691 > 0),Data!E691,\"\")","v":""}]
[{"$f":"IF(D691<>\"\",Data!A692,\"\")","v":""},{"$f":"IF(D691<>\"\",Data!B692,\"\")","v":""},"",{"$f":"IF(AND(Data!E692<>\"\",Data!E692 > 0),Data!E692,\"\")","v":""}]
[{"$f":"IF(D692<>\"\",Data!A693,\"\")","v":""},{"$f":"IF(D692<>\"\",Data!B693,\"\")","v":""},"",{"$f":"IF(AND(Data!E693<>\"\",Data!E693 > 0),Data!E693,\"\")","v":""}]
[{"$f":"IF(D693<>\"\",Data!A694,\"\")","v":""},{"$f":"IF(D693<>\"\",Data!B694,\"\")","v":""},"",{"$f":"IF(AND(Data!E694<>\"\",Data!E694 > 0),Data!E694,\"\")","v":""}]
[{"$f":"IF(D694<>\"\",Data!A695,\"\")","v":""},{"$f":"IF(D694<>\"\",Data!B695,\"\")","v":""},"",{"$f":"IF(AND(Data!E695<>\"\",Data!E695 > 0),Data!E695,\"\")","v":""}]
[{"$f":"IF(D695<>\"\",Data!A696,\"\")","v":""},{"$f":"IF(D695<>\"\",Data!B696,\"\")","v":""},"",{"$f":"IF(AND(Data!E696<>\"\",Data!E696 > 0),Data!E696,\"\")","v":""}]
[{"$f":"IF(D696<>\"\",Data!A697,\"\")","v":""},{"$f":"IF(D696<>\"\",Data!B697,\"\")","v":""},"",{"$f":"IF(AND(Data!E697<>\"\",Data!E697 > 0),Data!E697,\"\")","v":""}]
[{"$f":"IF(D697<>\"\",Data!A698,\"\")","v":""},{"$f":"IF(D697<>\"\",Data!B698,\"\")","v":""},"",{"$f":"IF(AND(Data!E698<>\"\",Data!E698 > 0),Data!E698,\"\")","v":""}]
[{"$f":"IF(D698<>\"\",Data!A699,\"\")","v":""},{"$f":"IF(D698<>\"\",Data!B699,\"\")","v":""},"",{"$f":"IF(AND(Data!E699<>\"\",Data!E699 > 0),Data!E699,\"\")","v":""}]
[{"$f":"IF(D699<>\"\",Data!A700,\"\")","v":""},{"$f":"IF(D699<>\"\",Data!B700,\"\")","v":""},"",{"$f":"IF(AND(Data!E700<>\"\",Data!E700 > 0),Data!E700,\"\")","v":""}]
[{"$f":"IF(D700<>\"\",Data!A701,\"\")","v":""},{"$f":"IF(D700<>\"\",Data!B701,\"\")","v":""},"",{"$f":"IF(AND(Data!E701<>\"\",Data!E701 > 0),Data!E701,\"\")","v":""}]
[{"$f":"IF(D701<>\"\",Data!A702,\"\")","v":""},{"$f":"IF(D701<>\"\",Data!B702,\"\")","v":""},"",{"$f":"IF(AND(Data!E702<>\"\",Data!E702 > 0),Data!E702,\"\")","v":""}]
[{"$f":"IF(D702<>\"\",Data!A703,\"\")","v":""},{"$f":"IF(D702<>\"\",Data!B703,\"\")","v":""},"",{"$f":"IF(AND(Data!E703<>\"\",Data!E703 > 0),Data!E703,\"\")","v":""}]
[{"$f":"IF(D703<>\"\",Data!A704,\"\")","v":""},{"$f":"IF(D703<>\"\",Data!B704,\"\")","v":""},"",{"$f":"IF(AND(Data!E704<>\"\",Data!E704 > 0),Data!E704,\"\")","v":""}]
[{"$f":"IF(D704<>\"\",Data!A705,\"\")","v":""},{"$f":"IF(D704<>\"\",Data!B705,\"\")","v":""},"",{"$f":"IF(AND(Data!E705<>\"\",Data!E705 > 0),Data!E705,\"\")","v":""}]
[{"$f":"IF(D705<>\"\",Data!A706,\"\")","v":""},{"$f":"IF(D705<>\"\",Data!B706,\"\")","v":""},"",{"$f":"IF(AND(Data!E706<>\"\",Data!E706 > 0),Data!E706,\"\")","v":""}]
[{"$f":"IF(D706<>\"\",Data!A707,\"\")","v":""},{"$f":"IF(D706<>\"\",Data!B707,\"\")","v":""},{"$f":"IF(D706<>\"\",MID(CELL(\"filename\",B706),FIND(\"]\",CELL(\"filename\",B706))+1,32),\"\")","v":""},{"$f":"IF(AND(Data!E707<>\"\",Data!E707 > 0),Data!E707,\"\")","v":""}]
[{"$f":"IF(D707<>\"\",Data!A708,\"\")","v":""},{"$f":"IF(D707<>\"\",Data!B708,\"\")","v":""},"",{"$f":"IF(AND(Data!E708<>\"\",Data!E708 > 0),Data!E708,\"\")","v":""}]
[{"$f":"IF(D708<>\"\",Data!A709,\"\")","v":""},{"$f":"IF(D708<>\"\",Data!B709,\"\")","v":""},"",{"$f":"IF(AND(Data!E709<>\"\",Data!E709 > 0),Data!E709,\"\")","v":""}]
[{"$f":"IF(D709<>\"\",Data!A710,\"\")","v":""},{"$f":"IF(D709<>\"\",Data!B710,\"\")","v":""},"",{"$f":"IF(AND(Data!E710<>\"\",Data!E710 > 0),Data!E710,\"\")","v":""}]
[{"$f":"IF(D710<>\"\",Data!A711,\"\")","v":""},{"$f":"IF(D710<>\"\",Data!B711,\"\")","v":""},"",{"$f":"IF(AND(Data!E711<>\"\",Data!E711 > 0),Data!E711,\"\")","v":""}]
[{"$f":"IF(D711<>\"\",Data!A712,\"\")","v":""},{"$f":"IF(D711<>\"\",Data!B712,\"\")","v":""},"",{"$f":"IF(AND(Data!E712<>\"\",Data!E712 > 0),Data!E712,\"\")","v":""}]
[{"$f":"IF(D712<>\"\",Data!A713,\"\")","v":""},{"$f":"IF(D712<>\"\",Data!B713,\"\")","v":""},"",{"$f":"IF(AND(Data!E713<>\"\",Data!E713 > 0),Data!E713,\"\")","v":""}]
[{"$f":"IF(D713<>\"\",Data!A714,\"\")","v":""},{"$f":"IF(D713<>\"\",Data!B714,\"\")","v":""},"",{"$f":"IF(AND(Data!E714<>\"\",Data!E714 > 0),Data!E714,\"\")","v":""}]
[{"$f":"IF(D714<>\"\",Data!A715,\"\")","v":""},{"$f":"IF(D714<>\"\",Data!B715,\"\")","v":""},"",{"$f":"IF(AND(Data!E715<>\"\",Data!E715 > 0),Data!E715,\"\")","v":""}]
[{"$f":"IF(D715<>\"\",Data!A716,\"\")","v":""},{"$f":"IF(D715<>\"\",Data!B716,\"\")","v":""},"",{"$f":"IF(AND(Data!E716<>\"\",Data!E716 > 0),Data!E716,\"\")","v":""}]
[{"$f":"IF(D716<>\"\",Data!A717,\"\")","v":""},{"$f":"IF(D716<>\"\",Data!B717,\"\")","v":""},"",{"$f":"IF(AND(Data!E717<>\"\",Data!E717 > 0),Data!E717,\"\")","v":""}]
[{"$f":"IF(D717<>\"\",Data!A718,\"\")","v":""},{"$f":"IF(D717<>\"\",Data!B718,\"\")","v":""},"",{"$f":"IF(AND(Data!E718<>\"\",Data!E718 > 0),Data!E718,\"\")","v":""}]
[{"$f":"IF(D718<>\"\",Data!A719,\"\")","v":""},{"$f":"IF(D718<>\"\",Data!B719,\"\")","v":""},"",{"$f":"IF(AND(Data!E719<>\"\",Data!E719 > 0),Data!E719,\"\")","v":""}]
[{"$f":"IF(D719<>\"\",Data!A720,\"\")","v":""},{"$f":"IF(D719<>\"\",Data!B720,\"\")","v":""},"",{"$f":"IF(AND(Data!E720<>\"\",Data!E720 > 0),Data!E720,\"\")","v":""}]
[{"$f":"IF(D720<>\"\",Data!A721,\"\")","v":""},{"$f":"IF(D720<>\"\",Data!B721,\"\")","v":""},"",{"$f":"IF(AND(Data!E721<>\"\",Data!E721 > 0),Data!E721,\"\")","v":""}]
[{"$f":"IF(D721<>\"\",Data!A722,\"\")","v":""},{"$f":"IF(D721<>\"\",Data!B722,\"\")","v":""},"",{"$f":"IF(AND(Data!E722<>\"\",Data!E722 > 0),Data!E722,\"\")","v":""}]
[{"$f":"IF(D722<>\"\",Data!A723,\"\")","v":""},{"$f":"IF(D722<>\"\",Data!B723,\"\")","v":""},"",{"$f":"IF(AND(Data!E723<>\"\",Data!E723 > 0),Data!E723,\"\")","v":""}]
[{"$f":"IF(D723<>\"\",Data!A724,\"\")","v":""},{"$f":"IF(D723<>\"\",Data!B724,\"\")","v":""},"",{"$f":"IF(AND(Data!E724<>\"\",Data!E724 > 0),Data!E724,\"\")","v":""}]
[{"$f":"IF(D724<>\"\",Data!A725,\"\")","v":""},{"$f":"IF(D724<>\"\",Data!B725,\"\")","v":""},"",{"$f":"IF(AND(Data!E725<>\"\",Data!E725 > 0),Data!E725,\"\")","v":""}]
[{"$f":"IF(D725<>\"\",Data!A726,\"\")","v":""},{"$f":"IF(D725<>\"\",Data!B726,\"\")","v":""},"",{"$f":"IF(AND(Data!E726<>\"\",Data!E726 > 0),Data!E726,\"\")","v":""}]
[{"$f":"IF(D726<>\"\",Data!A727,\"\")","v":""},{"$f":"IF(D726<>\"\",Data!B727,\"\")","v":""},"",{"$f":"IF(AND(Data!E727<>\"\",Data!E727 > 0),Data!E727,\"\")","v":""}]
[{"$f":"IF(D727<>\"\",Data!A728,\"\")","v":""},{"$f":"IF(D727<>\"\",Data!B728,\"\")","v":""},"",{"$f":"IF(AND(Data!E728<>\"\",Data!E728 > 0),Data!E728,\"\")","v":""}]
[{"$f":"IF(D728<>\"\",Data!A729,\"\")","v":""},{"$f":"IF(D728<>\"\",Data!B729,\"\")","v":""},"",{"$f":"IF(AND(Data!E729<>\"\",Data!E729 > 0),Data!E729,\"\")","v":""}]
[{"$f":"IF(D729<>\"\",Data!A730,\"\")","v":""},{"$f":"IF(D729<>\"\",Data!B730,\"\")","v":""},"",{"$f":"IF(AND(Data!E730<>\"\",Data!E730 > 0),Data!E730,\"\")","v":""}]
[{"$f":"IF(D730<>\"\",Data!A731,\"\")","v":""},{"$f":"IF(D730<>\"\",Data!B731,\"\")","v":""},"",{"$f":"IF(AND(Data!E731<>\"\",Data!E731 > 0),Data!E731,\"\")","v":""}]
[{"$f":"IF(D731<>\"\",Data!A732,\"\")","v":""},{"$f":"IF(D731<>\"\",Data!B732,\"\")","v":""},"",{"$f":"IF(AND(Data!E732<>\"\",Data!E732 > 0),Data!E732,\"\")","v":""}]
[{"$f":"IF(D732<>\"\",Data!A733,\"\")","v":""},{"$f":"IF(D732<>\"\",Data!B733,\"\")","v":""},"",{"$f":"IF(AND(Data!E733<>\"\",Data!E733 > 0),Data!E733,\"\")","v":""}]
[{"$f":"IF(D733<>\"\",Data!A734,\"\")","v":""},{"$f":"IF(D733<>\"\",Data!B734,\"\")","v":""},"",{"$f":"IF(AND(Data!E734<>\"\",Data!E734 > 0),Data!E734,\"\")","v":""}]
[{"$f":"IF(D734<>\"\",Data!A735,\"\")","v":""},{"$f":"IF(D734<>\"\",Data!B735,\"\")","v":""},"",{"$f":"IF(AND(Data!E735<>\"\",Data!E735 > 0),Data!E735,\"\")","v":""}]
[{"$f":"IF(D735<>\"\",Data!A736,\"\")","v":""},{"$f":"IF(D735<>\"\",Data!B736,\"\")","v":""},"",{"$f":"IF(AND(Data!E736<>\"\",Data!E736 > 0),Data!E736,\"\")","v":""}]
[{"$f":"IF(D736<>\"\",Data!A737,\"\")","v":""},{"$f":"IF(D736<>\"\",Data!B737,\"\")","v":""},"",{"$f":"IF(AND(Data!E737<>\"\",Data!E737 > 0),Data!E737,\"\")","v":""}]
[{"$f":"IF(D737<>\"\",Data!A738,\"\")","v":""},{"$f":"IF(D737<>\"\",Data!B738,\"\")","v":""},"",{"$f":"IF(AND(Data!E738<>\"\",Data!E738 > 0),Data!E738,\"\")","v":""}]
[{"$f":"IF(D738<>\"\",Data!A739,\"\")","v":""},{"$f":"IF(D738<>\"\",Data!B739,\"\")","v":""},"",{"$f":"IF(AND(Data!E739<>\"\",Data!E739 > 0),Data!E739,\"\")","v":""}]
[{"$f":"IF(D739<>\"\",Data!A740,\"\")","v":""},{"$f":"IF(D739<>\"\",Data!B740,\"\")","v":""},"",{"$f":"IF(AND(Data!E740<>\"\",Data!E740 > 0),Data!E740,\"\")","v":""}]
[{"$f":"IF(D740<>\"\",Data!A741,\"\")","v":""},{"$f":"IF(D740<>\"\",Data!B741,\"\")","v":""},"",{"$f":"IF(AND(Data!E741<>\"\",Data!E741 > 0),Data!E741,\"\")","v":""}]
[{"$f":"IF(D741<>\"\",Data!A742,\"\")","v":""},{"$f":"IF(D741<>\"\",Data!B742,\"\")","v":""},"",{"$f":"IF(AND(Data!E742<>\"\",Data!E742 > 0),Data!E742,\"\")","v":""}]
[{"$f":"IF(D742<>\"\",Data!A743,\"\")","v":""},{"$f":"IF(D742<>\"\",Data!B743,\"\")","v":""},"",{"$f":"IF(AND(Data!E743<>\"\",Data!E743 > 0),Data!E743,\"\")","v":""}]
[{"$f":"IF(D743<>\"\",Data!A744,\"\")","v":""},{"$f":"IF(D743<>\"\",Data!B744,\"\")","v":""},"",{"$f":"IF(AND(Data!E744<>\"\",Data!E744 > 0),Data!E744,\"\")","v":""}]
[{"$f":"IF(D744<>\"\",Data!A745,\"\")","v":""},{"$f":"IF(D744<>\"\",Data!B745,\"\")","v":""},"",{"$f":"IF(AND(Data!E745<>\"\",Data!E745 > 0),Data!E745,\"\")","v":""}]
[{"$f":"IF(D745<>\"\",Data!A746,\"\")","v":""},{"$f":"IF(D745<>\"\",Data!B746,\"\")","v":""},"",{"$f":"IF(AND(Data!E746<>\"\",Data!E746 > 0),Data!E746,\"\")","v":""}]
[{"$f":"IF(D746<>\"\",Data!A747,\"\")","v":""},{"$f":"IF(D746<>\"\",Data!B747,\"\")","v":""},"",{"$f":"IF(AND(Data!E747<>\"\",Data!E747 > 0),Data!E747,\"\")","v":""}]
[{"$f":"IF(D747<>\"\",Data!A748,\"\")","v":""},{"$f":"IF(D747<>\"\",Data!B748,\"\")","v":""},"",{"$f":"IF(AND(Data!E748<>\"\",Data!E748 > 0),Data!E748,\"\")","v":""}]
[{"$f":"IF(D748<>\"\",Data!A749,\"\")","v":""},{"$f":"IF(D748<>\"\",Data!B749,\"\")","v":""},"",{"$f":"IF(AND(Data!E749<>\"\",Data!E749 > 0),Data!E749,\"\")","v":""}]
[{"$f":"IF(D749<>\"\",Data!A750,\"\")","v":""},{"$f":"IF(D749<>\"\",Data!B750,\"\")","v":""},"",{"$f":"IF(AND(Data!E750<>\"\",Data!E750 > 0),Data!E750,\"\")","v":""}]
[{"$f":"IF(D750<>\"\",Data!A751,\"\")","v":""},{"$f":"IF(D750<>\"\",Data!B751,\"\")","v":""},"",{"$f":"IF(AND(Data!E751<>\"\",Data!E751 > 0),Data!E751,\"\")","v":""}]
[{"$f":"IF(D751<>\"\",Data!A752,\"\")","v":""},{"$f":"IF(D751<>\"\",Data!B752,\"\")","v":""},"",{"$f":"IF(AND(Data!E752<>\"\",Data!E752 > 0),Data!E752,\"\")","v":""}]
[{"$f":"IF(D752<>\"\",Data!A753,\"\")","v":""},{"$f":"IF(D752<>\"\",Data!B753,\"\")","v":""},"",{"$f":"IF(AND(Data!E753<>\"\",Data!E753 > 0),Data!E753,\"\")","v":""}]
[{"$f":"IF(D753<>\"\",Data!A754,\"\")","v":""},{"$f":"IF(D753<>\"\",Data!B754,\"\")","v":""},"",{"$f":"IF(AND(Data!E754<>\"\",Data!E754 > 0),Data!E754,\"\")","v":""}]
[{"$f":"IF(D754<>\"\",Data!A755,\"\")","v":""},{"$f":"IF(D754<>\"\",Data!B755,\"\")","v":""},"",{"$f":"IF(AND(Data!E755<>\"\",Data!E755 > 0),Data!E755,\"\")","v":""}]
[{"$f":"IF(D755<>\"\",Data!A756,\"\")","v":""},{"$f":"IF(D755<>\"\",Data!B756,\"\")","v":""},"",{"$f":"IF(AND(Data!E756<>\"\",Data!E756 > 0),Data!E756,\"\")","v":""}]
[{"$f":"IF(D756<>\"\",Data!A757,\"\")","v":""},{"$f":"IF(D756<>\"\",Data!B757,\"\")","v":""},"",{"$f":"IF(AND(Data!E757<>\"\",Data!E757 > 0),Data!E757,\"\")","v":""}]
[{"$f":"IF(D757<>\"\",Data!A758,\"\")","v":""},{"$f":"IF(D757<>\"\",Data!B758,\"\")","v":""},"",{"$f":"IF(AND(Data!E758<>\"\",Data!E758 > 0),Data!E758,\"\")","v":""}]
[{"$f":"IF(D758<>\"\",Data!A759,\"\")","v":""},{"$f":"IF(D758<>\"\",Data!B759,\"\")","v":""},"",{"$f":"IF(AND(Data!E759<>\"\",Data!E759 > 0),Data!E759,\"\")","v":""}]
[{"$f":"IF(D759<>\"\",Data!A760,\"\")","v":""},{"$f":"IF(D759<>\"\",Data!B760,\"\")","v":""},"",{"$f":"IF(AND(Data!E760<>\"\",Data!E760 > 0),Data!E760,\"\")","v":""}]
[{"$f":"IF(D760<>\"\",Data!A761,\"\")","v":""},{"$f":"IF(D760<>\"\",Data!B761,\"\")","v":""},"",{"$f":"IF(AND(Data!E761<>\"\",Data!E761 > 0),Data!E761,\"\")","v":""}]
[{"$f":"IF(D761<>\"\",Data!A762,\"\")","v":""},{"$f":"IF(D761<>\"\",Data!B762,\"\")","v":""},"",{"$f":"IF(AND(Data!E762<>\"\",Data!E762 > 0),Data!E762,\"\")","v":""}]
[{"$f":"IF(D762<>\"\",Data!A763,\"\")","v":""},{"$f":"IF(D762<>\"\",Data!B763,\"\")","v":""},"",{"$f":"IF(AND(Data!E763<>\"\",Data!E763 > 0),Data!E763,\"\")","v":""}]
[{"$f":"IF(D763<>\"\",Data!A764,\"\")","v":""},{"$f":"IF(D763<>\"\",Data!B764,\"\")","v":""},"",{"$f":"IF(AND(Data!E764<>\"\",Data!E764 > 0),Data!E764,\"\")","v":""}]
[{"$f":"IF(D764<>\"\",Data!A765,\"\")","v":""},{"$f":"IF(D764<>\"\",Data!B765,\"\")","v":""},"",{"$f":"IF(AND(Data!E765<>\"\",Data!E765 > 0),Data!E765,\"\")","v":""}]
[{"$f":"IF(D765<>\"\",Data!A766,\"\")","v":""},{"$f":"IF(D765<>\"\",Data!B766,\"\")","v":""},"",{"$f":"IF(AND(Data!E766<>\"\",Data!E766 > 0),Data!E766,\"\")","v":""}]
[{"$f":"IF(D766<>\"\",Data!A767,\"\")","v":""},{"$f":"IF(D766<>\"\",Data!B767,\"\")","v":""},"",{"$f":"IF(AND(Data!E767<>\"\",Data!E767 > 0),Data!E767,\"\")","v":""}]
[{"$f":"IF(D767<>\"\",Data!A768,\"\")","v":""},{"$f":"IF(D767<>\"\",Data!B768,\"\")","v":""},"",{"$f":"IF(AND(Data!E768<>\"\",Data!E768 > 0),Data!E768,\"\")","v":""}]
[{"$f":"IF(D768<>\"\",Data!A769,\"\")","v":""},{"$f":"IF(D768<>\"\",Data!B769,\"\")","v":""},"",{"$f":"IF(AND(Data!E769<>\"\",Data!E769 > 0),Data!E769,\"\")","v":""}]
[{"$f":"IF(D769<>\"\",Data!A770,\"\")","v":""},{"$f":"IF(D769<>\"\",Data!B770,\"\")","v":""},"",{"$f":"IF(AND(Data!E770<>\"\",Data!E770 > 0),Data!E770,\"\")","v":""}]
[{"$f":"IF(D770<>\"\",Data!A771,\"\")","v":""},{"$f":"IF(D770<>\"\",Data!B771,\"\")","v":""},{"$f":"IF(D770<>\"\",MID(CELL(\"filename\",B770),FIND(\"]\",CELL(\"filename\",B770))+1,32),\"\")","v":""},{"$f":"IF(AND(Data!E771<>\"\",Data!E771 > 0),Data!E771,\"\")","v":""}]
[{"$f":"IF(D771<>\"\",Data!A772,\"\")","v":""},{"$f":"IF(D771<>\"\",Data!B772,\"\")","v":""},"",{"$f":"IF(AND(Data!E772<>\"\",Data!E772 > 0),Data!E772,\"\")","v":""}]
[{"$f":"IF(D772<>\"\",Data!A773,\"\")","v":""},{"$f":"IF(D772<>\"\",Data!B773,\"\")","v":""},"",{"$f":"IF(AND(Data!E773<>\"\",Data!E773 > 0),Data!E773,\"\")","v":""}]
[{"$f":"IF(D773<>\"\",Data!A774,\"\")","v":""},{"$f":"IF(D773<>\"\",Data!B774,\"\")","v":""},"",{"$f":"IF(AND(Data!E774<>\"\",Data!E774 > 0),Data!E774,\"\")","v":""}]
[{"$f":"IF(D774<>\"\",Data!A775,\"\")","v":""},{"$f":"IF(D774<>\"\",Data!B775,\"\")","v":""},"",{"$f":"IF(AND(Data!E775<>\"\",Data!E775 > 0),Data!E775,\"\")","v":""}]
[{"$f":"IF(D775<>\"\",Data!A776,\"\")","v":""},{"$f":"IF(D775<>\"\",Data!B776,\"\")","v":""},"",{"$f":"IF(AND(Data!E776<>\"\",Data!E776 > 0),Data!E776,\"\")","v":""}]
[{"$f":"IF(D776<>\"\",Data!A777,\"\")","v":""},{"$f":"IF(D776<>\"\",Data!B777,\"\")","v":""},"",{"$f":"IF(AND(Data!E777<>\"\",Data!E777 > 0),Data!E777,\"\")","v":""}]
[{"$f":"IF(D777<>\"\",Data!A778,\"\")","v":""},{"$f":"IF(D777<>\"\",Data!B778,\"\")","v":""},"",{"$f":"IF(AND(Data!E778<>\"\",Data!E778 > 0),Data!E778,\"\")","v":""}]
[{"$f":"IF(D778<>\"\",Data!A779,\"\")","v":""},{"$f":"IF(D778<>\"\",Data!B779,\"\")","v":""},"",{"$f":"IF(AND(Data!E779<>\"\",Data!E779 > 0),Data!E779,\"\")","v":""}]
[{"$f":"IF(D779<>\"\",Data!A780,\"\")","v":""},{"$f":"IF(D779<>\"\",Data!B780,\"\")","v":""},"",{"$f":"IF(AND(Data!E780<>\"\",Data!E780 > 0),Data!E780,\"\")","v":""}]
[{"$f":"IF(D780<>\"\",Data!A781,\"\")","v":""},{"$f":"IF(D780<>\"\",Data!B781,\"\")","v":""},"",{"$f":"IF(AND(Data!E781<>\"\",Data!E781 > 0),Data!E781,\"\")","v":""}]
[{"$f":"IF(D781<>\"\",Data!A782,\"\")","v":""},{"$f":"IF(D781<>\"\",Data!B782,\"\")","v":""},"",{"$f":"IF(AND(Data!E782<>\"\",Data!E782 > 0),Data!E782,\"\")","v":""}]
[{"$f":"IF(D782<>\"\",Data!A783,\"\")","v":""},{"$f":"IF(D782<>\"\",Data!B783,\"\")","v":""},"",{"$f":"IF(AND(Data!E783<>\"\",Data!E783 > 0),Data!E783,\"\")","v":""}]
[{"$f":"IF(D783<>\"\",Data!A784,\"\")","v":""},{"$f":"IF(D783<>\"\",Data!B784,\"\")","v":""},"",{"$f":"IF(AND(Data!E784<>\"\",Data!E784 > 0),Data!E784,\"\")","v":""}]
[{"$f":"IF(D784<>\"\",Data!A785,\"\")","v":""},{"$f":"IF(D784<>\"\",Data!B785,\"\")","v":""},"",{"$f":"IF(AND(Data!E785<>\"\",Data!E785 > 0),Data!E785,\"\")","v":""}]
[{"$f":"IF(D785<>\"\",Data!A786,\"\")","v":""},{"$f":"IF(D785<>\"\",Data!B786,\"\")","v":""},"",{"$f":"IF(AND(Data!E786<>\"\",Data!E786 > 0),Data!E786,\"\")","v":""}]
[{"$f":"IF(D786<>\"\",Data!A787,\"\")","v":""},{"$f":"IF(D786<>\"\",Data!B787,\"\")","v":""},"",{"$f":"IF(AND(Data!E787<>\"\",Data!E787 > 0),Data!E787,\"\")","v":""}]
[{"$f":"IF(D787<>\"\",Data!A788,\"\")","v":""},{"$f":"IF(D787<>\"\",Data!B788,\"\")","v":""},"",{"$f":"IF(AND(Data!E788<>\"\",Data!E788 > 0),Data!E788,\"\")","v":""}]
[{"$f":"IF(D788<>\"\",Data!A789,\"\")","v":""},{"$f":"IF(D788<>\"\",Data!B789,\"\")","v":""},"",{"$f":"IF(AND(Data!E789<>\"\",Data!E789 > 0),Data!E789,\"\")","v":""}]
[{"$f":"IF(D789<>\"\",Data!A790,\"\")","v":""},{"$f":"IF(D789<>\"\",Data!B790,\"\")","v":""},"",{"$f":"IF(AND(Data!E790<>\"\",Data!E790 > 0),Data!E790,\"\")","v":""}]
[{"$f":"IF(D790<>\"\",Data!A791,\"\")","v":""},{"$f":"IF(D790<>\"\",Data!B791,\"\")","v":""},"",{"$f":"IF(AND(Data!E791<>\"\",Data!E791 > 0),Data!E791,\"\")","v":""}]
[{"$f":"IF(D791<>\"\",Data!A792,\"\")","v":""},{"$f":"IF(D791<>\"\",Data!B792,\"\")","v":""},"",{"$f":"IF(AND(Data!E792<>\"\",Data!E792 > 0),Data!E792,\"\")","v":""}]
[{"$f":"IF(D792<>\"\",Data!A793,\"\")","v":""},{"$f":"IF(D792<>\"\",Data!B793,\"\")","v":""},"",{"$f":"IF(AND(Data!E793<>\"\",Data!E793 > 0),Data!E793,\"\")","v":""}]
[{"$f":"IF(D793<>\"\",Data!A794,\"\")","v":""},{"$f":"IF(D793<>\"\",Data!B794,\"\")","v":""},"",{"$f":"IF(AND(Data!E794<>\"\",Data!E794 > 0),Data!E794,\"\")","v":""}]
[{"$f":"IF(D794<>\"\",Data!A795,\"\")","v":""},{"$f":"IF(D794<>\"\",Data!B795,\"\")","v":""},"",{"$f":"IF(AND(Data!E795<>\"\",Data!E795 > 0),Data!E795,\"\")","v":""}]
[{"$f":"IF(D795<>\"\",Data!A796,\"\")","v":""},{"$f":"IF(D795<>\"\",Data!B796,\"\")","v":""},"",{"$f":"IF(AND(Data!E796<>\"\",Data!E796 > 0),Data!E796,\"\")","v":""}]
[{"$f":"IF(D796<>\"\",Data!A797,\"\")","v":""},{"$f":"IF(D796<>\"\",Data!B797,\"\")","v":""},"",{"$f":"IF(AND(Data!E797<>\"\",Data!E797 > 0),Data!E797,\"\")","v":""}]
[{"$f":"IF(D797<>\"\",Data!A798,\"\")","v":""},{"$f":"IF(D797<>\"\",Data!B798,\"\")","v":""},"",{"$f":"IF(AND(Data!E798<>\"\",Data!E798 > 0),Data!E798,\"\")","v":""}]
[{"$f":"IF(D798<>\"\",Data!A799,\"\")","v":""},{"$f":"IF(D798<>\"\",Data!B799,\"\")","v":""},"",{"$f":"IF(AND(Data!E799<>\"\",Data!E799 > 0),Data!E799,\"\")","v":""}]
[{"$f":"IF(D799<>\"\",Data!A800,\"\")","v":""},{"$f":"IF(D799<>\"\",Data!B800,\"\")","v":""},"",{"$f":"IF(AND(Data!E800<>\"\",Data!E800 > 0),Data!E800,\"\")","v":""}]
[{"$f":"IF(D800<>\"\",Data!A801,\"\")","v":""},{"$f":"IF(D800<>\"\",Data!B801,\"\")","v":""},"",{"$f":"IF(AND(Data!E801<>\"\",Data!E801 > 0),Data!E801,\"\")","v":""}]
[{"$f":"IF(D801<>\"\",Data!A802,\"\")","v":""},{"$f":"IF(D801<>\"\",Data!B802,\"\")","v":""},"",{"$f":"IF(AND(Data!E802<>\"\",Data!E802 > 0),Data!E802,\"\")","v":""}]
[{"$f":"IF(D802<>\"\",Data!A803,\"\")","v":""},{"$f":"IF(D802<>\"\",Data!B803,\"\")","v":""},"",{"$f":"IF(AND(Data!E803<>\"\",Data!E803 > 0),Data!E803,\"\")","v":""}]
[{"$f":"IF(D803<>\"\",Data!A804,\"\")","v":""},{"$f":"IF(D803<>\"\",Data!B804,\"\")","v":""},"",{"$f":"IF(AND(Data!E804<>\"\",Data!E804 > 0),Data!E804,\"\")","v":""}]
[{"$f":"IF(D804<>\"\",Data!A805,\"\")","v":""},{"$f":"IF(D804<>\"\",Data!B805,\"\")","v":""},"",{"$f":"IF(AND(Data!E805<>\"\",Data!E805 > 0),Data!E805,\"\")","v":""}]
[{"$f":"IF(D805<>\"\",Data!A806,\"\")","v":""},{"$f":"IF(D805<>\"\",Data!B806,\"\")","v":""},"",{"$f":"IF(AND(Data!E806<>\"\",Data!E806 > 0),Data!E806,\"\")","v":""}]
[{"$f":"IF(D806<>\"\",Data!A807,\"\")","v":""},{"$f":"IF(D806<>\"\",Data!B807,\"\")","v":""},"",{"$f":"IF(AND(Data!E807<>\"\",Data!E807 > 0),Data!E807,\"\")","v":""}]
[{"$f":"IF(D807<>\"\",Data!A808,\"\")","v":""},{"$f":"IF(D807<>\"\",Data!B808,\"\")","v":""},"",{"$f":"IF(AND(Data!E808<>\"\",Data!E808 > 0),Data!E808,\"\")","v":""}]
[{"$f":"IF(D808<>\"\",Data!A809,\"\")","v":""},{"$f":"IF(D808<>\"\",Data!B809,\"\")","v":""},"",{"$f":"IF(AND(Data!E809<>\"\",Data!E809 > 0),Data!E809,\"\")","v":""}]
[{"$f":"IF(D809<>\"\",Data!A810,\"\")","v":""},{"$f":"IF(D809<>\"\",Data!B810,\"\")","v":""},"",{"$f":"IF(AND(Data!E810<>\"\",Data!E810 > 0),Data!E810,\"\")","v":""}]
[{"$f":"IF(D810<>\"\",Data!A811,\"\")","v":""},{"$f":"IF(D810<>\"\",Data!B811,\"\")","v":""},"",{"$f":"IF(AND(Data!E811<>\"\",Data!E811 > 0),Data!E811,\"\")","v":""}]
[{"$f":"IF(D811<>\"\",Data!A812,\"\")","v":""},{"$f":"IF(D811<>\"\",Data!B812,\"\")","v":""},"",{"$f":"IF(AND(Data!E812<>\"\",Data!E812 > 0),Data!E812,\"\")","v":""}]
[{"$f":"IF(D812<>\"\",Data!A813,\"\")","v":""},{"$f":"IF(D812<>\"\",Data!B813,\"\")","v":""},"",{"$f":"IF(AND(Data!E813<>\"\",Data!E813 > 0),Data!E813,\"\")","v":""}]
[{"$f":"IF(D813<>\"\",Data!A814,\"\")","v":""},{"$f":"IF(D813<>\"\",Data!B814,\"\")","v":""},"",{"$f":"IF(AND(Data!E814<>\"\",Data!E814 > 0),Data!E814,\"\")","v":""}]
[{"$f":"IF(D814<>\"\",Data!A815,\"\")","v":""},{"$f":"IF(D814<>\"\",Data!B815,\"\")","v":""},"",{"$f":"IF(AND(Data!E815<>\"\",Data!E815 > 0),Data!E815,\"\")","v":""}]
[{"$f":"IF(D815<>\"\",Data!A816,\"\")","v":""},{"$f":"IF(D815<>\"\",Data!B816,\"\")","v":""},"",{"$f":"IF(AND(Data!E816<>\"\",Data!E816 > 0),Data!E816,\"\")","v":""}]
[{"$f":"IF(D816<>\"\",Data!A817,\"\")","v":""},{"$f":"IF(D816<>\"\",Data!B817,\"\")","v":""},"",{"$f":"IF(AND(Data!E817<>\"\",Data!E817 > 0),Data!E817,\"\")","v":""}]
[{"$f":"IF(D817<>\"\",Data!A818,\"\")","v":""},{"$f":"IF(D817<>\"\",Data!B818,\"\")","v":""},"",{"$f":"IF(AND(Data!E818<>\"\",Data!E818 > 0),Data!E818,\"\")","v":""}]
[{"$f":"IF(D818<>\"\",Data!A819,\"\")","v":""},{"$f":"IF(D818<>\"\",Data!B819,\"\")","v":""},"",{"$f":"IF(AND(Data!E819<>\"\",Data!E819 > 0),Data!E819,\"\")","v":""}]
[{"$f":"IF(D819<>\"\",Data!A820,\"\")","v":""},{"$f":"IF(D819<>\"\",Data!B820,\"\")","v":""},"",{"$f":"IF(AND(Data!E820<>\"\",Data!E820 > 0),Data!E820,\"\")","v":""}]
[{"$f":"IF(D820<>\"\",Data!A821,\"\")","v":""},{"$f":"IF(D820<>\"\",Data!B821,\"\")","v":""},"",{"$f":"IF(AND(Data!E821<>\"\",Data!E821 > 0),Data!E821,\"\")","v":""}]
[{"$f":"IF(D821<>\"\",Data!A822,\"\")","v":""},{"$f":"IF(D821<>\"\",Data!B822,\"\")","v":""},"",{"$f":"IF(AND(Data!E822<>\"\",Data!E822 > 0),Data!E822,\"\")","v":""}]
[{"$f":"IF(D822<>\"\",Data!A823,\"\")","v":""},{"$f":"IF(D822<>\"\",Data!B823,\"\")","v":""},"",{"$f":"IF(AND(Data!E823<>\"\",Data!E823 > 0),Data!E823,\"\")","v":""}]
[{"$f":"IF(D823<>\"\",Data!A824,\"\")","v":""},{"$f":"IF(D823<>\"\",Data!B824,\"\")","v":""},"",{"$f":"IF(AND(Data!E824<>\"\",Data!E824 > 0),Data!E824,\"\")","v":""}]
[{"$f":"IF(D824<>\"\",Data!A825,\"\")","v":""},{"$f":"IF(D824<>\"\",Data!B825,\"\")","v":""},"",{"$f":"IF(AND(Data!E825<>\"\",Data!E825 > 0),Data!E825,\"\")","v":""}]
[{"$f":"IF(D825<>\"\",Data!A826,\"\")","v":""},{"$f":"IF(D825<>\"\",Data!B826,\"\")","v":""},"",{"$f":"IF(AND(Data!E826<>\"\",Data!E826 > 0),Data!E826,\"\")","v":""}]
[{"$f":"IF(D826<>\"\",Data!A827,\"\")","v":""},{"$f":"IF(D826<>\"\",Data!B827,\"\")","v":""},"",{"$f":"IF(AND(Data!E827<>\"\",Data!E827 > 0),Data!E827,\"\")","v":""}]
[{"$f":"IF(D827<>\"\",Data!A828,\"\")","v":""},{"$f":"IF(D827<>\"\",Data!B828,\"\")","v":""},"",{"$f":"IF(AND(Data!E828<>\"\",Data!E828 > 0),Data!E828,\"\")","v":""}]
[{"$f":"IF(D828<>\"\",Data!A829,\"\")","v":""},{"$f":"IF(D828<>\"\",Data!B829,\"\")","v":""},"",{"$f":"IF(AND(Data!E829<>\"\",Data!E829 > 0),Data!E829,\"\")","v":""}]
[{"$f":"IF(D829<>\"\",Data!A830,\"\")","v":""},{"$f":"IF(D829<>\"\",Data!B830,\"\")","v":""},"",{"$f":"IF(AND(Data!E830<>\"\",Data!E830 > 0),Data!E830,\"\")","v":""}]
[{"$f":"IF(D830<>\"\",Data!A831,\"\")","v":""},{"$f":"IF(D830<>\"\",Data!B831,\"\")","v":""},"",{"$f":"IF(AND(Data!E831<>\"\",Data!E831 > 0),Data!E831,\"\")","v":""}]
[{"$f":"IF(D831<>\"\",Data!A832,\"\")","v":""},{"$f":"IF(D831<>\"\",Data!B832,\"\")","v":""},"",{"$f":"IF(AND(Data!E832<>\"\",Data!E832 > 0),Data!E832,\"\")","v":""}]
[{"$f":"IF(D832<>\"\",Data!A833,\"\")","v":""},{"$f":"IF(D832<>\"\",Data!B833,\"\")","v":""},"",{"$f":"IF(AND(Data!E833<>\"\",Data!E833 > 0),Data!E833,\"\")","v":""}]
[{"$f":"IF(D833<>\"\",Data!A834,\"\")","v":""},{"$f":"IF(D833<>\"\",Data!B834,\"\")","v":""},"",{"$f":"IF(AND(Data!E834<>\"\",Data!E834 > 0),Data!E834,\"\")","v":""}]
[{"$f":"IF(D834<>\"\",Data!A835,\"\")","v":""},{"$f":"IF(D834<>\"\",Data!B835,\"\")","v":""},{"$f":"IF(D834<>\"\",MID(CELL(\"filename\",B834),FIND(\"]\",CELL(\"filename\",B834))+1,32),\"\")","v":""},{"$f":"IF(AND(Data!E835<>\"\",Data!E835 > 0),Data!E835,\"\")","v":""}]
[{"$f":"IF(D835<>\"\",Data!A836,\"\")","v":""},{"$f":"IF(D835<>\"\",Data!B836,\"\")","v":""},"",{"$f":"IF(AND(Data!E836<>\"\",Data!E836 > 0),Data!E836,\"\")","v":""}]
[{"$f":"IF(D836<>\"\",Data!A837,\"\")","v":""},{"$f":"IF(D836<>\"\",Data!B837,\"\")","v":""},"",{"$f":"IF(AND(Data!E837<>\"\",Data!E837 > 0),Data!E837,\"\")","v":""}]
[{"$f":"IF(D837<>\"\",Data!A838,\"\")","v":""},{"$f":"IF(D837<>\"\",Data!B838,\"\")","v":""},"",{"$f":"IF(AND(Data!E838<>\"\",Data!E838 > 0),Data!E838,\"\")","v":""}]
[{"$f":"IF(D838<>\"\",Data!A839,\"\")","v":""},{"$f":"IF(D838<>\"\",Data!B839,\"\")","v":""},"",{"$f":"IF(AND(Data!E839<>\"\",Data!E839 > 0),Data!E839,\"\")","v":""}]
[{"$f":"IF(D839<>\"\",Data!A840,\"\")","v":""},{"$f":"IF(D839<>\"\",Data!B840,\"\")","v":""},"",{"$f":"IF(AND(Data!E840<>\"\",Data!E840 > 0),Data!E840,\"\")","v":""}]
[{"$f":"IF(D840<>\"\",Data!A841,\"\")","v":""},{"$f":"IF(D840<>\"\",Data!B841,\"\")","v":""},"",{"$f":"IF(AND(Data!E841<>\"\",Data!E841 > 0),Data!E841,\"\")","v":""}]
[{"$f":"IF(D841<>\"\",Data!A842,\"\")","v":""},{"$f":"IF(D841<>\"\",Data!B842,\"\")","v":""},"",{"$f":"IF(AND(Data!E842<>\"\",Data!E842 > 0),Data!E842,\"\")","v":""}]
[{"$f":"IF(D842<>\"\",Data!A843,\"\")","v":""},{"$f":"IF(D842<>\"\",Data!B843,\"\")","v":""},"",{"$f":"IF(AND(Data!E843<>\"\",Data!E843 > 0),Data!E843,\"\")","v":""}]
[{"$f":"IF(D843<>\"\",Data!A844,\"\")","v":""},{"$f":"IF(D843<>\"\",Data!B844,\"\")","v":""},"",{"$f":"IF(AND(Data!E844<>\"\",Data!E844 > 0),Data!E844,\"\")","v":""}]
[{"$f":"IF(D844<>\"\",Data!A845,\"\")","v":""},{"$f":"IF(D844<>\"\",Data!B845,\"\")","v":""},"",{"$f":"IF(AND(Data!E845<>\"\",Data!E845 > 0),Data!E845,\"\")","v":""}]
[{"$f":"IF(D845<>\"\",Data!A846,\"\")","v":""},{"$f":"IF(D845<>\"\",Data!B846,\"\")","v":""},"",{"$f":"IF(AND(Data!E846<>\"\",Data!E846 > 0),Data!E846,\"\")","v":""}]
[{"$f":"IF(D846<>\"\",Data!A847,\"\")","v":""},{"$f":"IF(D846<>\"\",Data!B847,\"\")","v":""},"",{"$f":"IF(AND(Data!E847<>\"\",Data!E847 > 0),Data!E847,\"\")","v":""}]
[{"$f":"IF(D847<>\"\",Data!A848,\"\")","v":""},{"$f":"IF(D847<>\"\",Data!B848,\"\")","v":""},"",{"$f":"IF(AND(Data!E848<>\"\",Data!E848 > 0),Data!E848,\"\")","v":""}]
[{"$f":"IF(D848<>\"\",Data!A849,\"\")","v":""},{"$f":"IF(D848<>\"\",Data!B849,\"\")","v":""},"",{"$f":"IF(AND(Data!E849<>\"\",Data!E849 > 0),Data!E849,\"\")","v":""}]
[{"$f":"IF(D849<>\"\",Data!A850,\"\")","v":""},{"$f":"IF(D849<>\"\",Data!B850,\"\")","v":""},"",{"$f":"IF(AND(Data!E850<>\"\",Data!E850 > 0),Data!E850,\"\")","v":""}]
[{"$f":"IF(D850<>\"\",Data!A851,\"\")","v":""},{"$f":"IF(D850<>\"\",Data!B851,\"\")","v":""},"",{"$f":"IF(AND(Data!E851<>\"\",Data!E851 > 0),Data!E851,\"\")","v":""}]
[{"$f":"IF(D851<>\"\",Data!A852,\"\")","v":""},{"$f":"IF(D851<>\"\",Data!B852,\"\")","v":""},"",{"$f":"IF(AND(Data!E852<>\"\",Data!E852 > 0),Data!E852,\"\")","v":""}]
[{"$f":"IF(D852<>\"\",Data!A853,\"\")","v":""},{"$f":"IF(D852<>\"\",Data!B853,\"\")","v":""},"",{"$f":"IF(AND(Data!E853<>\"\",Data!E853 > 0),Data!E853,\"\")","v":""}]
[{"$f":"IF(D853<>\"\",Data!A854,\"\")","v":""},{"$f":"IF(D853<>\"\",Data!B854,\"\")","v":""},"",{"$f":"IF(AND(Data!E854<>\"\",Data!E854 > 0),Data!E854,\"\")","v":""}]
[{"$f":"IF(D854<>\"\",Data!A855,\"\")","v":""},{"$f":"IF(D854<>\"\",Data!B855,\"\")","v":""},"",{"$f":"IF(AND(Data!E855<>\"\",Data!E855 > 0),Data!E855,\"\")","v":""}]
[{"$f":"IF(D855<>\"\",Data!A856,\"\")","v":""},{"$f":"IF(D855<>\"\",Data!B856,\"\")","v":""},"",{"$f":"IF(AND(Data!E856<>\"\",Data!E856 > 0),Data!E856,\"\")","v":""}]
[{"$f":"IF(D856<>\"\",Data!A857,\"\")","v":""},{"$f":"IF(D856<>\"\",Data!B857,\"\")","v":""},"",{"$f":"IF(AND(Data!E857<>\"\",Data!E857 > 0),Data!E857,\"\")","v":""}]
[{"$f":"IF(D857<>\"\",Data!A858,\"\")","v":""},{"$f":"IF(D857<>\"\",Data!B858,\"\")","v":""},"",{"$f":"IF(AND(Data!E858<>\"\",Data!E858 > 0),Data!E858,\"\")","v":""}]
[{"$f":"IF(D858<>\"\",Data!A859,\"\")","v":""},{"$f":"IF(D858<>\"\",Data!B859,\"\")","v":""},"",{"$f":"IF(AND(Data!E859<>\"\",Data!E859 > 0),Data!E859,\"\")","v":""}]
[{"$f":"IF(D859<>\"\",Data!A860,\"\")","v":""},{"$f":"IF(D859<>\"\",Data!B860,\"\")","v":""},"",{"$f":"IF(AND(Data!E860<>\"\",Data!E860 > 0),Data!E860,\"\")","v":""}]
[{"$f":"IF(D860<>\"\",Data!A861,\"\")","v":""},{"$f":"IF(D860<>\"\",Data!B861,\"\")","v":""},"",{"$f":"IF(AND(Data!E861<>\"\",Data!E861 > 0),Data!E861,\"\")","v":""}]
[{"$f":"IF(D861<>\"\",Data!A862,\"\")","v":""},{"$f":"IF(D861<>\"\",Data!B862,\"\")","v":""},"",{"$f":"IF(AND(Data!E862<>\"\",Data!E862 > 0),Data!E862,\"\")","v":""}]
[{"$f":"IF(D862<>\"\",Data!A863,\"\")","v":""},{"$f":"IF(D862<>\"\",Data!B863,\"\")","v":""},"",{"$f":"IF(AND(Data!E863<>\"\",Data!E863 > 0),Data!E863,\"\")","v":""}]
[{"$f":"IF(D863<>\"\",Data!A864,\"\")","v":""},{"$f":"IF(D863<>\"\",Data!B864,\"\")","v":""},"",{"$f":"IF(AND(Data!E864<>\"\",Data!E864 > 0),Data!E864,\"\")","v":""}]
[{"$f":"IF(D864<>\"\",Data!A865,\"\")","v":""},{"$f":"IF(D864<>\"\",Data!B865,\"\")","v":""},"",{"$f":"IF(AND(Data!E865<>\"\",Data!E865 > 0),Data!E865,\"\")","v":""}]
[{"$f":"IF(D865<>\"\",Data!A866,\"\")","v":""},{"$f":"IF(D865<>\"\",Data!B866,\"\")","v":""},"",{"$f":"IF(AND(Data!E866<>\"\",Data!E866 > 0),Data!E866,\"\")","v":""}]
[{"$f":"IF(D866<>\"\",Data!A867,\"\")","v":""},{"$f":"IF(D866<>\"\",Data!B867,\"\")","v":""},"",{"$f":"IF(AND(Data!E867<>\"\",Data!E867 > 0),Data!E867,\"\")","v":""}]
[{"$f":"IF(D867<>\"\",Data!A868,\"\")","v":""},{"$f":"IF(D867<>\"\",Data!B868,\"\")","v":""},"",{"$f":"IF(AND(Data!E868<>\"\",Data!E868 > 0),Data!E868,\"\")","v":""}]
[{"$f":"IF(D868<>\"\",Data!A869,\"\")","v":""},{"$f":"IF(D868<>\"\",Data!B869,\"\")","v":""},"",{"$f":"IF(AND(Data!E869<>\"\",Data!E869 > 0),Data!E869,\"\")","v":""}]
[{"$f":"IF(D869<>\"\",Data!A870,\"\")","v":""},{"$f":"IF(D869<>\"\",Data!B870,\"\")","v":""},"",{"$f":"IF(AND(Data!E870<>\"\",Data!E870 > 0),Data!E870,\"\")","v":""}]
[{"$f":"IF(D870<>\"\",Data!A871,\"\")","v":""},{"$f":"IF(D870<>\"\",Data!B871,\"\")","v":""},"",{"$f":"IF(AND(Data!E871<>\"\",Data!E871 > 0),Data!E871,\"\")","v":""}]
[{"$f":"IF(D871<>\"\",Data!A872,\"\")","v":""},{"$f":"IF(D871<>\"\",Data!B872,\"\")","v":""},"",{"$f":"IF(AND(Data!E872<>\"\",Data!E872 > 0),Data!E872,\"\")","v":""}]
[{"$f":"IF(D872<>\"\",Data!A873,\"\")","v":""},{"$f":"IF(D872<>\"\",Data!B873,\"\")","v":""},"",{"$f":"IF(AND(Data!E873<>\"\",Data!E873 > 0),Data!E873,\"\")","v":""}]
[{"$f":"IF(D873<>\"\",Data!A874,\"\")","v":""},{"$f":"IF(D873<>\"\",Data!B874,\"\")","v":""},"",{"$f":"IF(AND(Data!E874<>\"\",Data!E874 > 0),Data!E874,\"\")","v":""}]
[{"$f":"IF(D874<>\"\",Data!A875,\"\")","v":""},{"$f":"IF(D874<>\"\",Data!B875,\"\")","v":""},"",{"$f":"IF(AND(Data!E875<>\"\",Data!E875 > 0),Data!E875,\"\")","v":""}]
[{"$f":"IF(D875<>\"\",Data!A876,\"\")","v":""},{"$f":"IF(D875<>\"\",Data!B876,\"\")","v":""},"",{"$f":"IF(AND(Data!E876<>\"\",Data!E876 > 0),Data!E876,\"\")","v":""}]
[{"$f":"IF(D876<>\"\",Data!A877,\"\")","v":""},{"$f":"IF(D876<>\"\",Data!B877,\"\")","v":""},"",{"$f":"IF(AND(Data!E877<>\"\",Data!E877 > 0),Data!E877,\"\")","v":""}]
[{"$f":"IF(D877<>\"\",Data!A878,\"\")","v":""},{"$f":"IF(D877<>\"\",Data!B878,\"\")","v":""},"",{"$f":"IF(AND(Data!E878<>\"\",Data!E878 > 0),Data!E878,\"\")","v":""}]
[{"$f":"IF(D878<>\"\",Data!A879,\"\")","v":""},{"$f":"IF(D878<>\"\",Data!B879,\"\")","v":""},"",{"$f":"IF(AND(Data!E879<>\"\",Data!E879 > 0),Data!E879,\"\")","v":""}]
[{"$f":"IF(D879<>\"\",Data!A880,\"\")","v":""},{"$f":"IF(D879<>\"\",Data!B880,\"\")","v":""},"",{"$f":"IF(AND(Data!E880<>\"\",Data!E880 > 0),Data!E880,\"\")","v":""}]
[{"$f":"IF(D880<>\"\",Data!A881,\"\")","v":""},{"$f":"IF(D880<>\"\",Data!B881,\"\")","v":""},"",{"$f":"IF(AND(Data!E881<>\"\",Data!E881 > 0),Data!E881,\"\")","v":""}]
[{"$f":"IF(D881<>\"\",Data!A882,\"\")","v":""},{"$f":"IF(D881<>\"\",Data!B882,\"\")","v":""},"",{"$f":"IF(AND(Data!E882<>\"\",Data!E882 > 0),Data!E882,\"\")","v":""}]
[{"$f":"IF(D882<>\"\",Data!A883,\"\")","v":""},{"$f":"IF(D882<>\"\",Data!B883,\"\")","v":""},"",{"$f":"IF(AND(Data!E883<>\"\",Data!E883 > 0),Data!E883,\"\")","v":""}]
[{"$f":"IF(D883<>\"\",Data!A884,\"\")","v":""},{"$f":"IF(D883<>\"\",Data!B884,\"\")","v":""},"",{"$f":"IF(AND(Data!E884<>\"\",Data!E884 > 0),Data!E884,\"\")","v":""}]
[{"$f":"IF(D884<>\"\",Data!A885,\"\")","v":""},{"$f":"IF(D884<>\"\",Data!B885,\"\")","v":""},"",{"$f":"IF(AND(Data!E885<>\"\",Data!E885 > 0),Data!E885,\"\")","v":""}]
[{"$f":"IF(D885<>\"\",Data!A886,\"\")","v":""},{"$f":"IF(D885<>\"\",Data!B886,\"\")","v":""},"",{"$f":"IF(AND(Data!E886<>\"\",Data!E886 > 0),Data!E886,\"\")","v":""}]
[{"$f":"IF(D886<>\"\",Data!A887,\"\")","v":""},{"$f":"IF(D886<>\"\",Data!B887,\"\")","v":""},"",{"$f":"IF(AND(Data!E887<>\"\",Data!E887 > 0),Data!E887,\"\")","v":""}]
[{"$f":"IF(D887<>\"\",Data!A888,\"\")","v":""},{"$f":"IF(D887<>\"\",Data!B888,\"\")","v":""},"",{"$f":"IF(AND(Data!E888<>\"\",Data!E888 > 0),Data!E888,\"\")","v":""}]
[{"$f":"IF(D888<>\"\",Data!A889,\"\")","v":""},{"$f":"IF(D888<>\"\",Data!B889,\"\")","v":""},"",{"$f":"IF(AND(Data!E889<>\"\",Data!E889 > 0),Data!E889,\"\")","v":""}]
[{"$f":"IF(D889<>\"\",Data!A890,\"\")","v":""},{"$f":"IF(D889<>\"\",Data!B890,\"\")","v":""},"",{"$f":"IF(AND(Data!E890<>\"\",Data!E890 > 0),Data!E890,\"\")","v":""}]
[{"$f":"IF(D890<>\"\",Data!A891,\"\")","v":""},{"$f":"IF(D890<>\"\",Data!B891,\"\")","v":""},"",{"$f":"IF(AND(Data!E891<>\"\",Data!E891 > 0),Data!E891,\"\")","v":""}]
[{"$f":"IF(D891<>\"\",Data!A892,\"\")","v":""},{"$f":"IF(D891<>\"\",Data!B892,\"\")","v":""},"",{"$f":"IF(AND(Data!E892<>\"\",Data!E892 > 0),Data!E892,\"\")","v":""}]
[{"$f":"IF(D892<>\"\",Data!A893,\"\")","v":""},{"$f":"IF(D892<>\"\",Data!B893,\"\")","v":""},"",{"$f":"IF(AND(Data!E893<>\"\",Data!E893 > 0),Data!E893,\"\")","v":""}]
[{"$f":"IF(D893<>\"\",Data!A894,\"\")","v":""},{"$f":"IF(D893<>\"\",Data!B894,\"\")","v":""},"",{"$f":"IF(AND(Data!E894<>\"\",Data!E894 > 0),Data!E894,\"\")","v":""}]
[{"$f":"IF(D894<>\"\",Data!A895,\"\")","v":""},{"$f":"IF(D894<>\"\",Data!B895,\"\")","v":""},"",{"$f":"IF(AND(Data!E895<>\"\",Data!E895 > 0),Data!E895,\"\")","v":""}]
[{"$f":"IF(D895<>\"\",Data!A896,\"\")","v":""},{"$f":"IF(D895<>\"\",Data!B896,\"\")","v":""},"",{"$f":"IF(AND(Data!E896<>\"\",Data!E896 > 0),Data!E896,\"\")","v":""}]
[{"$f":"IF(D896<>\"\",Data!A897,\"\")","v":""},{"$f":"IF(D896<>\"\",Data!B897,\"\")","v":""},"",{"$f":"IF(AND(Data!E897<>\"\",Data!E897 > 0),Data!E897,\"\")","v":""}]
[{"$f":"IF(D897<>\"\",Data!A898,\"\")","v":""},{"$f":"IF(D897<>\"\",Data!B898,\"\")","v":""},"",{"$f":"IF(AND(Data!E898<>\"\",Data!E898 > 0),Data!E898,\"\")","v":""}]
[{"$f":"IF(D898<>\"\",Data!A899,\"\")","v":""},{"$f":"IF(D898<>\"\",Data!B899,\"\")","v":""},{"$f":"IF(D898<>\"\",MID(CELL(\"filename\",B898),FIND(\"]\",CELL(\"filename\",B898))+1,32),\"\")","v":""},{"$f":"IF(AND(Data!E899<>\"\",Data!E899 > 0),Data!E899,\"\")","v":""}]
[{"$f":"IF(D899<>\"\",Data!A900,\"\")","v":""},{"$f":"IF(D899<>\"\",Data!B900,\"\")","v":""},"",{"$f":"IF(AND(Data!E900<>\"\",Data!E900 > 0),Data!E900,\"\")","v":""}]
[{"$f":"IF(D900<>\"\",Data!A901,\"\")","v":""},{"$f":"IF(D900<>\"\",Data!B901,\"\")","v":""},"",{"$f":"IF(AND(Data!E901<>\"\",Data!E901 > 0),Data!E901,\"\")","v":""}]
[{"$f":"IF(D901<>\"\",Data!A902,\"\")","v":""},{"$f":"IF(D901<>\"\",Data!B902,\"\")","v":""},"",{"$f":"IF(AND(Data!E902<>\"\",Data!E902 > 0),Data!E902,\"\")","v":""}]
[{"$f":"IF(D902<>\"\",Data!A903,\"\")","v":""},{"$f":"IF(D902<>\"\",Data!B903,\"\")","v":""},"",{"$f":"IF(AND(Data!E903<>\"\",Data!E903 > 0),Data!E903,\"\")","v":""}]
[{"$f":"IF(D903<>\"\",Data!A904,\"\")","v":""},{"$f":"IF(D903<>\"\",Data!B904,\"\")","v":""},"",{"$f":"IF(AND(Data!E904<>\"\",Data!E904 > 0),Data!E904,\"\")","v":""}]
[{"$f":"IF(D904<>\"\",Data!A905,\"\")","v":""},{"$f":"IF(D904<>\"\",Data!B905,\"\")","v":""},"",{"$f":"IF(AND(Data!E905<>\"\",Data!E905 > 0),Data!E905,\"\")","v":""}]
[{"$f":"IF(D905<>\"\",Data!A906,\"\")","v":""},{"$f":"IF(D905<>\"\",Data!B906,\"\")","v":""},"",{"$f":"IF(AND(Data!E906<>\"\",Data!E906 > 0),Data!E906,\"\")","v":""}]
[{"$f":"IF(D906<>\"\",Data!A907,\"\")","v":""},{"$f":"IF(D906<>\"\",Data!B907,\"\")","v":""},"",{"$f":"IF(AND(Data!E907<>\"\",Data!E907 > 0),Data!E907,\"\")","v":""}]
[{"$f":"IF(D907<>\"\",Data!A908,\"\")","v":""},{"$f":"IF(D907<>\"\",Data!B908,\"\")","v":""},"",{"$f":"IF(AND(Data!E908<>\"\",Data!E908 > 0),Data!E908,\"\")","v":""}]
[{"$f":"IF(D908<>\"\",Data!A909,\"\")","v":""},{"$f":"IF(D908<>\"\",Data!B909,\"\")","v":""},"",{"$f":"IF(AND(Data!E909<>\"\",Data!E909 > 0),Data!E909,\"\")","v":""}]
[{"$f":"IF(D909<>\"\",Data!A910,\"\")","v":""},{"$f":"IF(D909<>\"\",Data!B910,\"\")","v":""},"",{"$f":"IF(AND(Data!E910<>\"\",Data!E910 > 0),Data!E910,\"\")","v":""}]
[{"$f":"IF(D910<>\"\",Data!A911,\"\")","v":""},{"$f":"IF(D910<>\"\",Data!B911,\"\")","v":""},"",{"$f":"IF(AND(Data!E911<>\"\",Data!E911 > 0),Data!E911,\"\")","v":""}]
[{"$f":"IF(D911<>\"\",Data!A912,\"\")","v":""},{"$f":"IF(D911<>\"\",Data!B912,\"\")","v":""},"",{"$f":"IF(AND(Data!E912<>\"\",Data!E912 > 0),Data!E912,\"\")","v":""}]
[{"$f":"IF(D912<>\"\",Data!A913,\"\")","v":""},{"$f":"IF(D912<>\"\",Data!B913,\"\")","v":""},"",{"$f":"IF(AND(Data!E913<>\"\",Data!E913 > 0),Data!E913,\"\")","v":""}]
[{"$f":"IF(D913<>\"\",Data!A914,\"\")","v":""},{"$f":"IF(D913<>\"\",Data!B914,\"\")","v":""},"",{"$f":"IF(AND(Data!E914<>\"\",Data!E914 > 0),Data!E914,\"\")","v":""}]
[{"$f":"IF(D914<>\"\",Data!A915,\"\")","v":""},{"$f":"IF(D914<>\"\",Data!B915,\"\")","v":""},"",{"$f":"IF(AND(Data!E915<>\"\",Data!E915 > 0),Data!E915,\"\")","v":""}]
[{"$f":"IF(D915<>\"\",Data!A916,\"\")","v":""},{"$f":"IF(D915<>\"\",Data!B916,\"\")","v":""},"",{"$f":"IF(AND(Data!E916<>\"\",Data!E916 > 0),Data!E916,\"\")","v":""}]
[{"$f":"IF(D916<>\"\",Data!A917,\"\")","v":""},{"$f":"IF(D916<>\"\",Data!B917,\"\")","v":""},"",{"$f":"IF(AND(Data!E917<>\"\",Data!E917 > 0),Data!E917,\"\")","v":""}]
[{"$f":"IF(D917<>\"\",Data!A918,\"\")","v":""},{"$f":"IF(D917<>\"\",Data!B918,\"\")","v":""},"",{"$f":"IF(AND(Data!E918<>\"\",Data!E918 > 0),Data!E918,\"\")","v":""}]
[{"$f":"IF(D918<>\"\",Data!A919,\"\")","v":""},{"$f":"IF(D918<>\"\",Data!B919,\"\")","v":""},"",{"$f":"IF(AND(Data!E919<>\"\",Data!E919 > 0),Data!E919,\"\")","v":""}]
[{"$f":"IF(D919<>\"\",Data!A920,\"\")","v":""},{"$f":"IF(D919<>\"\",Data!B920,\"\")","v":""},"",{"$f":"IF(AND(Data!E920<>\"\",Data!E920 > 0),Data!E920,\"\")","v":""}]
[{"$f":"IF(D920<>\"\",Data!A921,\"\")","v":""},{"$f":"IF(D920<>\"\",Data!B921,\"\")","v":""},"",{"$f":"IF(AND(Data!E921<>\"\",Data!E921 > 0),Data!E921,\"\")","v":""}]
[{"$f":"IF(D921<>\"\",Data!A922,\"\")","v":""},{"$f":"IF(D921<>\"\",Data!B922,\"\")","v":""},"",{"$f":"IF(AND(Data!E922<>\"\",Data!E922 > 0),Data!E922,\"\")","v":""}]
[{"$f":"IF(D922<>\"\",Data!A923,\"\")","v":""},{"$f":"IF(D922<>\"\",Data!B923,\"\")","v":""},"",{"$f":"IF(AND(Data!E923<>\"\",Data!E923 > 0),Data!E923,\"\")","v":""}]
[{"$f":"IF(D923<>\"\",Data!A924,\"\")","v":""},{"$f":"IF(D923<>\"\",Data!B924,\"\")","v":""},"",{"$f":"IF(AND(Data!E924<>\"\",Data!E924 > 0),Data!E924,\"\")","v":""}]
[{"$f":"IF(D924<>\"\",Data!A925,\"\")","v":""},{"$f":"IF(D924<>\"\",Data!B925,\"\")","v":""},"",{"$f":"IF(AND(Data!E925<>\"\",Data!E925 > 0),Data!E925,\"\")","v":""}]
[{"$f":"IF(D925<>\"\",Data!A926,\"\")","v":""},{"$f":"IF(D925<>\"\",Data!B926,\"\")","v":""},"",{"$f":"IF(AND(Data!E926<>\"\",Data!E926 > 0),Data!E926,\"\")","v":""}]
[{"$f":"IF(D926<>\"\",Data!A927,\"\")","v":""},{"$f":"IF(D926<>\"\",Data!B927,\"\")","v":""},"",{"$f":"IF(AND(Data!E927<>\"\",Data!E927 > 0),Data!E927,\"\")","v":""}]
[{"$f":"IF(D927<>\"\",Data!A928,\"\")","v":""},{"$f":"IF(D927<>\"\",Data!B928,\"\")","v":""},"",{"$f":"IF(AND(Data!E928<>\"\",Data!E928 > 0),Data!E928,\"\")","v":""}]
[{"$f":"IF(D928<>\"\",Data!A929,\"\")","v":""},{"$f":"IF(D928<>\"\",Data!B929,\"\")","v":""},"",{"$f":"IF(AND(Data!E929<>\"\",Data!E929 > 0),Data!E929,\"\")","v":""}]
[{"$f":"IF(D929<>\"\",Data!A930,\"\")","v":""},{"$f":"IF(D929<>\"\",Data!B930,\"\")","v":""},"",{"$f":"IF(AND(Data!E930<>\"\",Data!E930 > 0),Data!E930,\"\")","v":""}]
[{"$f":"IF(D930<>\"\",Data!A931,\"\")","v":""},{"$f":"IF(D930<>\"\",Data!B931,\"\")","v":""},"",{"$f":"IF(AND(Data!E931<>\"\",Data!E931 > 0),Data!E931,\"\")","v":""}]
[{"$f":"IF(D931<>\"\",Data!A932,\"\")","v":""},{"$f":"IF(D931<>\"\",Data!B932,\"\")","v":""},"",{"$f":"IF(AND(Data!E932<>\"\",Data!E932 > 0),Data!E932,\"\")","v":""}]
[{"$f":"IF(D932<>\"\",Data!A933,\"\")","v":""},{"$f":"IF(D932<>\"\",Data!B933,\"\")","v":""},"",{"$f":"IF(AND(Data!E933<>\"\",Data!E933 > 0),Data!E933,\"\")","v":""}]
[{"$f":"IF(D933<>\"\",Data!A934,\"\")","v":""},{"$f":"IF(D933<>\"\",Data!B934,\"\")","v":""},"",{"$f":"IF(AND(Data!E934<>\"\",Data!E934 > 0),Data!E934,\"\")","v":""}]
[{"$f":"IF(D934<>\"\",Data!A935,\"\")","v":""},{"$f":"IF(D934<>\"\",Data!B935,\"\")","v":""},"",{"$f":"IF(AND(Data!E935<>\"\",Data!E935 > 0),Data!E935,\"\")","v":""}]
[{"$f":"IF(D935<>\"\",Data!A936,\"\")","v":""},{"$f":"IF(D935<>\"\",Data!B936,\"\")","v":""},"",{"$f":"IF(AND(Data!E936<>\"\",Data!E936 > 0),Data!E936,\"\")","v":""}]
[{"$f":"IF(D936<>\"\",Data!A937,\"\")","v":""},{"$f":"IF(D936<>\"\",Data!B937,\"\")","v":""},"",{"$f":"IF(AND(Data!E937<>\"\",Data!E937 > 0),Data!E937,\"\")","v":""}]
[{"$f":"IF(D937<>\"\",Data!A938,\"\")","v":""},{"$f":"IF(D937<>\"\",Data!B938,\"\")","v":""},"",{"$f":"IF(AND(Data!E938<>\"\",Data!E938 > 0),Data!E938,\"\")","v":""}]
[{"$f":"IF(D938<>\"\",Data!A939,\"\")","v":""},{"$f":"IF(D938<>\"\",Data!B939,\"\")","v":""},"",{"$f":"IF(AND(Data!E939<>\"\",Data!E939 > 0),Data!E939,\"\")","v":""}]
[{"$f":"IF(D939<>\"\",Data!A940,\"\")","v":""},{"$f":"IF(D939<>\"\",Data!B940,\"\")","v":""},"",{"$f":"IF(AND(Data!E940<>\"\",Data!E940 > 0),Data!E940,\"\")","v":""}]
[{"$f":"IF(D940<>\"\",Data!A941,\"\")","v":""},{"$f":"IF(D940<>\"\",Data!B941,\"\")","v":""},"",{"$f":"IF(AND(Data!E941<>\"\",Data!E941 > 0),Data!E941,\"\")","v":""}]
[{"$f":"IF(D941<>\"\",Data!A942,\"\")","v":""},{"$f":"IF(D941<>\"\",Data!B942,\"\")","v":""},"",{"$f":"IF(AND(Data!E942<>\"\",Data!E942 > 0),Data!E942,\"\")","v":""}]
[{"$f":"IF(D942<>\"\",Data!A943,\"\")","v":""},{"$f":"IF(D942<>\"\",Data!B943,\"\")","v":""},"",{"$f":"IF(AND(Data!E943<>\"\",Data!E943 > 0),Data!E943,\"\")","v":""}]
[{"$f":"IF(D943<>\"\",Data!A944,\"\")","v":""},{"$f":"IF(D943<>\"\",Data!B944,\"\")","v":""},"",{"$f":"IF(AND(Data!E944<>\"\",Data!E944 > 0),Data!E944,\"\")","v":""}]
[{"$f":"IF(D944<>\"\",Data!A945,\"\")","v":""},{"$f":"IF(D944<>\"\",Data!B945,\"\")","v":""},"",{"$f":"IF(AND(Data!E945<>\"\",Data!E945 > 0),Data!E945,\"\")","v":""}]
[{"$f":"IF(D945<>\"\",Data!A946,\"\")","v":""},{"$f":"IF(D945<>\"\",Data!B946,\"\")","v":""},"",{"$f":"IF(AND(Data!E946<>\"\",Data!E946 > 0),Data!E946,\"\")","v":""}]
[{"$f":"IF(D946<>\"\",Data!A947,\"\")","v":""},{"$f":"IF(D946<>\"\",Data!B947,\"\")","v":""},"",{"$f":"IF(AND(Data!E947<>\"\",Data!E947 > 0),Data!E947,\"\")","v":""}]
[{"$f":"IF(D947<>\"\",Data!A948,\"\")","v":""},{"$f":"IF(D947<>\"\",Data!B948,\"\")","v":""},"",{"$f":"IF(AND(Data!E948<>\"\",Data!E948 > 0),Data!E948,\"\")","v":""}]
[{"$f":"IF(D948<>\"\",Data!A949,\"\")","v":""},{"$f":"IF(D948<>\"\",Data!B949,\"\")","v":""},"",{"$f":"IF(AND(Data!E949<>\"\",Data!E949 > 0),Data!E949,\"\")","v":""}]
[{"$f":"IF(D949<>\"\",Data!A950,\"\")","v":""},{"$f":"IF(D949<>\"\",Data!B950,\"\")","v":""},"",{"$f":"IF(AND(Data!E950<>\"\",Data!E950 > 0),Data!E950,\"\")","v":""}]
[{"$f":"IF(D950<>\"\",Data!A951,\"\")","v":""},{"$f":"IF(D950<>\"\",Data!B951,\"\")","v":""},"",{"$f":"IF(AND(Data!E951<>\"\",Data!E951 > 0),Data!E951,\"\")","v":""}]
[{"$f":"IF(D951<>\"\",Data!A952,\"\")","v":""},{"$f":"IF(D951<>\"\",Data!B952,\"\")","v":""},"",{"$f":"IF(AND(Data!E952<>\"\",Data!E952 > 0),Data!E952,\"\")","v":""}]
[{"$f":"IF(D952<>\"\",Data!A953,\"\")","v":""},{"$f":"IF(D952<>\"\",Data!B953,\"\")","v":""},"",{"$f":"IF(AND(Data!E953<>\"\",Data!E953 > 0),Data!E953,\"\")","v":""}]
[{"$f":"IF(D953<>\"\",Data!A954,\"\")","v":""},{"$f":"IF(D953<>\"\",Data!B954,\"\")","v":""},"",{"$f":"IF(AND(Data!E954<>\"\",Data!E954 > 0),Data!E954,\"\")","v":""}]
[{"$f":"IF(D954<>\"\",Data!A955,\"\")","v":""},{"$f":"IF(D954<>\"\",Data!B955,\"\")","v":""},"",{"$f":"IF(AND(Data!E955<>\"\",Data!E955 > 0),Data!E955,\"\")","v":""}]
[{"$f":"IF(D955<>\"\",Data!A956,\"\")","v":""},{"$f":"IF(D955<>\"\",Data!B956,\"\")","v":""},"",{"$f":"IF(AND(Data!E956<>\"\",Data!E956 > 0),Data!E956,\"\")","v":""}]
[{"$f":"IF(D956<>\"\",Data!A957,\"\")","v":""},{"$f":"IF(D956<>\"\",Data!B957,\"\")","v":""},"",{"$f":"IF(AND(Data!E957<>\"\",Data!E957 > 0),Data!E957,\"\")","v":""}]
[{"$f":"IF(D957<>\"\",Data!A958,\"\")","v":""},{"$f":"IF(D957<>\"\",Data!B958,\"\")","v":""},"",{"$f":"IF(AND(Data!E958<>\"\",Data!E958 > 0),Data!E958,\"\")","v":""}]
[{"$f":"IF(D958<>\"\",Data!A959,\"\")","v":""},{"$f":"IF(D958<>\"\",Data!B959,\"\")","v":""},"",{"$f":"IF(AND(Data!E959<>\"\",Data!E959 > 0),Data!E959,\"\")","v":""}]
[{"$f":"IF(D959<>\"\",Data!A960,\"\")","v":""},{"$f":"IF(D959<>\"\",Data!B960,\"\")","v":""},"",{"$f":"IF(AND(Data!E960<>\"\",Data!E960 > 0),Data!E960,\"\")","v":""}]
[{"$f":"IF(D960<>\"\",Data!A961,\"\")","v":""},{"$f":"IF(D960<>\"\",Data!B961,\"\")","v":""},"",{"$f":"IF(AND(Data!E961<>\"\",Data!E961 > 0),Data!E961,\"\")","v":""}]
[{"$f":"IF(D961<>\"\",Data!A962,\"\")","v":""},{"$f":"IF(D961<>\"\",Data!B962,\"\")","v":""},"",{"$f":"IF(AND(Data!E962<>\"\",Data!E962 > 0),Data!E962,\"\")","v":""}]
[{"$f":"IF(D962<>\"\",Data!A963,\"\")","v":""},{"$f":"IF(D962<>\"\",Data!B963,\"\")","v":""},{"$f":"IF(D962<>\"\",MID(CELL(\"filename\",B962),FIND(\"]\",CELL(\"filename\",B962))+1,32),\"\")","v":""},{"$f":"IF(AND(Data!E963<>\"\",Data!E963 > 0),Data!E963,\"\")","v":""}]
[{"$f":"IF(D963<>\"\",Data!A964,\"\")","v":""},{"$f":"IF(D963<>\"\",Data!B964,\"\")","v":""},"",{"$f":"IF(AND(Data!E964<>\"\",Data!E964 > 0),Data!E964,\"\")","v":""}]
[{"$f":"IF(D964<>\"\",Data!A965,\"\")","v":""},{"$f":"IF(D964<>\"\",Data!B965,\"\")","v":""},"",{"$f":"IF(AND(Data!E965<>\"\",Data!E965 > 0),Data!E965,\"\")","v":""}]
[{"$f":"IF(D965<>\"\",Data!A966,\"\")","v":""},{"$f":"IF(D965<>\"\",Data!B966,\"\")","v":""},"",{"$f":"IF(AND(Data!E966<>\"\",Data!E966 > 0),Data!E966,\"\")","v":""}]
[{"$f":"IF(D966<>\"\",Data!A967,\"\")","v":""},{"$f":"IF(D966<>\"\",Data!B967,\"\")","v":""},"",{"$f":"IF(AND(Data!E967<>\"\",Data!E967 > 0),Data!E967,\"\")","v":""}]
[{"$f":"IF(D967<>\"\",Data!A968,\"\")","v":""},{"$f":"IF(D967<>\"\",Data!B968,\"\")","v":""},"",{"$f":"IF(AND(Data!E968<>\"\",Data!E968 > 0),Data!E968,\"\")","v":""}]
[{"$f":"IF(D968<>\"\",Data!A969,\"\")","v":""},{"$f":"IF(D968<>\"\",Data!B969,\"\")","v":""},"",{"$f":"IF(AND(Data!E969<>\"\",Data!E969 > 0),Data!E969,\"\")","v":""}]
[{"$f":"IF(D969<>\"\",Data!A970,\"\")","v":""},{"$f":"IF(D969<>\"\",Data!B970,\"\")","v":""},"",{"$f":"IF(AND(Data!E970<>\"\",Data!E970 > 0),Data!E970,\"\")","v":""}]
[{"$f":"IF(D970<>\"\",Data!A971,\"\")","v":""},{"$f":"IF(D970<>\"\",Data!B971,\"\")","v":""},"",{"$f":"IF(AND(Data!E971<>\"\",Data!E971 > 0),Data!E971,\"\")","v":""}]
[{"$f":"IF(D971<>\"\",Data!A972,\"\")","v":""},{"$f":"IF(D971<>\"\",Data!B972,\"\")","v":""},"",{"$f":"IF(AND(Data!E972<>\"\",Data!E972 > 0),Data!E972,\"\")","v":""}]
[{"$f":"IF(D972<>\"\",Data!A973,\"\")","v":""},{"$f":"IF(D972<>\"\",Data!B973,\"\")","v":""},"",{"$f":"IF(AND(Data!E973<>\"\",Data!E973 > 0),Data!E973,\"\")","v":""}]
[{"$f":"IF(D973<>\"\",Data!A974,\"\")","v":""},{"$f":"IF(D973<>\"\",Data!B974,\"\")","v":""},"",{"$f":"IF(AND(Data!E974<>\"\",Data!E974 > 0),Data!E974,\"\")","v":""}]
[{"$f":"IF(D974<>\"\",Data!A975,\"\")","v":""},{"$f":"IF(D974<>\"\",Data!B975,\"\")","v":""},"",{"$f":"IF(AND(Data!E975<>\"\",Data!E975 > 0),Data!E975,\"\")","v":""}]
[{"$f":"IF(D975<>\"\",Data!A976,\"\")","v":""},{"$f":"IF(D975<>\"\",Data!B976,\"\")","v":""},"",{"$f":"IF(AND(Data!E976<>\"\",Data!E976 > 0),Data!E976,\"\")","v":""}]
[{"$f":"IF(D976<>\"\",Data!A977,\"\")","v":""},{"$f":"IF(D976<>\"\",Data!B977,\"\")","v":""},"",{"$f":"IF(AND(Data!E977<>\"\",Data!E977 > 0),Data!E977,\"\")","v":""}]
[{"$f":"IF(D977<>\"\",Data!A978,\"\")","v":""},{"$f":"IF(D977<>\"\",Data!B978,\"\")","v":""},"",{"$f":"IF(AND(Data!E978<>\"\",Data!E978 > 0),Data!E978,\"\")","v":""}]
[{"$f":"IF(D978<>\"\",Data!A979,\"\")","v":""},{"$f":"IF(D978<>\"\",Data!B979,\"\")","v":""},"",{"$f":"IF(AND(Data!E979<>\"\",Data!E979 > 0),Data!E979,\"\")","v":""}]
[{"$f":"IF(D979<>\"\",Data!A980,\"\")","v":""},{"$f":"IF(D979<>\"\",Data!B980,\"\")","v":""},"",{"$f":"IF(AND(Data!E980<>\"\",Data!E980 > 0),Data!E980,\"\")","v":""}]
[{"$f":"IF(D980<>\"\",Data!A981,\"\")","v":""},{"$f":"IF(D980<>\"\",Data!B981,\"\")","v":""},"",{"$f":"IF(AND(Data!E981<>\"\",Data!E981 > 0),Data!E981,\"\")","v":""}]
[{"$f":"IF(D981<>\"\",Data!A982,\"\")","v":""},{"$f":"IF(D981<>\"\",Data!B982,\"\")","v":""},"",{"$f":"IF(AND(Data!E982<>\"\",Data!E982 > 0),Data!E982,\"\")","v":""}]
[{"$f":"IF(D982<>\"\",Data!A983,\"\")","v":""},{"$f":"IF(D982<>\"\",Data!B983,\"\")","v":""},"",{"$f":"IF(AND(Data!E983<>\"\",Data!E983 > 0),Data!E983,\"\")","v":""}]
[{"$f":"IF(D983<>\"\",Data!A984,\"\")","v":""},{"$f":"IF(D983<>\"\",Data!B984,\"\")","v":""},"",{"$f":"IF(AND(Data!E984<>\"\",Data!E984 > 0),Data!E984,\"\")","v":""}]
[{"$f":"IF(D984<>\"\",Data!A985,\"\")","v":""},{"$f":"IF(D984<>\"\",Data!B985,\"\")","v":""},"",{"$f":"IF(AND(Data!E985<>\"\",Data!E985 > 0),Data!E985,\"\")","v":""}]
[{"$f":"IF(D985<>\"\",Data!A986,\"\")","v":""},{"$f":"IF(D985<>\"\",Data!B986,\"\")","v":""},"",{"$f":"IF(AND(Data!E986<>\"\",Data!E986 > 0),Data!E986,\"\")","v":""}]
[{"$f":"IF(D986<>\"\",Data!A987,\"\")","v":""},{"$f":"IF(D986<>\"\",Data!B987,\"\")","v":""},"",{"$f":"IF(AND(Data!E987<>\"\",Data!E987 > 0),Data!E987,\"\")","v":""}]
[{"$f":"IF(D987<>\"\",Data!A988,\"\")","v":""},{"$f":"IF(D987<>\"\",Data!B988,\"\")","v":""},"",{"$f":"IF(AND(Data!E988<>\"\",Data!E988 > 0),Data!E988,\"\")","v":""}]
[{"$f":"IF(D988<>\"\",Data!A989,\"\")","v":""},{"$f":"IF(D988<>\"\",Data!B989,\"\")","v":""},"",{"$f":"IF(AND(Data!E989<>\"\",Data!E989 > 0),Data!E989,\"\")","v":""}]
[{"$f":"IF(D989<>\"\",Data!A990,\"\")","v":""},{"$f":"IF(D989<>\"\",Data!B990,\"\")","v":""},"",{"$f":"IF(AND(Data!E990<>\"\",Data!E990 > 0),Data!E990,\"\")","v":""}]
[{"$f":"IF(D990<>\"\",Data!A991,\"\")","v":""},{"$f":"IF(D990<>\"\",Data!B991,\"\")","v":""},"",{"$f":"IF(AND(Data!E991<>\"\",Data!E991 > 0),Data!E991,\"\")","v":""}]
[{"$f":"IF(D991<>\"\",Data!A992,\"\")","v":""},{"$f":"IF(D991<>\"\",Data!B992,\"\")","v":""},"",{"$f":"IF(AND(Data!E992<>\"\",Data!E992 > 0),Data!E992,\"\")","v":""}]
[{"$f":"IF(D992<>\"\",Data!A993,\"\")","v":""},{"$f":"IF(D992<>\"\",Data!B993,\"\")","v":""},"",{"$f":"IF(AND(Data!E993<>\"\",Data!E993 > 0),Data!E993,\"\")","v":""}]
[{"$f":"IF(D993<>\"\",Data!A994,\"\")","v":""},{"$f":"IF(D993<>\"\",Data!B994,\"\")","v":""},"",{"$f":"IF(AND(Data!E994<>\"\",Data!E994 > 0),Data!E994,\"\")","v":""}]
[{"$f":"IF(D994<>\"\",Data!A995,\"\")","v":""},{"$f":"IF(D994<>\"\",Data!B995,\"\")","v":""},"",{"$f":"IF(AND(Data!E995<>\"\",Data!E995 > 0),Data!E995,\"\")","v":""}]
[{"$f":"IF(D995<>\"\",Data!A996,\"\")","v":""},{"$f":"IF(D995<>\"\",Data!B996,\"\")","v":""},"",{"$f":"IF(AND(Data!E996<>\"\",Data!E996 > 0),Data!E996,\"\")","v":""}]
[{"$f":"IF(D996<>\"\",Data!A997,\"\")","v":""},{"$f":"IF(D996<>\"\",Data!B997,\"\")","v":""},"",{"$f":"IF(AND(Data!E997<>\"\",Data!E997 > 0),Data!E997,\"\")","v":""}]
[{"$f":"IF(D997<>\"\",Data!A998,\"\")","v":""},{"$f":"IF(D997<>\"\",Data!B998,\"\")","v":""},"",{"$f":"IF(AND(Data!E998<>\"\",Data!E998 > 0),Data!E998,\"\")","v":""}]
[{"$f":"IF(D998<>\"\",Data!A999,\"\")","v":""},{"$f":"IF(D998<>\"\",Data!B999,\"\")","v":""},"",{"$f":"IF(AND(Data!E999<>\"\",Data!E999 > 0),Data!E999,\"\")","v":""}]
[{"$f":"IF(D999<>\"\",Data!A1000,\"\")","v":""},{"$f":"IF(D999<>\"\",Data!B1000,\"\")","v":""},"",{"$f":"IF(AND(Data!E1000<>\"\",Data!E1000 > 0),Data!E1000,\"\")","v":""}]
[{"$f":"IF(D1000<>\"\",Data!A1001,\"\")","v":""},{"$f":"IF(D1000<>\"\",Data!B1001,\"\")","v":""},"",{"$f":"IF(AND(Data!E1001<>\"\",Data!E1001 > 0),Data!E1001,\"\")","v":""}]

{"sheet":"300%","index":5,"n_rows":1000,"n_cols":4,"rows_kept":1000,"cut":false,"hidden":false,"merged":[]}
[{"$f":"IF(D1<>\"\",Data!A2,\"\")","v":""},{"$f":"IF(D1<>\"\",Data!B2,\"\")","v":""},{"$f":"IF(D1<>\"\",MID(CELL(\"filename\",B1),FIND(\"]\",CELL(\"filename\",B1))+1,32),\"\")","v":""},{"$f":"IF(AND(Data!F2<>\"\",Data!F2 > 0),Data!F2,\"\")","v":""}]
[{"$f":"IF(D2<>\"\",Data!A3,\"\")","v":""},{"$f":"IF(D2<>\"\",Data!B3,\"\")","v":""},{"$f":"IF(D2<>\"\",MID(CELL(\"filename\",B2),FIND(\"]\",CELL(\"filename\",B2))+1,32),\"\")","v":""},{"$f":"IF(AND(Data!F3<>\"\",Data!F3 > 0),Data!F3,\"\")","v":""}]
[{"$f":"IF(D3<>\"\",Data!A4,\"\")","v":""},{"$f":"IF(D3<>\"\",Data!B4,\"\")","v":""},"",{"$f":"IF(AND(Data!F4<>\"\",Data!F4 > 0),Data!F4,\"\")","v":""}]
[{"$f":"IF(D4<>\"\",Data!A5,\"\")","v":""},{"$f":"IF(D4<>\"\",Data!B5,\"\")","v":""},"",{"$f":"IF(AND(Data!F5<>\"\",Data!F5 > 0),Data!F5,\"\")","v":""}]
[{"$f":"IF(D5<>\"\",Data!A6,\"\")","v":""},{"$f":"IF(D5<>\"\",Data!B6,\"\")","v":""},"",{"$f":"IF(AND(Data!F6<>\"\",Data!F6 > 0),Data!F6,\"\")","v":""}]
[{"$f":"IF(D6<>\"\",Data!A7,\"\")","v":""},{"$f":"IF(D6<>\"\",Data!B7,\"\")","v":""},"",{"$f":"IF(AND(Data!F7<>\"\",Data!F7 > 0),Data!F7,\"\")","v":""}]
[{"$f":"IF(D7<>\"\",Data!A8,\"\")","v":"John Smith"},{"$f":"IF(D7<>\"\",Data!B8,\"\")","v":"2023-05-07"},"300%",{"$f":"IF(AND(Data!F8<>\"\",Data!F8 > 0),Data!F8,\"\")","v":8.5}]
[{"$f":"IF(D8<>\"\",Data!A9,\"\")","v":""},{"$f":"IF(D8<>\"\",Data!B9,\"\")","v":""},"",{"$f":"IF(AND(Data!F9<>\"\",Data!F9 > 0),Data!F9,\"\")","v":""}]
[{"$f":"IF(D9<>\"\",Data!A10,\"\")","v":""},{"$f":"IF(D9<>\"\",Data!B10,\"\")","v":""},"",{"$f":"IF(AND(Data!F10<>\"\",Data!F10 > 0),Data!F10,\"\")","v":""}]
[{"$f":"IF(D10<>\"\",Data!A11,\"\")","v":""},{"$f":"IF(D10<>\"\",Data!B11,\"\")","v":""},"",{"$f":"IF(AND(Data!F11<>\"\",Data!F11 > 0),Data!F11,\"\")","v":""}]
[{"$f":"IF(D11<>\"\",Data!A12,\"\")","v":""},{"$f":"IF(D11<>\"\",Data!B12,\"\")","v":""},"",{"$f":"IF(AND(Data!F12<>\"\",Data!F12 > 0),Data!F12,\"\")","v":""}]
[{"$f":"IF(D12<>\"\",Data!A13,\"\")","v":""},{"$f":"IF(D12<>\"\",Data!B13,\"\")","v":""},"",{"$f":"IF(AND(Data!F13<>\"\",Data!F13 > 0),Data!F13,\"\")","v":""}]
[{"$f":"IF(D13<>\"\",Data!A14,\"\")","v":""},{"$f":"IF(D13<>\"\",Data!B14,\"\")","v":""},"",{"$f":"IF(AND(Data!F14<>\"\",Data!F14 > 0),Data!F14,\"\")","v":""}]
[{"$f":"IF(D14<>\"\",Data!A15,\"\")","v":"Jane Jones"},{"$f":"IF(D14<>\"\",Data!B15,\"\")","v":"2023-05-07"},"300%",{"$f":"IF(AND(Data!F15<>\"\",Data!F15 > 0),Data!F15,\"\")","v":8.5}]
[{"$f":"IF(D15<>\"\",Data!A16,\"\")","v":""},{"$f":"IF(D15<>\"\",Data!B16,\"\")","v":""},"",{"$f":"IF(AND(Data!F16<>\"\",Data!F16 > 0),Data!F16,\"\")","v":""}]
[{"$f":"IF(D16<>\"\",Data!A17,\"\")","v":""},{"$f":"IF(D16<>\"\",Data!B17,\"\")","v":""},"",{"$f":"IF(AND(Data!F17<>\"\",Data!F17 > 0),Data!F17,\"\")","v":""}]
[{"$f":"IF(D17<>\"\",Data!A18,\"\")","v":""},{"$f":"IF(D17<>\"\",Data!B18,\"\")","v":""},"",{"$f":"IF(AND(Data!F18<>\"\",Data!F18 > 0),Data!F18,\"\")","v":""}]
[{"$f":"IF(D18<>\"\",Data!A19,\"\")","v":""},{"$f":"IF(D18<>\"\",Data!B19,\"\")","v":""},"",{"$f":"IF(AND(Data!F19<>\"\",Data!F19 > 0),Data!F19,\"\")","v":""}]
[{"$f":"IF(D19<>\"\",Data!A20,\"\")","v":""},{"$f":"IF(D19<>\"\",Data!B20,\"\")","v":""},"",{"$f":"IF(AND(Data!F20<>\"\",Data!F20 > 0),Data!F20,\"\")","v":""}]
[{"$f":"IF(D20<>\"\",Data!A21,\"\")","v":""},{"$f":"IF(D20<>\"\",Data!B21,\"\")","v":""},"",{"$f":"IF(AND(Data!F21<>\"\",Data!F21 > 0),Data!F21,\"\")","v":""}]
[{"$f":"IF(D21<>\"\",Data!A22,\"\")","v":""},{"$f":"IF(D21<>\"\",Data!B22,\"\")","v":""},"",{"$f":"IF(AND(Data!F22<>\"\",Data!F22 > 0),Data!F22,\"\")","v":""}]
[{"$f":"IF(D22<>\"\",Data!A23,\"\")","v":""},{"$f":"IF(D22<>\"\",Data!B23,\"\")","v":""},"",{"$f":"IF(AND(Data!F23<>\"\",Data!F23 > 0),Data!F23,\"\")","v":""}]
[{"$f":"IF(D23<>\"\",Data!A24,\"\")","v":""},{"$f":"IF(D23<>\"\",Data!B24,\"\")","v":""},"",{"$f":"IF(AND(Data!F24<>\"\",Data!F24 > 0),Data!F24,\"\")","v":""}]
[{"$f":"IF(D24<>\"\",Data!A25,\"\")","v":""},{"$f":"IF(D24<>\"\",Data!B25,\"\")","v":""},"",{"$f":"IF(AND(Data!F25<>\"\",Data!F25 > 0),Data!F25,\"\")","v":""}]
[{"$f":"IF(D25<>\"\",Data!A26,\"\")","v":""},{"$f":"IF(D25<>\"\",Data!B26,\"\")","v":""},"",{"$f":"IF(AND(Data!F26<>\"\",Data!F26 > 0),Data!F26,\"\")","v":""}]
[{"$f":"IF(D26<>\"\",Data!A27,\"\")","v":""},{"$f":"IF(D26<>\"\",Data!B27,\"\")","v":""},"",{"$f":"IF(AND(Data!F27<>\"\",Data!F27 > 0),Data!F27,\"\")","v":""}]
[{"$f":"IF(D27<>\"\",Data!A28,\"\")","v":""},{"$f":"IF(D27<>\"\",Data!B28,\"\")","v":""},"",{"$f":"IF(AND(Data!F28<>\"\",Data!F28 > 0),Data!F28,\"\")","v":""}]
[{"$f":"IF(D28<>\"\",Data!A29,\"\")","v":""},{"$f":"IF(D28<>\"\",Data!B29,\"\")","v":""},"",{"$f":"IF(AND(Data!F29<>\"\",Data!F29 > 0),Data!F29,\"\")","v":""}]
[{"$f":"IF(D29<>\"\",Data!A30,\"\")","v":""},{"$f":"IF(D29<>\"\",Data!B30,\"\")","v":""},"",{"$f":"IF(AND(Data!F30<>\"\",Data!F30 > 0),Data!F30,\"\")","v":""}]
[{"$f":"IF(D30<>\"\",Data!A31,\"\")","v":""},{"$f":"IF(D30<>\"\",Data!B31,\"\")","v":""},"",{"$f":"IF(AND(Data!F31<>\"\",Data!F31 > 0),Data!F31,\"\")","v":""}]
[{"$f":"IF(D31<>\"\",Data!A32,\"\")","v":""},{"$f":"IF(D31<>\"\",Data!B32,\"\")","v":""},"",{"$f":"IF(AND(Data!F32<>\"\",Data!F32 > 0),Data!F32,\"\")","v":""}]
[{"$f":"IF(D32<>\"\",Data!A33,\"\")","v":""},{"$f":"IF(D32<>\"\",Data!B33,\"\")","v":""},"",{"$f":"IF(AND(Data!F33<>\"\",Data!F33 > 0),Data!F33,\"\")","v":""}]
[{"$f":"IF(D33<>\"\",Data!A34,\"\")","v":""},{"$f":"IF(D33<>\"\",Data!B34,\"\")","v":""},"",{"$f":"IF(AND(Data!F34<>\"\",Data!F34 > 0),Data!F34,\"\")","v":""}]
[{"$f":"IF(D34<>\"\",Data!A35,\"\")","v":""},{"$f":"IF(D34<>\"\",Data!B35,\"\")","v":""},"",{"$f":"IF(AND(Data!F35<>\"\",Data!F35 > 0),Data!F35,\"\")","v":""}]
[{"$f":"IF(D35<>\"\",Data!A36,\"\")","v":""},{"$f":"IF(D35<>\"\",Data!B36,\"\")","v":""},"",{"$f":"IF(AND(Data!F36<>\"\",Data!F36 > 0),Data!F36,\"\")","v":""}]
[{"$f":"IF(D36<>\"\",Data!A37,\"\")","v":""},{"$f":"IF(D36<>\"\",Data!B37,\"\")","v":""},"",{"$f":"IF(AND(Data!F37<>\"\",Data!F37 > 0),Data!F37,\"\")","v":""}]
[{"$f":"IF(D37<>\"\",Data!A38,\"\")","v":""},{"$f":"IF(D37<>\"\",Data!B38,\"\")","v":""},"",{"$f":"IF(AND(Data!F38<>\"\",Data!F38 > 0),Data!F38,\"\")","v":""}]
[{"$f":"IF(D38<>\"\",Data!A39,\"\")","v":""},{"$f":"IF(D38<>\"\",Data!B39,\"\")","v":""},"",{"$f":"IF(AND(Data!F39<>\"\",Data!F39 > 0),Data!F39,\"\")","v":""}]
[{"$f":"IF(D39<>\"\",Data!A40,\"\")","v":""},{"$f":"IF(D39<>\"\",Data!B40,\"\")","v":""},"",{"$f":"IF(AND(Data!F40<>\"\",Data!F40 > 0),Data!F40,\"\")","v":""}]
[{"$f":"IF(D40<>\"\",Data!A41,\"\")","v":""},{"$f":"IF(D40<>\"\",Data!B41,\"\")","v":""},"",{"$f":"IF(AND(Data!F41<>\"\",Data!F41 > 0),Data!F41,\"\")","v":""}]
[{"$f":"IF(D41<>\"\",Data!A42,\"\")","v":""},{"$f":"IF(D41<>\"\",Data!B42,\"\")","v":""},"",{"$f":"IF(AND(Data!F42<>\"\",Data!F42 > 0),Data!F42,\"\")","v":""}]
[{"$f":"IF(D42<>\"\",Data!A43,\"\")","v":""},{"$f":"IF(D42<>\"\",Data!B43,\"\")","v":""},"",{"$f":"IF(AND(Data!F43<>\"\",Data!F43 > 0),Data!F43,\"\")","v":""}]
[{"$f":"IF(D43<>\"\",Data!A44,\"\")","v":""},{"$f":"IF(D43<>\"\",Data!B44,\"\")","v":""},"",{"$f":"IF(AND(Data!F44<>\"\",Data!F44 > 0),Data!F44,\"\")","v":""}]
[{"$f":"IF(D44<>\"\",Data!A45,\"\")","v":""},{"$f":"IF(D44<>\"\",Data!B45,\"\")","v":""},"",{"$f":"IF(AND(Data!F45<>\"\",Data!F45 > 0),Data!F45,\"\")","v":""}]
[{"$f":"IF(D45<>\"\",Data!A46,\"\")","v":""},{"$f":"IF(D45<>\"\",Data!B46,\"\")","v":""},"",{"$f":"IF(AND(Data!F46<>\"\",Data!F46 > 0),Data!F46,\"\")","v":""}]
[{"$f":"IF(D46<>\"\",Data!A47,\"\")","v":""},{"$f":"IF(D46<>\"\",Data!B47,\"\")","v":""},"",{"$f":"IF(AND(Data!F47<>\"\",Data!F47 > 0),Data!F47,\"\")","v":""}]
[{"$f":"IF(D47<>\"\",Data!A48,\"\")","v":""},{"$f":"IF(D47<>\"\",Data!B48,\"\")","v":""},"",{"$f":"IF(AND(Data!F48<>\"\",Data!F48 > 0),Data!F48,\"\")","v":""}]
[{"$f":"IF(D48<>\"\",Data!A49,\"\")","v":""},{"$f":"IF(D48<>\"\",Data!B49,\"\")","v":""},"",{"$f":"IF(AND(Data!F49<>\"\",Data!F49 > 0),Data!F49,\"\")","v":""}]
[{"$f":"IF(D49<>\"\",Data!A50,\"\")","v":""},{"$f":"IF(D49<>\"\",Data!B50,\"\")","v":""},"",{"$f":"IF(AND(Data!F50<>\"\",Data!F50 > 0),Data!F50,\"\")","v":""}]
[{"$f":"IF(D50<>\"\",Data!A51,\"\")","v":""},{"$f":"IF(D50<>\"\",Data!B51,\"\")","v":""},"",{"$f":"IF(AND(Data!F51<>\"\",Data!F51 > 0),Data!F51,\"\")","v":""}]
[{"$f":"IF(D51<>\"\",Data!A52,\"\")","v":""},{"$f":"IF(D51<>\"\",Data!B52,\"\")","v":""},"",{"$f":"IF(AND(Data!F52<>\"\",Data!F52 > 0),Data!F52,\"\")","v":""}]
[{"$f":"IF(D52<>\"\",Data!A53,\"\")","v":""},{"$f":"IF(D52<>\"\",Data!B53,\"\")","v":""},"",{"$f":"IF(AND(Data!F53<>\"\",Data!F53 > 0),Data!F53,\"\")","v":""}]
[{"$f":"IF(D53<>\"\",Data!A54,\"\")","v":""},{"$f":"IF(D53<>\"\",Data!B54,\"\")","v":""},"",{"$f":"IF(AND(Data!F54<>\"\",Data!F54 > 0),Data!F54,\"\")","v":""}]
[{"$f":"IF(D54<>\"\",Data!A55,\"\")","v":""},{"$f":"IF(D54<>\"\",Data!B55,\"\")","v":""},"",{"$f":"IF(AND(Data!F55<>\"\",Data!F55 > 0),Data!F55,\"\")","v":""}]
[{"$f":"IF(D55<>\"\",Data!A56,\"\")","v":""},{"$f":"IF(D55<>\"\",Data!B56,\"\")","v":""},"",{"$f":"IF(AND(Data!F56<>\"\",Data!F56 > 0),Data!F56,\"\")","v":""}]
[{"$f":"IF(D56<>\"\",Data!A57,\"\")","v":""},{"$f":"IF(D56<>\"\",Data!B57,\"\")","v":""},"",{"$f":"IF(AND(Data!F57<>\"\",Data!F57 > 0),Data!F57,\"\")","v":""}]
[{"$f":"IF(D57<>\"\",Data!A58,\"\")","v":""},{"$f":"IF(D57<>\"\",Data!B58,\"\")","v":""},"",{"$f":"IF(AND(Data!F58<>\"\",Data!F58 > 0),Data!F58,\"\")","v":""}]
[{"$f":"IF(D58<>\"\",Data!A59,\"\")","v":""},{"$f":"IF(D58<>\"\",Data!B59,\"\")","v":""},"",{"$f":"IF(AND(Data!F59<>\"\",Data!F59 > 0),Data!F59,\"\")","v":""}]
[{"$f":"IF(D59<>\"\",Data!A60,\"\")","v":""},{"$f":"IF(D59<>\"\",Data!B60,\"\")","v":""},"",{"$f":"IF(AND(Data!F60<>\"\",Data!F60 > 0),Data!F60,\"\")","v":""}]
[{"$f":"IF(D60<>\"\",Data!A61,\"\")","v":""},{"$f":"IF(D60<>\"\",Data!B61,\"\")","v":""},"",{"$f":"IF(AND(Data!F61<>\"\",Data!F61 > 0),Data!F61,\"\")","v":""}]
[{"$f":"IF(D61<>\"\",Data!A62,\"\")","v":""},{"$f":"IF(D61<>\"\",Data!B62,\"\")","v":""},"",{"$f":"IF(AND(Data!F62<>\"\",Data!F62 > 0),Data!F62,\"\")","v":""}]
[{"$f":"IF(D62<>\"\",Data!A63,\"\")","v":""},{"$f":"IF(D62<>\"\",Data!B63,\"\")","v":""},"",{"$f":"IF(AND(Data!F63<>\"\",Data!F63 > 0),Data!F63,\"\")","v":""}]
[{"$f":"IF(D63<>\"\",Data!A64,\"\")","v":""},{"$f":"IF(D63<>\"\",Data!B64,\"\")","v":""},"",{"$f":"IF(AND(Data!F64<>\"\",Data!F64 > 0),Data!F64,\"\")","v":""}]
[{"$f":"IF(D64<>\"\",Data!A65,\"\")","v":""},{"$f":"IF(D64<>\"\",Data!B65,\"\")","v":""},"",{"$f":"IF(AND(Data!F65<>\"\",Data!F65 > 0),Data!F65,\"\")","v":""}]
[{"$f":"IF(D65<>\"\",Data!A66,\"\")","v":""},{"$f":"IF(D65<>\"\",Data!B66,\"\")","v":""},"",{"$f":"IF(AND(Data!F66<>\"\",Data!F66 > 0),Data!F66,\"\")","v":""}]
[{"$f":"IF(D66<>\"\",Data!A67,\"\")","v":""},{"$f":"IF(D66<>\"\",Data!B67,\"\")","v":""},{"$f":"IF(D66<>\"\",MID(CELL(\"filename\",B66),FIND(\"]\",CELL(\"filename\",B66))+1,32),\"\")","v":""},{"$f":"IF(AND(Data!F67<>\"\",Data!F67 > 0),Data!F67,\"\")","v":""}]
[{"$f":"IF(D67<>\"\",Data!A68,\"\")","v":""},{"$f":"IF(D67<>\"\",Data!B68,\"\")","v":""},"",{"$f":"IF(AND(Data!F68<>\"\",Data!F68 > 0),Data!F68,\"\")","v":""}]
[{"$f":"IF(D68<>\"\",Data!A69,\"\")","v":""},{"$f":"IF(D68<>\"\",Data!B69,\"\")","v":""},"",{"$f":"IF(AND(Data!F69<>\"\",Data!F69 > 0),Data!F69,\"\")","v":""}]
[{"$f":"IF(D69<>\"\",Data!A70,\"\")","v":""},{"$f":"IF(D69<>\"\",Data!B70,\"\")","v":""},"",{"$f":"IF(AND(Data!F70<>\"\",Data!F70 > 0),Data!F70,\"\")","v":""}]
[{"$f":"IF(D70<>\"\",Data!A71,\"\")","v":""},{"$f":"IF(D70<>\"\",Data!B71,\"\")","v":""},"",{"$f":"IF(AND(Data!F71<>\"\",Data!F71 > 0),Data!F71,\"\")","v":""}]
[{"$f":"IF(D71<>\"\",Data!A72,\"\")","v":""},{"$f":"IF(D71<>\"\",Data!B72,\"\")","v":""},"",{"$f":"IF(AND(Data!F72<>\"\",Data!F72 > 0),Data!F72,\"\")","v":""}]
[{"$f":"IF(D72<>\"\",Data!A73,\"\")","v":""},{"$f":"IF(D72<>\"\",Data!B73,\"\")","v":""},"",{"$f":"IF(AND(Data!F73<>\"\",Data!F73 > 0),Data!F73,\"\")","v":""}]
[{"$f":"IF(D73<>\"\",Data!A74,\"\")","v":""},{"$f":"IF(D73<>\"\",Data!B74,\"\")","v":""},"",{"$f":"IF(AND(Data!F74<>\"\",Data!F74 > 0),Data!F74,\"\")","v":""}]
[{"$f":"IF(D74<>\"\",Data!A75,\"\")","v":""},{"$f":"IF(D74<>\"\",Data!B75,\"\")","v":""},"",{"$f":"IF(AND(Data!F75<>\"\",Data!F75 > 0),Data!F75,\"\")","v":""}]
[{"$f":"IF(D75<>\"\",Data!A76,\"\")","v":""},{"$f":"IF(D75<>\"\",Data!B76,\"\")","v":""},"",{"$f":"IF(AND(Data!F76<>\"\",Data!F76 > 0),Data!F76,\"\")","v":""}]
[{"$f":"IF(D76<>\"\",Data!A77,\"\")","v":""},{"$f":"IF(D76<>\"\",Data!B77,\"\")","v":""},"",{"$f":"IF(AND(Data!F77<>\"\",Data!F77 > 0),Data!F77,\"\")","v":""}]
[{"$f":"IF(D77<>\"\",Data!A78,\"\")","v":""},{"$f":"IF(D77<>\"\",Data!B78,\"\")","v":""},"",{"$f":"IF(AND(Data!F78<>\"\",Data!F78 > 0),Data!F78,\"\")","v":""}]
[{"$f":"IF(D78<>\"\",Data!A79,\"\")","v":""},{"$f":"IF(D78<>\"\",Data!B79,\"\")","v":""},"",{"$f":"IF(AND(Data!F79<>\"\",Data!F79 > 0),Data!F79,\"\")","v":""}]
[{"$f":"IF(D79<>\"\",Data!A80,\"\")","v":""},{"$f":"IF(D79<>\"\",Data!B80,\"\")","v":""},"",{"$f":"IF(AND(Data!F80<>\"\",Data!F80 > 0),Data!F80,\"\")","v":""}]
[{"$f":"IF(D80<>\"\",Data!A81,\"\")","v":""},{"$f":"IF(D80<>\"\",Data!B81,\"\")","v":""},"",{"$f":"IF(AND(Data!F81<>\"\",Data!F81 > 0),Data!F81,\"\")","v":""}]
[{"$f":"IF(D81<>\"\",Data!A82,\"\")","v":""},{"$f":"IF(D81<>\"\",Data!B82,\"\")","v":""},"",{"$f":"IF(AND(Data!F82<>\"\",Data!F82 > 0),Data!F82,\"\")","v":""}]
[{"$f":"IF(D82<>\"\",Data!A83,\"\")","v":""},{"$f":"IF(D82<>\"\",Data!B83,\"\")","v":""},"",{"$f":"IF(AND(Data!F83<>\"\",Data!F83 > 0),Data!F83,\"\")","v":""}]
[{"$f":"IF(D83<>\"\",Data!A84,\"\")","v":""},{"$f":"IF(D83<>\"\",Data!B84,\"\")","v":""},"",{"$f":"IF(AND(Data!F84<>\"\",Data!F84 > 0),Data!F84,\"\")","v":""}]
[{"$f":"IF(D84<>\"\",Data!A85,\"\")","v":""},{"$f":"IF(D84<>\"\",Data!B85,\"\")","v":""},"",{"$f":"IF(AND(Data!F85<>\"\",Data!F85 > 0),Data!F85,\"\")","v":""}]
[{"$f":"IF(D85<>\"\",Data!A86,\"\")","v":""},{"$f":"IF(D85<>\"\",Data!B86,\"\")","v":""},"",{"$f":"IF(AND(Data!F86<>\"\",Data!F86 > 0),Data!F86,\"\")","v":""}]
[{"$f":"IF(D86<>\"\",Data!A87,\"\")","v":""},{"$f":"IF(D86<>\"\",Data!B87,\"\")","v":""},"",{"$f":"IF(AND(Data!F87<>\"\",Data!F87 > 0),Data!F87,\"\")","v":""}]
[{"$f":"IF(D87<>\"\",Data!A88,\"\")","v":""},{"$f":"IF(D87<>\"\",Data!B88,\"\")","v":""},"",{"$f":"IF(AND(Data!F88<>\"\",Data!F88 > 0),Data!F88,\"\")","v":""}]
[{"$f":"IF(D88<>\"\",Data!A89,\"\")","v":""},{"$f":"IF(D88<>\"\",Data!B89,\"\")","v":""},"",{"$f":"IF(AND(Data!F89<>\"\",Data!F89 > 0),Data!F89,\"\")","v":""}]
[{"$f":"IF(D89<>\"\",Data!A90,\"\")","v":""},{"$f":"IF(D89<>\"\",Data!B90,\"\")","v":""},"",{"$f":"IF(AND(Data!F90<>\"\",Data!F90 > 0),Data!F90,\"\")","v":""}]
[{"$f":"IF(D90<>\"\",Data!A91,\"\")","v":""},{"$f":"IF(D90<>\"\",Data!B91,\"\")","v":""},"",{"$f":"IF(AND(Data!F91<>\"\",Data!F91 > 0),Data!F91,\"\")","v":""}]
[{"$f":"IF(D91<>\"\",Data!A92,\"\")","v":""},{"$f":"IF(D91<>\"\",Data!B92,\"\")","v":""},"",{"$f":"IF(AND(Data!F92<>\"\",Data!F92 > 0),Data!F92,\"\")","v":""}]
[{"$f":"IF(D92<>\"\",Data!A93,\"\")","v":""},{"$f":"IF(D92<>\"\",Data!B93,\"\")","v":""},"",{"$f":"IF(AND(Data!F93<>\"\",Data!F93 > 0),Data!F93,\"\")","v":""}]
[{"$f":"IF(D93<>\"\",Data!A94,\"\")","v":""},{"$f":"IF(D93<>\"\",Data!B94,\"\")","v":""},"",{"$f":"IF(AND(Data!F94<>\"\",Data!F94 > 0),Data!F94,\"\")","v":""}]
[{"$f":"IF(D94<>\"\",Data!A95,\"\")","v":""},{"$f":"IF(D94<>\"\",Data!B95,\"\")","v":""},"",{"$f":"IF(AND(Data!F95<>\"\",Data!F95 > 0),Data!F95,\"\")","v":""}]
[{"$f":"IF(D95<>\"\",Data!A96,\"\")","v":""},{"$f":"IF(D95<>\"\",Data!B96,\"\")","v":""},"",{"$f":"IF(AND(Data!F96<>\"\",Data!F96 > 0),Data!F96,\"\")","v":""}]
[{"$f":"IF(D96<>\"\",Data!A97,\"\")","v":""},{"$f":"IF(D96<>\"\",Data!B97,\"\")","v":""},"",{"$f":"IF(AND(Data!F97<>\"\",Data!F97 > 0),Data!F97,\"\")","v":""}]
[{"$f":"IF(D97<>\"\",Data!A98,\"\")","v":""},{"$f":"IF(D97<>\"\",Data!B98,\"\")","v":""},"",{"$f":"IF(AND(Data!F98<>\"\",Data!F98 > 0),Data!F98,\"\")","v":""}]
[{"$f":"IF(D98<>\"\",Data!A99,\"\")","v":""},{"$f":"IF(D98<>\"\",Data!B99,\"\")","v":""},"",{"$f":"IF(AND(Data!F99<>\"\",Data!F99 > 0),Data!F99,\"\")","v":""}]
[{"$f":"IF(D99<>\"\",Data!A100,\"\")","v":""},{"$f":"IF(D99<>\"\",Data!B100,\"\")","v":""},"",{"$f":"IF(AND(Data!F100<>\"\",Data!F100 > 0),Data!F100,\"\")","v":""}]
[{"$f":"IF(D100<>\"\",Data!A101,\"\")","v":""},{"$f":"IF(D100<>\"\",Data!B101,\"\")","v":""},"",{"$f":"IF(AND(Data!F101<>\"\",Data!F101 > 0),Data!F101,\"\")","v":""}]
[{"$f":"IF(D101<>\"\",Data!A102,\"\")","v":""},{"$f":"IF(D101<>\"\",Data!B102,\"\")","v":""},"",{"$f":"IF(AND(Data!F102<>\"\",Data!F102 > 0),Data!F102,\"\")","v":""}]
[{"$f":"IF(D102<>\"\",Data!A103,\"\")","v":""},{"$f":"IF(D102<>\"\",Data!B103,\"\")","v":""},"",{"$f":"IF(AND(Data!F103<>\"\",Data!F103 > 0),Data!F103,\"\")","v":""}]
[{"$f":"IF(D103<>\"\",Data!A104,\"\")","v":""},{"$f":"IF(D103<>\"\",Data!B104,\"\")","v":""},"",{"$f":"IF(AND(Data!F104<>\"\",Data!F104 > 0),Data!F104,\"\")","v":""}]
[{"$f":"IF(D104<>\"\",Data!A105,\"\")","v":""},{"$f":"IF(D104<>\"\",Data!B105,\"\")","v":""},"",{"$f":"IF(AND(Data!F105<>\"\",Data!F105 > 0),Data!F105,\"\")","v":""}]
[{"$f":"IF(D105<>\"\",Data!A106,\"\")","v":""},{"$f":"IF(D105<>\"\",Data!B106,\"\")","v":""},"",{"$f":"IF(AND(Data!F106<>\"\",Data!F106 > 0),Data!F106,\"\")","v":""}]
[{"$f":"IF(D106<>\"\",Data!A107,\"\")","v":""},{"$f":"IF(D106<>\"\",Data!B107,\"\")","v":""},"",{"$f":"IF(AND(Data!F107<>\"\",Data!F107 > 0),Data!F107,\"\")","v":""}]
[{"$f":"IF(D107<>\"\",Data!A108,\"\")","v":""},{"$f":"IF(D107<>\"\",Data!B108,\"\")","v":""},"",{"$f":"IF(AND(Data!F108<>\"\",Data!F108 > 0),Data!F108,\"\")","v":""}]
[{"$f":"IF(D108<>\"\",Data!A109,\"\")","v":""},{"$f":"IF(D108<>\"\",Data!B109,\"\")","v":""},"",{"$f":"IF(AND(Data!F109<>\"\",Data!F109 > 0),Data!F109,\"\")","v":""}]
[{"$f":"IF(D109<>\"\",Data!A110,\"\")","v":""},{"$f":"IF(D109<>\"\",Data!B110,\"\")","v":""},"",{"$f":"IF(AND(Data!F110<>\"\",Data!F110 > 0),Data!F110,\"\")","v":""}]
[{"$f":"IF(D110<>\"\",Data!A111,\"\")","v":""},{"$f":"IF(D110<>\"\",Data!B111,\"\")","v":""},"",{"$f":"IF(AND(Data!F111<>\"\",Data!F111 > 0),Data!F111,\"\")","v":""}]
[{"$f":"IF(D111<>\"\",Data!A112,\"\")","v":""},{"$f":"IF(D111<>\"\",Data!B112,\"\")","v":""},"",{"$f":"IF(AND(Data!F112<>\"\",Data!F112 > 0),Data!F112,\"\")","v":""}]
[{"$f":"IF(D112<>\"\",Data!A113,\"\")","v":""},{"$f":"IF(D112<>\"\",Data!B113,\"\")","v":""},"",{"$f":"IF(AND(Data!F113<>\"\",Data!F113 > 0),Data!F113,\"\")","v":""}]
[{"$f":"IF(D113<>\"\",Data!A114,\"\")","v":""},{"$f":"IF(D113<>\"\",Data!B114,\"\")","v":""},"",{"$f":"IF(AND(Data!F114<>\"\",Data!F114 > 0),Data!F114,\"\")","v":""}]
[{"$f":"IF(D114<>\"\",Data!A115,\"\")","v":""},{"$f":"IF(D114<>\"\",Data!B115,\"\")","v":""},"",{"$f":"IF(AND(Data!F115<>\"\",Data!F115 > 0),Data!F115,\"\")","v":""}]
[{"$f":"IF(D115<>\"\",Data!A116,\"\")","v":""},{"$f":"IF(D115<>\"\",Data!B116,\"\")","v":""},"",{"$f":"IF(AND(Data!F116<>\"\",Data!F116 > 0),Data!F116,\"\")","v":""}]
[{"$f":"IF(D116<>\"\",Data!A117,\"\")","v":""},{"$f":"IF(D116<>\"\",Data!B117,\"\")","v":""},"",{"$f":"IF(AND(Data!F117<>\"\",Data!F117 > 0),Data!F117,\"\")","v":""}]
[{"$f":"IF(D117<>\"\",Data!A118,\"\")","v":""},{"$f":"IF(D117<>\"\",Data!B118,\"\")","v":""},"",{"$f":"IF(AND(Data!F118<>\"\",Data!F118 > 0),Data!F118,\"\")","v":""}]
[{"$f":"IF(D118<>\"\",Data!A119,\"\")","v":""},{"$f":"IF(D118<>\"\",Data!B119,\"\")","v":""},"",{"$f":"IF(AND(Data!F119<>\"\",Data!F119 > 0),Data!F119,\"\")","v":""}]
[{"$f":"IF(D119<>\"\",Data!A120,\"\")","v":""},{"$f":"IF(D119<>\"\",Data!B120,\"\")","v":""},"",{"$f":"IF(AND(Data!F120<>\"\",Data!F120 > 0),Data!F120,\"\")","v":""}]
[{"$f":"IF(D120<>\"\",Data!A121,\"\")","v":""},{"$f":"IF(D120<>\"\",Data!B121,\"\")","v":""},"",{"$f":"IF(AND(Data!F121<>\"\",Data!F121 > 0),Data!F121,\"\")","v":""}]
[{"$f":"IF(D121<>\"\",Data!A122,\"\")","v":""},{"$f":"IF(D121<>\"\",Data!B122,\"\")","v":""},"",{"$f":"IF(AND(Data!F122<>\"\",Data!F122 > 0),Data!F122,\"\")","v":""}]
[{"$f":"IF(D122<>\"\",Data!A123,\"\")","v":""},{"$f":"IF(D122<>\"\",Data!B123,\"\")","v":""},"",{"$f":"IF(AND(Data!F123<>\"\",Data!F123 > 0),Data!F123,\"\")","v":""}]
[{"$f":"IF(D123<>\"\",Data!A124,\"\")","v":""},{"$f":"IF(D123<>\"\",Data!B124,\"\")","v":""},"",{"$f":"IF(AND(Data!F124<>\"\",Data!F124 > 0),Data!F124,\"\")","v":""}]
[{"$f":"IF(D124<>\"\",Data!A125,\"\")","v":""},{"$f":"IF(D124<>\"\",Data!B125,\"\")","v":""},"",{"$f":"IF(AND(Data!F125<>\"\",Data!F125 > 0),Data!F125,\"\")","v":""}]
[{"$f":"IF(D125<>\"\",Data!A126,\"\")","v":""},{"$f":"IF(D125<>\"\",Data!B126,\"\")","v":""},"",{"$f":"IF(AND(Data!F126<>\"\",Data!F126 > 0),Data!F126,\"\")","v":""}]
[{"$f":"IF(D126<>\"\",Data!A127,\"\")","v":""},{"$f":"IF(D126<>\"\",Data!B127,\"\")","v":""},"",{"$f":"IF(AND(Data!F127<>\"\",Data!F127 > 0),Data!F127,\"\")","v":""}]
[{"$f":"IF(D127<>\"\",Data!A128,\"\")","v":""},{"$f":"IF(D127<>\"\",Data!B128,\"\")","v":""},"",{"$f":"IF(AND(Data!F128<>\"\",Data!F128 > 0),Data!F128,\"\")","v":""}]
[{"$f":"IF(D128<>\"\",Data!A129,\"\")","v":""},{"$f":"IF(D128<>\"\",Data!B129,\"\")","v":""},"",{"$f":"IF(AND(Data!F129<>\"\",Data!F129 > 0),Data!F129,\"\")","v":""}]
[{"$f":"IF(D129<>\"\",Data!A130,\"\")","v":""},{"$f":"IF(D129<>\"\",Data!B130,\"\")","v":""},"",{"$f":"IF(AND(Data!F130<>\"\",Data!F130 > 0),Data!F130,\"\")","v":""}]
[{"$f":"IF(D130<>\"\",Data!A131,\"\")","v":""},{"$f":"IF(D130<>\"\",Data!B131,\"\")","v":""},{"$f":"IF(D130<>\"\",MID(CELL(\"filename\",B130),FIND(\"]\",CELL(\"filename\",B130))+1,32),\"\")","v":""},{"$f":"IF(AND(Data!F131<>\"\",Data!F131 > 0),Data!F131,\"\")","v":""}]
[{"$f":"IF(D131<>\"\",Data!A132,\"\")","v":""},{"$f":"IF(D131<>\"\",Data!B132,\"\")","v":""},"",{"$f":"IF(AND(Data!F132<>\"\",Data!F132 > 0),Data!F132,\"\")","v":""}]
[{"$f":"IF(D132<>\"\",Data!A133,\"\")","v":""},{"$f":"IF(D132<>\"\",Data!B133,\"\")","v":""},"",{"$f":"IF(AND(Data!F133<>\"\",Data!F133 > 0),Data!F133,\"\")","v":""}]
[{"$f":"IF(D133<>\"\",Data!A134,\"\")","v":""},{"$f":"IF(D133<>\"\",Data!B134,\"\")","v":""},"",{"$f":"IF(AND(Data!F134<>\"\",Data!F134 > 0),Data!F134,\"\")","v":""}]
[{"$f":"IF(D134<>\"\",Data!A135,\"\")","v":""},{"$f":"IF(D134<>\"\",Data!B135,\"\")","v":""},"",{"$f":"IF(AND(Data!F135<>\"\",Data!F135 > 0),Data!F135,\"\")","v":""}]
[{"$f":"IF(D135<>\"\",Data!A136,\"\")","v":""},{"$f":"IF(D135<>\"\",Data!B136,\"\")","v":""},"",{"$f":"IF(AND(Data!F136<>\"\",Data!F136 > 0),Data!F136,\"\")","v":""}]
[{"$f":"IF(D136<>\"\",Data!A137,\"\")","v":""},{"$f":"IF(D136<>\"\",Data!B137,\"\")","v":""},"",{"$f":"IF(AND(Data!F137<>\"\",Data!F137 > 0),Data!F137,\"\")","v":""}]
[{"$f":"IF(D137<>\"\",Data!A138,\"\")","v":""},{"$f":"IF(D137<>\"\",Data!B138,\"\")","v":""},"",{"$f":"IF(AND(Data!F138<>\"\",Data!F138 > 0),Data!F138,\"\")","v":""}]
[{"$f":"IF(D138<>\"\",Data!A139,\"\")","v":""},{"$f":"IF(D138<>\"\",Data!B139,\"\")","v":""},"",{"$f":"IF(AND(Data!F139<>\"\",Data!F139 > 0),Data!F139,\"\")","v":""}]
[{"$f":"IF(D139<>\"\",Data!A140,\"\")","v":""},{"$f":"IF(D139<>\"\",Data!B140,\"\")","v":""},"",{"$f":"IF(AND(Data!F140<>\"\",Data!F140 > 0),Data!F140,\"\")","v":""}]
[{"$f":"IF(D140<>\"\",Data!A141,\"\")","v":""},{"$f":"IF(D140<>\"\",Data!B141,\"\")","v":""},"",{"$f":"IF(AND(Data!F141<>\"\",Data!F141 > 0),Data!F141,\"\")","v":""}]
[{"$f":"IF(D141<>\"\",Data!A142,\"\")","v":""},{"$f":"IF(D141<>\"\",Data!B142,\"\")","v":""},"",{"$f":"IF(AND(Data!F142<>\"\",Data!F142 > 0),Data!F142,\"\")","v":""}]
[{"$f":"IF(D142<>\"\",Data!A143,\"\")","v":""},{"$f":"IF(D142<>\"\",Data!B143,\"\")","v":""},"",{"$f":"IF(AND(Data!F143<>\"\",Data!F143 > 0),Data!F143,\"\")","v":""}]
[{"$f":"IF(D143<>\"\",Data!A144,\"\")","v":""},{"$f":"IF(D143<>\"\",Data!B144,\"\")","v":""},"",{"$f":"IF(AND(Data!F144<>\"\",Data!F144 > 0),Data!F144,\"\")","v":""}]
[{"$f":"IF(D144<>\"\",Data!A145,\"\")","v":""},{"$f":"IF(D144<>\"\",Data!B145,\"\")","v":""},"",{"$f":"IF(AND(Data!F145<>\"\",Data!F145 > 0),Data!F145,\"\")","v":""}]
[{"$f":"IF(D145<>\"\",Data!A146,\"\")","v":""},{"$f":"IF(D145<>\"\",Data!B146,\"\")","v":""},"",{"$f":"IF(AND(Data!F146<>\"\",Data!F146 > 0),Data!F146,\"\")","v":""}]
[{"$f":"IF(D146<>\"\",Data!A147,\"\")","v":""},{"$f":"IF(D146<>\"\",Data!B147,\"\")","v":""},"",{"$f":"IF(AND(Data!F147<>\"\",Data!F147 > 0),Data!F147,\"\")","v":""}]
[{"$f":"IF(D147<>\"\",Data!A148,\"\")","v":""},{"$f":"IF(D147<>\"\",Data!B148,\"\")","v":""},"",{"$f":"IF(AND(Data!F148<>\"\",Data!F148 > 0),Data!F148,\"\")","v":""}]
[{"$f":"IF(D148<>\"\",Data!A149,\"\")","v":""},{"$f":"IF(D148<>\"\",Data!B149,\"\")","v":""},"",{"$f":"IF(AND(Data!F149<>\"\",Data!F149 > 0),Data!F149,\"\")","v":""}]
[{"$f":"IF(D149<>\"\",Data!A150,\"\")","v":""},{"$f":"IF(D149<>\"\",Data!B150,\"\")","v":""},"",{"$f":"IF(AND(Data!F150<>\"\",Data!F150 > 0),Data!F150,\"\")","v":""}]
[{"$f":"IF(D150<>\"\",Data!A151,\"\")","v":""},{"$f":"IF(D150<>\"\",Data!B151,\"\")","v":""},"",{"$f":"IF(AND(Data!F151<>\"\",Data!F151 > 0),Data!F151,\"\")","v":""}]
[{"$f":"IF(D151<>\"\",Data!A152,\"\")","v":""},{"$f":"IF(D151<>\"\",Data!B152,\"\")","v":""},"",{"$f":"IF(AND(Data!F152<>\"\",Data!F152 > 0),Data!F152,\"\")","v":""}]
[{"$f":"IF(D152<>\"\",Data!A153,\"\")","v":""},{"$f":"IF(D152<>\"\",Data!B153,\"\")","v":""},"",{"$f":"IF(AND(Data!F153<>\"\",Data!F153 > 0),Data!F153,\"\")","v":""}]
[{"$f":"IF(D153<>\"\",Data!A154,\"\")","v":""},{"$f":"IF(D153<>\"\",Data!B154,\"\")","v":""},"",{"$f":"IF(AND(Data!F154<>\"\",Data!F154 > 0),Data!F154,\"\")","v":""}]
[{"$f":"IF(D154<>\"\",Data!A155,\"\")","v":""},{"$f":"IF(D154<>\"\",Data!B155,\"\")","v":""},"",{"$f":"IF(AND(Data!F155<>\"\",Data!F155 > 0),Data!F155,\"\")","v":""}]
[{"$f":"IF(D155<>\"\",Data!A156,\"\")","v":""},{"$f":"IF(D155<>\"\",Data!B156,\"\")","v":""},"",{"$f":"IF(AND(Data!F156<>\"\",Data!F156 > 0),Data!F156,\"\")","v":""}]
[{"$f":"IF(D156<>\"\",Data!A157,\"\")","v":""},{"$f":"IF(D156<>\"\",Data!B157,\"\")","v":""},"",{"$f":"IF(AND(Data!F157<>\"\",Data!F157 > 0),Data!F157,\"\")","v":""}]
[{"$f":"IF(D157<>\"\",Data!A158,\"\")","v":""},{"$f":"IF(D157<>\"\",Data!B158,\"\")","v":""},"",{"$f":"IF(AND(Data!F158<>\"\",Data!F158 > 0),Data!F158,\"\")","v":""}]
[{"$f":"IF(D158<>\"\",Data!A159,\"\")","v":""},{"$f":"IF(D158<>\"\",Data!B159,\"\")","v":""},"",{"$f":"IF(AND(Data!F159<>\"\",Data!F159 > 0),Data!F159,\"\")","v":""}]
[{"$f":"IF(D159<>\"\",Data!A160,\"\")","v":""},{"$f":"IF(D159<>\"\",Data!B160,\"\")","v":""},"",{"$f":"IF(AND(Data!F160<>\"\",Data!F160 > 0),Data!F160,\"\")","v":""}]
[{"$f":"IF(D160<>\"\",Data!A161,\"\")","v":""},{"$f":"IF(D160<>\"\",Data!B161,\"\")","v":""},"",{"$f":"IF(AND(Data!F161<>\"\",Data!F161 > 0),Data!F161,\"\")","v":""}]
[{"$f":"IF(D161<>\"\",Data!A162,\"\")","v":""},{"$f":"IF(D161<>\"\",Data!B162,\"\")","v":""},"",{"$f":"IF(AND(Data!F162<>\"\",Data!F162 > 0),Data!F162,\"\")","v":""}]
[{"$f":"IF(D162<>\"\",Data!A163,\"\")","v":""},{"$f":"IF(D162<>\"\",Data!B163,\"\")","v":""},"",{"$f":"IF(AND(Data!F163<>\"\",Data!F163 > 0),Data!F163,\"\")","v":""}]
[{"$f":"IF(D163<>\"\",Data!A164,\"\")","v":""},{"$f":"IF(D163<>\"\",Data!B164,\"\")","v":""},"",{"$f":"IF(AND(Data!F164<>\"\",Data!F164 > 0),Data!F164,\"\")","v":""}]
[{"$f":"IF(D164<>\"\",Data!A165,\"\")","v":""},{"$f":"IF(D164<>\"\",Data!B165,\"\")","v":""},"",{"$f":"IF(AND(Data!F165<>\"\",Data!F165 > 0),Data!F165,\"\")","v":""}]
[{"$f":"IF(D165<>\"\",Data!A166,\"\")","v":""},{"$f":"IF(D165<>\"\",Data!B166,\"\")","v":""},"",{"$f":"IF(AND(Data!F166<>\"\",Data!F166 > 0),Data!F166,\"\")","v":""}]
[{"$f":"IF(D166<>\"\",Data!A167,\"\")","v":""},{"$f":"IF(D166<>\"\",Data!B167,\"\")","v":""},"",{"$f":"IF(AND(Data!F167<>\"\",Data!F167 > 0),Data!F167,\"\")","v":""}]
[{"$f":"IF(D167<>\"\",Data!A168,\"\")","v":""},{"$f":"IF(D167<>\"\",Data!B168,\"\")","v":""},"",{"$f":"IF(AND(Data!F168<>\"\",Data!F168 > 0),Data!F168,\"\")","v":""}]
[{"$f":"IF(D168<>\"\",Data!A169,\"\")","v":""},{"$f":"IF(D168<>\"\",Data!B169,\"\")","v":""},"",{"$f":"IF(AND(Data!F169<>\"\",Data!F169 > 0),Data!F169,\"\")","v":""}]
[{"$f":"IF(D169<>\"\",Data!A170,\"\")","v":""},{"$f":"IF(D169<>\"\",Data!B170,\"\")","v":""},"",{"$f":"IF(AND(Data!F170<>\"\",Data!F170 > 0),Data!F170,\"\")","v":""}]
[{"$f":"IF(D170<>\"\",Data!A171,\"\")","v":""},{"$f":"IF(D170<>\"\",Data!B171,\"\")","v":""},"",{"$f":"IF(AND(Data!F171<>\"\",Data!F171 > 0),Data!F171,\"\")","v":""}]
[{"$f":"IF(D171<>\"\",Data!A172,\"\")","v":""},{"$f":"IF(D171<>\"\",Data!B172,\"\")","v":""},"",{"$f":"IF(AND(Data!F172<>\"\",Data!F172 > 0),Data!F172,\"\")","v":""}]
[{"$f":"IF(D172<>\"\",Data!A173,\"\")","v":""},{"$f":"IF(D172<>\"\",Data!B173,\"\")","v":""},"",{"$f":"IF(AND(Data!F173<>\"\",Data!F173 > 0),Data!F173,\"\")","v":""}]
[{"$f":"IF(D173<>\"\",Data!A174,\"\")","v":""},{"$f":"IF(D173<>\"\",Data!B174,\"\")","v":""},"",{"$f":"IF(AND(Data!F174<>\"\",Data!F174 > 0),Data!F174,\"\")","v":""}]
[{"$f":"IF(D174<>\"\",Data!A175,\"\")","v":""},{"$f":"IF(D174<>\"\",Data!B175,\"\")","v":""},"",{"$f":"IF(AND(Data!F175<>\"\",Data!F175 > 0),Data!F175,\"\")","v":""}]
[{"$f":"IF(D175<>\"\",Data!A176,\"\")","v":""},{"$f":"IF(D175<>\"\",Data!B176,\"\")","v":""},"",{"$f":"IF(AND(Data!F176<>\"\",Data!F176 > 0),Data!F176,\"\")","v":""}]
[{"$f":"IF(D176<>\"\",Data!A177,\"\")","v":""},{"$f":"IF(D176<>\"\",Data!B177,\"\")","v":""},"",{"$f":"IF(AND(Data!F177<>\"\",Data!F177 > 0),Data!F177,\"\")","v":""}]
[{"$f":"IF(D177<>\"\",Data!A178,\"\")","v":""},{"$f":"IF(D177<>\"\",Data!B178,\"\")","v":""},"",{"$f":"IF(AND(Data!F178<>\"\",Data!F178 > 0),Data!F178,\"\")","v":""}]
[{"$f":"IF(D178<>\"\",Data!A179,\"\")","v":""},{"$f":"IF(D178<>\"\",Data!B179,\"\")","v":""},"",{"$f":"IF(AND(Data!F179<>\"\",Data!F179 > 0),Data!F179,\"\")","v":""}]
[{"$f":"IF(D179<>\"\",Data!A180,\"\")","v":""},{"$f":"IF(D179<>\"\",Data!B180,\"\")","v":""},"",{"$f":"IF(AND(Data!F180<>\"\",Data!F180 > 0),Data!F180,\"\")","v":""}]
[{"$f":"IF(D180<>\"\",Data!A181,\"\")","v":""},{"$f":"IF(D180<>\"\",Data!B181,\"\")","v":""},"",{"$f":"IF(AND(Data!F181<>\"\",Data!F181 > 0),Data!F181,\"\")","v":""}]
[{"$f":"IF(D181<>\"\",Data!A182,\"\")","v":""},{"$f":"IF(D181<>\"\",Data!B182,\"\")","v":""},"",{"$f":"IF(AND(Data!F182<>\"\",Data!F182 > 0),Data!F182,\"\")","v":""}]
[{"$f":"IF(D182<>\"\",Data!A183,\"\")","v":""},{"$f":"IF(D182<>\"\",Data!B183,\"\")","v":""},"",{"$f":"IF(AND(Data!F183<>\"\",Data!F183 > 0),Data!F183,\"\")","v":""}]
[{"$f":"IF(D183<>\"\",Data!A184,\"\")","v":""},{"$f":"IF(D183<>\"\",Data!B184,\"\")","v":""},"",{"$f":"IF(AND(Data!F184<>\"\",Data!F184 > 0),Data!F184,\"\")","v":""}]
[{"$f":"IF(D184<>\"\",Data!A185,\"\")","v":""},{"$f":"IF(D184<>\"\",Data!B185,\"\")","v":""},"",{"$f":"IF(AND(Data!F185<>\"\",Data!F185 > 0),Data!F185,\"\")","v":""}]
[{"$f":"IF(D185<>\"\",Data!A186,\"\")","v":""},{"$f":"IF(D185<>\"\",Data!B186,\"\")","v":""},"",{"$f":"IF(AND(Data!F186<>\"\",Data!F186 > 0),Data!F186,\"\")","v":""}]
[{"$f":"IF(D186<>\"\",Data!A187,\"\")","v":""},{"$f":"IF(D186<>\"\",Data!B187,\"\")","v":""},"",{"$f":"IF(AND(Data!F187<>\"\",Data!F187 > 0),Data!F187,\"\")","v":""}]
[{"$f":"IF(D187<>\"\",Data!A188,\"\")","v":""},{"$f":"IF(D187<>\"\",Data!B188,\"\")","v":""},"",{"$f":"IF(AND(Data!F188<>\"\",Data!F188 > 0),Data!F188,\"\")","v":""}]
[{"$f":"IF(D188<>\"\",Data!A189,\"\")","v":""},{"$f":"IF(D188<>\"\",Data!B189,\"\")","v":""},"",{"$f":"IF(AND(Data!F189<>\"\",Data!F189 > 0),Data!F189,\"\")","v":""}]
[{"$f":"IF(D189<>\"\",Data!A190,\"\")","v":""},{"$f":"IF(D189<>\"\",Data!B190,\"\")","v":""},"",{"$f":"IF(AND(Data!F190<>\"\",Data!F190 > 0),Data!F190,\"\")","v":""}]
[{"$f":"IF(D190<>\"\",Data!A191,\"\")","v":""},{"$f":"IF(D190<>\"\",Data!B191,\"\")","v":""},"",{"$f":"IF(AND(Data!F191<>\"\",Data!F191 > 0),Data!F191,\"\")","v":""}]
[{"$f":"IF(D191<>\"\",Data!A192,\"\")","v":""},{"$f":"IF(D191<>\"\",Data!B192,\"\")","v":""},"",{"$f":"IF(AND(Data!F192<>\"\",Data!F192 > 0),Data!F192,\"\")","v":""}]
[{"$f":"IF(D192<>\"\",Data!A193,\"\")","v":""},{"$f":"IF(D192<>\"\",Data!B193,\"\")","v":""},"",{"$f":"IF(AND(Data!F193<>\"\",Data!F193 > 0),Data!F193,\"\")","v":""}]
[{"$f":"IF(D193<>\"\",Data!A194,\"\")","v":""},{"$f":"IF(D193<>\"\",Data!B194,\"\")","v":""},"",{"$f":"IF(AND(Data!F194<>\"\",Data!F194 > 0),Data!F194,\"\")","v":""}]
[{"$f":"IF(D194<>\"\",Data!A195,\"\")","v":""},{"$f":"IF(D194<>\"\",Data!B195,\"\")","v":""},{"$f":"IF(D194<>\"\",MID(CELL(\"filename\",B194),FIND(\"]\",CELL(\"filename\",B194))+1,32),\"\")","v":""},{"$f":"IF(AND(Data!F195<>\"\",Data!F195 > 0),Data!F195,\"\")","v":""}]
[{"$f":"IF(D195<>\"\",Data!A196,\"\")","v":""},{"$f":"IF(D195<>\"\",Data!B196,\"\")","v":""},"",{"$f":"IF(AND(Data!F196<>\"\",Data!F196 > 0),Data!F196,\"\")","v":""}]
[{"$f":"IF(D196<>\"\",Data!A197,\"\")","v":""},{"$f":"IF(D196<>\"\",Data!B197,\"\")","v":""},"",{"$f":"IF(AND(Data!F197<>\"\",Data!F197 > 0),Data!F197,\"\")","v":""}]
[{"$f":"IF(D197<>\"\",Data!A198,\"\")","v":""},{"$f":"IF(D197<>\"\",Data!B198,\"\")","v":""},"",{"$f":"IF(AND(Data!F198<>\"\",Data!F198 > 0),Data!F198,\"\")","v":""}]
[{"$f":"IF(D198<>\"\",Data!A199,\"\")","v":""},{"$f":"IF(D198<>\"\",Data!B199,\"\")","v":""},"",{"$f":"IF(AND(Data!F199<>\"\",Data!F199 > 0),Data!F199,\"\")","v":""}]
[{"$f":"IF(D199<>\"\",Data!A200,\"\")","v":""},{"$f":"IF(D199<>\"\",Data!B200,\"\")","v":""},"",{"$f":"IF(AND(Data!F200<>\"\",Data!F200 > 0),Data!F200,\"\")","v":""}]
[{"$f":"IF(D200<>\"\",Data!A201,\"\")","v":""},{"$f":"IF(D200<>\"\",Data!B201,\"\")","v":""},"",{"$f":"IF(AND(Data!F201<>\"\",Data!F201 > 0),Data!F201,\"\")","v":""}]
[{"$f":"IF(D201<>\"\",Data!A202,\"\")","v":""},{"$f":"IF(D201<>\"\",Data!B202,\"\")","v":""},"",{"$f":"IF(AND(Data!F202<>\"\",Data!F202 > 0),Data!F202,\"\")","v":""}]
[{"$f":"IF(D202<>\"\",Data!A203,\"\")","v":""},{"$f":"IF(D202<>\"\",Data!B203,\"\")","v":""},"",{"$f":"IF(AND(Data!F203<>\"\",Data!F203 > 0),Data!F203,\"\")","v":""}]
[{"$f":"IF(D203<>\"\",Data!A204,\"\")","v":""},{"$f":"IF(D203<>\"\",Data!B204,\"\")","v":""},"",{"$f":"IF(AND(Data!F204<>\"\",Data!F204 > 0),Data!F204,\"\")","v":""}]
[{"$f":"IF(D204<>\"\",Data!A205,\"\")","v":""},{"$f":"IF(D204<>\"\",Data!B205,\"\")","v":""},"",{"$f":"IF(AND(Data!F205<>\"\",Data!F205 > 0),Data!F205,\"\")","v":""}]
[{"$f":"IF(D205<>\"\",Data!A206,\"\")","v":""},{"$f":"IF(D205<>\"\",Data!B206,\"\")","v":""},"",{"$f":"IF(AND(Data!F206<>\"\",Data!F206 > 0),Data!F206,\"\")","v":""}]
[{"$f":"IF(D206<>\"\",Data!A207,\"\")","v":""},{"$f":"IF(D206<>\"\",Data!B207,\"\")","v":""},"",{"$f":"IF(AND(Data!F207<>\"\",Data!F207 > 0),Data!F207,\"\")","v":""}]
[{"$f":"IF(D207<>\"\",Data!A208,\"\")","v":""},{"$f":"IF(D207<>\"\",Data!B208,\"\")","v":""},"",{"$f":"IF(AND(Data!F208<>\"\",Data!F208 > 0),Data!F208,\"\")","v":""}]
[{"$f":"IF(D208<>\"\",Data!A209,\"\")","v":""},{"$f":"IF(D208<>\"\",Data!B209,\"\")","v":""},"",{"$f":"IF(AND(Data!F209<>\"\",Data!F209 > 0),Data!F209,\"\")","v":""}]
[{"$f":"IF(D209<>\"\",Data!A210,\"\")","v":""},{"$f":"IF(D209<>\"\",Data!B210,\"\")","v":""},"",{"$f":"IF(AND(Data!F210<>\"\",Data!F210 > 0),Data!F210,\"\")","v":""}]
[{"$f":"IF(D210<>\"\",Data!A211,\"\")","v":""},{"$f":"IF(D210<>\"\",Data!B211,\"\")","v":""},"",{"$f":"IF(AND(Data!F211<>\"\",Data!F211 > 0),Data!F211,\"\")","v":""}]
[{"$f":"IF(D211<>\"\",Data!A212,\"\")","v":""},{"$f":"IF(D211<>\"\",Data!B212,\"\")","v":""},"",{"$f":"IF(AND(Data!F212<>\"\",Data!F212 > 0),Data!F212,\"\")","v":""}]
[{"$f":"IF(D212<>\"\",Data!A213,\"\")","v":""},{"$f":"IF(D212<>\"\",Data!B213,\"\")","v":""},"",{"$f":"IF(AND(Data!F213<>\"\",Data!F213 > 0),Data!F213,\"\")","v":""}]
[{"$f":"IF(D213<>\"\",Data!A214,\"\")","v":""},{"$f":"IF(D213<>\"\",Data!B214,\"\")","v":""},"",{"$f":"IF(AND(Data!F214<>\"\",Data!F214 > 0),Data!F214,\"\")","v":""}]
[{"$f":"IF(D214<>\"\",Data!A215,\"\")","v":""},{"$f":"IF(D214<>\"\",Data!B215,\"\")","v":""},"",{"$f":"IF(AND(Data!F215<>\"\",Data!F215 > 0),Data!F215,\"\")","v":""}]
[{"$f":"IF(D215<>\"\",Data!A216,\"\")","v":""},{"$f":"IF(D215<>\"\",Data!B216,\"\")","v":""},"",{"$f":"IF(AND(Data!F216<>\"\",Data!F216 > 0),Data!F216,\"\")","v":""}]
[{"$f":"IF(D216<>\"\",Data!A217,\"\")","v":""},{"$f":"IF(D216<>\"\",Data!B217,\"\")","v":""},"",{"$f":"IF(AND(Data!F217<>\"\",Data!F217 > 0),Data!F217,\"\")","v":""}]
[{"$f":"IF(D217<>\"\",Data!A218,\"\")","v":""},{"$f":"IF(D217<>\"\",Data!B218,\"\")","v":""},"",{"$f":"IF(AND(Data!F218<>\"\",Data!F218 > 0),Data!F218,\"\")","v":""}]
[{"$f":"IF(D218<>\"\",Data!A219,\"\")","v":""},{"$f":"IF(D218<>\"\",Data!B219,\"\")","v":""},"",{"$f":"IF(AND(Data!F219<>\"\",Data!F219 > 0),Data!F219,\"\")","v":""}]
[{"$f":"IF(D219<>\"\",Data!A220,\"\")","v":""},{"$f":"IF(D219<>\"\",Data!B220,\"\")","v":""},"",{"$f":"IF(AND(Data!F220<>\"\",Data!F220 > 0),Data!F220,\"\")","v":""}]
[{"$f":"IF(D220<>\"\",Data!A221,\"\")","v":""},{"$f":"IF(D220<>\"\",Data!B221,\"\")","v":""},"",{"$f":"IF(AND(Data!F221<>\"\",Data!F221 > 0),Data!F221,\"\")","v":""}]
[{"$f":"IF(D221<>\"\",Data!A222,\"\")","v":""},{"$f":"IF(D221<>\"\",Data!B222,\"\")","v":""},"",{"$f":"IF(AND(Data!F222<>\"\",Data!F222 > 0),Data!F222,\"\")","v":""}]
[{"$f":"IF(D222<>\"\",Data!A223,\"\")","v":""},{"$f":"IF(D222<>\"\",Data!B223,\"\")","v":""},"",{"$f":"IF(AND(Data!F223<>\"\",Data!F223 > 0),Data!F223,\"\")","v":""}]
[{"$f":"IF(D223<>\"\",Data!A224,\"\")","v":""},{"$f":"IF(D223<>\"\",Data!B224,\"\")","v":""},"",{"$f":"IF(AND(Data!F224<>\"\",Data!F224 > 0),Data!F224,\"\")","v":""}]
[{"$f":"IF(D224<>\"\",Data!A225,\"\")","v":""},{"$f":"IF(D224<>\"\",Data!B225,\"\")","v":""},"",{"$f":"IF(AND(Data!F225<>\"\",Data!F225 > 0),Data!F225,\"\")","v":""}]
[{"$f":"IF(D225<>\"\",Data!A226,\"\")","v":""},{"$f":"IF(D225<>\"\",Data!B226,\"\")","v":""},"",{"$f":"IF(AND(Data!F226<>\"\",Data!F226 > 0),Data!F226,\"\")","v":""}]
[{"$f":"IF(D226<>\"\",Data!A227,\"\")","v":""},{"$f":"IF(D226<>\"\",Data!B227,\"\")","v":""},"",{"$f":"IF(AND(Data!F227<>\"\",Data!F227 > 0),Data!F227,\"\")","v":""}]
[{"$f":"IF(D227<>\"\",Data!A228,\"\")","v":""},{"$f":"IF(D227<>\"\",Data!B228,\"\")","v":""},"",{"$f":"IF(AND(Data!F228<>\"\",Data!F228 > 0),Data!F228,\"\")","v":""}]
[{"$f":"IF(D228<>\"\",Data!A229,\"\")","v":""},{"$f":"IF(D228<>\"\",Data!B229,\"\")","v":""},"",{"$f":"IF(AND(Data!F229<>\"\",Data!F229 > 0),Data!F229,\"\")","v":""}]
[{"$f":"IF(D229<>\"\",Data!A230,\"\")","v":""},{"$f":"IF(D229<>\"\",Data!B230,\"\")","v":""},"",{"$f":"IF(AND(Data!F230<>\"\",Data!F230 > 0),Data!F230,\"\")","v":""}]
[{"$f":"IF(D230<>\"\",Data!A231,\"\")","v":""},{"$f":"IF(D230<>\"\",Data!B231,\"\")","v":""},"",{"$f":"IF(AND(Data!F231<>\"\",Data!F231 > 0),Data!F231,\"\")","v":""}]
[{"$f":"IF(D231<>\"\",Data!A232,\"\")","v":""},{"$f":"IF(D231<>\"\",Data!B232,\"\")","v":""},"",{"$f":"IF(AND(Data!F232<>\"\",Data!F232 > 0),Data!F232,\"\")","v":""}]
[{"$f":"IF(D232<>\"\",Data!A233,\"\")","v":""},{"$f":"IF(D232<>\"\",Data!B233,\"\")","v":""},"",{"$f":"IF(AND(Data!F233<>\"\",Data!F233 > 0),Data!F233,\"\")","v":""}]
[{"$f":"IF(D233<>\"\",Data!A234,\"\")","v":""},{"$f":"IF(D233<>\"\",Data!B234,\"\")","v":""},"",{"$f":"IF(AND(Data!F234<>\"\",Data!F234 > 0),Data!F234,\"\")","v":""}]
[{"$f":"IF(D234<>\"\",Data!A235,\"\")","v":""},{"$f":"IF(D234<>\"\",Data!B235,\"\")","v":""},"",{"$f":"IF(AND(Data!F235<>\"\",Data!F235 > 0),Data!F235,\"\")","v":""}]
[{"$f":"IF(D235<>\"\",Data!A236,\"\")","v":""},{"$f":"IF(D235<>\"\",Data!B236,\"\")","v":""},"",{"$f":"IF(AND(Data!F236<>\"\",Data!F236 > 0),Data!F236,\"\")","v":""}]
[{"$f":"IF(D236<>\"\",Data!A237,\"\")","v":""},{"$f":"IF(D236<>\"\",Data!B237,\"\")","v":""},"",{"$f":"IF(AND(Data!F237<>\"\",Data!F237 > 0),Data!F237,\"\")","v":""}]
[{"$f":"IF(D237<>\"\",Data!A238,\"\")","v":""},{"$f":"IF(D237<>\"\",Data!B238,\"\")","v":""},"",{"$f":"IF(AND(Data!F238<>\"\",Data!F238 > 0),Data!F238,\"\")","v":""}]
[{"$f":"IF(D238<>\"\",Data!A239,\"\")","v":""},{"$f":"IF(D238<>\"\",Data!B239,\"\")","v":""},"",{"$f":"IF(AND(Data!F239<>\"\",Data!F239 > 0),Data!F239,\"\")","v":""}]
[{"$f":"IF(D239<>\"\",Data!A240,\"\")","v":""},{"$f":"IF(D239<>\"\",Data!B240,\"\")","v":""},"",{"$f":"IF(AND(Data!F240<>\"\",Data!F240 > 0),Data!F240,\"\")","v":""}]
[{"$f":"IF(D240<>\"\",Data!A241,\"\")","v":""},{"$f":"IF(D240<>\"\",Data!B241,\"\")","v":""},"",{"$f":"IF(AND(Data!F241<>\"\",Data!F241 > 0),Data!F241,\"\")","v":""}]
[{"$f":"IF(D241<>\"\",Data!A242,\"\")","v":""},{"$f":"IF(D241<>\"\",Data!B242,\"\")","v":""},"",{"$f":"IF(AND(Data!F242<>\"\",Data!F242 > 0),Data!F242,\"\")","v":""}]
[{"$f":"IF(D242<>\"\",Data!A243,\"\")","v":""},{"$f":"IF(D242<>\"\",Data!B243,\"\")","v":""},"",{"$f":"IF(AND(Data!F243<>\"\",Data!F243 > 0),Data!F243,\"\")","v":""}]
[{"$f":"IF(D243<>\"\",Data!A244,\"\")","v":""},{"$f":"IF(D243<>\"\",Data!B244,\"\")","v":""},"",{"$f":"IF(AND(Data!F244<>\"\",Data!F244 > 0),Data!F244,\"\")","v":""}]
[{"$f":"IF(D244<>\"\",Data!A245,\"\")","v":""},{"$f":"IF(D244<>\"\",Data!B245,\"\")","v":""},"",{"$f":"IF(AND(Data!F245<>\"\",Data!F245 > 0),Data!F245,\"\")","v":""}]
[{"$f":"IF(D245<>\"\",Data!A246,\"\")","v":""},{"$f":"IF(D245<>\"\",Data!B246,\"\")","v":""},"",{"$f":"IF(AND(Data!F246<>\"\",Data!F246 > 0),Data!F246,\"\")","v":""}]
[{"$f":"IF(D246<>\"\",Data!A247,\"\")","v":""},{"$f":"IF(D246<>\"\",Data!B247,\"\")","v":""},"",{"$f":"IF(AND(Data!F247<>\"\",Data!F247 > 0),Data!F247,\"\")","v":""}]
[{"$f":"IF(D247<>\"\",Data!A248,\"\")","v":""},{"$f":"IF(D247<>\"\",Data!B248,\"\")","v":""},"",{"$f":"IF(AND(Data!F248<>\"\",Data!F248 > 0),Data!F248,\"\")","v":""}]
[{"$f":"IF(D248<>\"\",Data!A249,\"\")","v":""},{"$f":"IF(D248<>\"\",Data!B249,\"\")","v":""},"",{"$f":"IF(AND(Data!F249<>\"\",Data!F249 > 0),Data!F249,\"\")","v":""}]
[{"$f":"IF(D249<>\"\",Data!A250,\"\")","v":""},{"$f":"IF(D249<>\"\",Data!B250,\"\")","v":""},"",{"$f":"IF(AND(Data!F250<>\"\",Data!F250 > 0),Data!F250,\"\")","v":""}]
[{"$f":"IF(D250<>\"\",Data!A251,\"\")","v":""},{"$f":"IF(D250<>\"\",Data!B251,\"\")","v":""},"",{"$f":"IF(AND(Data!F251<>\"\",Data!F251 > 0),Data!F251,\"\")","v":""}]
[{"$f":"IF(D251<>\"\",Data!A252,\"\")","v":""},{"$f":"IF(D251<>\"\",Data!B252,\"\")","v":""},"",{"$f":"IF(AND(Data!F252<>\"\",Data!F252 > 0),Data!F252,\"\")","v":""}]
[{"$f":"IF(D252<>\"\",Data!A253,\"\")","v":""},{"$f":"IF(D252<>\"\",Data!B253,\"\")","v":""},"",{"$f":"IF(AND(Data!F253<>\"\",Data!F253 > 0),Data!F253,\"\")","v":""}]
[{"$f":"IF(D253<>\"\",Data!A254,\"\")","v":""},{"$f":"IF(D253<>\"\",Data!B254,\"\")","v":""},"",{"$f":"IF(AND(Data!F254<>\"\",Data!F254 > 0),Data!F254,\"\")","v":""}]
[{"$f":"IF(D254<>\"\",Data!A255,\"\")","v":""},{"$f":"IF(D254<>\"\",Data!B255,\"\")","v":""},"",{"$f":"IF(AND(Data!F255<>\"\",Data!F255 > 0),Data!F255,\"\")","v":""}]
[{"$f":"IF(D255<>\"\",Data!A256,\"\")","v":""},{"$f":"IF(D255<>\"\",Data!B256,\"\")","v":""},"",{"$f":"IF(AND(Data!F256<>\"\",Data!F256 > 0),Data!F256,\"\")","v":""}]
[{"$f":"IF(D256<>\"\",Data!A257,\"\")","v":""},{"$f":"IF(D256<>\"\",Data!B257,\"\")","v":""},"",{"$f":"IF(AND(Data!F257<>\"\",Data!F257 > 0),Data!F257,\"\")","v":""}]
[{"$f":"IF(D257<>\"\",Data!A258,\"\")","v":""},{"$f":"IF(D257<>\"\",Data!B258,\"\")","v":""},"",{"$f":"IF(AND(Data!F258<>\"\",Data!F258 > 0),Data!F258,\"\")","v":""}]
[{"$f":"IF(D258<>\"\",Data!A259,\"\")","v":""},{"$f":"IF(D258<>\"\",Data!B259,\"\")","v":""},{"$f":"IF(D258<>\"\",MID(CELL(\"filename\",B258),FIND(\"]\",CELL(\"filename\",B258))+1,32),\"\")","v":""},{"$f":"IF(AND(Data!F259<>\"\",Data!F259 > 0),Data!F259,\"\")","v":""}]
[{"$f":"IF(D259<>\"\",Data!A260,\"\")","v":""},{"$f":"IF(D259<>\"\",Data!B260,\"\")","v":""},"",{"$f":"IF(AND(Data!F260<>\"\",Data!F260 > 0),Data!F260,\"\")","v":""}]
[{"$f":"IF(D260<>\"\",Data!A261,\"\")","v":""},{"$f":"IF(D260<>\"\",Data!B261,\"\")","v":""},"",{"$f":"IF(AND(Data!F261<>\"\",Data!F261 > 0),Data!F261,\"\")","v":""}]
[{"$f":"IF(D261<>\"\",Data!A262,\"\")","v":""},{"$f":"IF(D261<>\"\",Data!B262,\"\")","v":""},"",{"$f":"IF(AND(Data!F262<>\"\",Data!F262 > 0),Data!F262,\"\")","v":""}]
[{"$f":"IF(D262<>\"\",Data!A263,\"\")","v":""},{"$f":"IF(D262<>\"\",Data!B263,\"\")","v":""},"",{"$f":"IF(AND(Data!F263<>\"\",Data!F263 > 0),Data!F263,\"\")","v":""}]
[{"$f":"IF(D263<>\"\",Data!A264,\"\")","v":""},{"$f":"IF(D263<>\"\",Data!B264,\"\")","v":""},"",{"$f":"IF(AND(Data!F264<>\"\",Data!F264 > 0),Data!F264,\"\")","v":""}]
[{"$f":"IF(D264<>\"\",Data!A265,\"\")","v":""},{"$f":"IF(D264<>\"\",Data!B265,\"\")","v":""},"",{"$f":"IF(AND(Data!F265<>\"\",Data!F265 > 0),Data!F265,\"\")","v":""}]
[{"$f":"IF(D265<>\"\",Data!A266,\"\")","v":""},{"$f":"IF(D265<>\"\",Data!B266,\"\")","v":""},"",{"$f":"IF(AND(Data!F266<>\"\",Data!F266 > 0),Data!F266,\"\")","v":""}]
[{"$f":"IF(D266<>\"\",Data!A267,\"\")","v":""},{"$f":"IF(D266<>\"\",Data!B267,\"\")","v":""},"",{"$f":"IF(AND(Data!F267<>\"\",Data!F267 > 0),Data!F267,\"\")","v":""}]
[{"$f":"IF(D267<>\"\",Data!A268,\"\")","v":""},{"$f":"IF(D267<>\"\",Data!B268,\"\")","v":""},"",{"$f":"IF(AND(Data!F268<>\"\",Data!F268 > 0),Data!F268,\"\")","v":""}]
[{"$f":"IF(D268<>\"\",Data!A269,\"\")","v":""},{"$f":"IF(D268<>\"\",Data!B269,\"\")","v":""},"",{"$f":"IF(AND(Data!F269<>\"\",Data!F269 > 0),Data!F269,\"\")","v":""}]
[{"$f":"IF(D269<>\"\",Data!A270,\"\")","v":""},{"$f":"IF(D269<>\"\",Data!B270,\"\")","v":""},"",{"$f":"IF(AND(Data!F270<>\"\",Data!F270 > 0),Data!F270,\"\")","v":""}]
[{"$f":"IF(D270<>\"\",Data!A271,\"\")","v":""},{"$f":"IF(D270<>\"\",Data!B271,\"\")","v":""},"",{"$f":"IF(AND(Data!F271<>\"\",Data!F271 > 0),Data!F271,\"\")","v":""}]
[{"$f":"IF(D271<>\"\",Data!A272,\"\")","v":""},{"$f":"IF(D271<>\"\",Data!B272,\"\")","v":""},"",{"$f":"IF(AND(Data!F272<>\"\",Data!F272 > 0),Data!F272,\"\")","v":""}]
[{"$f":"IF(D272<>\"\",Data!A273,\"\")","v":""},{"$f":"IF(D272<>\"\",Data!B273,\"\")","v":""},"",{"$f":"IF(AND(Data!F273<>\"\",Data!F273 > 0),Data!F273,\"\")","v":""}]
[{"$f":"IF(D273<>\"\",Data!A274,\"\")","v":""},{"$f":"IF(D273<>\"\",Data!B274,\"\")","v":""},"",{"$f":"IF(AND(Data!F274<>\"\",Data!F274 > 0),Data!F274,\"\")","v":""}]
[{"$f":"IF(D274<>\"\",Data!A275,\"\")","v":""},{"$f":"IF(D274<>\"\",Data!B275,\"\")","v":""},"",{"$f":"IF(AND(Data!F275<>\"\",Data!F275 > 0),Data!F275,\"\")","v":""}]
[{"$f":"IF(D275<>\"\",Data!A276,\"\")","v":""},{"$f":"IF(D275<>\"\",Data!B276,\"\")","v":""},"",{"$f":"IF(AND(Data!F276<>\"\",Data!F276 > 0),Data!F276,\"\")","v":""}]
[{"$f":"IF(D276<>\"\",Data!A277,\"\")","v":""},{"$f":"IF(D276<>\"\",Data!B277,\"\")","v":""},"",{"$f":"IF(AND(Data!F277<>\"\",Data!F277 > 0),Data!F277,\"\")","v":""}]
[{"$f":"IF(D277<>\"\",Data!A278,\"\")","v":""},{"$f":"IF(D277<>\"\",Data!B278,\"\")","v":""},"",{"$f":"IF(AND(Data!F278<>\"\",Data!F278 > 0),Data!F278,\"\")","v":""}]
[{"$f":"IF(D278<>\"\",Data!A279,\"\")","v":""},{"$f":"IF(D278<>\"\",Data!B279,\"\")","v":""},"",{"$f":"IF(AND(Data!F279<>\"\",Data!F279 > 0),Data!F279,\"\")","v":""}]
[{"$f":"IF(D279<>\"\",Data!A280,\"\")","v":""},{"$f":"IF(D279<>\"\",Data!B280,\"\")","v":""},"",{"$f":"IF(AND(Data!F280<>\"\",Data!F280 > 0),Data!F280,\"\")","v":""}]
[{"$f":"IF(D280<>\"\",Data!A281,\"\")","v":""},{"$f":"IF(D280<>\"\",Data!B281,\"\")","v":""},"",{"$f":"IF(AND(Data!F281<>\"\",Data!F281 > 0),Data!F281,\"\")","v":""}]
[{"$f":"IF(D281<>\"\",Data!A282,\"\")","v":""},{"$f":"IF(D281<>\"\",Data!B282,\"\")","v":""},"",{"$f":"IF(AND(Data!F282<>\"\",Data!F282 > 0),Data!F282,\"\")","v":""}]
[{"$f":"IF(D282<>\"\",Data!A283,\"\")","v":""},{"$f":"IF(D282<>\"\",Data!B283,\"\")","v":""},"",{"$f":"IF(AND(Data!F283<>\"\",Data!F283 > 0),Data!F283,\"\")","v":""}]
[{"$f":"IF(D283<>\"\",Data!A284,\"\")","v":""},{"$f":"IF(D283<>\"\",Data!B284,\"\")","v":""},"",{"$f":"IF(AND(Data!F284<>\"\",Data!F284 > 0),Data!F284,\"\")","v":""}]
[{"$f":"IF(D284<>\"\",Data!A285,\"\")","v":""},{"$f":"IF(D284<>\"\",Data!B285,\"\")","v":""},"",{"$f":"IF(AND(Data!F285<>\"\",Data!F285 > 0),Data!F285,\"\")","v":""}]
[{"$f":"IF(D285<>\"\",Data!A286,\"\")","v":""},{"$f":"IF(D285<>\"\",Data!B286,\"\")","v":""},"",{"$f":"IF(AND(Data!F286<>\"\",Data!F286 > 0),Data!F286,\"\")","v":""}]
[{"$f":"IF(D286<>\"\",Data!A287,\"\")","v":""},{"$f":"IF(D286<>\"\",Data!B287,\"\")","v":""},"",{"$f":"IF(AND(Data!F287<>\"\",Data!F287 > 0),Data!F287,\"\")","v":""}]
[{"$f":"IF(D287<>\"\",Data!A288,\"\")","v":""},{"$f":"IF(D287<>\"\",Data!B288,\"\")","v":""},"",{"$f":"IF(AND(Data!F288<>\"\",Data!F288 > 0),Data!F288,\"\")","v":""}]
[{"$f":"IF(D288<>\"\",Data!A289,\"\")","v":""},{"$f":"IF(D288<>\"\",Data!B289,\"\")","v":""},"",{"$f":"IF(AND(Data!F289<>\"\",Data!F289 > 0),Data!F289,\"\")","v":""}]
[{"$f":"IF(D289<>\"\",Data!A290,\"\")","v":""},{"$f":"IF(D289<>\"\",Data!B290,\"\")","v":""},"",{"$f":"IF(AND(Data!F290<>\"\",Data!F290 > 0),Data!F290,\"\")","v":""}]
[{"$f":"IF(D290<>\"\",Data!A291,\"\")","v":""},{"$f":"IF(D290<>\"\",Data!B291,\"\")","v":""},"",{"$f":"IF(AND(Data!F291<>\"\",Data!F291 > 0),Data!F291,\"\")","v":""}]
[{"$f":"IF(D291<>\"\",Data!A292,\"\")","v":""},{"$f":"IF(D291<>\"\",Data!B292,\"\")","v":""},"",{"$f":"IF(AND(Data!F292<>\"\",Data!F292 > 0),Data!F292,\"\")","v":""}]
[{"$f":"IF(D292<>\"\",Data!A293,\"\")","v":""},{"$f":"IF(D292<>\"\",Data!B293,\"\")","v":""},"",{"$f":"IF(AND(Data!F293<>\"\",Data!F293 > 0),Data!F293,\"\")","v":""}]
[{"$f":"IF(D293<>\"\",Data!A294,\"\")","v":""},{"$f":"IF(D293<>\"\",Data!B294,\"\")","v":""},"",{"$f":"IF(AND(Data!F294<>\"\",Data!F294 > 0),Data!F294,\"\")","v":""}]
[{"$f":"IF(D294<>\"\",Data!A295,\"\")","v":""},{"$f":"IF(D294<>\"\",Data!B295,\"\")","v":""},"",{"$f":"IF(AND(Data!F295<>\"\",Data!F295 > 0),Data!F295,\"\")","v":""}]
[{"$f":"IF(D295<>\"\",Data!A296,\"\")","v":""},{"$f":"IF(D295<>\"\",Data!B296,\"\")","v":""},"",{"$f":"IF(AND(Data!F296<>\"\",Data!F296 > 0),Data!F296,\"\")","v":""}]
[{"$f":"IF(D296<>\"\",Data!A297,\"\")","v":""},{"$f":"IF(D296<>\"\",Data!B297,\"\")","v":""},"",{"$f":"IF(AND(Data!F297<>\"\",Data!F297 > 0),Data!F297,\"\")","v":""}]
[{"$f":"IF(D297<>\"\",Data!A298,\"\")","v":""},{"$f":"IF(D297<>\"\",Data!B298,\"\")","v":""},"",{"$f":"IF(AND(Data!F298<>\"\",Data!F298 > 0),Data!F298,\"\")","v":""}]
[{"$f":"IF(D298<>\"\",Data!A299,\"\")","v":""},{"$f":"IF(D298<>\"\",Data!B299,\"\")","v":""},"",{"$f":"IF(AND(Data!F299<>\"\",Data!F299 > 0),Data!F299,\"\")","v":""}]
[{"$f":"IF(D299<>\"\",Data!A300,\"\")","v":""},{"$f":"IF(D299<>\"\",Data!B300,\"\")","v":""},"",{"$f":"IF(AND(Data!F300<>\"\",Data!F300 > 0),Data!F300,\"\")","v":""}]
[{"$f":"IF(D300<>\"\",Data!A301,\"\")","v":""},{"$f":"IF(D300<>\"\",Data!B301,\"\")","v":""},"",{"$f":"IF(AND(Data!F301<>\"\",Data!F301 > 0),Data!F301,\"\")","v":""}]
[{"$f":"IF(D301<>\"\",Data!A302,\"\")","v":""},{"$f":"IF(D301<>\"\",Data!B302,\"\")","v":""},"",{"$f":"IF(AND(Data!F302<>\"\",Data!F302 > 0),Data!F302,\"\")","v":""}]
[{"$f":"IF(D302<>\"\",Data!A303,\"\")","v":""},{"$f":"IF(D302<>\"\",Data!B303,\"\")","v":""},"",{"$f":"IF(AND(Data!F303<>\"\",Data!F303 > 0),Data!F303,\"\")","v":""}]
[{"$f":"IF(D303<>\"\",Data!A304,\"\")","v":""},{"$f":"IF(D303<>\"\",Data!B304,\"\")","v":""},"",{"$f":"IF(AND(Data!F304<>\"\",Data!F304 > 0),Data!F304,\"\")","v":""}]
[{"$f":"IF(D304<>\"\",Data!A305,\"\")","v":""},{"$f":"IF(D304<>\"\",Data!B305,\"\")","v":""},"",{"$f":"IF(AND(Data!F305<>\"\",Data!F305 > 0),Data!F305,\"\")","v":""}]
[{"$f":"IF(D305<>\"\",Data!A306,\"\")","v":""},{"$f":"IF(D305<>\"\",Data!B306,\"\")","v":""},"",{"$f":"IF(AND(Data!F306<>\"\",Data!F306 > 0),Data!F306,\"\")","v":""}]
[{"$f":"IF(D306<>\"\",Data!A307,\"\")","v":""},{"$f":"IF(D306<>\"\",Data!B307,\"\")","v":""},"",{"$f":"IF(AND(Data!F307<>\"\",Data!F307 > 0),Data!F307,\"\")","v":""}]
[{"$f":"IF(D307<>\"\",Data!A308,\"\")","v":""},{"$f":"IF(D307<>\"\",Data!B308,\"\")","v":""},"",{"$f":"IF(AND(Data!F308<>\"\",Data!F308 > 0),Data!F308,\"\")","v":""}]
[{"$f":"IF(D308<>\"\",Data!A309,\"\")","v":""},{"$f":"IF(D308<>\"\",Data!B309,\"\")","v":""},"",{"$f":"IF(AND(Data!F309<>\"\",Data!F309 > 0),Data!F309,\"\")","v":""}]
[{"$f":"IF(D309<>\"\",Data!A310,\"\")","v":""},{"$f":"IF(D309<>\"\",Data!B310,\"\")","v":""},"",{"$f":"IF(AND(Data!F310<>\"\",Data!F310 > 0),Data!F310,\"\")","v":""}]
[{"$f":"IF(D310<>\"\",Data!A311,\"\")","v":""},{"$f":"IF(D310<>\"\",Data!B311,\"\")","v":""},"",{"$f":"IF(AND(Data!F311<>\"\",Data!F311 > 0),Data!F311,\"\")","v":""}]
[{"$f":"IF(D311<>\"\",Data!A312,\"\")","v":""},{"$f":"IF(D311<>\"\",Data!B312,\"\")","v":""},"",{"$f":"IF(AND(Data!F312<>\"\",Data!F312 > 0),Data!F312,\"\")","v":""}]
[{"$f":"IF(D312<>\"\",Data!A313,\"\")","v":""},{"$f":"IF(D312<>\"\",Data!B313,\"\")","v":""},"",{"$f":"IF(AND(Data!F313<>\"\",Data!F313 > 0),Data!F313,\"\")","v":""}]
[{"$f":"IF(D313<>\"\",Data!A314,\"\")","v":""},{"$f":"IF(D313<>\"\",Data!B314,\"\")","v":""},"",{"$f":"IF(AND(Data!F314<>\"\",Data!F314 > 0),Data!F314,\"\")","v":""}]
[{"$f":"IF(D314<>\"\",Data!A315,\"\")","v":""},{"$f":"IF(D314<>\"\",Data!B315,\"\")","v":""},"",{"$f":"IF(AND(Data!F315<>\"\",Data!F315 > 0),Data!F315,\"\")","v":""}]
[{"$f":"IF(D315<>\"\",Data!A316,\"\")","v":""},{"$f":"IF(D315<>\"\",Data!B316,\"\")","v":""},"",{"$f":"IF(AND(Data!F316<>\"\",Data!F316 > 0),Data!F316,\"\")","v":""}]
[{"$f":"IF(D316<>\"\",Data!A317,\"\")","v":""},{"$f":"IF(D316<>\"\",Data!B317,\"\")","v":""},"",{"$f":"IF(AND(Data!F317<>\"\",Data!F317 > 0),Data!F317,\"\")","v":""}]
[{"$f":"IF(D317<>\"\",Data!A318,\"\")","v":""},{"$f":"IF(D317<>\"\",Data!B318,\"\")","v":""},"",{"$f":"IF(AND(Data!F318<>\"\",Data!F318 > 0),Data!F318,\"\")","v":""}]
[{"$f":"IF(D318<>\"\",Data!A319,\"\")","v":""},{"$f":"IF(D318<>\"\",Data!B319,\"\")","v":""},"",{"$f":"IF(AND(Data!F319<>\"\",Data!F319 > 0),Data!F319,\"\")","v":""}]
[{"$f":"IF(D319<>\"\",Data!A320,\"\")","v":""},{"$f":"IF(D319<>\"\",Data!B320,\"\")","v":""},"",{"$f":"IF(AND(Data!F320<>\"\",Data!F320 > 0),Data!F320,\"\")","v":""}]
[{"$f":"IF(D320<>\"\",Data!A321,\"\")","v":""},{"$f":"IF(D320<>\"\",Data!B321,\"\")","v":""},"",{"$f":"IF(AND(Data!F321<>\"\",Data!F321 > 0),Data!F321,\"\")","v":""}]
[{"$f":"IF(D321<>\"\",Data!A322,\"\")","v":""},{"$f":"IF(D321<>\"\",Data!B322,\"\")","v":""},"",{"$f":"IF(AND(Data!F322<>\"\",Data!F322 > 0),Data!F322,\"\")","v":""}]
[{"$f":"IF(D322<>\"\",Data!A323,\"\")","v":""},{"$f":"IF(D322<>\"\",Data!B323,\"\")","v":""},{"$f":"IF(D322<>\"\",MID(CELL(\"filename\",B322),FIND(\"]\",CELL(\"filename\",B322))+1,32),\"\")","v":""},{"$f":"IF(AND(Data!F323<>\"\",Data!F323 > 0),Data!F323,\"\")","v":""}]
[{"$f":"IF(D323<>\"\",Data!A324,\"\")","v":""},{"$f":"IF(D323<>\"\",Data!B324,\"\")","v":""},"",{"$f":"IF(AND(Data!F324<>\"\",Data!F324 > 0),Data!F324,\"\")","v":""}]
[{"$f":"IF(D324<>\"\",Data!A325,\"\")","v":""},{"$f":"IF(D324<>\"\",Data!B325,\"\")","v":""},"",{"$f":"IF(AND(Data!F325<>\"\",Data!F325 > 0),Data!F325,\"\")","v":""}]
[{"$f":"IF(D325<>\"\",Data!A326,\"\")","v":""},{"$f":"IF(D325<>\"\",Data!B326,\"\")","v":""},"",{"$f":"IF(AND(Data!F326<>\"\",Data!F326 > 0),Data!F326,\"\")","v":""}]
[{"$f":"IF(D326<>\"\",Data!A327,\"\")","v":""},{"$f":"IF(D326<>\"\",Data!B327,\"\")","v":""},"",{"$f":"IF(AND(Data!F327<>\"\",Data!F327 > 0),Data!F327,\"\")","v":""}]
[{"$f":"IF(D327<>\"\",Data!A328,\"\")","v":""},{"$f":"IF(D327<>\"\",Data!B328,\"\")","v":""},"",{"$f":"IF(AND(Data!F328<>\"\",Data!F328 > 0),Data!F328,\"\")","v":""}]
[{"$f":"IF(D328<>\"\",Data!A329,\"\")","v":""},{"$f":"IF(D328<>\"\",Data!B329,\"\")","v":""},"",{"$f":"IF(AND(Data!F329<>\"\",Data!F329 > 0),Data!F329,\"\")","v":""}]
[{"$f":"IF(D329<>\"\",Data!A330,\"\")","v":""},{"$f":"IF(D329<>\"\",Data!B330,\"\")","v":""},"",{"$f":"IF(AND(Data!F330<>\"\",Data!F330 > 0),Data!F330,\"\")","v":""}]
[{"$f":"IF(D330<>\"\",Data!A331,\"\")","v":""},{"$f":"IF(D330<>\"\",Data!B331,\"\")","v":""},"",{"$f":"IF(AND(Data!F331<>\"\",Data!F331 > 0),Data!F331,\"\")","v":""}]
[{"$f":"IF(D331<>\"\",Data!A332,\"\")","v":""},{"$f":"IF(D331<>\"\",Data!B332,\"\")","v":""},"",{"$f":"IF(AND(Data!F332<>\"\",Data!F332 > 0),Data!F332,\"\")","v":""}]
[{"$f":"IF(D332<>\"\",Data!A333,\"\")","v":""},{"$f":"IF(D332<>\"\",Data!B333,\"\")","v":""},"",{"$f":"IF(AND(Data!F333<>\"\",Data!F333 > 0),Data!F333,\"\")","v":""}]
[{"$f":"IF(D333<>\"\",Data!A334,\"\")","v":""},{"$f":"IF(D333<>\"\",Data!B334,\"\")","v":""},"",{"$f":"IF(AND(Data!F334<>\"\",Data!F334 > 0),Data!F334,\"\")","v":""}]
[{"$f":"IF(D334<>\"\",Data!A335,\"\")","v":""},{"$f":"IF(D334<>\"\",Data!B335,\"\")","v":""},"",{"$f":"IF(AND(Data!F335<>\"\",Data!F335 > 0),Data!F335,\"\")","v":""}]
[{"$f":"IF(D335<>\"\",Data!A336,\"\")","v":""},{"$f":"IF(D335<>\"\",Data!B336,\"\")","v":""},"",{"$f":"IF(AND(Data!F336<>\"\",Data!F336 > 0),Data!F336,\"\")","v":""}]
[{"$f":"IF(D336<>\"\",Data!A337,\"\")","v":""},{"$f":"IF(D336<>\"\",Data!B337,\"\")","v":""},"",{"$f":"IF(AND(Data!F337<>\"\",Data!F337 > 0),Data!F337,\"\")","v":""}]
[{"$f":"IF(D337<>\"\",Data!A338,\"\")","v":""},{"$f":"IF(D337<>\"\",Data!B338,\"\")","v":""},"",{"$f":"IF(AND(Data!F338<>\"\",Data!F338 > 0),Data!F338,\"\")","v":""}]
[{"$f":"IF(D338<>\"\",Data!A339,\"\")","v":""},{"$f":"IF(D338<>\"\",Data!B339,\"\")","v":""},"",{"$f":"IF(AND(Data!F339<>\"\",Data!F339 > 0),Data!F339,\"\")","v":""}]
[{"$f":"IF(D339<>\"\",Data!A340,\"\")","v":""},{"$f":"IF(D339<>\"\",Data!B340,\"\")","v":""},"",{"$f":"IF(AND(Data!F340<>\"\",Data!F340 > 0),Data!F340,\"\")","v":""}]
[{"$f":"IF(D340<>\"\",Data!A341,\"\")","v":""},{"$f":"IF(D340<>\"\",Data!B341,\"\")","v":""},"",{"$f":"IF(AND(Data!F341<>\"\",Data!F341 > 0),Data!F341,\"\")","v":""}]
[{"$f":"IF(D341<>\"\",Data!A342,\"\")","v":""},{"$f":"IF(D341<>\"\",Data!B342,\"\")","v":""},"",{"$f":"IF(AND(Data!F342<>\"\",Data!F342 > 0),Data!F342,\"\")","v":""}]
[{"$f":"IF(D342<>\"\",Data!A343,\"\")","v":""},{"$f":"IF(D342<>\"\",Data!B343,\"\")","v":""},"",{"$f":"IF(AND(Data!F343<>\"\",Data!F343 > 0),Data!F343,\"\")","v":""}]
[{"$f":"IF(D343<>\"\",Data!A344,\"\")","v":""},{"$f":"IF(D343<>\"\",Data!B344,\"\")","v":""},"",{"$f":"IF(AND(Data!F344<>\"\",Data!F344 > 0),Data!F344,\"\")","v":""}]
[{"$f":"IF(D344<>\"\",Data!A345,\"\")","v":""},{"$f":"IF(D344<>\"\",Data!B345,\"\")","v":""},"",{"$f":"IF(AND(Data!F345<>\"\",Data!F345 > 0),Data!F345,\"\")","v":""}]
[{"$f":"IF(D345<>\"\",Data!A346,\"\")","v":""},{"$f":"IF(D345<>\"\",Data!B346,\"\")","v":""},"",{"$f":"IF(AND(Data!F346<>\"\",Data!F346 > 0),Data!F346,\"\")","v":""}]
[{"$f":"IF(D346<>\"\",Data!A347,\"\")","v":""},{"$f":"IF(D346<>\"\",Data!B347,\"\")","v":""},"",{"$f":"IF(AND(Data!F347<>\"\",Data!F347 > 0),Data!F347,\"\")","v":""}]
[{"$f":"IF(D347<>\"\",Data!A348,\"\")","v":""},{"$f":"IF(D347<>\"\",Data!B348,\"\")","v":""},"",{"$f":"IF(AND(Data!F348<>\"\",Data!F348 > 0),Data!F348,\"\")","v":""}]
[{"$f":"IF(D348<>\"\",Data!A349,\"\")","v":""},{"$f":"IF(D348<>\"\",Data!B349,\"\")","v":""},"",{"$f":"IF(AND(Data!F349<>\"\",Data!F349 > 0),Data!F349,\"\")","v":""}]
[{"$f":"IF(D349<>\"\",Data!A350,\"\")","v":""},{"$f":"IF(D349<>\"\",Data!B350,\"\")","v":""},"",{"$f":"IF(AND(Data!F350<>\"\",Data!F350 > 0),Data!F350,\"\")","v":""}]
[{"$f":"IF(D350<>\"\",Data!A351,\"\")","v":""},{"$f":"IF(D350<>\"\",Data!B351,\"\")","v":""},"",{"$f":"IF(AND(Data!F351<>\"\",Data!F351 > 0),Data!F351,\"\")","v":""}]
[{"$f":"IF(D351<>\"\",Data!A352,\"\")","v":""},{"$f":"IF(D351<>\"\",Data!B352,\"\")","v":""},"",{"$f":"IF(AND(Data!F352<>\"\",Data!F352 > 0),Data!F352,\"\")","v":""}]
[{"$f":"IF(D352<>\"\",Data!A353,\"\")","v":""},{"$f":"IF(D352<>\"\",Data!B353,\"\")","v":""},"",{"$f":"IF(AND(Data!F353<>\"\",Data!F353 > 0),Data!F353,\"\")","v":""}]
[{"$f":"IF(D353<>\"\",Data!A354,\"\")","v":""},{"$f":"IF(D353<>\"\",Data!B354,\"\")","v":""},"",{"$f":"IF(AND(Data!F354<>\"\",Data!F354 > 0),Data!F354,\"\")","v":""}]
[{"$f":"IF(D354<>\"\",Data!A355,\"\")","v":""},{"$f":"IF(D354<>\"\",Data!B355,\"\")","v":""},"",{"$f":"IF(AND(Data!F355<>\"\",Data!F355 > 0),Data!F355,\"\")","v":""}]
[{"$f":"IF(D355<>\"\",Data!A356,\"\")","v":""},{"$f":"IF(D355<>\"\",Data!B356,\"\")","v":""},"",{"$f":"IF(AND(Data!F356<>\"\",Data!F356 > 0),Data!F356,\"\")","v":""}]
[{"$f":"IF(D356<>\"\",Data!A357,\"\")","v":""},{"$f":"IF(D356<>\"\",Data!B357,\"\")","v":""},"",{"$f":"IF(AND(Data!F357<>\"\",Data!F357 > 0),Data!F357,\"\")","v":""}]
[{"$f":"IF(D357<>\"\",Data!A358,\"\")","v":""},{"$f":"IF(D357<>\"\",Data!B358,\"\")","v":""},"",{"$f":"IF(AND(Data!F358<>\"\",Data!F358 > 0),Data!F358,\"\")","v":""}]
[{"$f":"IF(D358<>\"\",Data!A359,\"\")","v":""},{"$f":"IF(D358<>\"\",Data!B359,\"\")","v":""},"",{"$f":"IF(AND(Data!F359<>\"\",Data!F359 > 0),Data!F359,\"\")","v":""}]
[{"$f":"IF(D359<>\"\",Data!A360,\"\")","v":""},{"$f":"IF(D359<>\"\",Data!B360,\"\")","v":""},"",{"$f":"IF(AND(Data!F360<>\"\",Data!F360 > 0),Data!F360,\"\")","v":""}]
[{"$f":"IF(D360<>\"\",Data!A361,\"\")","v":""},{"$f":"IF(D360<>\"\",Data!B361,\"\")","v":""},"",{"$f":"IF(AND(Data!F361<>\"\",Data!F361 > 0),Data!F361,\"\")","v":""}]
[{"$f":"IF(D361<>\"\",Data!A362,\"\")","v":""},{"$f":"IF(D361<>\"\",Data!B362,\"\")","v":""},"",{"$f":"IF(AND(Data!F362<>\"\",Data!F362 > 0),Data!F362,\"\")","v":""}]
[{"$f":"IF(D362<>\"\",Data!A363,\"\")","v":""},{"$f":"IF(D362<>\"\",Data!B363,\"\")","v":""},"",{"$f":"IF(AND(Data!F363<>\"\",Data!F363 > 0),Data!F363,\"\")","v":""}]
[{"$f":"IF(D363<>\"\",Data!A364,\"\")","v":""},{"$f":"IF(D363<>\"\",Data!B364,\"\")","v":""},"",{"$f":"IF(AND(Data!F364<>\"\",Data!F364 > 0),Data!F364,\"\")","v":""}]
[{"$f":"IF(D364<>\"\",Data!A365,\"\")","v":""},{"$f":"IF(D364<>\"\",Data!B365,\"\")","v":""},"",{"$f":"IF(AND(Data!F365<>\"\",Data!F365 > 0),Data!F365,\"\")","v":""}]
[{"$f":"IF(D365<>\"\",Data!A366,\"\")","v":""},{"$f":"IF(D365<>\"\",Data!B366,\"\")","v":""},"",{"$f":"IF(AND(Data!F366<>\"\",Data!F366 > 0),Data!F366,\"\")","v":""}]
[{"$f":"IF(D366<>\"\",Data!A367,\"\")","v":""},{"$f":"IF(D366<>\"\",Data!B367,\"\")","v":""},"",{"$f":"IF(AND(Data!F367<>\"\",Data!F367 > 0),Data!F367,\"\")","v":""}]
[{"$f":"IF(D367<>\"\",Data!A368,\"\")","v":""},{"$f":"IF(D367<>\"\",Data!B368,\"\")","v":""},"",{"$f":"IF(AND(Data!F368<>\"\",Data!F368 > 0),Data!F368,\"\")","v":""}]
[{"$f":"IF(D368<>\"\",Data!A369,\"\")","v":""},{"$f":"IF(D368<>\"\",Data!B369,\"\")","v":""},"",{"$f":"IF(AND(Data!F369<>\"\",Data!F369 > 0),Data!F369,\"\")","v":""}]
[{"$f":"IF(D369<>\"\",Data!A370,\"\")","v":""},{"$f":"IF(D369<>\"\",Data!B370,\"\")","v":""},"",{"$f":"IF(AND(Data!F370<>\"\",Data!F370 > 0),Data!F370,\"\")","v":""}]
[{"$f":"IF(D370<>\"\",Data!A371,\"\")","v":""},{"$f":"IF(D370<>\"\",Data!B371,\"\")","v":""},"",{"$f":"IF(AND(Data!F371<>\"\",Data!F371 > 0),Data!F371,\"\")","v":""}]
[{"$f":"IF(D371<>\"\",Data!A372,\"\")","v":""},{"$f":"IF(D371<>\"\",Data!B372,\"\")","v":""},"",{"$f":"IF(AND(Data!F372<>\"\",Data!F372 > 0),Data!F372,\"\")","v":""}]
[{"$f":"IF(D372<>\"\",Data!A373,\"\")","v":""},{"$f":"IF(D372<>\"\",Data!B373,\"\")","v":""},"",{"$f":"IF(AND(Data!F373<>\"\",Data!F373 > 0),Data!F373,\"\")","v":""}]
[{"$f":"IF(D373<>\"\",Data!A374,\"\")","v":""},{"$f":"IF(D373<>\"\",Data!B374,\"\")","v":""},"",{"$f":"IF(AND(Data!F374<>\"\",Data!F374 > 0),Data!F374,\"\")","v":""}]
[{"$f":"IF(D374<>\"\",Data!A375,\"\")","v":""},{"$f":"IF(D374<>\"\",Data!B375,\"\")","v":""},"",{"$f":"IF(AND(Data!F375<>\"\",Data!F375 > 0),Data!F375,\"\")","v":""}]
[{"$f":"IF(D375<>\"\",Data!A376,\"\")","v":""},{"$f":"IF(D375<>\"\",Data!B376,\"\")","v":""},"",{"$f":"IF(AND(Data!F376<>\"\",Data!F376 > 0),Data!F376,\"\")","v":""}]
[{"$f":"IF(D376<>\"\",Data!A377,\"\")","v":""},{"$f":"IF(D376<>\"\",Data!B377,\"\")","v":""},"",{"$f":"IF(AND(Data!F377<>\"\",Data!F377 > 0),Data!F377,\"\")","v":""}]
[{"$f":"IF(D377<>\"\",Data!A378,\"\")","v":""},{"$f":"IF(D377<>\"\",Data!B378,\"\")","v":""},"",{"$f":"IF(AND(Data!F378<>\"\",Data!F378 > 0),Data!F378,\"\")","v":""}]
[{"$f":"IF(D378<>\"\",Data!A379,\"\")","v":""},{"$f":"IF(D378<>\"\",Data!B379,\"\")","v":""},"",{"$f":"IF(AND(Data!F379<>\"\",Data!F379 > 0),Data!F379,\"\")","v":""}]
[{"$f":"IF(D379<>\"\",Data!A380,\"\")","v":""},{"$f":"IF(D379<>\"\",Data!B380,\"\")","v":""},"",{"$f":"IF(AND(Data!F380<>\"\",Data!F380 > 0),Data!F380,\"\")","v":""}]
[{"$f":"IF(D380<>\"\",Data!A381,\"\")","v":""},{"$f":"IF(D380<>\"\",Data!B381,\"\")","v":""},"",{"$f":"IF(AND(Data!F381<>\"\",Data!F381 > 0),Data!F381,\"\")","v":""}]
[{"$f":"IF(D381<>\"\",Data!A382,\"\")","v":""},{"$f":"IF(D381<>\"\",Data!B382,\"\")","v":""},"",{"$f":"IF(AND(Data!F382<>\"\",Data!F382 > 0),Data!F382,\"\")","v":""}]
[{"$f":"IF(D382<>\"\",Data!A383,\"\")","v":""},{"$f":"IF(D382<>\"\",Data!B383,\"\")","v":""},"",{"$f":"IF(AND(Data!F383<>\"\",Data!F383 > 0),Data!F383,\"\")","v":""}]
[{"$f":"IF(D383<>\"\",Data!A384,\"\")","v":""},{"$f":"IF(D383<>\"\",Data!B384,\"\")","v":""},"",{"$f":"IF(AND(Data!F384<>\"\",Data!F384 > 0),Data!F384,\"\")","v":""}]
[{"$f":"IF(D384<>\"\",Data!A385,\"\")","v":""},{"$f":"IF(D384<>\"\",Data!B385,\"\")","v":""},"",{"$f":"IF(AND(Data!F385<>\"\",Data!F385 > 0),Data!F385,\"\")","v":""}]
[{"$f":"IF(D385<>\"\",Data!A386,\"\")","v":""},{"$f":"IF(D385<>\"\",Data!B386,\"\")","v":""},"",{"$f":"IF(AND(Data!F386<>\"\",Data!F386 > 0),Data!F386,\"\")","v":""}]
[{"$f":"IF(D386<>\"\",Data!A387,\"\")","v":""},{"$f":"IF(D386<>\"\",Data!B387,\"\")","v":""},{"$f":"IF(D386<>\"\",MID(CELL(\"filename\",B386),FIND(\"]\",CELL(\"filename\",B386))+1,32),\"\")","v":""},{"$f":"IF(AND(Data!F387<>\"\",Data!F387 > 0),Data!F387,\"\")","v":""}]
[{"$f":"IF(D387<>\"\",Data!A388,\"\")","v":""},{"$f":"IF(D387<>\"\",Data!B388,\"\")","v":""},"",{"$f":"IF(AND(Data!F388<>\"\",Data!F388 > 0),Data!F388,\"\")","v":""}]
[{"$f":"IF(D388<>\"\",Data!A389,\"\")","v":""},{"$f":"IF(D388<>\"\",Data!B389,\"\")","v":""},"",{"$f":"IF(AND(Data!F389<>\"\",Data!F389 > 0),Data!F389,\"\")","v":""}]
[{"$f":"IF(D389<>\"\",Data!A390,\"\")","v":""},{"$f":"IF(D389<>\"\",Data!B390,\"\")","v":""},"",{"$f":"IF(AND(Data!F390<>\"\",Data!F390 > 0),Data!F390,\"\")","v":""}]
[{"$f":"IF(D390<>\"\",Data!A391,\"\")","v":""},{"$f":"IF(D390<>\"\",Data!B391,\"\")","v":""},"",{"$f":"IF(AND(Data!F391<>\"\",Data!F391 > 0),Data!F391,\"\")","v":""}]
[{"$f":"IF(D391<>\"\",Data!A392,\"\")","v":""},{"$f":"IF(D391<>\"\",Data!B392,\"\")","v":""},"",{"$f":"IF(AND(Data!F392<>\"\",Data!F392 > 0),Data!F392,\"\")","v":""}]
[{"$f":"IF(D392<>\"\",Data!A393,\"\")","v":""},{"$f":"IF(D392<>\"\",Data!B393,\"\")","v":""},"",{"$f":"IF(AND(Data!F393<>\"\",Data!F393 > 0),Data!F393,\"\")","v":""}]
[{"$f":"IF(D393<>\"\",Data!A394,\"\")","v":""},{"$f":"IF(D393<>\"\",Data!B394,\"\")","v":""},"",{"$f":"IF(AND(Data!F394<>\"\",Data!F394 > 0),Data!F394,\"\")","v":""}]
[{"$f":"IF(D394<>\"\",Data!A395,\"\")","v":""},{"$f":"IF(D394<>\"\",Data!B395,\"\")","v":""},"",{"$f":"IF(AND(Data!F395<>\"\",Data!F395 > 0),Data!F395,\"\")","v":""}]
[{"$f":"IF(D395<>\"\",Data!A396,\"\")","v":""},{"$f":"IF(D395<>\"\",Data!B396,\"\")","v":""},"",{"$f":"IF(AND(Data!F396<>\"\",Data!F396 > 0),Data!F396,\"\")","v":""}]
[{"$f":"IF(D396<>\"\",Data!A397,\"\")","v":""},{"$f":"IF(D396<>\"\",Data!B397,\"\")","v":""},"",{"$f":"IF(AND(Data!F397<>\"\",Data!F397 > 0),Data!F397,\"\")","v":""}]
[{"$f":"IF(D397<>\"\",Data!A398,\"\")","v":""},{"$f":"IF(D397<>\"\",Data!B398,\"\")","v":""},"",{"$f":"IF(AND(Data!F398<>\"\",Data!F398 > 0),Data!F398,\"\")","v":""}]
[{"$f":"IF(D398<>\"\",Data!A399,\"\")","v":""},{"$f":"IF(D398<>\"\",Data!B399,\"\")","v":""},"",{"$f":"IF(AND(Data!F399<>\"\",Data!F399 > 0),Data!F399,\"\")","v":""}]
[{"$f":"IF(D399<>\"\",Data!A400,\"\")","v":""},{"$f":"IF(D399<>\"\",Data!B400,\"\")","v":""},"",{"$f":"IF(AND(Data!F400<>\"\",Data!F400 > 0),Data!F400,\"\")","v":""}]
[{"$f":"IF(D400<>\"\",Data!A401,\"\")","v":""},{"$f":"IF(D400<>\"\",Data!B401,\"\")","v":""},"",{"$f":"IF(AND(Data!F401<>\"\",Data!F401 > 0),Data!F401,\"\")","v":""}]
[{"$f":"IF(D401<>\"\",Data!A402,\"\")","v":""},{"$f":"IF(D401<>\"\",Data!B402,\"\")","v":""},"",{"$f":"IF(AND(Data!F402<>\"\",Data!F402 > 0),Data!F402,\"\")","v":""}]
[{"$f":"IF(D402<>\"\",Data!A403,\"\")","v":""},{"$f":"IF(D402<>\"\",Data!B403,\"\")","v":""},"",{"$f":"IF(AND(Data!F403<>\"\",Data!F403 > 0),Data!F403,\"\")","v":""}]
[{"$f":"IF(D403<>\"\",Data!A404,\"\")","v":""},{"$f":"IF(D403<>\"\",Data!B404,\"\")","v":""},"",{"$f":"IF(AND(Data!F404<>\"\",Data!F404 > 0),Data!F404,\"\")","v":""}]
[{"$f":"IF(D404<>\"\",Data!A405,\"\")","v":""},{"$f":"IF(D404<>\"\",Data!B405,\"\")","v":""},"",{"$f":"IF(AND(Data!F405<>\"\",Data!F405 > 0),Data!F405,\"\")","v":""}]
[{"$f":"IF(D405<>\"\",Data!A406,\"\")","v":""},{"$f":"IF(D405<>\"\",Data!B406,\"\")","v":""},"",{"$f":"IF(AND(Data!F406<>\"\",Data!F406 > 0),Data!F406,\"\")","v":""}]
[{"$f":"IF(D406<>\"\",Data!A407,\"\")","v":""},{"$f":"IF(D406<>\"\",Data!B407,\"\")","v":""},"",{"$f":"IF(AND(Data!F407<>\"\",Data!F407 > 0),Data!F407,\"\")","v":""}]
[{"$f":"IF(D407<>\"\",Data!A408,\"\")","v":""},{"$f":"IF(D407<>\"\",Data!B408,\"\")","v":""},"",{"$f":"IF(AND(Data!F408<>\"\",Data!F408 > 0),Data!F408,\"\")","v":""}]
[{"$f":"IF(D408<>\"\",Data!A409,\"\")","v":""},{"$f":"IF(D408<>\"\",Data!B409,\"\")","v":""},"",{"$f":"IF(AND(Data!F409<>\"\",Data!F409 > 0),Data!F409,\"\")","v":""}]
[{"$f":"IF(D409<>\"\",Data!A410,\"\")","v":""},{"$f":"IF(D409<>\"\",Data!B410,\"\")","v":""},"",{"$f":"IF(AND(Data!F410<>\"\",Data!F410 > 0),Data!F410,\"\")","v":""}]
[{"$f":"IF(D410<>\"\",Data!A411,\"\")","v":""},{"$f":"IF(D410<>\"\",Data!B411,\"\")","v":""},"",{"$f":"IF(AND(Data!F411<>\"\",Data!F411 > 0),Data!F411,\"\")","v":""}]
[{"$f":"IF(D411<>\"\",Data!A412,\"\")","v":""},{"$f":"IF(D411<>\"\",Data!B412,\"\")","v":""},"",{"$f":"IF(AND(Data!F412<>\"\",Data!F412 > 0),Data!F412,\"\")","v":""}]
[{"$f":"IF(D412<>\"\",Data!A413,\"\")","v":""},{"$f":"IF(D412<>\"\",Data!B413,\"\")","v":""},"",{"$f":"IF(AND(Data!F413<>\"\",Data!F413 > 0),Data!F413,\"\")","v":""}]
[{"$f":"IF(D413<>\"\",Data!A414,\"\")","v":""},{"$f":"IF(D413<>\"\",Data!B414,\"\")","v":""},"",{"$f":"IF(AND(Data!F414<>\"\",Data!F414 > 0),Data!F414,\"\")","v":""}]
[{"$f":"IF(D414<>\"\",Data!A415,\"\")","v":""},{"$f":"IF(D414<>\"\",Data!B415,\"\")","v":""},"",{"$f":"IF(AND(Data!F415<>\"\",Data!F415 > 0),Data!F415,\"\")","v":""}]
[{"$f":"IF(D415<>\"\",Data!A416,\"\")","v":""},{"$f":"IF(D415<>\"\",Data!B416,\"\")","v":""},"",{"$f":"IF(AND(Data!F416<>\"\",Data!F416 > 0),Data!F416,\"\")","v":""}]
[{"$f":"IF(D416<>\"\",Data!A417,\"\")","v":""},{"$f":"IF(D416<>\"\",Data!B417,\"\")","v":""},"",{"$f":"IF(AND(Data!F417<>\"\",Data!F417 > 0),Data!F417,\"\")","v":""}]
[{"$f":"IF(D417<>\"\",Data!A418,\"\")","v":""},{"$f":"IF(D417<>\"\",Data!B418,\"\")","v":""},"",{"$f":"IF(AND(Data!F418<>\"\",Data!F418 > 0),Data!F418,\"\")","v":""}]
[{"$f":"IF(D418<>\"\",Data!A419,\"\")","v":""},{"$f":"IF(D418<>\"\",Data!B419,\"\")","v":""},"",{"$f":"IF(AND(Data!F419<>\"\",Data!F419 > 0),Data!F419,\"\")","v":""}]
[{"$f":"IF(D419<>\"\",Data!A420,\"\")","v":""},{"$f":"IF(D419<>\"\",Data!B420,\"\")","v":""},"",{"$f":"IF(AND(Data!F420<>\"\",Data!F420 > 0),Data!F420,\"\")","v":""}]
[{"$f":"IF(D420<>\"\",Data!A421,\"\")","v":""},{"$f":"IF(D420<>\"\",Data!B421,\"\")","v":""},"",{"$f":"IF(AND(Data!F421<>\"\",Data!F421 > 0),Data!F421,\"\")","v":""}]
[{"$f":"IF(D421<>\"\",Data!A422,\"\")","v":""},{"$f":"IF(D421<>\"\",Data!B422,\"\")","v":""},"",{"$f":"IF(AND(Data!F422<>\"\",Data!F422 > 0),Data!F422,\"\")","v":""}]
[{"$f":"IF(D422<>\"\",Data!A423,\"\")","v":""},{"$f":"IF(D422<>\"\",Data!B423,\"\")","v":""},"",{"$f":"IF(AND(Data!F423<>\"\",Data!F423 > 0),Data!F423,\"\")","v":""}]
[{"$f":"IF(D423<>\"\",Data!A424,\"\")","v":""},{"$f":"IF(D423<>\"\",Data!B424,\"\")","v":""},"",{"$f":"IF(AND(Data!F424<>\"\",Data!F424 > 0),Data!F424,\"\")","v":""}]
[{"$f":"IF(D424<>\"\",Data!A425,\"\")","v":""},{"$f":"IF(D424<>\"\",Data!B425,\"\")","v":""},"",{"$f":"IF(AND(Data!F425<>\"\",Data!F425 > 0),Data!F425,\"\")","v":""}]
[{"$f":"IF(D425<>\"\",Data!A426,\"\")","v":""},{"$f":"IF(D425<>\"\",Data!B426,\"\")","v":""},"",{"$f":"IF(AND(Data!F426<>\"\",Data!F426 > 0),Data!F426,\"\")","v":""}]
[{"$f":"IF(D426<>\"\",Data!A427,\"\")","v":""},{"$f":"IF(D426<>\"\",Data!B427,\"\")","v":""},"",{"$f":"IF(AND(Data!F427<>\"\",Data!F427 > 0),Data!F427,\"\")","v":""}]
[{"$f":"IF(D427<>\"\",Data!A428,\"\")","v":""},{"$f":"IF(D427<>\"\",Data!B428,\"\")","v":""},"",{"$f":"IF(AND(Data!F428<>\"\",Data!F428 > 0),Data!F428,\"\")","v":""}]
[{"$f":"IF(D428<>\"\",Data!A429,\"\")","v":""},{"$f":"IF(D428<>\"\",Data!B429,\"\")","v":""},"",{"$f":"IF(AND(Data!F429<>\"\",Data!F429 > 0),Data!F429,\"\")","v":""}]
[{"$f":"IF(D429<>\"\",Data!A430,\"\")","v":""},{"$f":"IF(D429<>\"\",Data!B430,\"\")","v":""},"",{"$f":"IF(AND(Data!F430<>\"\",Data!F430 > 0),Data!F430,\"\")","v":""}]
[{"$f":"IF(D430<>\"\",Data!A431,\"\")","v":""},{"$f":"IF(D430<>\"\",Data!B431,\"\")","v":""},"",{"$f":"IF(AND(Data!F431<>\"\",Data!F431 > 0),Data!F431,\"\")","v":""}]
[{"$f":"IF(D431<>\"\",Data!A432,\"\")","v":""},{"$f":"IF(D431<>\"\",Data!B432,\"\")","v":""},"",{"$f":"IF(AND(Data!F432<>\"\",Data!F432 > 0),Data!F432,\"\")","v":""}]
[{"$f":"IF(D432<>\"\",Data!A433,\"\")","v":""},{"$f":"IF(D432<>\"\",Data!B433,\"\")","v":""},"",{"$f":"IF(AND(Data!F433<>\"\",Data!F433 > 0),Data!F433,\"\")","v":""}]
[{"$f":"IF(D433<>\"\",Data!A434,\"\")","v":""},{"$f":"IF(D433<>\"\",Data!B434,\"\")","v":""},"",{"$f":"IF(AND(Data!F434<>\"\",Data!F434 > 0),Data!F434,\"\")","v":""}]
[{"$f":"IF(D434<>\"\",Data!A435,\"\")","v":""},{"$f":"IF(D434<>\"\",Data!B435,\"\")","v":""},"",{"$f":"IF(AND(Data!F435<>\"\",Data!F435 > 0),Data!F435,\"\")","v":""}]
[{"$f":"IF(D435<>\"\",Data!A436,\"\")","v":""},{"$f":"IF(D435<>\"\",Data!B436,\"\")","v":""},"",{"$f":"IF(AND(Data!F436<>\"\",Data!F436 > 0),Data!F436,\"\")","v":""}]
[{"$f":"IF(D436<>\"\",Data!A437,\"\")","v":""},{"$f":"IF(D436<>\"\",Data!B437,\"\")","v":""},"",{"$f":"IF(AND(Data!F437<>\"\",Data!F437 > 0),Data!F437,\"\")","v":""}]
[{"$f":"IF(D437<>\"\",Data!A438,\"\")","v":""},{"$f":"IF(D437<>\"\",Data!B438,\"\")","v":""},"",{"$f":"IF(AND(Data!F438<>\"\",Data!F438 > 0),Data!F438,\"\")","v":""}]
[{"$f":"IF(D438<>\"\",Data!A439,\"\")","v":""},{"$f":"IF(D438<>\"\",Data!B439,\"\")","v":""},"",{"$f":"IF(AND(Data!F439<>\"\",Data!F439 > 0),Data!F439,\"\")","v":""}]
[{"$f":"IF(D439<>\"\",Data!A440,\"\")","v":""},{"$f":"IF(D439<>\"\",Data!B440,\"\")","v":""},"",{"$f":"IF(AND(Data!F440<>\"\",Data!F440 > 0),Data!F440,\"\")","v":""}]
[{"$f":"IF(D440<>\"\",Data!A441,\"\")","v":""},{"$f":"IF(D440<>\"\",Data!B441,\"\")","v":""},"",{"$f":"IF(AND(Data!F441<>\"\",Data!F441 > 0),Data!F441,\"\")","v":""}]
[{"$f":"IF(D441<>\"\",Data!A442,\"\")","v":""},{"$f":"IF(D441<>\"\",Data!B442,\"\")","v":""},"",{"$f":"IF(AND(Data!F442<>\"\",Data!F442 > 0),Data!F442,\"\")","v":""}]
[{"$f":"IF(D442<>\"\",Data!A443,\"\")","v":""},{"$f":"IF(D442<>\"\",Data!B443,\"\")","v":""},"",{"$f":"IF(AND(Data!F443<>\"\",Data!F443 > 0),Data!F443,\"\")","v":""}]
[{"$f":"IF(D443<>\"\",Data!A444,\"\")","v":""},{"$f":"IF(D443<>\"\",Data!B444,\"\")","v":""},"",{"$f":"IF(AND(Data!F444<>\"\",Data!F444 > 0),Data!F444,\"\")","v":""}]
[{"$f":"IF(D444<>\"\",Data!A445,\"\")","v":""},{"$f":"IF(D444<>\"\",Data!B445,\"\")","v":""},"",{"$f":"IF(AND(Data!F445<>\"\",Data!F445 > 0),Data!F445,\"\")","v":""}]
[{"$f":"IF(D445<>\"\",Data!A446,\"\")","v":""},{"$f":"IF(D445<>\"\",Data!B446,\"\")","v":""},"",{"$f":"IF(AND(Data!F446<>\"\",Data!F446 > 0),Data!F446,\"\")","v":""}]
[{"$f":"IF(D446<>\"\",Data!A447,\"\")","v":""},{"$f":"IF(D446<>\"\",Data!B447,\"\")","v":""},"",{"$f":"IF(AND(Data!F447<>\"\",Data!F447 > 0),Data!F447,\"\")","v":""}]
[{"$f":"IF(D447<>\"\",Data!A448,\"\")","v":""},{"$f":"IF(D447<>\"\",Data!B448,\"\")","v":""},"",{"$f":"IF(AND(Data!F448<>\"\",Data!F448 > 0),Data!F448,\"\")","v":""}]
[{"$f":"IF(D448<>\"\",Data!A449,\"\")","v":""},{"$f":"IF(D448<>\"\",Data!B449,\"\")","v":""},"",{"$f":"IF(AND(Data!F449<>\"\",Data!F449 > 0),Data!F449,\"\")","v":""}]
[{"$f":"IF(D449<>\"\",Data!A450,\"\")","v":""},{"$f":"IF(D449<>\"\",Data!B450,\"\")","v":""},"",{"$f":"IF(AND(Data!F450<>\"\",Data!F450 > 0),Data!F450,\"\")","v":""}]
[{"$f":"IF(D450<>\"\",Data!A451,\"\")","v":""},{"$f":"IF(D450<>\"\",Data!B451,\"\")","v":""},{"$f":"IF(D450<>\"\",MID(CELL(\"filename\",B450),FIND(\"]\",CELL(\"filename\",B450))+1,32),\"\")","v":""},{"$f":"IF(AND(Data!F451<>\"\",Data!F451 > 0),Data!F451,\"\")","v":""}]
[{"$f":"IF(D451<>\"\",Data!A452,\"\")","v":""},{"$f":"IF(D451<>\"\",Data!B452,\"\")","v":""},"",{"$f":"IF(AND(Data!F452<>\"\",Data!F452 > 0),Data!F452,\"\")","v":""}]
[{"$f":"IF(D452<>\"\",Data!A453,\"\")","v":""},{"$f":"IF(D452<>\"\",Data!B453,\"\")","v":""},"",{"$f":"IF(AND(Data!F453<>\"\",Data!F453 > 0),Data!F453,\"\")","v":""}]
[{"$f":"IF(D453<>\"\",Data!A454,\"\")","v":""},{"$f":"IF(D453<>\"\",Data!B454,\"\")","v":""},"",{"$f":"IF(AND(Data!F454<>\"\",Data!F454 > 0),Data!F454,\"\")","v":""}]
[{"$f":"IF(D454<>\"\",Data!A455,\"\")","v":""},{"$f":"IF(D454<>\"\",Data!B455,\"\")","v":""},"",{"$f":"IF(AND(Data!F455<>\"\",Data!F455 > 0),Data!F455,\"\")","v":""}]
[{"$f":"IF(D455<>\"\",Data!A456,\"\")","v":""},{"$f":"IF(D455<>\"\",Data!B456,\"\")","v":""},"",{"$f":"IF(AND(Data!F456<>\"\",Data!F456 > 0),Data!F456,\"\")","v":""}]
[{"$f":"IF(D456<>\"\",Data!A457,\"\")","v":""},{"$f":"IF(D456<>\"\",Data!B457,\"\")","v":""},"",{"$f":"IF(AND(Data!F457<>\"\",Data!F457 > 0),Data!F457,\"\")","v":""}]
[{"$f":"IF(D457<>\"\",Data!A458,\"\")","v":""},{"$f":"IF(D457<>\"\",Data!B458,\"\")","v":""},"",{"$f":"IF(AND(Data!F458<>\"\",Data!F458 > 0),Data!F458,\"\")","v":""}]
[{"$f":"IF(D458<>\"\",Data!A459,\"\")","v":""},{"$f":"IF(D458<>\"\",Data!B459,\"\")","v":""},"",{"$f":"IF(AND(Data!F459<>\"\",Data!F459 > 0),Data!F459,\"\")","v":""}]
[{"$f":"IF(D459<>\"\",Data!A460,\"\")","v":""},{"$f":"IF(D459<>\"\",Data!B460,\"\")","v":""},"",{"$f":"IF(AND(Data!F460<>\"\",Data!F460 > 0),Data!F460,\"\")","v":""}]
[{"$f":"IF(D460<>\"\",Data!A461,\"\")","v":""},{"$f":"IF(D460<>\"\",Data!B461,\"\")","v":""},"",{"$f":"IF(AND(Data!F461<>\"\",Data!F461 > 0),Data!F461,\"\")","v":""}]
[{"$f":"IF(D461<>\"\",Data!A462,\"\")","v":""},{"$f":"IF(D461<>\"\",Data!B462,\"\")","v":""},"",{"$f":"IF(AND(Data!F462<>\"\",Data!F462 > 0),Data!F462,\"\")","v":""}]
[{"$f":"IF(D462<>\"\",Data!A463,\"\")","v":""},{"$f":"IF(D462<>\"\",Data!B463,\"\")","v":""},"",{"$f":"IF(AND(Data!F463<>\"\",Data!F463 > 0),Data!F463,\"\")","v":""}]
[{"$f":"IF(D463<>\"\",Data!A464,\"\")","v":""},{"$f":"IF(D463<>\"\",Data!B464,\"\")","v":""},"",{"$f":"IF(AND(Data!F464<>\"\",Data!F464 > 0),Data!F464,\"\")","v":""}]
[{"$f":"IF(D464<>\"\",Data!A465,\"\")","v":""},{"$f":"IF(D464<>\"\",Data!B465,\"\")","v":""},"",{"$f":"IF(AND(Data!F465<>\"\",Data!F465 > 0),Data!F465,\"\")","v":""}]
[{"$f":"IF(D465<>\"\",Data!A466,\"\")","v":""},{"$f":"IF(D465<>\"\",Data!B466,\"\")","v":""},"",{"$f":"IF(AND(Data!F466<>\"\",Data!F466 > 0),Data!F466,\"\")","v":""}]
[{"$f":"IF(D466<>\"\",Data!A467,\"\")","v":""},{"$f":"IF(D466<>\"\",Data!B467,\"\")","v":""},"",{"$f":"IF(AND(Data!F467<>\"\",Data!F467 > 0),Data!F467,\"\")","v":""}]
[{"$f":"IF(D467<>\"\",Data!A468,\"\")","v":""},{"$f":"IF(D467<>\"\",Data!B468,\"\")","v":""},"",{"$f":"IF(AND(Data!F468<>\"\",Data!F468 > 0),Data!F468,\"\")","v":""}]
[{"$f":"IF(D468<>\"\",Data!A469,\"\")","v":""},{"$f":"IF(D468<>\"\",Data!B469,\"\")","v":""},"",{"$f":"IF(AND(Data!F469<>\"\",Data!F469 > 0),Data!F469,\"\")","v":""}]
[{"$f":"IF(D469<>\"\",Data!A470,\"\")","v":""},{"$f":"IF(D469<>\"\",Data!B470,\"\")","v":""},"",{"$f":"IF(AND(Data!F470<>\"\",Data!F470 > 0),Data!F470,\"\")","v":""}]
[{"$f":"IF(D470<>\"\",Data!A471,\"\")","v":""},{"$f":"IF(D470<>\"\",Data!B471,\"\")","v":""},"",{"$f":"IF(AND(Data!F471<>\"\",Data!F471 > 0),Data!F471,\"\")","v":""}]
[{"$f":"IF(D471<>\"\",Data!A472,\"\")","v":""},{"$f":"IF(D471<>\"\",Data!B472,\"\")","v":""},"",{"$f":"IF(AND(Data!F472<>\"\",Data!F472 > 0),Data!F472,\"\")","v":""}]
[{"$f":"IF(D472<>\"\",Data!A473,\"\")","v":""},{"$f":"IF(D472<>\"\",Data!B473,\"\")","v":""},"",{"$f":"IF(AND(Data!F473<>\"\",Data!F473 > 0),Data!F473,\"\")","v":""}]
[{"$f":"IF(D473<>\"\",Data!A474,\"\")","v":""},{"$f":"IF(D473<>\"\",Data!B474,\"\")","v":""},"",{"$f":"IF(AND(Data!F474<>\"\",Data!F474 > 0),Data!F474,\"\")","v":""}]
[{"$f":"IF(D474<>\"\",Data!A475,\"\")","v":""},{"$f":"IF(D474<>\"\",Data!B475,\"\")","v":""},"",{"$f":"IF(AND(Data!F475<>\"\",Data!F475 > 0),Data!F475,\"\")","v":""}]
[{"$f":"IF(D475<>\"\",Data!A476,\"\")","v":""},{"$f":"IF(D475<>\"\",Data!B476,\"\")","v":""},"",{"$f":"IF(AND(Data!F476<>\"\",Data!F476 > 0),Data!F476,\"\")","v":""}]
[{"$f":"IF(D476<>\"\",Data!A477,\"\")","v":""},{"$f":"IF(D476<>\"\",Data!B477,\"\")","v":""},"",{"$f":"IF(AND(Data!F477<>\"\",Data!F477 > 0),Data!F477,\"\")","v":""}]
[{"$f":"IF(D477<>\"\",Data!A478,\"\")","v":""},{"$f":"IF(D477<>\"\",Data!B478,\"\")","v":""},"",{"$f":"IF(AND(Data!F478<>\"\",Data!F478 > 0),Data!F478,\"\")","v":""}]
[{"$f":"IF(D478<>\"\",Data!A479,\"\")","v":""},{"$f":"IF(D478<>\"\",Data!B479,\"\")","v":""},"",{"$f":"IF(AND(Data!F479<>\"\",Data!F479 > 0),Data!F479,\"\")","v":""}]
[{"$f":"IF(D479<>\"\",Data!A480,\"\")","v":""},{"$f":"IF(D479<>\"\",Data!B480,\"\")","v":""},"",{"$f":"IF(AND(Data!F480<>\"\",Data!F480 > 0),Data!F480,\"\")","v":""}]
[{"$f":"IF(D480<>\"\",Data!A481,\"\")","v":""},{"$f":"IF(D480<>\"\",Data!B481,\"\")","v":""},"",{"$f":"IF(AND(Data!F481<>\"\",Data!F481 > 0),Data!F481,\"\")","v":""}]
[{"$f":"IF(D481<>\"\",Data!A482,\"\")","v":""},{"$f":"IF(D481<>\"\",Data!B482,\"\")","v":""},"",{"$f":"IF(AND(Data!F482<>\"\",Data!F482 > 0),Data!F482,\"\")","v":""}]
[{"$f":"IF(D482<>\"\",Data!A483,\"\")","v":""},{"$f":"IF(D482<>\"\",Data!B483,\"\")","v":""},"",{"$f":"IF(AND(Data!F483<>\"\",Data!F483 > 0),Data!F483,\"\")","v":""}]
[{"$f":"IF(D483<>\"\",Data!A484,\"\")","v":""},{"$f":"IF(D483<>\"\",Data!B484,\"\")","v":""},"",{"$f":"IF(AND(Data!F484<>\"\",Data!F484 > 0),Data!F484,\"\")","v":""}]
[{"$f":"IF(D484<>\"\",Data!A485,\"\")","v":""},{"$f":"IF(D484<>\"\",Data!B485,\"\")","v":""},"",{"$f":"IF(AND(Data!F485<>\"\",Data!F485 > 0),Data!F485,\"\")","v":""}]
[{"$f":"IF(D485<>\"\",Data!A486,\"\")","v":""},{"$f":"IF(D485<>\"\",Data!B486,\"\")","v":""},"",{"$f":"IF(AND(Data!F486<>\"\",Data!F486 > 0),Data!F486,\"\")","v":""}]
[{"$f":"IF(D486<>\"\",Data!A487,\"\")","v":""},{"$f":"IF(D486<>\"\",Data!B487,\"\")","v":""},"",{"$f":"IF(AND(Data!F487<>\"\",Data!F487 > 0),Data!F487,\"\")","v":""}]
[{"$f":"IF(D487<>\"\",Data!A488,\"\")","v":""},{"$f":"IF(D487<>\"\",Data!B488,\"\")","v":""},"",{"$f":"IF(AND(Data!F488<>\"\",Data!F488 > 0),Data!F488,\"\")","v":""}]
[{"$f":"IF(D488<>\"\",Data!A489,\"\")","v":""},{"$f":"IF(D488<>\"\",Data!B489,\"\")","v":""},"",{"$f":"IF(AND(Data!F489<>\"\",Data!F489 > 0),Data!F489,\"\")","v":""}]
[{"$f":"IF(D489<>\"\",Data!A490,\"\")","v":""},{"$f":"IF(D489<>\"\",Data!B490,\"\")","v":""},"",{"$f":"IF(AND(Data!F490<>\"\",Data!F490 > 0),Data!F490,\"\")","v":""}]
[{"$f":"IF(D490<>\"\",Data!A491,\"\")","v":""},{"$f":"IF(D490<>\"\",Data!B491,\"\")","v":""},"",{"$f":"IF(AND(Data!F491<>\"\",Data!F491 > 0),Data!F491,\"\")","v":""}]
[{"$f":"IF(D491<>\"\",Data!A492,\"\")","v":""},{"$f":"IF(D491<>\"\",Data!B492,\"\")","v":""},"",{"$f":"IF(AND(Data!F492<>\"\",Data!F492 > 0),Data!F492,\"\")","v":""}]
[{"$f":"IF(D492<>\"\",Data!A493,\"\")","v":""},{"$f":"IF(D492<>\"\",Data!B493,\"\")","v":""},"",{"$f":"IF(AND(Data!F493<>\"\",Data!F493 > 0),Data!F493,\"\")","v":""}]
[{"$f":"IF(D493<>\"\",Data!A494,\"\")","v":""},{"$f":"IF(D493<>\"\",Data!B494,\"\")","v":""},"",{"$f":"IF(AND(Data!F494<>\"\",Data!F494 > 0),Data!F494,\"\")","v":""}]
[{"$f":"IF(D494<>\"\",Data!A495,\"\")","v":""},{"$f":"IF(D494<>\"\",Data!B495,\"\")","v":""},"",{"$f":"IF(AND(Data!F495<>\"\",Data!F495 > 0),Data!F495,\"\")","v":""}]
[{"$f":"IF(D495<>\"\",Data!A496,\"\")","v":""},{"$f":"IF(D495<>\"\",Data!B496,\"\")","v":""},"",{"$f":"IF(AND(Data!F496<>\"\",Data!F496 > 0),Data!F496,\"\")","v":""}]
[{"$f":"IF(D496<>\"\",Data!A497,\"\")","v":""},{"$f":"IF(D496<>\"\",Data!B497,\"\")","v":""},"",{"$f":"IF(AND(Data!F497<>\"\",Data!F497 > 0),Data!F497,\"\")","v":""}]
[{"$f":"IF(D497<>\"\",Data!A498,\"\")","v":""},{"$f":"IF(D497<>\"\",Data!B498,\"\")","v":""},"",{"$f":"IF(AND(Data!F498<>\"\",Data!F498 > 0),Data!F498,\"\")","v":""}]
[{"$f":"IF(D498<>\"\",Data!A499,\"\")","v":""},{"$f":"IF(D498<>\"\",Data!B499,\"\")","v":""},"",{"$f":"IF(AND(Data!F499<>\"\",Data!F499 > 0),Data!F499,\"\")","v":""}]
[{"$f":"IF(D499<>\"\",Data!A500,\"\")","v":""},{"$f":"IF(D499<>\"\",Data!B500,\"\")","v":""},"",{"$f":"IF(AND(Data!F500<>\"\",Data!F500 > 0),Data!F500,\"\")","v":""}]
[{"$f":"IF(D500<>\"\",Data!A501,\"\")","v":""},{"$f":"IF(D500<>\"\",Data!B501,\"\")","v":""},"",{"$f":"IF(AND(Data!F501<>\"\",Data!F501 > 0),Data!F501,\"\")","v":""}]
[{"$f":"IF(D501<>\"\",Data!A502,\"\")","v":""},{"$f":"IF(D501<>\"\",Data!B502,\"\")","v":""},"",{"$f":"IF(AND(Data!F502<>\"\",Data!F502 > 0),Data!F502,\"\")","v":""}]
[{"$f":"IF(D502<>\"\",Data!A503,\"\")","v":""},{"$f":"IF(D502<>\"\",Data!B503,\"\")","v":""},"",{"$f":"IF(AND(Data!F503<>\"\",Data!F503 > 0),Data!F503,\"\")","v":""}]
[{"$f":"IF(D503<>\"\",Data!A504,\"\")","v":""},{"$f":"IF(D503<>\"\",Data!B504,\"\")","v":""},"",{"$f":"IF(AND(Data!F504<>\"\",Data!F504 > 0),Data!F504,\"\")","v":""}]
[{"$f":"IF(D504<>\"\",Data!A505,\"\")","v":""},{"$f":"IF(D504<>\"\",Data!B505,\"\")","v":""},"",{"$f":"IF(AND(Data!F505<>\"\",Data!F505 > 0),Data!F505,\"\")","v":""}]
[{"$f":"IF(D505<>\"\",Data!A506,\"\")","v":""},{"$f":"IF(D505<>\"\",Data!B506,\"\")","v":""},"",{"$f":"IF(AND(Data!F506<>\"\",Data!F506 > 0),Data!F506,\"\")","v":""}]
[{"$f":"IF(D506<>\"\",Data!A507,\"\")","v":""},{"$f":"IF(D506<>\"\",Data!B507,\"\")","v":""},"",{"$f":"IF(AND(Data!F507<>\"\",Data!F507 > 0),Data!F507,\"\")","v":""}]
[{"$f":"IF(D507<>\"\",Data!A508,\"\")","v":""},{"$f":"IF(D507<>\"\",Data!B508,\"\")","v":""},"",{"$f":"IF(AND(Data!F508<>\"\",Data!F508 > 0),Data!F508,\"\")","v":""}]
[{"$f":"IF(D508<>\"\",Data!A509,\"\")","v":""},{"$f":"IF(D508<>\"\",Data!B509,\"\")","v":""},"",{"$f":"IF(AND(Data!F509<>\"\",Data!F509 > 0),Data!F509,\"\")","v":""}]
[{"$f":"IF(D509<>\"\",Data!A510,\"\")","v":""},{"$f":"IF(D509<>\"\",Data!B510,\"\")","v":""},"",{"$f":"IF(AND(Data!F510<>\"\",Data!F510 > 0),Data!F510,\"\")","v":""}]
[{"$f":"IF(D510<>\"\",Data!A511,\"\")","v":""},{"$f":"IF(D510<>\"\",Data!B511,\"\")","v":""},"",{"$f":"IF(AND(Data!F511<>\"\",Data!F511 > 0),Data!F511,\"\")","v":""}]
[{"$f":"IF(D511<>\"\",Data!A512,\"\")","v":""},{"$f":"IF(D511<>\"\",Data!B512,\"\")","v":""},"",{"$f":"IF(AND(Data!F512<>\"\",Data!F512 > 0),Data!F512,\"\")","v":""}]
[{"$f":"IF(D512<>\"\",Data!A513,\"\")","v":""},{"$f":"IF(D512<>\"\",Data!B513,\"\")","v":""},"",{"$f":"IF(AND(Data!F513<>\"\",Data!F513 > 0),Data!F513,\"\")","v":""}]
[{"$f":"IF(D513<>\"\",Data!A514,\"\")","v":""},{"$f":"IF(D513<>\"\",Data!B514,\"\")","v":""},"",{"$f":"IF(AND(Data!F514<>\"\",Data!F514 > 0),Data!F514,\"\")","v":""}]
[{"$f":"IF(D514<>\"\",Data!A515,\"\")","v":""},{"$f":"IF(D514<>\"\",Data!B515,\"\")","v":""},{"$f":"IF(D514<>\"\",MID(CELL(\"filename\",B514),FIND(\"]\",CELL(\"filename\",B514))+1,32),\"\")","v":""},{"$f":"IF(AND(Data!F515<>\"\",Data!F515 > 0),Data!F515,\"\")","v":""}]
[{"$f":"IF(D515<>\"\",Data!A516,\"\")","v":""},{"$f":"IF(D515<>\"\",Data!B516,\"\")","v":""},"",{"$f":"IF(AND(Data!F516<>\"\",Data!F516 > 0),Data!F516,\"\")","v":""}]
[{"$f":"IF(D516<>\"\",Data!A517,\"\")","v":""},{"$f":"IF(D516<>\"\",Data!B517,\"\")","v":""},"",{"$f":"IF(AND(Data!F517<>\"\",Data!F517 > 0),Data!F517,\"\")","v":""}]
[{"$f":"IF(D517<>\"\",Data!A518,\"\")","v":""},{"$f":"IF(D517<>\"\",Data!B518,\"\")","v":""},"",{"$f":"IF(AND(Data!F518<>\"\",Data!F518 > 0),Data!F518,\"\")","v":""}]
[{"$f":"IF(D518<>\"\",Data!A519,\"\")","v":""},{"$f":"IF(D518<>\"\",Data!B519,\"\")","v":""},"",{"$f":"IF(AND(Data!F519<>\"\",Data!F519 > 0),Data!F519,\"\")","v":""}]
[{"$f":"IF(D519<>\"\",Data!A520,\"\")","v":""},{"$f":"IF(D519<>\"\",Data!B520,\"\")","v":""},"",{"$f":"IF(AND(Data!F520<>\"\",Data!F520 > 0),Data!F520,\"\")","v":""}]
[{"$f":"IF(D520<>\"\",Data!A521,\"\")","v":""},{"$f":"IF(D520<>\"\",Data!B521,\"\")","v":""},"",{"$f":"IF(AND(Data!F521<>\"\",Data!F521 > 0),Data!F521,\"\")","v":""}]
[{"$f":"IF(D521<>\"\",Data!A522,\"\")","v":""},{"$f":"IF(D521<>\"\",Data!B522,\"\")","v":""},"",{"$f":"IF(AND(Data!F522<>\"\",Data!F522 > 0),Data!F522,\"\")","v":""}]
[{"$f":"IF(D522<>\"\",Data!A523,\"\")","v":""},{"$f":"IF(D522<>\"\",Data!B523,\"\")","v":""},"",{"$f":"IF(AND(Data!F523<>\"\",Data!F523 > 0),Data!F523,\"\")","v":""}]
[{"$f":"IF(D523<>\"\",Data!A524,\"\")","v":""},{"$f":"IF(D523<>\"\",Data!B524,\"\")","v":""},"",{"$f":"IF(AND(Data!F524<>\"\",Data!F524 > 0),Data!F524,\"\")","v":""}]
[{"$f":"IF(D524<>\"\",Data!A525,\"\")","v":""},{"$f":"IF(D524<>\"\",Data!B525,\"\")","v":""},"",{"$f":"IF(AND(Data!F525<>\"\",Data!F525 > 0),Data!F525,\"\")","v":""}]
[{"$f":"IF(D525<>\"\",Data!A526,\"\")","v":""},{"$f":"IF(D525<>\"\",Data!B526,\"\")","v":""},"",{"$f":"IF(AND(Data!F526<>\"\",Data!F526 > 0),Data!F526,\"\")","v":""}]
[{"$f":"IF(D526<>\"\",Data!A527,\"\")","v":""},{"$f":"IF(D526<>\"\",Data!B527,\"\")","v":""},"",{"$f":"IF(AND(Data!F527<>\"\",Data!F527 > 0),Data!F527,\"\")","v":""}]
[{"$f":"IF(D527<>\"\",Data!A528,\"\")","v":""},{"$f":"IF(D527<>\"\",Data!B528,\"\")","v":""},"",{"$f":"IF(AND(Data!F528<>\"\",Data!F528 > 0),Data!F528,\"\")","v":""}]
[{"$f":"IF(D528<>\"\",Data!A529,\"\")","v":""},{"$f":"IF(D528<>\"\",Data!B529,\"\")","v":""},"",{"$f":"IF(AND(Data!F529<>\"\",Data!F529 > 0),Data!F529,\"\")","v":""}]
[{"$f":"IF(D529<>\"\",Data!A530,\"\")","v":""},{"$f":"IF(D529<>\"\",Data!B530,\"\")","v":""},"",{"$f":"IF(AND(Data!F530<>\"\",Data!F530 > 0),Data!F530,\"\")","v":""}]
[{"$f":"IF(D530<>\"\",Data!A531,\"\")","v":""},{"$f":"IF(D530<>\"\",Data!B531,\"\")","v":""},"",{"$f":"IF(AND(Data!F531<>\"\",Data!F531 > 0),Data!F531,\"\")","v":""}]
[{"$f":"IF(D531<>\"\",Data!A532,\"\")","v":""},{"$f":"IF(D531<>\"\",Data!B532,\"\")","v":""},"",{"$f":"IF(AND(Data!F532<>\"\",Data!F532 > 0),Data!F532,\"\")","v":""}]
[{"$f":"IF(D532<>\"\",Data!A533,\"\")","v":""},{"$f":"IF(D532<>\"\",Data!B533,\"\")","v":""},"",{"$f":"IF(AND(Data!F533<>\"\",Data!F533 > 0),Data!F533,\"\")","v":""}]
[{"$f":"IF(D533<>\"\",Data!A534,\"\")","v":""},{"$f":"IF(D533<>\"\",Data!B534,\"\")","v":""},"",{"$f":"IF(AND(Data!F534<>\"\",Data!F534 > 0),Data!F534,\"\")","v":""}]
[{"$f":"IF(D534<>\"\",Data!A535,\"\")","v":""},{"$f":"IF(D534<>\"\",Data!B535,\"\")","v":""},"",{"$f":"IF(AND(Data!F535<>\"\",Data!F535 > 0),Data!F535,\"\")","v":""}]
[{"$f":"IF(D535<>\"\",Data!A536,\"\")","v":""},{"$f":"IF(D535<>\"\",Data!B536,\"\")","v":""},"",{"$f":"IF(AND(Data!F536<>\"\",Data!F536 > 0),Data!F536,\"\")","v":""}]
[{"$f":"IF(D536<>\"\",Data!A537,\"\")","v":""},{"$f":"IF(D536<>\"\",Data!B537,\"\")","v":""},"",{"$f":"IF(AND(Data!F537<>\"\",Data!F537 > 0),Data!F537,\"\")","v":""}]
[{"$f":"IF(D537<>\"\",Data!A538,\"\")","v":""},{"$f":"IF(D537<>\"\",Data!B538,\"\")","v":""},"",{"$f":"IF(AND(Data!F538<>\"\",Data!F538 > 0),Data!F538,\"\")","v":""}]
[{"$f":"IF(D538<>\"\",Data!A539,\"\")","v":""},{"$f":"IF(D538<>\"\",Data!B539,\"\")","v":""},"",{"$f":"IF(AND(Data!F539<>\"\",Data!F539 > 0),Data!F539,\"\")","v":""}]
[{"$f":"IF(D539<>\"\",Data!A540,\"\")","v":""},{"$f":"IF(D539<>\"\",Data!B540,\"\")","v":""},"",{"$f":"IF(AND(Data!F540<>\"\",Data!F540 > 0),Data!F540,\"\")","v":""}]
[{"$f":"IF(D540<>\"\",Data!A541,\"\")","v":""},{"$f":"IF(D540<>\"\",Data!B541,\"\")","v":""},"",{"$f":"IF(AND(Data!F541<>\"\",Data!F541 > 0),Data!F541,\"\")","v":""}]
[{"$f":"IF(D541<>\"\",Data!A542,\"\")","v":""},{"$f":"IF(D541<>\"\",Data!B542,\"\")","v":""},"",{"$f":"IF(AND(Data!F542<>\"\",Data!F542 > 0),Data!F542,\"\")","v":""}]
[{"$f":"IF(D542<>\"\",Data!A543,\"\")","v":""},{"$f":"IF(D542<>\"\",Data!B543,\"\")","v":""},"",{"$f":"IF(AND(Data!F543<>\"\",Data!F543 > 0),Data!F543,\"\")","v":""}]
[{"$f":"IF(D543<>\"\",Data!A544,\"\")","v":""},{"$f":"IF(D543<>\"\",Data!B544,\"\")","v":""},"",{"$f":"IF(AND(Data!F544<>\"\",Data!F544 > 0),Data!F544,\"\")","v":""}]
[{"$f":"IF(D544<>\"\",Data!A545,\"\")","v":""},{"$f":"IF(D544<>\"\",Data!B545,\"\")","v":""},"",{"$f":"IF(AND(Data!F545<>\"\",Data!F545 > 0),Data!F545,\"\")","v":""}]
[{"$f":"IF(D545<>\"\",Data!A546,\"\")","v":""},{"$f":"IF(D545<>\"\",Data!B546,\"\")","v":""},"",{"$f":"IF(AND(Data!F546<>\"\",Data!F546 > 0),Data!F546,\"\")","v":""}]
[{"$f":"IF(D546<>\"\",Data!A547,\"\")","v":""},{"$f":"IF(D546<>\"\",Data!B547,\"\")","v":""},"",{"$f":"IF(AND(Data!F547<>\"\",Data!F547 > 0),Data!F547,\"\")","v":""}]
[{"$f":"IF(D547<>\"\",Data!A548,\"\")","v":""},{"$f":"IF(D547<>\"\",Data!B548,\"\")","v":""},"",{"$f":"IF(AND(Data!F548<>\"\",Data!F548 > 0),Data!F548,\"\")","v":""}]
[{"$f":"IF(D548<>\"\",Data!A549,\"\")","v":""},{"$f":"IF(D548<>\"\",Data!B549,\"\")","v":""},"",{"$f":"IF(AND(Data!F549<>\"\",Data!F549 > 0),Data!F549,\"\")","v":""}]
[{"$f":"IF(D549<>\"\",Data!A550,\"\")","v":""},{"$f":"IF(D549<>\"\",Data!B550,\"\")","v":""},"",{"$f":"IF(AND(Data!F550<>\"\",Data!F550 > 0),Data!F550,\"\")","v":""}]
[{"$f":"IF(D550<>\"\",Data!A551,\"\")","v":""},{"$f":"IF(D550<>\"\",Data!B551,\"\")","v":""},"",{"$f":"IF(AND(Data!F551<>\"\",Data!F551 > 0),Data!F551,\"\")","v":""}]
[{"$f":"IF(D551<>\"\",Data!A552,\"\")","v":""},{"$f":"IF(D551<>\"\",Data!B552,\"\")","v":""},"",{"$f":"IF(AND(Data!F552<>\"\",Data!F552 > 0),Data!F552,\"\")","v":""}]
[{"$f":"IF(D552<>\"\",Data!A553,\"\")","v":""},{"$f":"IF(D552<>\"\",Data!B553,\"\")","v":""},"",{"$f":"IF(AND(Data!F553<>\"\",Data!F553 > 0),Data!F553,\"\")","v":""}]
[{"$f":"IF(D553<>\"\",Data!A554,\"\")","v":""},{"$f":"IF(D553<>\"\",Data!B554,\"\")","v":""},"",{"$f":"IF(AND(Data!F554<>\"\",Data!F554 > 0),Data!F554,\"\")","v":""}]
[{"$f":"IF(D554<>\"\",Data!A555,\"\")","v":""},{"$f":"IF(D554<>\"\",Data!B555,\"\")","v":""},"",{"$f":"IF(AND(Data!F555<>\"\",Data!F555 > 0),Data!F555,\"\")","v":""}]
[{"$f":"IF(D555<>\"\",Data!A556,\"\")","v":""},{"$f":"IF(D555<>\"\",Data!B556,\"\")","v":""},"",{"$f":"IF(AND(Data!F556<>\"\",Data!F556 > 0),Data!F556,\"\")","v":""}]
[{"$f":"IF(D556<>\"\",Data!A557,\"\")","v":""},{"$f":"IF(D556<>\"\",Data!B557,\"\")","v":""},"",{"$f":"IF(AND(Data!F557<>\"\",Data!F557 > 0),Data!F557,\"\")","v":""}]
[{"$f":"IF(D557<>\"\",Data!A558,\"\")","v":""},{"$f":"IF(D557<>\"\",Data!B558,\"\")","v":""},"",{"$f":"IF(AND(Data!F558<>\"\",Data!F558 > 0),Data!F558,\"\")","v":""}]
[{"$f":"IF(D558<>\"\",Data!A559,\"\")","v":""},{"$f":"IF(D558<>\"\",Data!B559,\"\")","v":""},"",{"$f":"IF(AND(Data!F559<>\"\",Data!F559 > 0),Data!F559,\"\")","v":""}]
[{"$f":"IF(D559<>\"\",Data!A560,\"\")","v":""},{"$f":"IF(D559<>\"\",Data!B560,\"\")","v":""},"",{"$f":"IF(AND(Data!F560<>\"\",Data!F560 > 0),Data!F560,\"\")","v":""}]
[{"$f":"IF(D560<>\"\",Data!A561,\"\")","v":""},{"$f":"IF(D560<>\"\",Data!B561,\"\")","v":""},"",{"$f":"IF(AND(Data!F561<>\"\",Data!F561 > 0),Data!F561,\"\")","v":""}]
[{"$f":"IF(D561<>\"\",Data!A562,\"\")","v":""},{"$f":"IF(D561<>\"\",Data!B562,\"\")","v":""},"",{"$f":"IF(AND(Data!F562<>\"\",Data!F562 > 0),Data!F562,\"\")","v":""}]
[{"$f":"IF(D562<>\"\",Data!A563,\"\")","v":""},{"$f":"IF(D562<>\"\",Data!B563,\"\")","v":""},"",{"$f":"IF(AND(Data!F563<>\"\",Data!F563 > 0),Data!F563,\"\")","v":""}]
[{"$f":"IF(D563<>\"\",Data!A564,\"\")","v":""},{"$f":"IF(D563<>\"\",Data!B564,\"\")","v":""},"",{"$f":"IF(AND(Data!F564<>\"\",Data!F564 > 0),Data!F564,\"\")","v":""}]
[{"$f":"IF(D564<>\"\",Data!A565,\"\")","v":""},{"$f":"IF(D564<>\"\",Data!B565,\"\")","v":""},"",{"$f":"IF(AND(Data!F565<>\"\",Data!F565 > 0),Data!F565,\"\")","v":""}]
[{"$f":"IF(D565<>\"\",Data!A566,\"\")","v":""},{"$f":"IF(D565<>\"\",Data!B566,\"\")","v":""},"",{"$f":"IF(AND(Data!F566<>\"\",Data!F566 > 0),Data!F566,\"\")","v":""}]
[{"$f":"IF(D566<>\"\",Data!A567,\"\")","v":""},{"$f":"IF(D566<>\"\",Data!B567,\"\")","v":""},"",{"$f":"IF(AND(Data!F567<>\"\",Data!F567 > 0),Data!F567,\"\")","v":""}]
[{"$f":"IF(D567<>\"\",Data!A568,\"\")","v":""},{"$f":"IF(D567<>\"\",Data!B568,\"\")","v":""},"",{"$f":"IF(AND(Data!F568<>\"\",Data!F568 > 0),Data!F568,\"\")","v":""}]
[{"$f":"IF(D568<>\"\",Data!A569,\"\")","v":""},{"$f":"IF(D568<>\"\",Data!B569,\"\")","v":""},"",{"$f":"IF(AND(Data!F569<>\"\",Data!F569 > 0),Data!F569,\"\")","v":""}]
[{"$f":"IF(D569<>\"\",Data!A570,\"\")","v":""},{"$f":"IF(D569<>\"\",Data!B570,\"\")","v":""},"",{"$f":"IF(AND(Data!F570<>\"\",Data!F570 > 0),Data!F570,\"\")","v":""}]
[{"$f":"IF(D570<>\"\",Data!A571,\"\")","v":""},{"$f":"IF(D570<>\"\",Data!B571,\"\")","v":""},"",{"$f":"IF(AND(Data!F571<>\"\",Data!F571 > 0),Data!F571,\"\")","v":""}]
[{"$f":"IF(D571<>\"\",Data!A572,\"\")","v":""},{"$f":"IF(D571<>\"\",Data!B572,\"\")","v":""},"",{"$f":"IF(AND(Data!F572<>\"\",Data!F572 > 0),Data!F572,\"\")","v":""}]
[{"$f":"IF(D572<>\"\",Data!A573,\"\")","v":""},{"$f":"IF(D572<>\"\",Data!B573,\"\")","v":""},"",{"$f":"IF(AND(Data!F573<>\"\",Data!F573 > 0),Data!F573,\"\")","v":""}]
[{"$f":"IF(D573<>\"\",Data!A574,\"\")","v":""},{"$f":"IF(D573<>\"\",Data!B574,\"\")","v":""},"",{"$f":"IF(AND(Data!F574<>\"\",Data!F574 > 0),Data!F574,\"\")","v":""}]
[{"$f":"IF(D574<>\"\",Data!A575,\"\")","v":""},{"$f":"IF(D574<>\"\",Data!B575,\"\")","v":""},"",{"$f":"IF(AND(Data!F575<>\"\",Data!F575 > 0),Data!F575,\"\")","v":""}]
[{"$f":"IF(D575<>\"\",Data!A576,\"\")","v":""},{"$f":"IF(D575<>\"\",Data!B576,\"\")","v":""},"",{"$f":"IF(AND(Data!F576<>\"\",Data!F576 > 0),Data!F576,\"\")","v":""}]
[{"$f":"IF(D576<>\"\",Data!A577,\"\")","v":""},{"$f":"IF(D576<>\"\",Data!B577,\"\")","v":""},"",{"$f":"IF(AND(Data!F577<>\"\",Data!F577 > 0),Data!F577,\"\")","v":""}]
[{"$f":"IF(D577<>\"\",Data!A578,\"\")","v":""},{"$f":"IF(D577<>\"\",Data!B578,\"\")","v":""},"",{"$f":"IF(AND(Data!F578<>\"\",Data!F578 > 0),Data!F578,\"\")","v":""}]
[{"$f":"IF(D578<>\"\",Data!A579,\"\")","v":""},{"$f":"IF(D578<>\"\",Data!B579,\"\")","v":""},{"$f":"IF(D578<>\"\",MID(CELL(\"filename\",B578),FIND(\"]\",CELL(\"filename\",B578))+1,32),\"\")","v":""},{"$f":"IF(AND(Data!F579<>\"\",Data!F579 > 0),Data!F579,\"\")","v":""}]
[{"$f":"IF(D579<>\"\",Data!A580,\"\")","v":""},{"$f":"IF(D579<>\"\",Data!B580,\"\")","v":""},"",{"$f":"IF(AND(Data!F580<>\"\",Data!F580 > 0),Data!F580,\"\")","v":""}]
[{"$f":"IF(D580<>\"\",Data!A581,\"\")","v":""},{"$f":"IF(D580<>\"\",Data!B581,\"\")","v":""},"",{"$f":"IF(AND(Data!F581<>\"\",Data!F581 > 0),Data!F581,\"\")","v":""}]
[{"$f":"IF(D581<>\"\",Data!A582,\"\")","v":""},{"$f":"IF(D581<>\"\",Data!B582,\"\")","v":""},"",{"$f":"IF(AND(Data!F582<>\"\",Data!F582 > 0),Data!F582,\"\")","v":""}]
[{"$f":"IF(D582<>\"\",Data!A583,\"\")","v":""},{"$f":"IF(D582<>\"\",Data!B583,\"\")","v":""},"",{"$f":"IF(AND(Data!F583<>\"\",Data!F583 > 0),Data!F583,\"\")","v":""}]
[{"$f":"IF(D583<>\"\",Data!A584,\"\")","v":""},{"$f":"IF(D583<>\"\",Data!B584,\"\")","v":""},"",{"$f":"IF(AND(Data!F584<>\"\",Data!F584 > 0),Data!F584,\"\")","v":""}]
[{"$f":"IF(D584<>\"\",Data!A585,\"\")","v":""},{"$f":"IF(D584<>\"\",Data!B585,\"\")","v":""},"",{"$f":"IF(AND(Data!F585<>\"\",Data!F585 > 0),Data!F585,\"\")","v":""}]
[{"$f":"IF(D585<>\"\",Data!A586,\"\")","v":""},{"$f":"IF(D585<>\"\",Data!B586,\"\")","v":""},"",{"$f":"IF(AND(Data!F586<>\"\",Data!F586 > 0),Data!F586,\"\")","v":""}]
[{"$f":"IF(D586<>\"\",Data!A587,\"\")","v":""},{"$f":"IF(D586<>\"\",Data!B587,\"\")","v":""},"",{"$f":"IF(AND(Data!F587<>\"\",Data!F587 > 0),Data!F587,\"\")","v":""}]
[{"$f":"IF(D587<>\"\",Data!A588,\"\")","v":""},{"$f":"IF(D587<>\"\",Data!B588,\"\")","v":""},"",{"$f":"IF(AND(Data!F588<>\"\",Data!F588 > 0),Data!F588,\"\")","v":""}]
[{"$f":"IF(D588<>\"\",Data!A589,\"\")","v":""},{"$f":"IF(D588<>\"\",Data!B589,\"\")","v":""},"",{"$f":"IF(AND(Data!F589<>\"\",Data!F589 > 0),Data!F589,\"\")","v":""}]
[{"$f":"IF(D589<>\"\",Data!A590,\"\")","v":""},{"$f":"IF(D589<>\"\",Data!B590,\"\")","v":""},"",{"$f":"IF(AND(Data!F590<>\"\",Data!F590 > 0),Data!F590,\"\")","v":""}]
[{"$f":"IF(D590<>\"\",Data!A591,\"\")","v":""},{"$f":"IF(D590<>\"\",Data!B591,\"\")","v":""},"",{"$f":"IF(AND(Data!F591<>\"\",Data!F591 > 0),Data!F591,\"\")","v":""}]
[{"$f":"IF(D591<>\"\",Data!A592,\"\")","v":""},{"$f":"IF(D591<>\"\",Data!B592,\"\")","v":""},"",{"$f":"IF(AND(Data!F592<>\"\",Data!F592 > 0),Data!F592,\"\")","v":""}]
[{"$f":"IF(D592<>\"\",Data!A593,\"\")","v":""},{"$f":"IF(D592<>\"\",Data!B593,\"\")","v":""},"",{"$f":"IF(AND(Data!F593<>\"\",Data!F593 > 0),Data!F593,\"\")","v":""}]
[{"$f":"IF(D593<>\"\",Data!A594,\"\")","v":""},{"$f":"IF(D593<>\"\",Data!B594,\"\")","v":""},"",{"$f":"IF(AND(Data!F594<>\"\",Data!F594 > 0),Data!F594,\"\")","v":""}]
[{"$f":"IF(D594<>\"\",Data!A595,\"\")","v":""},{"$f":"IF(D594<>\"\",Data!B595,\"\")","v":""},"",{"$f":"IF(AND(Data!F595<>\"\",Data!F595 > 0),Data!F595,\"\")","v":""}]
[{"$f":"IF(D595<>\"\",Data!A596,\"\")","v":""},{"$f":"IF(D595<>\"\",Data!B596,\"\")","v":""},"",{"$f":"IF(AND(Data!F596<>\"\",Data!F596 > 0),Data!F596,\"\")","v":""}]
[{"$f":"IF(D596<>\"\",Data!A597,\"\")","v":""},{"$f":"IF(D596<>\"\",Data!B597,\"\")","v":""},"",{"$f":"IF(AND(Data!F597<>\"\",Data!F597 > 0),Data!F597,\"\")","v":""}]
[{"$f":"IF(D597<>\"\",Data!A598,\"\")","v":""},{"$f":"IF(D597<>\"\",Data!B598,\"\")","v":""},"",{"$f":"IF(AND(Data!F598<>\"\",Data!F598 > 0),Data!F598,\"\")","v":""}]
[{"$f":"IF(D598<>\"\",Data!A599,\"\")","v":""},{"$f":"IF(D598<>\"\",Data!B599,\"\")","v":""},"",{"$f":"IF(AND(Data!F599<>\"\",Data!F599 > 0),Data!F599,\"\")","v":""}]
[{"$f":"IF(D599<>\"\",Data!A600,\"\")","v":""},{"$f":"IF(D599<>\"\",Data!B600,\"\")","v":""},"",{"$f":"IF(AND(Data!F600<>\"\",Data!F600 > 0),Data!F600,\"\")","v":""}]
[{"$f":"IF(D600<>\"\",Data!A601,\"\")","v":""},{"$f":"IF(D600<>\"\",Data!B601,\"\")","v":""},"",{"$f":"IF(AND(Data!F601<>\"\",Data!F601 > 0),Data!F601,\"\")","v":""}]
[{"$f":"IF(D601<>\"\",Data!A602,\"\")","v":""},{"$f":"IF(D601<>\"\",Data!B602,\"\")","v":""},"",{"$f":"IF(AND(Data!F602<>\"\",Data!F602 > 0),Data!F602,\"\")","v":""}]
[{"$f":"IF(D602<>\"\",Data!A603,\"\")","v":""},{"$f":"IF(D602<>\"\",Data!B603,\"\")","v":""},"",{"$f":"IF(AND(Data!F603<>\"\",Data!F603 > 0),Data!F603,\"\")","v":""}]
[{"$f":"IF(D603<>\"\",Data!A604,\"\")","v":""},{"$f":"IF(D603<>\"\",Data!B604,\"\")","v":""},"",{"$f":"IF(AND(Data!F604<>\"\",Data!F604 > 0),Data!F604,\"\")","v":""}]
[{"$f":"IF(D604<>\"\",Data!A605,\"\")","v":""},{"$f":"IF(D604<>\"\",Data!B605,\"\")","v":""},"",{"$f":"IF(AND(Data!F605<>\"\",Data!F605 > 0),Data!F605,\"\")","v":""}]
[{"$f":"IF(D605<>\"\",Data!A606,\"\")","v":""},{"$f":"IF(D605<>\"\",Data!B606,\"\")","v":""},"",{"$f":"IF(AND(Data!F606<>\"\",Data!F606 > 0),Data!F606,\"\")","v":""}]
[{"$f":"IF(D606<>\"\",Data!A607,\"\")","v":""},{"$f":"IF(D606<>\"\",Data!B607,\"\")","v":""},"",{"$f":"IF(AND(Data!F607<>\"\",Data!F607 > 0),Data!F607,\"\")","v":""}]
[{"$f":"IF(D607<>\"\",Data!A608,\"\")","v":""},{"$f":"IF(D607<>\"\",Data!B608,\"\")","v":""},"",{"$f":"IF(AND(Data!F608<>\"\",Data!F608 > 0),Data!F608,\"\")","v":""}]
[{"$f":"IF(D608<>\"\",Data!A609,\"\")","v":""},{"$f":"IF(D608<>\"\",Data!B609,\"\")","v":""},"",{"$f":"IF(AND(Data!F609<>\"\",Data!F609 > 0),Data!F609,\"\")","v":""}]
[{"$f":"IF(D609<>\"\",Data!A610,\"\")","v":""},{"$f":"IF(D609<>\"\",Data!B610,\"\")","v":""},"",{"$f":"IF(AND(Data!F610<>\"\",Data!F610 > 0),Data!F610,\"\")","v":""}]
[{"$f":"IF(D610<>\"\",Data!A611,\"\")","v":""},{"$f":"IF(D610<>\"\",Data!B611,\"\")","v":""},"",{"$f":"IF(AND(Data!F611<>\"\",Data!F611 > 0),Data!F611,\"\")","v":""}]
[{"$f":"IF(D611<>\"\",Data!A612,\"\")","v":""},{"$f":"IF(D611<>\"\",Data!B612,\"\")","v":""},"",{"$f":"IF(AND(Data!F612<>\"\",Data!F612 > 0),Data!F612,\"\")","v":""}]
[{"$f":"IF(D612<>\"\",Data!A613,\"\")","v":""},{"$f":"IF(D612<>\"\",Data!B613,\"\")","v":""},"",{"$f":"IF(AND(Data!F613<>\"\",Data!F613 > 0),Data!F613,\"\")","v":""}]
[{"$f":"IF(D613<>\"\",Data!A614,\"\")","v":""},{"$f":"IF(D613<>\"\",Data!B614,\"\")","v":""},"",{"$f":"IF(AND(Data!F614<>\"\",Data!F614 > 0),Data!F614,\"\")","v":""}]
[{"$f":"IF(D614<>\"\",Data!A615,\"\")","v":""},{"$f":"IF(D614<>\"\",Data!B615,\"\")","v":""},"",{"$f":"IF(AND(Data!F615<>\"\",Data!F615 > 0),Data!F615,\"\")","v":""}]
[{"$f":"IF(D615<>\"\",Data!A616,\"\")","v":""},{"$f":"IF(D615<>\"\",Data!B616,\"\")","v":""},"",{"$f":"IF(AND(Data!F616<>\"\",Data!F616 > 0),Data!F616,\"\")","v":""}]
[{"$f":"IF(D616<>\"\",Data!A617,\"\")","v":""},{"$f":"IF(D616<>\"\",Data!B617,\"\")","v":""},"",{"$f":"IF(AND(Data!F617<>\"\",Data!F617 > 0),Data!F617,\"\")","v":""}]
[{"$f":"IF(D617<>\"\",Data!A618,\"\")","v":""},{"$f":"IF(D617<>\"\",Data!B618,\"\")","v":""},"",{"$f":"IF(AND(Data!F618<>\"\",Data!F618 > 0),Data!F618,\"\")","v":""}]
[{"$f":"IF(D618<>\"\",Data!A619,\"\")","v":""},{"$f":"IF(D618<>\"\",Data!B619,\"\")","v":""},"",{"$f":"IF(AND(Data!F619<>\"\",Data!F619 > 0),Data!F619,\"\")","v":""}]
[{"$f":"IF(D619<>\"\",Data!A620,\"\")","v":""},{"$f":"IF(D619<>\"\",Data!B620,\"\")","v":""},"",{"$f":"IF(AND(Data!F620<>\"\",Data!F620 > 0),Data!F620,\"\")","v":""}]
[{"$f":"IF(D620<>\"\",Data!A621,\"\")","v":""},{"$f":"IF(D620<>\"\",Data!B621,\"\")","v":""},"",{"$f":"IF(AND(Data!F621<>\"\",Data!F621 > 0),Data!F621,\"\")","v":""}]
[{"$f":"IF(D621<>\"\",Data!A622,\"\")","v":""},{"$f":"IF(D621<>\"\",Data!B622,\"\")","v":""},"",{"$f":"IF(AND(Data!F622<>\"\",Data!F622 > 0),Data!F622,\"\")","v":""}]
[{"$f":"IF(D622<>\"\",Data!A623,\"\")","v":""},{"$f":"IF(D622<>\"\",Data!B623,\"\")","v":""},"",{"$f":"IF(AND(Data!F623<>\"\",Data!F623 > 0),Data!F623,\"\")","v":""}]
[{"$f":"IF(D623<>\"\",Data!A624,\"\")","v":""},{"$f":"IF(D623<>\"\",Data!B624,\"\")","v":""},"",{"$f":"IF(AND(Data!F624<>\"\",Data!F624 > 0),Data!F624,\"\")","v":""}]
[{"$f":"IF(D624<>\"\",Data!A625,\"\")","v":""},{"$f":"IF(D624<>\"\",Data!B625,\"\")","v":""},"",{"$f":"IF(AND(Data!F625<>\"\",Data!F625 > 0),Data!F625,\"\")","v":""}]
[{"$f":"IF(D625<>\"\",Data!A626,\"\")","v":""},{"$f":"IF(D625<>\"\",Data!B626,\"\")","v":""},"",{"$f":"IF(AND(Data!F626<>\"\",Data!F626 > 0),Data!F626,\"\")","v":""}]
[{"$f":"IF(D626<>\"\",Data!A627,\"\")","v":""},{"$f":"IF(D626<>\"\",Data!B627,\"\")","v":""},"",{"$f":"IF(AND(Data!F627<>\"\",Data!F627 > 0),Data!F627,\"\")","v":""}]
[{"$f":"IF(D627<>\"\",Data!A628,\"\")","v":""},{"$f":"IF(D627<>\"\",Data!B628,\"\")","v":""},"",{"$f":"IF(AND(Data!F628<>\"\",Data!F628 > 0),Data!F628,\"\")","v":""}]
[{"$f":"IF(D628<>\"\",Data!A629,\"\")","v":""},{"$f":"IF(D628<>\"\",Data!B629,\"\")","v":""},"",{"$f":"IF(AND(Data!F629<>\"\",Data!F629 > 0),Data!F629,\"\")","v":""}]
[{"$f":"IF(D629<>\"\",Data!A630,\"\")","v":""},{"$f":"IF(D629<>\"\",Data!B630,\"\")","v":""},"",{"$f":"IF(AND(Data!F630<>\"\",Data!F630 > 0),Data!F630,\"\")","v":""}]
[{"$f":"IF(D630<>\"\",Data!A631,\"\")","v":""},{"$f":"IF(D630<>\"\",Data!B631,\"\")","v":""},"",{"$f":"IF(AND(Data!F631<>\"\",Data!F631 > 0),Data!F631,\"\")","v":""}]
[{"$f":"IF(D631<>\"\",Data!A632,\"\")","v":""},{"$f":"IF(D631<>\"\",Data!B632,\"\")","v":""},"",{"$f":"IF(AND(Data!F632<>\"\",Data!F632 > 0),Data!F632,\"\")","v":""}]
[{"$f":"IF(D632<>\"\",Data!A633,\"\")","v":""},{"$f":"IF(D632<>\"\",Data!B633,\"\")","v":""},"",{"$f":"IF(AND(Data!F633<>\"\",Data!F633 > 0),Data!F633,\"\")","v":""}]
[{"$f":"IF(D633<>\"\",Data!A634,\"\")","v":""},{"$f":"IF(D633<>\"\",Data!B634,\"\")","v":""},"",{"$f":"IF(AND(Data!F634<>\"\",Data!F634 > 0),Data!F634,\"\")","v":""}]
[{"$f":"IF(D634<>\"\",Data!A635,\"\")","v":""},{"$f":"IF(D634<>\"\",Data!B635,\"\")","v":""},"",{"$f":"IF(AND(Data!F635<>\"\",Data!F635 > 0),Data!F635,\"\")","v":""}]
[{"$f":"IF(D635<>\"\",Data!A636,\"\")","v":""},{"$f":"IF(D635<>\"\",Data!B636,\"\")","v":""},"",{"$f":"IF(AND(Data!F636<>\"\",Data!F636 > 0),Data!F636,\"\")","v":""}]
[{"$f":"IF(D636<>\"\",Data!A637,\"\")","v":""},{"$f":"IF(D636<>\"\",Data!B637,\"\")","v":""},"",{"$f":"IF(AND(Data!F637<>\"\",Data!F637 > 0),Data!F637,\"\")","v":""}]
[{"$f":"IF(D637<>\"\",Data!A638,\"\")","v":""},{"$f":"IF(D637<>\"\",Data!B638,\"\")","v":""},"",{"$f":"IF(AND(Data!F638<>\"\",Data!F638 > 0),Data!F638,\"\")","v":""}]
[{"$f":"IF(D638<>\"\",Data!A639,\"\")","v":""},{"$f":"IF(D638<>\"\",Data!B639,\"\")","v":""},"",{"$f":"IF(AND(Data!F639<>\"\",Data!F639 > 0),Data!F639,\"\")","v":""}]
[{"$f":"IF(D639<>\"\",Data!A640,\"\")","v":""},{"$f":"IF(D639<>\"\",Data!B640,\"\")","v":""},"",{"$f":"IF(AND(Data!F640<>\"\",Data!F640 > 0),Data!F640,\"\")","v":""}]
[{"$f":"IF(D640<>\"\",Data!A641,\"\")","v":""},{"$f":"IF(D640<>\"\",Data!B641,\"\")","v":""},"",{"$f":"IF(AND(Data!F641<>\"\",Data!F641 > 0),Data!F641,\"\")","v":""}]
[{"$f":"IF(D641<>\"\",Data!A642,\"\")","v":""},{"$f":"IF(D641<>\"\",Data!B642,\"\")","v":""},"",{"$f":"IF(AND(Data!F642<>\"\",Data!F642 > 0),Data!F642,\"\")","v":""}]
[{"$f":"IF(D642<>\"\",Data!A643,\"\")","v":""},{"$f":"IF(D642<>\"\",Data!B643,\"\")","v":""},{"$f":"IF(D642<>\"\",MID(CELL(\"filename\",B642),FIND(\"]\",CELL(\"filename\",B642))+1,32),\"\")","v":""},{"$f":"IF(AND(Data!F643<>\"\",Data!F643 > 0),Data!F643,\"\")","v":""}]
[{"$f":"IF(D643<>\"\",Data!A644,\"\")","v":""},{"$f":"IF(D643<>\"\",Data!B644,\"\")","v":""},"",{"$f":"IF(AND(Data!F644<>\"\",Data!F644 > 0),Data!F644,\"\")","v":""}]
[{"$f":"IF(D644<>\"\",Data!A645,\"\")","v":""},{"$f":"IF(D644<>\"\",Data!B645,\"\")","v":""},"",{"$f":"IF(AND(Data!F645<>\"\",Data!F645 > 0),Data!F645,\"\")","v":""}]
[{"$f":"IF(D645<>\"\",Data!A646,\"\")","v":""},{"$f":"IF(D645<>\"\",Data!B646,\"\")","v":""},"",{"$f":"IF(AND(Data!F646<>\"\",Data!F646 > 0),Data!F646,\"\")","v":""}]
[{"$f":"IF(D646<>\"\",Data!A647,\"\")","v":""},{"$f":"IF(D646<>\"\",Data!B647,\"\")","v":""},"",{"$f":"IF(AND(Data!F647<>\"\",Data!F647 > 0),Data!F647,\"\")","v":""}]
[{"$f":"IF(D647<>\"\",Data!A648,\"\")","v":""},{"$f":"IF(D647<>\"\",Data!B648,\"\")","v":""},"",{"$f":"IF(AND(Data!F648<>\"\",Data!F648 > 0),Data!F648,\"\")","v":""}]
[{"$f":"IF(D648<>\"\",Data!A649,\"\")","v":""},{"$f":"IF(D648<>\"\",Data!B649,\"\")","v":""},"",{"$f":"IF(AND(Data!F649<>\"\",Data!F649 > 0),Data!F649,\"\")","v":""}]
[{"$f":"IF(D649<>\"\",Data!A650,\"\")","v":""},{"$f":"IF(D649<>\"\",Data!B650,\"\")","v":""},"",{"$f":"IF(AND(Data!F650<>\"\",Data!F650 > 0),Data!F650,\"\")","v":""}]
[{"$f":"IF(D650<>\"\",Data!A651,\"\")","v":""},{"$f":"IF(D650<>\"\",Data!B651,\"\")","v":""},"",{"$f":"IF(AND(Data!F651<>\"\",Data!F651 > 0),Data!F651,\"\")","v":""}]
[{"$f":"IF(D651<>\"\",Data!A652,\"\")","v":""},{"$f":"IF(D651<>\"\",Data!B652,\"\")","v":""},"",{"$f":"IF(AND(Data!F652<>\"\",Data!F652 > 0),Data!F652,\"\")","v":""}]
[{"$f":"IF(D652<>\"\",Data!A653,\"\")","v":""},{"$f":"IF(D652<>\"\",Data!B653,\"\")","v":""},"",{"$f":"IF(AND(Data!F653<>\"\",Data!F653 > 0),Data!F653,\"\")","v":""}]
[{"$f":"IF(D653<>\"\",Data!A654,\"\")","v":""},{"$f":"IF(D653<>\"\",Data!B654,\"\")","v":""},"",{"$f":"IF(AND(Data!F654<>\"\",Data!F654 > 0),Data!F654,\"\")","v":""}]
[{"$f":"IF(D654<>\"\",Data!A655,\"\")","v":""},{"$f":"IF(D654<>\"\",Data!B655,\"\")","v":""},"",{"$f":"IF(AND(Data!F655<>\"\",Data!F655 > 0),Data!F655,\"\")","v":""}]
[{"$f":"IF(D655<>\"\",Data!A656,\"\")","v":""},{"$f":"IF(D655<>\"\",Data!B656,\"\")","v":""},"",{"$f":"IF(AND(Data!F656<>\"\",Data!F656 > 0),Data!F656,\"\")","v":""}]
[{"$f":"IF(D656<>\"\",Data!A657,\"\")","v":""},{"$f":"IF(D656<>\"\",Data!B657,\"\")","v":""},"",{"$f":"IF(AND(Data!F657<>\"\",Data!F657 > 0),Data!F657,\"\")","v":""}]
[{"$f":"IF(D657<>\"\",Data!A658,\"\")","v":""},{"$f":"IF(D657<>\"\",Data!B658,\"\")","v":""},"",{"$f":"IF(AND(Data!F658<>\"\",Data!F658 > 0),Data!F658,\"\")","v":""}]
[{"$f":"IF(D658<>\"\",Data!A659,\"\")","v":""},{"$f":"IF(D658<>\"\",Data!B659,\"\")","v":""},"",{"$f":"IF(AND(Data!F659<>\"\",Data!F659 > 0),Data!F659,\"\")","v":""}]
[{"$f":"IF(D659<>\"\",Data!A660,\"\")","v":""},{"$f":"IF(D659<>\"\",Data!B660,\"\")","v":""},"",{"$f":"IF(AND(Data!F660<>\"\",Data!F660 > 0),Data!F660,\"\")","v":""}]
[{"$f":"IF(D660<>\"\",Data!A661,\"\")","v":""},{"$f":"IF(D660<>\"\",Data!B661,\"\")","v":""},"",{"$f":"IF(AND(Data!F661<>\"\",Data!F661 > 0),Data!F661,\"\")","v":""}]
[{"$f":"IF(D661<>\"\",Data!A662,\"\")","v":""},{"$f":"IF(D661<>\"\",Data!B662,\"\")","v":""},"",{"$f":"IF(AND(Data!F662<>\"\",Data!F662 > 0),Data!F662,\"\")","v":""}]
[{"$f":"IF(D662<>\"\",Data!A663,\"\")","v":""},{"$f":"IF(D662<>\"\",Data!B663,\"\")","v":""},"",{"$f":"IF(AND(Data!F663<>\"\",Data!F663 > 0),Data!F663,\"\")","v":""}]
[{"$f":"IF(D663<>\"\",Data!A664,\"\")","v":""},{"$f":"IF(D663<>\"\",Data!B664,\"\")","v":""},"",{"$f":"IF(AND(Data!F664<>\"\",Data!F664 > 0),Data!F664,\"\")","v":""}]
[{"$f":"IF(D664<>\"\",Data!A665,\"\")","v":""},{"$f":"IF(D664<>\"\",Data!B665,\"\")","v":""},"",{"$f":"IF(AND(Data!F665<>\"\",Data!F665 > 0),Data!F665,\"\")","v":""}]
[{"$f":"IF(D665<>\"\",Data!A666,\"\")","v":""},{"$f":"IF(D665<>\"\",Data!B666,\"\")","v":""},"",{"$f":"IF(AND(Data!F666<>\"\",Data!F666 > 0),Data!F666,\"\")","v":""}]
[{"$f":"IF(D666<>\"\",Data!A667,\"\")","v":""},{"$f":"IF(D666<>\"\",Data!B667,\"\")","v":""},"",{"$f":"IF(AND(Data!F667<>\"\",Data!F667 > 0),Data!F667,\"\")","v":""}]
[{"$f":"IF(D667<>\"\",Data!A668,\"\")","v":""},{"$f":"IF(D667<>\"\",Data!B668,\"\")","v":""},"",{"$f":"IF(AND(Data!F668<>\"\",Data!F668 > 0),Data!F668,\"\")","v":""}]
[{"$f":"IF(D668<>\"\",Data!A669,\"\")","v":""},{"$f":"IF(D668<>\"\",Data!B669,\"\")","v":""},"",{"$f":"IF(AND(Data!F669<>\"\",Data!F669 > 0),Data!F669,\"\")","v":""}]
[{"$f":"IF(D669<>\"\",Data!A670,\"\")","v":""},{"$f":"IF(D669<>\"\",Data!B670,\"\")","v":""},"",{"$f":"IF(AND(Data!F670<>\"\",Data!F670 > 0),Data!F670,\"\")","v":""}]
[{"$f":"IF(D670<>\"\",Data!A671,\"\")","v":""},{"$f":"IF(D670<>\"\",Data!B671,\"\")","v":""},"",{"$f":"IF(AND(Data!F671<>\"\",Data!F671 > 0),Data!F671,\"\")","v":""}]
[{"$f":"IF(D671<>\"\",Data!A672,\"\")","v":""},{"$f":"IF(D671<>\"\",Data!B672,\"\")","v":""},"",{"$f":"IF(AND(Data!F672<>\"\",Data!F672 > 0),Data!F672,\"\")","v":""}]
[{"$f":"IF(D672<>\"\",Data!A673,\"\")","v":""},{"$f":"IF(D672<>\"\",Data!B673,\"\")","v":""},"",{"$f":"IF(AND(Data!F673<>\"\",Data!F673 > 0),Data!F673,\"\")","v":""}]
[{"$f":"IF(D673<>\"\",Data!A674,\"\")","v":""},{"$f":"IF(D673<>\"\",Data!B674,\"\")","v":""},"",{"$f":"IF(AND(Data!F674<>\"\",Data!F674 > 0),Data!F674,\"\")","v":""}]
[{"$f":"IF(D674<>\"\",Data!A675,\"\")","v":""},{"$f":"IF(D674<>\"\",Data!B675,\"\")","v":""},"",{"$f":"IF(AND(Data!F675<>\"\",Data!F675 > 0),Data!F675,\"\")","v":""}]
[{"$f":"IF(D675<>\"\",Data!A676,\"\")","v":""},{"$f":"IF(D675<>\"\",Data!B676,\"\")","v":""},"",{"$f":"IF(AND(Data!F676<>\"\",Data!F676 > 0),Data!F676,\"\")","v":""}]
[{"$f":"IF(D676<>\"\",Data!A677,\"\")","v":""},{"$f":"IF(D676<>\"\",Data!B677,\"\")","v":""},"",{"$f":"IF(AND(Data!F677<>\"\",Data!F677 > 0),Data!F677,\"\")","v":""}]
[{"$f":"IF(D677<>\"\",Data!A678,\"\")","v":""},{"$f":"IF(D677<>\"\",Data!B678,\"\")","v":""},"",{"$f":"IF(AND(Data!F678<>\"\",Data!F678 > 0),Data!F678,\"\")","v":""}]
[{"$f":"IF(D678<>\"\",Data!A679,\"\")","v":""},{"$f":"IF(D678<>\"\",Data!B679,\"\")","v":""},"",{"$f":"IF(AND(Data!F679<>\"\",Data!F679 > 0),Data!F679,\"\")","v":""}]
[{"$f":"IF(D679<>\"\",Data!A680,\"\")","v":""},{"$f":"IF(D679<>\"\",Data!B680,\"\")","v":""},"",{"$f":"IF(AND(Data!F680<>\"\",Data!F680 > 0),Data!F680,\"\")","v":""}]
[{"$f":"IF(D680<>\"\",Data!A681,\"\")","v":""},{"$f":"IF(D680<>\"\",Data!B681,\"\")","v":""},"",{"$f":"IF(AND(Data!F681<>\"\",Data!F681 > 0),Data!F681,\"\")","v":""}]
[{"$f":"IF(D681<>\"\",Data!A682,\"\")","v":""},{"$f":"IF(D681<>\"\",Data!B682,\"\")","v":""},"",{"$f":"IF(AND(Data!F682<>\"\",Data!F682 > 0),Data!F682,\"\")","v":""}]
[{"$f":"IF(D682<>\"\",Data!A683,\"\")","v":""},{"$f":"IF(D682<>\"\",Data!B683,\"\")","v":""},"",{"$f":"IF(AND(Data!F683<>\"\",Data!F683 > 0),Data!F683,\"\")","v":""}]
[{"$f":"IF(D683<>\"\",Data!A684,\"\")","v":""},{"$f":"IF(D683<>\"\",Data!B684,\"\")","v":""},"",{"$f":"IF(AND(Data!F684<>\"\",Data!F684 > 0),Data!F684,\"\")","v":""}]
[{"$f":"IF(D684<>\"\",Data!A685,\"\")","v":""},{"$f":"IF(D684<>\"\",Data!B685,\"\")","v":""},"",{"$f":"IF(AND(Data!F685<>\"\",Data!F685 > 0),Data!F685,\"\")","v":""}]
[{"$f":"IF(D685<>\"\",Data!A686,\"\")","v":""},{"$f":"IF(D685<>\"\",Data!B686,\"\")","v":""},"",{"$f":"IF(AND(Data!F686<>\"\",Data!F686 > 0),Data!F686,\"\")","v":""}]
[{"$f":"IF(D686<>\"\",Data!A687,\"\")","v":""},{"$f":"IF(D686<>\"\",Data!B687,\"\")","v":""},"",{"$f":"IF(AND(Data!F687<>\"\",Data!F687 > 0),Data!F687,\"\")","v":""}]
[{"$f":"IF(D687<>\"\",Data!A688,\"\")","v":""},{"$f":"IF(D687<>\"\",Data!B688,\"\")","v":""},"",{"$f":"IF(AND(Data!F688<>\"\",Data!F688 > 0),Data!F688,\"\")","v":""}]
[{"$f":"IF(D688<>\"\",Data!A689,\"\")","v":""},{"$f":"IF(D688<>\"\",Data!B689,\"\")","v":""},"",{"$f":"IF(AND(Data!F689<>\"\",Data!F689 > 0),Data!F689,\"\")","v":""}]
[{"$f":"IF(D689<>\"\",Data!A690,\"\")","v":""},{"$f":"IF(D689<>\"\",Data!B690,\"\")","v":""},"",{"$f":"IF(AND(Data!F690<>\"\",Data!F690 > 0),Data!F690,\"\")","v":""}]
[{"$f":"IF(D690<>\"\",Data!A691,\"\")","v":""},{"$f":"IF(D690<>\"\",Data!B691,\"\")","v":""},"",{"$f":"IF(AND(Data!F691<>\"\",Data!F691 > 0),Data!F691,\"\")","v":""}]
[{"$f":"IF(D691<>\"\",Data!A692,\"\")","v":""},{"$f":"IF(D691<>\"\",Data!B692,\"\")","v":""},"",{"$f":"IF(AND(Data!F692<>\"\",Data!F692 > 0),Data!F692,\"\")","v":""}]
[{"$f":"IF(D692<>\"\",Data!A693,\"\")","v":""},{"$f":"IF(D692<>\"\",Data!B693,\"\")","v":""},"",{"$f":"IF(AND(Data!F693<>\"\",Data!F693 > 0),Data!F693,\"\")","v":""}]
[{"$f":"IF(D693<>\"\",Data!A694,\"\")","v":""},{"$f":"IF(D693<>\"\",Data!B694,\"\")","v":""},"",{"$f":"IF(AND(Data!F694<>\"\",Data!F694 > 0),Data!F694,\"\")","v":""}]
[{"$f":"IF(D694<>\"\",Data!A695,\"\")","v":""},{"$f":"IF(D694<>\"\",Data!B695,\"\")","v":""},"",{"$f":"IF(AND(Data!F695<>\"\",Data!F695 > 0),Data!F695,\"\")","v":""}]
[{"$f":"IF(D695<>\"\",Data!A696,\"\")","v":""},{"$f":"IF(D695<>\"\",Data!B696,\"\")","v":""},"",{"$f":"IF(AND(Data!F696<>\"\",Data!F696 > 0),Data!F696,\"\")","v":""}]
[{"$f":"IF(D696<>\"\",Data!A697,\"\")","v":""},{"$f":"IF(D696<>\"\",Data!B697,\"\")","v":""},"",{"$f":"IF(AND(Data!F697<>\"\",Data!F697 > 0),Data!F697,\"\")","v":""}]
[{"$f":"IF(D697<>\"\",Data!A698,\"\")","v":""},{"$f":"IF(D697<>\"\",Data!B698,\"\")","v":""},"",{"$f":"IF(AND(Data!F698<>\"\",Data!F698 > 0),Data!F698,\"\")","v":""}]
[{"$f":"IF(D698<>\"\",Data!A699,\"\")","v":""},{"$f":"IF(D698<>\"\",Data!B699,\"\")","v":""},"",{"$f":"IF(AND(Data!F699<>\"\",Data!F699 > 0),Data!F699,\"\")","v":""}]
[{"$f":"IF(D699<>\"\",Data!A700,\"\")","v":""},{"$f":"IF(D699<>\"\",Data!B700,\"\")","v":""},"",{"$f":"IF(AND(Data!F700<>\"\",Data!F700 > 0),Data!F700,\"\")","v":""}]
[{"$f":"IF(D700<>\"\",Data!A701,\"\")","v":""},{"$f":"IF(D700<>\"\",Data!B701,\"\")","v":""},"",{"$f":"IF(AND(Data!F701<>\"\",Data!F701 > 0),Data!F701,\"\")","v":""}]
[{"$f":"IF(D701<>\"\",Data!A702,\"\")","v":""},{"$f":"IF(D701<>\"\",Data!B702,\"\")","v":""},"",{"$f":"IF(AND(Data!F702<>\"\",Data!F702 > 0),Data!F702,\"\")","v":""}]
[{"$f":"IF(D702<>\"\",Data!A703,\"\")","v":""},{"$f":"IF(D702<>\"\",Data!B703,\"\")","v":""},"",{"$f":"IF(AND(Data!F703<>\"\",Data!F703 > 0),Data!F703,\"\")","v":""}]
[{"$f":"IF(D703<>\"\",Data!A704,\"\")","v":""},{"$f":"IF(D703<>\"\",Data!B704,\"\")","v":""},"",{"$f":"IF(AND(Data!F704<>\"\",Data!F704 > 0),Data!F704,\"\")","v":""}]
[{"$f":"IF(D704<>\"\",Data!A705,\"\")","v":""},{"$f":"IF(D704<>\"\",Data!B705,\"\")","v":""},"",{"$f":"IF(AND(Data!F705<>\"\",Data!F705 > 0),Data!F705,\"\")","v":""}]
[{"$f":"IF(D705<>\"\",Data!A706,\"\")","v":""},{"$f":"IF(D705<>\"\",Data!B706,\"\")","v":""},"",{"$f":"IF(AND(Data!F706<>\"\",Data!F706 > 0),Data!F706,\"\")","v":""}]
[{"$f":"IF(D706<>\"\",Data!A707,\"\")","v":""},{"$f":"IF(D706<>\"\",Data!B707,\"\")","v":""},{"$f":"IF(D706<>\"\",MID(CELL(\"filename\",B706),FIND(\"]\",CELL(\"filename\",B706))+1,32),\"\")","v":""},{"$f":"IF(AND(Data!F707<>\"\",Data!F707 > 0),Data!F707,\"\")","v":""}]
[{"$f":"IF(D707<>\"\",Data!A708,\"\")","v":""},{"$f":"IF(D707<>\"\",Data!B708,\"\")","v":""},"",{"$f":"IF(AND(Data!F708<>\"\",Data!F708 > 0),Data!F708,\"\")","v":""}]
[{"$f":"IF(D708<>\"\",Data!A709,\"\")","v":""},{"$f":"IF(D708<>\"\",Data!B709,\"\")","v":""},"",{"$f":"IF(AND(Data!F709<>\"\",Data!F709 > 0),Data!F709,\"\")","v":""}]
[{"$f":"IF(D709<>\"\",Data!A710,\"\")","v":""},{"$f":"IF(D709<>\"\",Data!B710,\"\")","v":""},"",{"$f":"IF(AND(Data!F710<>\"\",Data!F710 > 0),Data!F710,\"\")","v":""}]
[{"$f":"IF(D710<>\"\",Data!A711,\"\")","v":""},{"$f":"IF(D710<>\"\",Data!B711,\"\")","v":""},"",{"$f":"IF(AND(Data!F711<>\"\",Data!F711 > 0),Data!F711,\"\")","v":""}]
[{"$f":"IF(D711<>\"\",Data!A712,\"\")","v":""},{"$f":"IF(D711<>\"\",Data!B712,\"\")","v":""},"",{"$f":"IF(AND(Data!F712<>\"\",Data!F712 > 0),Data!F712,\"\")","v":""}]
[{"$f":"IF(D712<>\"\",Data!A713,\"\")","v":""},{"$f":"IF(D712<>\"\",Data!B713,\"\")","v":""},"",{"$f":"IF(AND(Data!F713<>\"\",Data!F713 > 0),Data!F713,\"\")","v":""}]
[{"$f":"IF(D713<>\"\",Data!A714,\"\")","v":""},{"$f":"IF(D713<>\"\",Data!B714,\"\")","v":""},"",{"$f":"IF(AND(Data!F714<>\"\",Data!F714 > 0),Data!F714,\"\")","v":""}]
[{"$f":"IF(D714<>\"\",Data!A715,\"\")","v":""},{"$f":"IF(D714<>\"\",Data!B715,\"\")","v":""},"",{"$f":"IF(AND(Data!F715<>\"\",Data!F715 > 0),Data!F715,\"\")","v":""}]
[{"$f":"IF(D715<>\"\",Data!A716,\"\")","v":""},{"$f":"IF(D715<>\"\",Data!B716,\"\")","v":""},"",{"$f":"IF(AND(Data!F716<>\"\",Data!F716 > 0),Data!F716,\"\")","v":""}]
[{"$f":"IF(D716<>\"\",Data!A717,\"\")","v":""},{"$f":"IF(D716<>\"\",Data!B717,\"\")","v":""},"",{"$f":"IF(AND(Data!F717<>\"\",Data!F717 > 0),Data!F717,\"\")","v":""}]
[{"$f":"IF(D717<>\"\",Data!A718,\"\")","v":""},{"$f":"IF(D717<>\"\",Data!B718,\"\")","v":""},"",{"$f":"IF(AND(Data!F718<>\"\",Data!F718 > 0),Data!F718,\"\")","v":""}]
[{"$f":"IF(D718<>\"\",Data!A719,\"\")","v":""},{"$f":"IF(D718<>\"\",Data!B719,\"\")","v":""},"",{"$f":"IF(AND(Data!F719<>\"\",Data!F719 > 0),Data!F719,\"\")","v":""}]
[{"$f":"IF(D719<>\"\",Data!A720,\"\")","v":""},{"$f":"IF(D719<>\"\",Data!B720,\"\")","v":""},"",{"$f":"IF(AND(Data!F720<>\"\",Data!F720 > 0),Data!F720,\"\")","v":""}]
[{"$f":"IF(D720<>\"\",Data!A721,\"\")","v":""},{"$f":"IF(D720<>\"\",Data!B721,\"\")","v":""},"",{"$f":"IF(AND(Data!F721<>\"\",Data!F721 > 0),Data!F721,\"\")","v":""}]
[{"$f":"IF(D721<>\"\",Data!A722,\"\")","v":""},{"$f":"IF(D721<>\"\",Data!B722,\"\")","v":""},"",{"$f":"IF(AND(Data!F722<>\"\",Data!F722 > 0),Data!F722,\"\")","v":""}]
[{"$f":"IF(D722<>\"\",Data!A723,\"\")","v":""},{"$f":"IF(D722<>\"\",Data!B723,\"\")","v":""},"",{"$f":"IF(AND(Data!F723<>\"\",Data!F723 > 0),Data!F723,\"\")","v":""}]
[{"$f":"IF(D723<>\"\",Data!A724,\"\")","v":""},{"$f":"IF(D723<>\"\",Data!B724,\"\")","v":""},"",{"$f":"IF(AND(Data!F724<>\"\",Data!F724 > 0),Data!F724,\"\")","v":""}]
[{"$f":"IF(D724<>\"\",Data!A725,\"\")","v":""},{"$f":"IF(D724<>\"\",Data!B725,\"\")","v":""},"",{"$f":"IF(AND(Data!F725<>\"\",Data!F725 > 0),Data!F725,\"\")","v":""}]
[{"$f":"IF(D725<>\"\",Data!A726,\"\")","v":""},{"$f":"IF(D725<>\"\",Data!B726,\"\")","v":""},"",{"$f":"IF(AND(Data!F726<>\"\",Data!F726 > 0),Data!F726,\"\")","v":""}]
[{"$f":"IF(D726<>\"\",Data!A727,\"\")","v":""},{"$f":"IF(D726<>\"\",Data!B727,\"\")","v":""},"",{"$f":"IF(AND(Data!F727<>\"\",Data!F727 > 0),Data!F727,\"\")","v":""}]
[{"$f":"IF(D727<>\"\",Data!A728,\"\")","v":""},{"$f":"IF(D727<>\"\",Data!B728,\"\")","v":""},"",{"$f":"IF(AND(Data!F728<>\"\",Data!F728 > 0),Data!F728,\"\")","v":""}]
[{"$f":"IF(D728<>\"\",Data!A729,\"\")","v":""},{"$f":"IF(D728<>\"\",Data!B729,\"\")","v":""},"",{"$f":"IF(AND(Data!F729<>\"\",Data!F729 > 0),Data!F729,\"\")","v":""}]
[{"$f":"IF(D729<>\"\",Data!A730,\"\")","v":""},{"$f":"IF(D729<>\"\",Data!B730,\"\")","v":""},"",{"$f":"IF(AND(Data!F730<>\"\",Data!F730 > 0),Data!F730,\"\")","v":""}]
[{"$f":"IF(D730<>\"\",Data!A731,\"\")","v":""},{"$f":"IF(D730<>\"\",Data!B731,\"\")","v":""},"",{"$f":"IF(AND(Data!F731<>\"\",Data!F731 > 0),Data!F731,\"\")","v":""}]
[{"$f":"IF(D731<>\"\",Data!A732,\"\")","v":""},{"$f":"IF(D731<>\"\",Data!B732,\"\")","v":""},"",{"$f":"IF(AND(Data!F732<>\"\",Data!F732 > 0),Data!F732,\"\")","v":""}]
[{"$f":"IF(D732<>\"\",Data!A733,\"\")","v":""},{"$f":"IF(D732<>\"\",Data!B733,\"\")","v":""},"",{"$f":"IF(AND(Data!F733<>\"\",Data!F733 > 0),Data!F733,\"\")","v":""}]
[{"$f":"IF(D733<>\"\",Data!A734,\"\")","v":""},{"$f":"IF(D733<>\"\",Data!B734,\"\")","v":""},"",{"$f":"IF(AND(Data!F734<>\"\",Data!F734 > 0),Data!F734,\"\")","v":""}]
[{"$f":"IF(D734<>\"\",Data!A735,\"\")","v":""},{"$f":"IF(D734<>\"\",Data!B735,\"\")","v":""},"",{"$f":"IF(AND(Data!F735<>\"\",Data!F735 > 0),Data!F735,\"\")","v":""}]
[{"$f":"IF(D735<>\"\",Data!A736,\"\")","v":""},{"$f":"IF(D735<>\"\",Data!B736,\"\")","v":""},"",{"$f":"IF(AND(Data!F736<>\"\",Data!F736 > 0),Data!F736,\"\")","v":""}]
[{"$f":"IF(D736<>\"\",Data!A737,\"\")","v":""},{"$f":"IF(D736<>\"\",Data!B737,\"\")","v":""},"",{"$f":"IF(AND(Data!F737<>\"\",Data!F737 > 0),Data!F737,\"\")","v":""}]
[{"$f":"IF(D737<>\"\",Data!A738,\"\")","v":""},{"$f":"IF(D737<>\"\",Data!B738,\"\")","v":""},"",{"$f":"IF(AND(Data!F738<>\"\",Data!F738 > 0),Data!F738,\"\")","v":""}]
[{"$f":"IF(D738<>\"\",Data!A739,\"\")","v":""},{"$f":"IF(D738<>\"\",Data!B739,\"\")","v":""},"",{"$f":"IF(AND(Data!F739<>\"\",Data!F739 > 0),Data!F739,\"\")","v":""}]
[{"$f":"IF(D739<>\"\",Data!A740,\"\")","v":""},{"$f":"IF(D739<>\"\",Data!B740,\"\")","v":""},"",{"$f":"IF(AND(Data!F740<>\"\",Data!F740 > 0),Data!F740,\"\")","v":""}]
[{"$f":"IF(D740<>\"\",Data!A741,\"\")","v":""},{"$f":"IF(D740<>\"\",Data!B741,\"\")","v":""},"",{"$f":"IF(AND(Data!F741<>\"\",Data!F741 > 0),Data!F741,\"\")","v":""}]
[{"$f":"IF(D741<>\"\",Data!A742,\"\")","v":""},{"$f":"IF(D741<>\"\",Data!B742,\"\")","v":""},"",{"$f":"IF(AND(Data!F742<>\"\",Data!F742 > 0),Data!F742,\"\")","v":""}]
[{"$f":"IF(D742<>\"\",Data!A743,\"\")","v":""},{"$f":"IF(D742<>\"\",Data!B743,\"\")","v":""},"",{"$f":"IF(AND(Data!F743<>\"\",Data!F743 > 0),Data!F743,\"\")","v":""}]
[{"$f":"IF(D743<>\"\",Data!A744,\"\")","v":""},{"$f":"IF(D743<>\"\",Data!B744,\"\")","v":""},"",{"$f":"IF(AND(Data!F744<>\"\",Data!F744 > 0),Data!F744,\"\")","v":""}]
[{"$f":"IF(D744<>\"\",Data!A745,\"\")","v":""},{"$f":"IF(D744<>\"\",Data!B745,\"\")","v":""},"",{"$f":"IF(AND(Data!F745<>\"\",Data!F745 > 0),Data!F745,\"\")","v":""}]
[{"$f":"IF(D745<>\"\",Data!A746,\"\")","v":""},{"$f":"IF(D745<>\"\",Data!B746,\"\")","v":""},"",{"$f":"IF(AND(Data!F746<>\"\",Data!F746 > 0),Data!F746,\"\")","v":""}]
[{"$f":"IF(D746<>\"\",Data!A747,\"\")","v":""},{"$f":"IF(D746<>\"\",Data!B747,\"\")","v":""},"",{"$f":"IF(AND(Data!F747<>\"\",Data!F747 > 0),Data!F747,\"\")","v":""}]
[{"$f":"IF(D747<>\"\",Data!A748,\"\")","v":""},{"$f":"IF(D747<>\"\",Data!B748,\"\")","v":""},"",{"$f":"IF(AND(Data!F748<>\"\",Data!F748 > 0),Data!F748,\"\")","v":""}]
[{"$f":"IF(D748<>\"\",Data!A749,\"\")","v":""},{"$f":"IF(D748<>\"\",Data!B749,\"\")","v":""},"",{"$f":"IF(AND(Data!F749<>\"\",Data!F749 > 0),Data!F749,\"\")","v":""}]
[{"$f":"IF(D749<>\"\",Data!A750,\"\")","v":""},{"$f":"IF(D749<>\"\",Data!B750,\"\")","v":""},"",{"$f":"IF(AND(Data!F750<>\"\",Data!F750 > 0),Data!F750,\"\")","v":""}]
[{"$f":"IF(D750<>\"\",Data!A751,\"\")","v":""},{"$f":"IF(D750<>\"\",Data!B751,\"\")","v":""},"",{"$f":"IF(AND(Data!F751<>\"\",Data!F751 > 0),Data!F751,\"\")","v":""}]
[{"$f":"IF(D751<>\"\",Data!A752,\"\")","v":""},{"$f":"IF(D751<>\"\",Data!B752,\"\")","v":""},"",{"$f":"IF(AND(Data!F752<>\"\",Data!F752 > 0),Data!F752,\"\")","v":""}]
[{"$f":"IF(D752<>\"\",Data!A753,\"\")","v":""},{"$f":"IF(D752<>\"\",Data!B753,\"\")","v":""},"",{"$f":"IF(AND(Data!F753<>\"\",Data!F753 > 0),Data!F753,\"\")","v":""}]
[{"$f":"IF(D753<>\"\",Data!A754,\"\")","v":""},{"$f":"IF(D753<>\"\",Data!B754,\"\")","v":""},"",{"$f":"IF(AND(Data!F754<>\"\",Data!F754 > 0),Data!F754,\"\")","v":""}]
[{"$f":"IF(D754<>\"\",Data!A755,\"\")","v":""},{"$f":"IF(D754<>\"\",Data!B755,\"\")","v":""},"",{"$f":"IF(AND(Data!F755<>\"\",Data!F755 > 0),Data!F755,\"\")","v":""}]
[{"$f":"IF(D755<>\"\",Data!A756,\"\")","v":""},{"$f":"IF(D755<>\"\",Data!B756,\"\")","v":""},"",{"$f":"IF(AND(Data!F756<>\"\",Data!F756 > 0),Data!F756,\"\")","v":""}]
[{"$f":"IF(D756<>\"\",Data!A757,\"\")","v":""},{"$f":"IF(D756<>\"\",Data!B757,\"\")","v":""},"",{"$f":"IF(AND(Data!F757<>\"\",Data!F757 > 0),Data!F757,\"\")","v":""}]
[{"$f":"IF(D757<>\"\",Data!A758,\"\")","v":""},{"$f":"IF(D757<>\"\",Data!B758,\"\")","v":""},"",{"$f":"IF(AND(Data!F758<>\"\",Data!F758 > 0),Data!F758,\"\")","v":""}]
[{"$f":"IF(D758<>\"\",Data!A759,\"\")","v":""},{"$f":"IF(D758<>\"\",Data!B759,\"\")","v":""},"",{"$f":"IF(AND(Data!F759<>\"\",Data!F759 > 0),Data!F759,\"\")","v":""}]
[{"$f":"IF(D759<>\"\",Data!A760,\"\")","v":""},{"$f":"IF(D759<>\"\",Data!B760,\"\")","v":""},"",{"$f":"IF(AND(Data!F760<>\"\",Data!F760 > 0),Data!F760,\"\")","v":""}]
[{"$f":"IF(D760<>\"\",Data!A761,\"\")","v":""},{"$f":"IF(D760<>\"\",Data!B761,\"\")","v":""},"",{"$f":"IF(AND(Data!F761<>\"\",Data!F761 > 0),Data!F761,\"\")","v":""}]
[{"$f":"IF(D761<>\"\",Data!A762,\"\")","v":""},{"$f":"IF(D761<>\"\",Data!B762,\"\")","v":""},"",{"$f":"IF(AND(Data!F762<>\"\",Data!F762 > 0),Data!F762,\"\")","v":""}]
[{"$f":"IF(D762<>\"\",Data!A763,\"\")","v":""},{"$f":"IF(D762<>\"\",Data!B763,\"\")","v":""},"",{"$f":"IF(AND(Data!F763<>\"\",Data!F763 > 0),Data!F763,\"\")","v":""}]
[{"$f":"IF(D763<>\"\",Data!A764,\"\")","v":""},{"$f":"IF(D763<>\"\",Data!B764,\"\")","v":""},"",{"$f":"IF(AND(Data!F764<>\"\",Data!F764 > 0),Data!F764,\"\")","v":""}]
[{"$f":"IF(D764<>\"\",Data!A765,\"\")","v":""},{"$f":"IF(D764<>\"\",Data!B765,\"\")","v":""},"",{"$f":"IF(AND(Data!F765<>\"\",Data!F765 > 0),Data!F765,\"\")","v":""}]
[{"$f":"IF(D765<>\"\",Data!A766,\"\")","v":""},{"$f":"IF(D765<>\"\",Data!B766,\"\")","v":""},"",{"$f":"IF(AND(Data!F766<>\"\",Data!F766 > 0),Data!F766,\"\")","v":""}]
[{"$f":"IF(D766<>\"\",Data!A767,\"\")","v":""},{"$f":"IF(D766<>\"\",Data!B767,\"\")","v":""},"",{"$f":"IF(AND(Data!F767<>\"\",Data!F767 > 0),Data!F767,\"\")","v":""}]
[{"$f":"IF(D767<>\"\",Data!A768,\"\")","v":""},{"$f":"IF(D767<>\"\",Data!B768,\"\")","v":""},"",{"$f":"IF(AND(Data!F768<>\"\",Data!F768 > 0),Data!F768,\"\")","v":""}]
[{"$f":"IF(D768<>\"\",Data!A769,\"\")","v":""},{"$f":"IF(D768<>\"\",Data!B769,\"\")","v":""},"",{"$f":"IF(AND(Data!F769<>\"\",Data!F769 > 0),Data!F769,\"\")","v":""}]
[{"$f":"IF(D769<>\"\",Data!A770,\"\")","v":""},{"$f":"IF(D769<>\"\",Data!B770,\"\")","v":""},"",{"$f":"IF(AND(Data!F770<>\"\",Data!F770 > 0),Data!F770,\"\")","v":""}]
[{"$f":"IF(D770<>\"\",Data!A771,\"\")","v":""},{"$f":"IF(D770<>\"\",Data!B771,\"\")","v":""},{"$f":"IF(D770<>\"\",MID(CELL(\"filename\",B770),FIND(\"]\",CELL(\"filename\",B770))+1,32),\"\")","v":""},{"$f":"IF(AND(Data!F771<>\"\",Data!F771 > 0),Data!F771,\"\")","v":""}]
[{"$f":"IF(D771<>\"\",Data!A772,\"\")","v":""},{"$f":"IF(D771<>\"\",Data!B772,\"\")","v":""},"",{"$f":"IF(AND(Data!F772<>\"\",Data!F772 > 0),Data!F772,\"\")","v":""}]
[{"$f":"IF(D772<>\"\",Data!A773,\"\")","v":""},{"$f":"IF(D772<>\"\",Data!B773,\"\")","v":""},"",{"$f":"IF(AND(Data!F773<>\"\",Data!F773 > 0),Data!F773,\"\")","v":""}]
[{"$f":"IF(D773<>\"\",Data!A774,\"\")","v":""},{"$f":"IF(D773<>\"\",Data!B774,\"\")","v":""},"",{"$f":"IF(AND(Data!F774<>\"\",Data!F774 > 0),Data!F774,\"\")","v":""}]
[{"$f":"IF(D774<>\"\",Data!A775,\"\")","v":""},{"$f":"IF(D774<>\"\",Data!B775,\"\")","v":""},"",{"$f":"IF(AND(Data!F775<>\"\",Data!F775 > 0),Data!F775,\"\")","v":""}]
[{"$f":"IF(D775<>\"\",Data!A776,\"\")","v":""},{"$f":"IF(D775<>\"\",Data!B776,\"\")","v":""},"",{"$f":"IF(AND(Data!F776<>\"\",Data!F776 > 0),Data!F776,\"\")","v":""}]
[{"$f":"IF(D776<>\"\",Data!A777,\"\")","v":""},{"$f":"IF(D776<>\"\",Data!B777,\"\")","v":""},"",{"$f":"IF(AND(Data!F777<>\"\",Data!F777 > 0),Data!F777,\"\")","v":""}]
[{"$f":"IF(D777<>\"\",Data!A778,\"\")","v":""},{"$f":"IF(D777<>\"\",Data!B778,\"\")","v":""},"",{"$f":"IF(AND(Data!F778<>\"\",Data!F778 > 0),Data!F778,\"\")","v":""}]
[{"$f":"IF(D778<>\"\",Data!A779,\"\")","v":""},{"$f":"IF(D778<>\"\",Data!B779,\"\")","v":""},"",{"$f":"IF(AND(Data!F779<>\"\",Data!F779 > 0),Data!F779,\"\")","v":""}]
[{"$f":"IF(D779<>\"\",Data!A780,\"\")","v":""},{"$f":"IF(D779<>\"\",Data!B780,\"\")","v":""},"",{"$f":"IF(AND(Data!F780<>\"\",Data!F780 > 0),Data!F780,\"\")","v":""}]
[{"$f":"IF(D780<>\"\",Data!A781,\"\")","v":""},{"$f":"IF(D780<>\"\",Data!B781,\"\")","v":""},"",{"$f":"IF(AND(Data!F781<>\"\",Data!F781 > 0),Data!F781,\"\")","v":""}]
[{"$f":"IF(D781<>\"\",Data!A782,\"\")","v":""},{"$f":"IF(D781<>\"\",Data!B782,\"\")","v":""},"",{"$f":"IF(AND(Data!F782<>\"\",Data!F782 > 0),Data!F782,\"\")","v":""}]
[{"$f":"IF(D782<>\"\",Data!A783,\"\")","v":""},{"$f":"IF(D782<>\"\",Data!B783,\"\")","v":""},"",{"$f":"IF(AND(Data!F783<>\"\",Data!F783 > 0),Data!F783,\"\")","v":""}]
[{"$f":"IF(D783<>\"\",Data!A784,\"\")","v":""},{"$f":"IF(D783<>\"\",Data!B784,\"\")","v":""},"",{"$f":"IF(AND(Data!F784<>\"\",Data!F784 > 0),Data!F784,\"\")","v":""}]
[{"$f":"IF(D784<>\"\",Data!A785,\"\")","v":""},{"$f":"IF(D784<>\"\",Data!B785,\"\")","v":""},"",{"$f":"IF(AND(Data!F785<>\"\",Data!F785 > 0),Data!F785,\"\")","v":""}]
[{"$f":"IF(D785<>\"\",Data!A786,\"\")","v":""},{"$f":"IF(D785<>\"\",Data!B786,\"\")","v":""},"",{"$f":"IF(AND(Data!F786<>\"\",Data!F786 > 0),Data!F786,\"\")","v":""}]
[{"$f":"IF(D786<>\"\",Data!A787,\"\")","v":""},{"$f":"IF(D786<>\"\",Data!B787,\"\")","v":""},"",{"$f":"IF(AND(Data!F787<>\"\",Data!F787 > 0),Data!F787,\"\")","v":""}]
[{"$f":"IF(D787<>\"\",Data!A788,\"\")","v":""},{"$f":"IF(D787<>\"\",Data!B788,\"\")","v":""},"",{"$f":"IF(AND(Data!F788<>\"\",Data!F788 > 0),Data!F788,\"\")","v":""}]
[{"$f":"IF(D788<>\"\",Data!A789,\"\")","v":""},{"$f":"IF(D788<>\"\",Data!B789,\"\")","v":""},"",{"$f":"IF(AND(Data!F789<>\"\",Data!F789 > 0),Data!F789,\"\")","v":""}]
[{"$f":"IF(D789<>\"\",Data!A790,\"\")","v":""},{"$f":"IF(D789<>\"\",Data!B790,\"\")","v":""},"",{"$f":"IF(AND(Data!F790<>\"\",Data!F790 > 0),Data!F790,\"\")","v":""}]
[{"$f":"IF(D790<>\"\",Data!A791,\"\")","v":""},{"$f":"IF(D790<>\"\",Data!B791,\"\")","v":""},"",{"$f":"IF(AND(Data!F791<>\"\",Data!F791 > 0),Data!F791,\"\")","v":""}]
[{"$f":"IF(D791<>\"\",Data!A792,\"\")","v":""},{"$f":"IF(D791<>\"\",Data!B792,\"\")","v":""},"",{"$f":"IF(AND(Data!F792<>\"\",Data!F792 > 0),Data!F792,\"\")","v":""}]
[{"$f":"IF(D792<>\"\",Data!A793,\"\")","v":""},{"$f":"IF(D792<>\"\",Data!B793,\"\")","v":""},"",{"$f":"IF(AND(Data!F793<>\"\",Data!F793 > 0),Data!F793,\"\")","v":""}]
[{"$f":"IF(D793<>\"\",Data!A794,\"\")","v":""},{"$f":"IF(D793<>\"\",Data!B794,\"\")","v":""},"",{"$f":"IF(AND(Data!F794<>\"\",Data!F794 > 0),Data!F794,\"\")","v":""}]
[{"$f":"IF(D794<>\"\",Data!A795,\"\")","v":""},{"$f":"IF(D794<>\"\",Data!B795,\"\")","v":""},"",{"$f":"IF(AND(Data!F795<>\"\",Data!F795 > 0),Data!F795,\"\")","v":""}]
[{"$f":"IF(D795<>\"\",Data!A796,\"\")","v":""},{"$f":"IF(D795<>\"\",Data!B796,\"\")","v":""},"",{"$f":"IF(AND(Data!F796<>\"\",Data!F796 > 0),Data!F796,\"\")","v":""}]
[{"$f":"IF(D796<>\"\",Data!A797,\"\")","v":""},{"$f":"IF(D796<>\"\",Data!B797,\"\")","v":""},"",{"$f":"IF(AND(Data!F797<>\"\",Data!F797 > 0),Data!F797,\"\")","v":""}]
[{"$f":"IF(D797<>\"\",Data!A798,\"\")","v":""},{"$f":"IF(D797<>\"\",Data!B798,\"\")","v":""},"",{"$f":"IF(AND(Data!F798<>\"\",Data!F798 > 0),Data!F798,\"\")","v":""}]
[{"$f":"IF(D798<>\"\",Data!A799,\"\")","v":""},{"$f":"IF(D798<>\"\",Data!B799,\"\")","v":""},"",{"$f":"IF(AND(Data!F799<>\"\",Data!F799 > 0),Data!F799,\"\")","v":""}]
[{"$f":"IF(D799<>\"\",Data!A800,\"\")","v":""},{"$f":"IF(D799<>\"\",Data!B800,\"\")","v":""},"",{"$f":"IF(AND(Data!F800<>\"\",Data!F800 > 0),Data!F800,\"\")","v":""}]
[{"$f":"IF(D800<>\"\",Data!A801,\"\")","v":""},{"$f":"IF(D800<>\"\",Data!B801,\"\")","v":""},"",{"$f":"IF(AND(Data!F801<>\"\",Data!F801 > 0),Data!F801,\"\")","v":""}]
[{"$f":"IF(D801<>\"\",Data!A802,\"\")","v":""},{"$f":"IF(D801<>\"\",Data!B802,\"\")","v":""},"",{"$f":"IF(AND(Data!F802<>\"\",Data!F802 > 0),Data!F802,\"\")","v":""}]
[{"$f":"IF(D802<>\"\",Data!A803,\"\")","v":""},{"$f":"IF(D802<>\"\",Data!B803,\"\")","v":""},"",{"$f":"IF(AND(Data!F803<>\"\",Data!F803 > 0),Data!F803,\"\")","v":""}]
[{"$f":"IF(D803<>\"\",Data!A804,\"\")","v":""},{"$f":"IF(D803<>\"\",Data!B804,\"\")","v":""},"",{"$f":"IF(AND(Data!F804<>\"\",Data!F804 > 0),Data!F804,\"\")","v":""}]
[{"$f":"IF(D804<>\"\",Data!A805,\"\")","v":""},{"$f":"IF(D804<>\"\",Data!B805,\"\")","v":""},"",{"$f":"IF(AND(Data!F805<>\"\",Data!F805 > 0),Data!F805,\"\")","v":""}]
[{"$f":"IF(D805<>\"\",Data!A806,\"\")","v":""},{"$f":"IF(D805<>\"\",Data!B806,\"\")","v":""},"",{"$f":"IF(AND(Data!F806<>\"\",Data!F806 > 0),Data!F806,\"\")","v":""}]
[{"$f":"IF(D806<>\"\",Data!A807,\"\")","v":""},{"$f":"IF(D806<>\"\",Data!B807,\"\")","v":""},"",{"$f":"IF(AND(Data!F807<>\"\",Data!F807 > 0),Data!F807,\"\")","v":""}]
[{"$f":"IF(D807<>\"\",Data!A808,\"\")","v":""},{"$f":"IF(D807<>\"\",Data!B808,\"\")","v":""},"",{"$f":"IF(AND(Data!F808<>\"\",Data!F808 > 0),Data!F808,\"\")","v":""}]
[{"$f":"IF(D808<>\"\",Data!A809,\"\")","v":""},{"$f":"IF(D808<>\"\",Data!B809,\"\")","v":""},"",{"$f":"IF(AND(Data!F809<>\"\",Data!F809 > 0),Data!F809,\"\")","v":""}]
[{"$f":"IF(D809<>\"\",Data!A810,\"\")","v":""},{"$f":"IF(D809<>\"\",Data!B810,\"\")","v":""},"",{"$f":"IF(AND(Data!F810<>\"\",Data!F810 > 0),Data!F810,\"\")","v":""}]
[{"$f":"IF(D810<>\"\",Data!A811,\"\")","v":""},{"$f":"IF(D810<>\"\",Data!B811,\"\")","v":""},"",{"$f":"IF(AND(Data!F811<>\"\",Data!F811 > 0),Data!F811,\"\")","v":""}]
[{"$f":"IF(D811<>\"\",Data!A812,\"\")","v":""},{"$f":"IF(D811<>\"\",Data!B812,\"\")","v":""},"",{"$f":"IF(AND(Data!F812<>\"\",Data!F812 > 0),Data!F812,\"\")","v":""}]
[{"$f":"IF(D812<>\"\",Data!A813,\"\")","v":""},{"$f":"IF(D812<>\"\",Data!B813,\"\")","v":""},"",{"$f":"IF(AND(Data!F813<>\"\",Data!F813 > 0),Data!F813,\"\")","v":""}]
[{"$f":"IF(D813<>\"\",Data!A814,\"\")","v":""},{"$f":"IF(D813<>\"\",Data!B814,\"\")","v":""},"",{"$f":"IF(AND(Data!F814<>\"\",Data!F814 > 0),Data!F814,\"\")","v":""}]
[{"$f":"IF(D814<>\"\",Data!A815,\"\")","v":""},{"$f":"IF(D814<>\"\",Data!B815,\"\")","v":""},"",{"$f":"IF(AND(Data!F815<>\"\",Data!F815 > 0),Data!F815,\"\")","v":""}]
[{"$f":"IF(D815<>\"\",Data!A816,\"\")","v":""},{"$f":"IF(D815<>\"\",Data!B816,\"\")","v":""},"",{"$f":"IF(AND(Data!F816<>\"\",Data!F816 > 0),Data!F816,\"\")","v":""}]
[{"$f":"IF(D816<>\"\",Data!A817,\"\")","v":""},{"$f":"IF(D816<>\"\",Data!B817,\"\")","v":""},"",{"$f":"IF(AND(Data!F817<>\"\",Data!F817 > 0),Data!F817,\"\")","v":""}]
[{"$f":"IF(D817<>\"\",Data!A818,\"\")","v":""},{"$f":"IF(D817<>\"\",Data!B818,\"\")","v":""},"",{"$f":"IF(AND(Data!F818<>\"\",Data!F818 > 0),Data!F818,\"\")","v":""}]
[{"$f":"IF(D818<>\"\",Data!A819,\"\")","v":""},{"$f":"IF(D818<>\"\",Data!B819,\"\")","v":""},"",{"$f":"IF(AND(Data!F819<>\"\",Data!F819 > 0),Data!F819,\"\")","v":""}]
[{"$f":"IF(D819<>\"\",Data!A820,\"\")","v":""},{"$f":"IF(D819<>\"\",Data!B820,\"\")","v":""},"",{"$f":"IF(AND(Data!F820<>\"\",Data!F820 > 0),Data!F820,\"\")","v":""}]
[{"$f":"IF(D820<>\"\",Data!A821,\"\")","v":""},{"$f":"IF(D820<>\"\",Data!B821,\"\")","v":""},"",{"$f":"IF(AND(Data!F821<>\"\",Data!F821 > 0),Data!F821,\"\")","v":""}]
[{"$f":"IF(D821<>\"\",Data!A822,\"\")","v":""},{"$f":"IF(D821<>\"\",Data!B822,\"\")","v":""},"",{"$f":"IF(AND(Data!F822<>\"\",Data!F822 > 0),Data!F822,\"\")","v":""}]
[{"$f":"IF(D822<>\"\",Data!A823,\"\")","v":""},{"$f":"IF(D822<>\"\",Data!B823,\"\")","v":""},"",{"$f":"IF(AND(Data!F823<>\"\",Data!F823 > 0),Data!F823,\"\")","v":""}]
[{"$f":"IF(D823<>\"\",Data!A824,\"\")","v":""},{"$f":"IF(D823<>\"\",Data!B824,\"\")","v":""},"",{"$f":"IF(AND(Data!F824<>\"\",Data!F824 > 0),Data!F824,\"\")","v":""}]
[{"$f":"IF(D824<>\"\",Data!A825,\"\")","v":""},{"$f":"IF(D824<>\"\",Data!B825,\"\")","v":""},"",{"$f":"IF(AND(Data!F825<>\"\",Data!F825 > 0),Data!F825,\"\")","v":""}]
[{"$f":"IF(D825<>\"\",Data!A826,\"\")","v":""},{"$f":"IF(D825<>\"\",Data!B826,\"\")","v":""},"",{"$f":"IF(AND(Data!F826<>\"\",Data!F826 > 0),Data!F826,\"\")","v":""}]
[{"$f":"IF(D826<>\"\",Data!A827,\"\")","v":""},{"$f":"IF(D826<>\"\",Data!B827,\"\")","v":""},"",{"$f":"IF(AND(Data!F827<>\"\",Data!F827 > 0),Data!F827,\"\")","v":""}]
[{"$f":"IF(D827<>\"\",Data!A828,\"\")","v":""},{"$f":"IF(D827<>\"\",Data!B828,\"\")","v":""},"",{"$f":"IF(AND(Data!F828<>\"\",Data!F828 > 0),Data!F828,\"\")","v":""}]
[{"$f":"IF(D828<>\"\",Data!A829,\"\")","v":""},{"$f":"IF(D828<>\"\",Data!B829,\"\")","v":""},"",{"$f":"IF(AND(Data!F829<>\"\",Data!F829 > 0),Data!F829,\"\")","v":""}]
[{"$f":"IF(D829<>\"\",Data!A830,\"\")","v":""},{"$f":"IF(D829<>\"\",Data!B830,\"\")","v":""},"",{"$f":"IF(AND(Data!F830<>\"\",Data!F830 > 0),Data!F830,\"\")","v":""}]
[{"$f":"IF(D830<>\"\",Data!A831,\"\")","v":""},{"$f":"IF(D830<>\"\",Data!B831,\"\")","v":""},"",{"$f":"IF(AND(Data!F831<>\"\",Data!F831 > 0),Data!F831,\"\")","v":""}]
[{"$f":"IF(D831<>\"\",Data!A832,\"\")","v":""},{"$f":"IF(D831<>\"\",Data!B832,\"\")","v":""},"",{"$f":"IF(AND(Data!F832<>\"\",Data!F832 > 0),Data!F832,\"\")","v":""}]
[{"$f":"IF(D832<>\"\",Data!A833,\"\")","v":""},{"$f":"IF(D832<>\"\",Data!B833,\"\")","v":""},"",{"$f":"IF(AND(Data!F833<>\"\",Data!F833 > 0),Data!F833,\"\")","v":""}]
[{"$f":"IF(D833<>\"\",Data!A834,\"\")","v":""},{"$f":"IF(D833<>\"\",Data!B834,\"\")","v":""},"",{"$f":"IF(AND(Data!F834<>\"\",Data!F834 > 0),Data!F834,\"\")","v":""}]
[{"$f":"IF(D834<>\"\",Data!A835,\"\")","v":""},{"$f":"IF(D834<>\"\",Data!B835,\"\")","v":""},{"$f":"IF(D834<>\"\",MID(CELL(\"filename\",B834),FIND(\"]\",CELL(\"filename\",B834))+1,32),\"\")","v":""},{"$f":"IF(AND(Data!F835<>\"\",Data!F835 > 0),Data!F835,\"\")","v":""}]
[{"$f":"IF(D835<>\"\",Data!A836,\"\")","v":""},{"$f":"IF(D835<>\"\",Data!B836,\"\")","v":""},"",{"$f":"IF(AND(Data!F836<>\"\",Data!F836 > 0),Data!F836,\"\")","v":""}]
[{"$f":"IF(D836<>\"\",Data!A837,\"\")","v":""},{"$f":"IF(D836<>\"\",Data!B837,\"\")","v":""},"",{"$f":"IF(AND(Data!F837<>\"\",Data!F837 > 0),Data!F837,\"\")","v":""}]
[{"$f":"IF(D837<>\"\",Data!A838,\"\")","v":""},{"$f":"IF(D837<>\"\",Data!B838,\"\")","v":""},"",{"$f":"IF(AND(Data!F838<>\"\",Data!F838 > 0),Data!F838,\"\")","v":""}]
[{"$f":"IF(D838<>\"\",Data!A839,\"\")","v":""},{"$f":"IF(D838<>\"\",Data!B839,\"\")","v":""},"",{"$f":"IF(AND(Data!F839<>\"\",Data!F839 > 0),Data!F839,\"\")","v":""}]
[{"$f":"IF(D839<>\"\",Data!A840,\"\")","v":""},{"$f":"IF(D839<>\"\",Data!B840,\"\")","v":""},"",{"$f":"IF(AND(Data!F840<>\"\",Data!F840 > 0),Data!F840,\"\")","v":""}]
[{"$f":"IF(D840<>\"\",Data!A841,\"\")","v":""},{"$f":"IF(D840<>\"\",Data!B841,\"\")","v":""},"",{"$f":"IF(AND(Data!F841<>\"\",Data!F841 > 0),Data!F841,\"\")","v":""}]
[{"$f":"IF(D841<>\"\",Data!A842,\"\")","v":""},{"$f":"IF(D841<>\"\",Data!B842,\"\")","v":""},"",{"$f":"IF(AND(Data!F842<>\"\",Data!F842 > 0),Data!F842,\"\")","v":""}]
[{"$f":"IF(D842<>\"\",Data!A843,\"\")","v":""},{"$f":"IF(D842<>\"\",Data!B843,\"\")","v":""},"",{"$f":"IF(AND(Data!F843<>\"\",Data!F843 > 0),Data!F843,\"\")","v":""}]
[{"$f":"IF(D843<>\"\",Data!A844,\"\")","v":""},{"$f":"IF(D843<>\"\",Data!B844,\"\")","v":""},"",{"$f":"IF(AND(Data!F844<>\"\",Data!F844 > 0),Data!F844,\"\")","v":""}]
[{"$f":"IF(D844<>\"\",Data!A845,\"\")","v":""},{"$f":"IF(D844<>\"\",Data!B845,\"\")","v":""},"",{"$f":"IF(AND(Data!F845<>\"\",Data!F845 > 0),Data!F845,\"\")","v":""}]
[{"$f":"IF(D845<>\"\",Data!A846,\"\")","v":""},{"$f":"IF(D845<>\"\",Data!B846,\"\")","v":""},"",{"$f":"IF(AND(Data!F846<>\"\",Data!F846 > 0),Data!F846,\"\")","v":""}]
[{"$f":"IF(D846<>\"\",Data!A847,\"\")","v":""},{"$f":"IF(D846<>\"\",Data!B847,\"\")","v":""},"",{"$f":"IF(AND(Data!F847<>\"\",Data!F847 > 0),Data!F847,\"\")","v":""}]
[{"$f":"IF(D847<>\"\",Data!A848,\"\")","v":""},{"$f":"IF(D847<>\"\",Data!B848,\"\")","v":""},"",{"$f":"IF(AND(Data!F848<>\"\",Data!F848 > 0),Data!F848,\"\")","v":""}]
[{"$f":"IF(D848<>\"\",Data!A849,\"\")","v":""},{"$f":"IF(D848<>\"\",Data!B849,\"\")","v":""},"",{"$f":"IF(AND(Data!F849<>\"\",Data!F849 > 0),Data!F849,\"\")","v":""}]
[{"$f":"IF(D849<>\"\",Data!A850,\"\")","v":""},{"$f":"IF(D849<>\"\",Data!B850,\"\")","v":""},"",{"$f":"IF(AND(Data!F850<>\"\",Data!F850 > 0),Data!F850,\"\")","v":""}]
[{"$f":"IF(D850<>\"\",Data!A851,\"\")","v":""},{"$f":"IF(D850<>\"\",Data!B851,\"\")","v":""},"",{"$f":"IF(AND(Data!F851<>\"\",Data!F851 > 0),Data!F851,\"\")","v":""}]
[{"$f":"IF(D851<>\"\",Data!A852,\"\")","v":""},{"$f":"IF(D851<>\"\",Data!B852,\"\")","v":""},"",{"$f":"IF(AND(Data!F852<>\"\",Data!F852 > 0),Data!F852,\"\")","v":""}]
[{"$f":"IF(D852<>\"\",Data!A853,\"\")","v":""},{"$f":"IF(D852<>\"\",Data!B853,\"\")","v":""},"",{"$f":"IF(AND(Data!F853<>\"\",Data!F853 > 0),Data!F853,\"\")","v":""}]
[{"$f":"IF(D853<>\"\",Data!A854,\"\")","v":""},{"$f":"IF(D853<>\"\",Data!B854,\"\")","v":""},"",{"$f":"IF(AND(Data!F854<>\"\",Data!F854 > 0),Data!F854,\"\")","v":""}]
[{"$f":"IF(D854<>\"\",Data!A855,\"\")","v":""},{"$f":"IF(D854<>\"\",Data!B855,\"\")","v":""},"",{"$f":"IF(AND(Data!F855<>\"\",Data!F855 > 0),Data!F855,\"\")","v":""}]
[{"$f":"IF(D855<>\"\",Data!A856,\"\")","v":""},{"$f":"IF(D855<>\"\",Data!B856,\"\")","v":""},"",{"$f":"IF(AND(Data!F856<>\"\",Data!F856 > 0),Data!F856,\"\")","v":""}]
[{"$f":"IF(D856<>\"\",Data!A857,\"\")","v":""},{"$f":"IF(D856<>\"\",Data!B857,\"\")","v":""},"",{"$f":"IF(AND(Data!F857<>\"\",Data!F857 > 0),Data!F857,\"\")","v":""}]
[{"$f":"IF(D857<>\"\",Data!A858,\"\")","v":""},{"$f":"IF(D857<>\"\",Data!B858,\"\")","v":""},"",{"$f":"IF(AND(Data!F858<>\"\",Data!F858 > 0),Data!F858,\"\")","v":""}]
[{"$f":"IF(D858<>\"\",Data!A859,\"\")","v":""},{"$f":"IF(D858<>\"\",Data!B859,\"\")","v":""},"",{"$f":"IF(AND(Data!F859<>\"\",Data!F859 > 0),Data!F859,\"\")","v":""}]
[{"$f":"IF(D859<>\"\",Data!A860,\"\")","v":""},{"$f":"IF(D859<>\"\",Data!B860,\"\")","v":""},"",{"$f":"IF(AND(Data!F860<>\"\",Data!F860 > 0),Data!F860,\"\")","v":""}]
[{"$f":"IF(D860<>\"\",Data!A861,\"\")","v":""},{"$f":"IF(D860<>\"\",Data!B861,\"\")","v":""},"",{"$f":"IF(AND(Data!F861<>\"\",Data!F861 > 0),Data!F861,\"\")","v":""}]
[{"$f":"IF(D861<>\"\",Data!A862,\"\")","v":""},{"$f":"IF(D861<>\"\",Data!B862,\"\")","v":""},"",{"$f":"IF(AND(Data!F862<>\"\",Data!F862 > 0),Data!F862,\"\")","v":""}]
[{"$f":"IF(D862<>\"\",Data!A863,\"\")","v":""},{"$f":"IF(D862<>\"\",Data!B863,\"\")","v":""},"",{"$f":"IF(AND(Data!F863<>\"\",Data!F863 > 0),Data!F863,\"\")","v":""}]
[{"$f":"IF(D863<>\"\",Data!A864,\"\")","v":""},{"$f":"IF(D863<>\"\",Data!B864,\"\")","v":""},"",{"$f":"IF(AND(Data!F864<>\"\",Data!F864 > 0),Data!F864,\"\")","v":""}]
[{"$f":"IF(D864<>\"\",Data!A865,\"\")","v":""},{"$f":"IF(D864<>\"\",Data!B865,\"\")","v":""},"",{"$f":"IF(AND(Data!F865<>\"\",Data!F865 > 0),Data!F865,\"\")","v":""}]
[{"$f":"IF(D865<>\"\",Data!A866,\"\")","v":""},{"$f":"IF(D865<>\"\",Data!B866,\"\")","v":""},"",{"$f":"IF(AND(Data!F866<>\"\",Data!F866 > 0),Data!F866,\"\")","v":""}]
[{"$f":"IF(D866<>\"\",Data!A867,\"\")","v":""},{"$f":"IF(D866<>\"\",Data!B867,\"\")","v":""},"",{"$f":"IF(AND(Data!F867<>\"\",Data!F867 > 0),Data!F867,\"\")","v":""}]
[{"$f":"IF(D867<>\"\",Data!A868,\"\")","v":""},{"$f":"IF(D867<>\"\",Data!B868,\"\")","v":""},"",{"$f":"IF(AND(Data!F868<>\"\",Data!F868 > 0),Data!F868,\"\")","v":""}]
[{"$f":"IF(D868<>\"\",Data!A869,\"\")","v":""},{"$f":"IF(D868<>\"\",Data!B869,\"\")","v":""},"",{"$f":"IF(AND(Data!F869<>\"\",Data!F869 > 0),Data!F869,\"\")","v":""}]
[{"$f":"IF(D869<>\"\",Data!A870,\"\")","v":""},{"$f":"IF(D869<>\"\",Data!B870,\"\")","v":""},"",{"$f":"IF(AND(Data!F870<>\"\",Data!F870 > 0),Data!F870,\"\")","v":""}]
[{"$f":"IF(D870<>\"\",Data!A871,\"\")","v":""},{"$f":"IF(D870<>\"\",Data!B871,\"\")","v":""},"",{"$f":"IF(AND(Data!F871<>\"\",Data!F871 > 0),Data!F871,\"\")","v":""}]
[{"$f":"IF(D871<>\"\",Data!A872,\"\")","v":""},{"$f":"IF(D871<>\"\",Data!B872,\"\")","v":""},"",{"$f":"IF(AND(Data!F872<>\"\",Data!F872 > 0),Data!F872,\"\")","v":""}]
[{"$f":"IF(D872<>\"\",Data!A873,\"\")","v":""},{"$f":"IF(D872<>\"\",Data!B873,\"\")","v":""},"",{"$f":"IF(AND(Data!F873<>\"\",Data!F873 > 0),Data!F873,\"\")","v":""}]
[{"$f":"IF(D873<>\"\",Data!A874,\"\")","v":""},{"$f":"IF(D873<>\"\",Data!B874,\"\")","v":""},"",{"$f":"IF(AND(Data!F874<>\"\",Data!F874 > 0),Data!F874,\"\")","v":""}]
[{"$f":"IF(D874<>\"\",Data!A875,\"\")","v":""},{"$f":"IF(D874<>\"\",Data!B875,\"\")","v":""},"",{"$f":"IF(AND(Data!F875<>\"\",Data!F875 > 0),Data!F875,\"\")","v":""}]
[{"$f":"IF(D875<>\"\",Data!A876,\"\")","v":""},{"$f":"IF(D875<>\"\",Data!B876,\"\")","v":""},"",{"$f":"IF(AND(Data!F876<>\"\",Data!F876 > 0),Data!F876,\"\")","v":""}]
[{"$f":"IF(D876<>\"\",Data!A877,\"\")","v":""},{"$f":"IF(D876<>\"\",Data!B877,\"\")","v":""},"",{"$f":"IF(AND(Data!F877<>\"\",Data!F877 > 0),Data!F877,\"\")","v":""}]
[{"$f":"IF(D877<>\"\",Data!A878,\"\")","v":""},{"$f":"IF(D877<>\"\",Data!B878,\"\")","v":""},"",{"$f":"IF(AND(Data!F878<>\"\",Data!F878 > 0),Data!F878,\"\")","v":""}]
[{"$f":"IF(D878<>\"\",Data!A879,\"\")","v":""},{"$f":"IF(D878<>\"\",Data!B879,\"\")","v":""},"",{"$f":"IF(AND(Data!F879<>\"\",Data!F879 > 0),Data!F879,\"\")","v":""}]
[{"$f":"IF(D879<>\"\",Data!A880,\"\")","v":""},{"$f":"IF(D879<>\"\",Data!B880,\"\")","v":""},"",{"$f":"IF(AND(Data!F880<>\"\",Data!F880 > 0),Data!F880,\"\")","v":""}]
[{"$f":"IF(D880<>\"\",Data!A881,\"\")","v":""},{"$f":"IF(D880<>\"\",Data!B881,\"\")","v":""},"",{"$f":"IF(AND(Data!F881<>\"\",Data!F881 > 0),Data!F881,\"\")","v":""}]
[{"$f":"IF(D881<>\"\",Data!A882,\"\")","v":""},{"$f":"IF(D881<>\"\",Data!B882,\"\")","v":""},"",{"$f":"IF(AND(Data!F882<>\"\",Data!F882 > 0),Data!F882,\"\")","v":""}]
[{"$f":"IF(D882<>\"\",Data!A883,\"\")","v":""},{"$f":"IF(D882<>\"\",Data!B883,\"\")","v":""},"",{"$f":"IF(AND(Data!F883<>\"\",Data!F883 > 0),Data!F883,\"\")","v":""}]
[{"$f":"IF(D883<>\"\",Data!A884,\"\")","v":""},{"$f":"IF(D883<>\"\",Data!B884,\"\")","v":""},"",{"$f":"IF(AND(Data!F884<>\"\",Data!F884 > 0),Data!F884,\"\")","v":""}]
[{"$f":"IF(D884<>\"\",Data!A885,\"\")","v":""},{"$f":"IF(D884<>\"\",Data!B885,\"\")","v":""},"",{"$f":"IF(AND(Data!F885<>\"\",Data!F885 > 0),Data!F885,\"\")","v":""}]
[{"$f":"IF(D885<>\"\",Data!A886,\"\")","v":""},{"$f":"IF(D885<>\"\",Data!B886,\"\")","v":""},"",{"$f":"IF(AND(Data!F886<>\"\",Data!F886 > 0),Data!F886,\"\")","v":""}]
[{"$f":"IF(D886<>\"\",Data!A887,\"\")","v":""},{"$f":"IF(D886<>\"\",Data!B887,\"\")","v":""},"",{"$f":"IF(AND(Data!F887<>\"\",Data!F887 > 0),Data!F887,\"\")","v":""}]
[{"$f":"IF(D887<>\"\",Data!A888,\"\")","v":""},{"$f":"IF(D887<>\"\",Data!B888,\"\")","v":""},"",{"$f":"IF(AND(Data!F888<>\"\",Data!F888 > 0),Data!F888,\"\")","v":""}]
[{"$f":"IF(D888<>\"\",Data!A889,\"\")","v":""},{"$f":"IF(D888<>\"\",Data!B889,\"\")","v":""},"",{"$f":"IF(AND(Data!F889<>\"\",Data!F889 > 0),Data!F889,\"\")","v":""}]
[{"$f":"IF(D889<>\"\",Data!A890,\"\")","v":""},{"$f":"IF(D889<>\"\",Data!B890,\"\")","v":""},"",{"$f":"IF(AND(Data!F890<>\"\",Data!F890 > 0),Data!F890,\"\")","v":""}]
[{"$f":"IF(D890<>\"\",Data!A891,\"\")","v":""},{"$f":"IF(D890<>\"\",Data!B891,\"\")","v":""},"",{"$f":"IF(AND(Data!F891<>\"\",Data!F891 > 0),Data!F891,\"\")","v":""}]
[{"$f":"IF(D891<>\"\",Data!A892,\"\")","v":""},{"$f":"IF(D891<>\"\",Data!B892,\"\")","v":""},"",{"$f":"IF(AND(Data!F892<>\"\",Data!F892 > 0),Data!F892,\"\")","v":""}]
[{"$f":"IF(D892<>\"\",Data!A893,\"\")","v":""},{"$f":"IF(D892<>\"\",Data!B893,\"\")","v":""},"",{"$f":"IF(AND(Data!F893<>\"\",Data!F893 > 0),Data!F893,\"\")","v":""}]
[{"$f":"IF(D893<>\"\",Data!A894,\"\")","v":""},{"$f":"IF(D893<>\"\",Data!B894,\"\")","v":""},"",{"$f":"IF(AND(Data!F894<>\"\",Data!F894 > 0),Data!F894,\"\")","v":""}]
[{"$f":"IF(D894<>\"\",Data!A895,\"\")","v":""},{"$f":"IF(D894<>\"\",Data!B895,\"\")","v":""},"",{"$f":"IF(AND(Data!F895<>\"\",Data!F895 > 0),Data!F895,\"\")","v":""}]
[{"$f":"IF(D895<>\"\",Data!A896,\"\")","v":""},{"$f":"IF(D895<>\"\",Data!B896,\"\")","v":""},"",{"$f":"IF(AND(Data!F896<>\"\",Data!F896 > 0),Data!F896,\"\")","v":""}]
[{"$f":"IF(D896<>\"\",Data!A897,\"\")","v":""},{"$f":"IF(D896<>\"\",Data!B897,\"\")","v":""},"",{"$f":"IF(AND(Data!F897<>\"\",Data!F897 > 0),Data!F897,\"\")","v":""}]
[{"$f":"IF(D897<>\"\",Data!A898,\"\")","v":""},{"$f":"IF(D897<>\"\",Data!B898,\"\")","v":""},"",{"$f":"IF(AND(Data!F898<>\"\",Data!F898 > 0),Data!F898,\"\")","v":""}]
[{"$f":"IF(D898<>\"\",Data!A899,\"\")","v":""},{"$f":"IF(D898<>\"\",Data!B899,\"\")","v":""},{"$f":"IF(D898<>\"\",MID(CELL(\"filename\",B898),FIND(\"]\",CELL(\"filename\",B898))+1,32),\"\")","v":""},{"$f":"IF(AND(Data!F899<>\"\",Data!F899 > 0),Data!F899,\"\")","v":""}]
[{"$f":"IF(D899<>\"\",Data!A900,\"\")","v":""},{"$f":"IF(D899<>\"\",Data!B900,\"\")","v":""},"",{"$f":"IF(AND(Data!F900<>\"\",Data!F900 > 0),Data!F900,\"\")","v":""}]
[{"$f":"IF(D900<>\"\",Data!A901,\"\")","v":""},{"$f":"IF(D900<>\"\",Data!B901,\"\")","v":""},"",{"$f":"IF(AND(Data!F901<>\"\",Data!F901 > 0),Data!F901,\"\")","v":""}]
[{"$f":"IF(D901<>\"\",Data!A902,\"\")","v":""},{"$f":"IF(D901<>\"\",Data!B902,\"\")","v":""},"",{"$f":"IF(AND(Data!F902<>\"\",Data!F902 > 0),Data!F902,\"\")","v":""}]
[{"$f":"IF(D902<>\"\",Data!A903,\"\")","v":""},{"$f":"IF(D902<>\"\",Data!B903,\"\")","v":""},"",{"$f":"IF(AND(Data!F903<>\"\",Data!F903 > 0),Data!F903,\"\")","v":""}]
[{"$f":"IF(D903<>\"\",Data!A904,\"\")","v":""},{"$f":"IF(D903<>\"\",Data!B904,\"\")","v":""},"",{"$f":"IF(AND(Data!F904<>\"\",Data!F904 > 0),Data!F904,\"\")","v":""}]
[{"$f":"IF(D904<>\"\",Data!A905,\"\")","v":""},{"$f":"IF(D904<>\"\",Data!B905,\"\")","v":""},"",{"$f":"IF(AND(Data!F905<>\"\",Data!F905 > 0),Data!F905,\"\")","v":""}]
[{"$f":"IF(D905<>\"\",Data!A906,\"\")","v":""},{"$f":"IF(D905<>\"\",Data!B906,\"\")","v":""},"",{"$f":"IF(AND(Data!F906<>\"\",Data!F906 > 0),Data!F906,\"\")","v":""}]
[{"$f":"IF(D906<>\"\",Data!A907,\"\")","v":""},{"$f":"IF(D906<>\"\",Data!B907,\"\")","v":""},"",{"$f":"IF(AND(Data!F907<>\"\",Data!F907 > 0),Data!F907,\"\")","v":""}]
[{"$f":"IF(D907<>\"\",Data!A908,\"\")","v":""},{"$f":"IF(D907<>\"\",Data!B908,\"\")","v":""},"",{"$f":"IF(AND(Data!F908<>\"\",Data!F908 > 0),Data!F908,\"\")","v":""}]
[{"$f":"IF(D908<>\"\",Data!A909,\"\")","v":""},{"$f":"IF(D908<>\"\",Data!B909,\"\")","v":""},"",{"$f":"IF(AND(Data!F909<>\"\",Data!F909 > 0),Data!F909,\"\")","v":""}]
[{"$f":"IF(D909<>\"\",Data!A910,\"\")","v":""},{"$f":"IF(D909<>\"\",Data!B910,\"\")","v":""},"",{"$f":"IF(AND(Data!F910<>\"\",Data!F910 > 0),Data!F910,\"\")","v":""}]
[{"$f":"IF(D910<>\"\",Data!A911,\"\")","v":""},{"$f":"IF(D910<>\"\",Data!B911,\"\")","v":""},"",{"$f":"IF(AND(Data!F911<>\"\",Data!F911 > 0),Data!F911,\"\")","v":""}]
[{"$f":"IF(D911<>\"\",Data!A912,\"\")","v":""},{"$f":"IF(D911<>\"\",Data!B912,\"\")","v":""},"",{"$f":"IF(AND(Data!F912<>\"\",Data!F912 > 0),Data!F912,\"\")","v":""}]
[{"$f":"IF(D912<>\"\",Data!A913,\"\")","v":""},{"$f":"IF(D912<>\"\",Data!B913,\"\")","v":""},"",{"$f":"IF(AND(Data!F913<>\"\",Data!F913 > 0),Data!F913,\"\")","v":""}]
[{"$f":"IF(D913<>\"\",Data!A914,\"\")","v":""},{"$f":"IF(D913<>\"\",Data!B914,\"\")","v":""},"",{"$f":"IF(AND(Data!F914<>\"\",Data!F914 > 0),Data!F914,\"\")","v":""}]
[{"$f":"IF(D914<>\"\",Data!A915,\"\")","v":""},{"$f":"IF(D914<>\"\",Data!B915,\"\")","v":""},"",{"$f":"IF(AND(Data!F915<>\"\",Data!F915 > 0),Data!F915,\"\")","v":""}]
[{"$f":"IF(D915<>\"\",Data!A916,\"\")","v":""},{"$f":"IF(D915<>\"\",Data!B916,\"\")","v":""},"",{"$f":"IF(AND(Data!F916<>\"\",Data!F916 > 0),Data!F916,\"\")","v":""}]
[{"$f":"IF(D916<>\"\",Data!A917,\"\")","v":""},{"$f":"IF(D916<>\"\",Data!B917,\"\")","v":""},"",{"$f":"IF(AND(Data!F917<>\"\",Data!F917 > 0),Data!F917,\"\")","v":""}]
[{"$f":"IF(D917<>\"\",Data!A918,\"\")","v":""},{"$f":"IF(D917<>\"\",Data!B918,\"\")","v":""},"",{"$f":"IF(AND(Data!F918<>\"\",Data!F918 > 0),Data!F918,\"\")","v":""}]
[{"$f":"IF(D918<>\"\",Data!A919,\"\")","v":""},{"$f":"IF(D918<>\"\",Data!B919,\"\")","v":""},"",{"$f":"IF(AND(Data!F919<>\"\",Data!F919 > 0),Data!F919,\"\")","v":""}]
[{"$f":"IF(D919<>\"\",Data!A920,\"\")","v":""},{"$f":"IF(D919<>\"\",Data!B920,\"\")","v":""},"",{"$f":"IF(AND(Data!F920<>\"\",Data!F920 > 0),Data!F920,\"\")","v":""}]
[{"$f":"IF(D920<>\"\",Data!A921,\"\")","v":""},{"$f":"IF(D920<>\"\",Data!B921,\"\")","v":""},"",{"$f":"IF(AND(Data!F921<>\"\",Data!F921 > 0),Data!F921,\"\")","v":""}]
[{"$f":"IF(D921<>\"\",Data!A922,\"\")","v":""},{"$f":"IF(D921<>\"\",Data!B922,\"\")","v":""},"",{"$f":"IF(AND(Data!F922<>\"\",Data!F922 > 0),Data!F922,\"\")","v":""}]
[{"$f":"IF(D922<>\"\",Data!A923,\"\")","v":""},{"$f":"IF(D922<>\"\",Data!B923,\"\")","v":""},"",{"$f":"IF(AND(Data!F923<>\"\",Data!F923 > 0),Data!F923,\"\")","v":""}]
[{"$f":"IF(D923<>\"\",Data!A924,\"\")","v":""},{"$f":"IF(D923<>\"\",Data!B924,\"\")","v":""},"",{"$f":"IF(AND(Data!F924<>\"\",Data!F924 > 0),Data!F924,\"\")","v":""}]
[{"$f":"IF(D924<>\"\",Data!A925,\"\")","v":""},{"$f":"IF(D924<>\"\",Data!B925,\"\")","v":""},"",{"$f":"IF(AND(Data!F925<>\"\",Data!F925 > 0),Data!F925,\"\")","v":""}]
[{"$f":"IF(D925<>\"\",Data!A926,\"\")","v":""},{"$f":"IF(D925<>\"\",Data!B926,\"\")","v":""},"",{"$f":"IF(AND(Data!F926<>\"\",Data!F926 > 0),Data!F926,\"\")","v":""}]
[{"$f":"IF(D926<>\"\",Data!A927,\"\")","v":""},{"$f":"IF(D926<>\"\",Data!B927,\"\")","v":""},"",{"$f":"IF(AND(Data!F927<>\"\",Data!F927 > 0),Data!F927,\"\")","v":""}]
[{"$f":"IF(D927<>\"\",Data!A928,\"\")","v":""},{"$f":"IF(D927<>\"\",Data!B928,\"\")","v":""},"",{"$f":"IF(AND(Data!F928<>\"\",Data!F928 > 0),Data!F928,\"\")","v":""}]
[{"$f":"IF(D928<>\"\",Data!A929,\"\")","v":""},{"$f":"IF(D928<>\"\",Data!B929,\"\")","v":""},"",{"$f":"IF(AND(Data!F929<>\"\",Data!F929 > 0),Data!F929,\"\")","v":""}]
[{"$f":"IF(D929<>\"\",Data!A930,\"\")","v":""},{"$f":"IF(D929<>\"\",Data!B930,\"\")","v":""},"",{"$f":"IF(AND(Data!F930<>\"\",Data!F930 > 0),Data!F930,\"\")","v":""}]
[{"$f":"IF(D930<>\"\",Data!A931,\"\")","v":""},{"$f":"IF(D930<>\"\",Data!B931,\"\")","v":""},"",{"$f":"IF(AND(Data!F931<>\"\",Data!F931 > 0),Data!F931,\"\")","v":""}]
[{"$f":"IF(D931<>\"\",Data!A932,\"\")","v":""},{"$f":"IF(D931<>\"\",Data!B932,\"\")","v":""},"",{"$f":"IF(AND(Data!F932<>\"\",Data!F932 > 0),Data!F932,\"\")","v":""}]
[{"$f":"IF(D932<>\"\",Data!A933,\"\")","v":""},{"$f":"IF(D932<>\"\",Data!B933,\"\")","v":""},"",{"$f":"IF(AND(Data!F933<>\"\",Data!F933 > 0),Data!F933,\"\")","v":""}]
[{"$f":"IF(D933<>\"\",Data!A934,\"\")","v":""},{"$f":"IF(D933<>\"\",Data!B934,\"\")","v":""},"",{"$f":"IF(AND(Data!F934<>\"\",Data!F934 > 0),Data!F934,\"\")","v":""}]
[{"$f":"IF(D934<>\"\",Data!A935,\"\")","v":""},{"$f":"IF(D934<>\"\",Data!B935,\"\")","v":""},"",{"$f":"IF(AND(Data!F935<>\"\",Data!F935 > 0),Data!F935,\"\")","v":""}]
[{"$f":"IF(D935<>\"\",Data!A936,\"\")","v":""},{"$f":"IF(D935<>\"\",Data!B936,\"\")","v":""},"",{"$f":"IF(AND(Data!F936<>\"\",Data!F936 > 0),Data!F936,\"\")","v":""}]
[{"$f":"IF(D936<>\"\",Data!A937,\"\")","v":""},{"$f":"IF(D936<>\"\",Data!B937,\"\")","v":""},"",{"$f":"IF(AND(Data!F937<>\"\",Data!F937 > 0),Data!F937,\"\")","v":""}]
[{"$f":"IF(D937<>\"\",Data!A938,\"\")","v":""},{"$f":"IF(D937<>\"\",Data!B938,\"\")","v":""},"",{"$f":"IF(AND(Data!F938<>\"\",Data!F938 > 0),Data!F938,\"\")","v":""}]
[{"$f":"IF(D938<>\"\",Data!A939,\"\")","v":""},{"$f":"IF(D938<>\"\",Data!B939,\"\")","v":""},"",{"$f":"IF(AND(Data!F939<>\"\",Data!F939 > 0),Data!F939,\"\")","v":""}]
[{"$f":"IF(D939<>\"\",Data!A940,\"\")","v":""},{"$f":"IF(D939<>\"\",Data!B940,\"\")","v":""},"",{"$f":"IF(AND(Data!F940<>\"\",Data!F940 > 0),Data!F940,\"\")","v":""}]
[{"$f":"IF(D940<>\"\",Data!A941,\"\")","v":""},{"$f":"IF(D940<>\"\",Data!B941,\"\")","v":""},"",{"$f":"IF(AND(Data!F941<>\"\",Data!F941 > 0),Data!F941,\"\")","v":""}]
[{"$f":"IF(D941<>\"\",Data!A942,\"\")","v":""},{"$f":"IF(D941<>\"\",Data!B942,\"\")","v":""},"",{"$f":"IF(AND(Data!F942<>\"\",Data!F942 > 0),Data!F942,\"\")","v":""}]
[{"$f":"IF(D942<>\"\",Data!A943,\"\")","v":""},{"$f":"IF(D942<>\"\",Data!B943,\"\")","v":""},"",{"$f":"IF(AND(Data!F943<>\"\",Data!F943 > 0),Data!F943,\"\")","v":""}]
[{"$f":"IF(D943<>\"\",Data!A944,\"\")","v":""},{"$f":"IF(D943<>\"\",Data!B944,\"\")","v":""},"",{"$f":"IF(AND(Data!F944<>\"\",Data!F944 > 0),Data!F944,\"\")","v":""}]
[{"$f":"IF(D944<>\"\",Data!A945,\"\")","v":""},{"$f":"IF(D944<>\"\",Data!B945,\"\")","v":""},"",{"$f":"IF(AND(Data!F945<>\"\",Data!F945 > 0),Data!F945,\"\")","v":""}]
[{"$f":"IF(D945<>\"\",Data!A946,\"\")","v":""},{"$f":"IF(D945<>\"\",Data!B946,\"\")","v":""},"",{"$f":"IF(AND(Data!F946<>\"\",Data!F946 > 0),Data!F946,\"\")","v":""}]
[{"$f":"IF(D946<>\"\",Data!A947,\"\")","v":""},{"$f":"IF(D946<>\"\",Data!B947,\"\")","v":""},"",{"$f":"IF(AND(Data!F947<>\"\",Data!F947 > 0),Data!F947,\"\")","v":""}]
[{"$f":"IF(D947<>\"\",Data!A948,\"\")","v":""},{"$f":"IF(D947<>\"\",Data!B948,\"\")","v":""},"",{"$f":"IF(AND(Data!F948<>\"\",Data!F948 > 0),Data!F948,\"\")","v":""}]
[{"$f":"IF(D948<>\"\",Data!A949,\"\")","v":""},{"$f":"IF(D948<>\"\",Data!B949,\"\")","v":""},"",{"$f":"IF(AND(Data!F949<>\"\",Data!F949 > 0),Data!F949,\"\")","v":""}]
[{"$f":"IF(D949<>\"\",Data!A950,\"\")","v":""},{"$f":"IF(D949<>\"\",Data!B950,\"\")","v":""},"",{"$f":"IF(AND(Data!F950<>\"\",Data!F950 > 0),Data!F950,\"\")","v":""}]
[{"$f":"IF(D950<>\"\",Data!A951,\"\")","v":""},{"$f":"IF(D950<>\"\",Data!B951,\"\")","v":""},"",{"$f":"IF(AND(Data!F951<>\"\",Data!F951 > 0),Data!F951,\"\")","v":""}]
[{"$f":"IF(D951<>\"\",Data!A952,\"\")","v":""},{"$f":"IF(D951<>\"\",Data!B952,\"\")","v":""},"",{"$f":"IF(AND(Data!F952<>\"\",Data!F952 > 0),Data!F952,\"\")","v":""}]
[{"$f":"IF(D952<>\"\",Data!A953,\"\")","v":""},{"$f":"IF(D952<>\"\",Data!B953,\"\")","v":""},"",{"$f":"IF(AND(Data!F953<>\"\",Data!F953 > 0),Data!F953,\"\")","v":""}]
[{"$f":"IF(D953<>\"\",Data!A954,\"\")","v":""},{"$f":"IF(D953<>\"\",Data!B954,\"\")","v":""},"",{"$f":"IF(AND(Data!F954<>\"\",Data!F954 > 0),Data!F954,\"\")","v":""}]
[{"$f":"IF(D954<>\"\",Data!A955,\"\")","v":""},{"$f":"IF(D954<>\"\",Data!B955,\"\")","v":""},"",{"$f":"IF(AND(Data!F955<>\"\",Data!F955 > 0),Data!F955,\"\")","v":""}]
[{"$f":"IF(D955<>\"\",Data!A956,\"\")","v":""},{"$f":"IF(D955<>\"\",Data!B956,\"\")","v":""},"",{"$f":"IF(AND(Data!F956<>\"\",Data!F956 > 0),Data!F956,\"\")","v":""}]
[{"$f":"IF(D956<>\"\",Data!A957,\"\")","v":""},{"$f":"IF(D956<>\"\",Data!B957,\"\")","v":""},"",{"$f":"IF(AND(Data!F957<>\"\",Data!F957 > 0),Data!F957,\"\")","v":""}]
[{"$f":"IF(D957<>\"\",Data!A958,\"\")","v":""},{"$f":"IF(D957<>\"\",Data!B958,\"\")","v":""},"",{"$f":"IF(AND(Data!F958<>\"\",Data!F958 > 0),Data!F958,\"\")","v":""}]
[{"$f":"IF(D958<>\"\",Data!A959,\"\")","v":""},{"$f":"IF(D958<>\"\",Data!B959,\"\")","v":""},"",{"$f":"IF(AND(Data!F959<>\"\",Data!F959 > 0),Data!F959,\"\")","v":""}]
[{"$f":"IF(D959<>\"\",Data!A960,\"\")","v":""},{"$f":"IF(D959<>\"\",Data!B960,\"\")","v":""},"",{"$f":"IF(AND(Data!F960<>\"\",Data!F960 > 0),Data!F960,\"\")","v":""}]
[{"$f":"IF(D960<>\"\",Data!A961,\"\")","v":""},{"$f":"IF(D960<>\"\",Data!B961,\"\")","v":""},"",{"$f":"IF(AND(Data!F961<>\"\",Data!F961 > 0),Data!F961,\"\")","v":""}]
[{"$f":"IF(D961<>\"\",Data!A962,\"\")","v":""},{"$f":"IF(D961<>\"\",Data!B962,\"\")","v":""},"",{"$f":"IF(AND(Data!F962<>\"\",Data!F962 > 0),Data!F962,\"\")","v":""}]
[{"$f":"IF(D962<>\"\",Data!A963,\"\")","v":""},{"$f":"IF(D962<>\"\",Data!B963,\"\")","v":""},{"$f":"IF(D962<>\"\",MID(CELL(\"filename\",B962),FIND(\"]\",CELL(\"filename\",B962))+1,32),\"\")","v":""},{"$f":"IF(AND(Data!F963<>\"\",Data!F963 > 0),Data!F963,\"\")","v":""}]
[{"$f":"IF(D963<>\"\",Data!A964,\"\")","v":""},{"$f":"IF(D963<>\"\",Data!B964,\"\")","v":""},"",{"$f":"IF(AND(Data!F964<>\"\",Data!F964 > 0),Data!F964,\"\")","v":""}]
[{"$f":"IF(D964<>\"\",Data!A965,\"\")","v":""},{"$f":"IF(D964<>\"\",Data!B965,\"\")","v":""},"",{"$f":"IF(AND(Data!F965<>\"\",Data!F965 > 0),Data!F965,\"\")","v":""}]
[{"$f":"IF(D965<>\"\",Data!A966,\"\")","v":""},{"$f":"IF(D965<>\"\",Data!B966,\"\")","v":""},"",{"$f":"IF(AND(Data!F966<>\"\",Data!F966 > 0),Data!F966,\"\")","v":""}]
[{"$f":"IF(D966<>\"\",Data!A967,\"\")","v":""},{"$f":"IF(D966<>\"\",Data!B967,\"\")","v":""},"",{"$f":"IF(AND(Data!F967<>\"\",Data!F967 > 0),Data!F967,\"\")","v":""}]
[{"$f":"IF(D967<>\"\",Data!A968,\"\")","v":""},{"$f":"IF(D967<>\"\",Data!B968,\"\")","v":""},"",{"$f":"IF(AND(Data!F968<>\"\",Data!F968 > 0),Data!F968,\"\")","v":""}]
[{"$f":"IF(D968<>\"\",Data!A969,\"\")","v":""},{"$f":"IF(D968<>\"\",Data!B969,\"\")","v":""},"",{"$f":"IF(AND(Data!F969<>\"\",Data!F969 > 0),Data!F969,\"\")","v":""}]
[{"$f":"IF(D969<>\"\",Data!A970,\"\")","v":""},{"$f":"IF(D969<>\"\",Data!B970,\"\")","v":""},"",{"$f":"IF(AND(Data!F970<>\"\",Data!F970 > 0),Data!F970,\"\")","v":""}]
[{"$f":"IF(D970<>\"\",Data!A971,\"\")","v":""},{"$f":"IF(D970<>\"\",Data!B971,\"\")","v":""},"",{"$f":"IF(AND(Data!F971<>\"\",Data!F971 > 0),Data!F971,\"\")","v":""}]
[{"$f":"IF(D971<>\"\",Data!A972,\"\")","v":""},{"$f":"IF(D971<>\"\",Data!B972,\"\")","v":""},"",{"$f":"IF(AND(Data!F972<>\"\",Data!F972 > 0),Data!F972,\"\")","v":""}]
[{"$f":"IF(D972<>\"\",Data!A973,\"\")","v":""},{"$f":"IF(D972<>\"\",Data!B973,\"\")","v":""},"",{"$f":"IF(AND(Data!F973<>\"\",Data!F973 > 0),Data!F973,\"\")","v":""}]
[{"$f":"IF(D973<>\"\",Data!A974,\"\")","v":""},{"$f":"IF(D973<>\"\",Data!B974,\"\")","v":""},"",{"$f":"IF(AND(Data!F974<>\"\",Data!F974 > 0),Data!F974,\"\")","v":""}]
[{"$f":"IF(D974<>\"\",Data!A975,\"\")","v":""},{"$f":"IF(D974<>\"\",Data!B975,\"\")","v":""},"",{"$f":"IF(AND(Data!F975<>\"\",Data!F975 > 0),Data!F975,\"\")","v":""}]
[{"$f":"IF(D975<>\"\",Data!A976,\"\")","v":""},{"$f":"IF(D975<>\"\",Data!B976,\"\")","v":""},"",{"$f":"IF(AND(Data!F976<>\"\",Data!F976 > 0),Data!F976,\"\")","v":""}]
[{"$f":"IF(D976<>\"\",Data!A977,\"\")","v":""},{"$f":"IF(D976<>\"\",Data!B977,\"\")","v":""},"",{"$f":"IF(AND(Data!F977<>\"\",Data!F977 > 0),Data!F977,\"\")","v":""}]
[{"$f":"IF(D977<>\"\",Data!A978,\"\")","v":""},{"$f":"IF(D977<>\"\",Data!B978,\"\")","v":""},"",{"$f":"IF(AND(Data!F978<>\"\",Data!F978 > 0),Data!F978,\"\")","v":""}]
[{"$f":"IF(D978<>\"\",Data!A979,\"\")","v":""},{"$f":"IF(D978<>\"\",Data!B979,\"\")","v":""},"",{"$f":"IF(AND(Data!F979<>\"\",Data!F979 > 0),Data!F979,\"\")","v":""}]
[{"$f":"IF(D979<>\"\",Data!A980,\"\")","v":""},{"$f":"IF(D979<>\"\",Data!B980,\"\")","v":""},"",{"$f":"IF(AND(Data!F980<>\"\",Data!F980 > 0),Data!F980,\"\")","v":""}]
[{"$f":"IF(D980<>\"\",Data!A981,\"\")","v":""},{"$f":"IF(D980<>\"\",Data!B981,\"\")","v":""},"",{"$f":"IF(AND(Data!F981<>\"\",Data!F981 > 0),Data!F981,\"\")","v":""}]
[{"$f":"IF(D981<>\"\",Data!A982,\"\")","v":""},{"$f":"IF(D981<>\"\",Data!B982,\"\")","v":""},"",{"$f":"IF(AND(Data!F982<>\"\",Data!F982 > 0),Data!F982,\"\")","v":""}]
[{"$f":"IF(D982<>\"\",Data!A983,\"\")","v":""},{"$f":"IF(D982<>\"\",Data!B983,\"\")","v":""},"",{"$f":"IF(AND(Data!F983<>\"\",Data!F983 > 0),Data!F983,\"\")","v":""}]
[{"$f":"IF(D983<>\"\",Data!A984,\"\")","v":""},{"$f":"IF(D983<>\"\",Data!B984,\"\")","v":""},"",{"$f":"IF(AND(Data!F984<>\"\",Data!F984 > 0),Data!F984,\"\")","v":""}]
[{"$f":"IF(D984<>\"\",Data!A985,\"\")","v":""},{"$f":"IF(D984<>\"\",Data!B985,\"\")","v":""},"",{"$f":"IF(AND(Data!F985<>\"\",Data!F985 > 0),Data!F985,\"\")","v":""}]
[{"$f":"IF(D985<>\"\",Data!A986,\"\")","v":""},{"$f":"IF(D985<>\"\",Data!B986,\"\")","v":""},"",{"$f":"IF(AND(Data!F986<>\"\",Data!F986 > 0),Data!F986,\"\")","v":""}]
[{"$f":"IF(D986<>\"\",Data!A987,\"\")","v":""},{"$f":"IF(D986<>\"\",Data!B987,\"\")","v":""},"",{"$f":"IF(AND(Data!F987<>\"\",Data!F987 > 0),Data!F987,\"\")","v":""}]
[{"$f":"IF(D987<>\"\",Data!A988,\"\")","v":""},{"$f":"IF(D987<>\"\",Data!B988,\"\")","v":""},"",{"$f":"IF(AND(Data!F988<>\"\",Data!F988 > 0),Data!F988,\"\")","v":""}]
[{"$f":"IF(D988<>\"\",Data!A989,\"\")","v":""},{"$f":"IF(D988<>\"\",Data!B989,\"\")","v":""},"",{"$f":"IF(AND(Data!F989<>\"\",Data!F989 > 0),Data!F989,\"\")","v":""}]
[{"$f":"IF(D989<>\"\",Data!A990,\"\")","v":""},{"$f":"IF(D989<>\"\",Data!B990,\"\")","v":""},"",{"$f":"IF(AND(Data!F990<>\"\",Data!F990 > 0),Data!F990,\"\")","v":""}]
[{"$f":"IF(D990<>\"\",Data!A991,\"\")","v":""},{"$f":"IF(D990<>\"\",Data!B991,\"\")","v":""},"",{"$f":"IF(AND(Data!F991<>\"\",Data!F991 > 0),Data!F991,\"\")","v":""}]
[{"$f":"IF(D991<>\"\",Data!A992,\"\")","v":""},{"$f":"IF(D991<>\"\",Data!B992,\"\")","v":""},"",{"$f":"IF(AND(Data!F992<>\"\",Data!F992 > 0),Data!F992,\"\")","v":""}]
[{"$f":"IF(D992<>\"\",Data!A993,\"\")","v":""},{"$f":"IF(D992<>\"\",Data!B993,\"\")","v":""},"",{"$f":"IF(AND(Data!F993<>\"\",Data!F993 > 0),Data!F993,\"\")","v":""}]
[{"$f":"IF(D993<>\"\",Data!A994,\"\")","v":""},{"$f":"IF(D993<>\"\",Data!B994,\"\")","v":""},"",{"$f":"IF(AND(Data!F994<>\"\",Data!F994 > 0),Data!F994,\"\")","v":""}]
[{"$f":"IF(D994<>\"\",Data!A995,\"\")","v":""},{"$f":"IF(D994<>\"\",Data!B995,\"\")","v":""},"",{"$f":"IF(AND(Data!F995<>\"\",Data!F995 > 0),Data!F995,\"\")","v":""}]
[{"$f":"IF(D995<>\"\",Data!A996,\"\")","v":""},{"$f":"IF(D995<>\"\",Data!B996,\"\")","v":""},"",{"$f":"IF(AND(Data!F996<>\"\",Data!F996 > 0),Data!F996,\"\")","v":""}]
[{"$f":"IF(D996<>\"\",Data!A997,\"\")","v":""},{"$f":"IF(D996<>\"\",Data!B997,\"\")","v":""},"",{"$f":"IF(AND(Data!F997<>\"\",Data!F997 > 0),Data!F997,\"\")","v":""}]
[{"$f":"IF(D997<>\"\",Data!A998,\"\")","v":""},{"$f":"IF(D997<>\"\",Data!B998,\"\")","v":""},"",{"$f":"IF(AND(Data!F998<>\"\",Data!F998 > 0),Data!F998,\"\")","v":""}]
[{"$f":"IF(D998<>\"\",Data!A999,\"\")","v":""},{"$f":"IF(D998<>\"\",Data!B999,\"\")","v":""},"",{"$f":"IF(AND(Data!F999<>\"\",Data!F999 > 0),Data!F999,\"\")","v":""}]
[{"$f":"IF(D999<>\"\",Data!A1000,\"\")","v":""},{"$f":"IF(D999<>\"\",Data!B1000,\"\")","v":""},"",{"$f":"IF(AND(Data!F1000<>\"\",Data!F1000 > 0),Data!F1000,\"\")","v":""}]
[{"$f":"IF(D1000<>\"\",Data!A1001,\"\")","v":""},{"$f":"IF(D1000<>\"\",Data!B1001,\"\")","v":""},"",{"$f":"IF(AND(Data!F1001<>\"\",Data!F1001 > 0),Data!F1001,\"\")","v":""}]

{"sheet":"Meal Allowance","index":6,"n_rows":1000,"n_cols":4,"rows_kept":1000,"cut":false,"hidden":false,"merged":[]}
[{"$f":"IF(D1<>\"\",Data!A2,\"\")","v":""},{"$f":"IF(D1<>\"\",Data!B2,\"\")","v":""},{"$f":"IF(D1<>\"\",MID(CELL(\"filename\",B1),FIND(\"]\",CELL(\"filename\",B1))+1,32),\"\")","v":""},{"$f":"IF(AND(Data!G2<>\"\",Data!G2 > 0),Data!G2,\"\")","v":""}]
[{"$f":"IF(D2<>\"\",Data!A3,\"\")","v":""},{"$f":"IF(D2<>\"\",Data!B3,\"\")","v":""},{"$f":"IF(D2<>\"\",MID(CELL(\"filename\",B2),FIND(\"]\",CELL(\"filename\",B2))+1,32),\"\")","v":""},{"$f":"IF(AND(Data!G3<>\"\",Data!G3 > 0),Data!G3,\"\")","v":""}]
[{"$f":"IF(D3<>\"\",Data!A4,\"\")","v":"John Smith"},{"$f":"IF(D3<>\"\",Data!B4,\"\")","v":"2023-05-03"},"Meal Allowance",{"$f":"IF(AND(Data!G4<>\"\",Data!G4 > 0),Data!G4,\"\")","v":1}]
[{"$f":"IF(D4<>\"\",Data!A5,\"\")","v":""},{"$f":"IF(D4<>\"\",Data!B5,\"\")","v":""},"",{"$f":"IF(AND(Data!G5<>\"\",Data!G5 > 0),Data!G5,\"\")","v":""}]
[{"$f":"IF(D5<>\"\",Data!A6,\"\")","v":""},{"$f":"IF(D5<>\"\",Data!B6,\"\")","v":""},"",{"$f":"IF(AND(Data!G6<>\"\",Data!G6 > 0),Data!G6,\"\")","v":""}]
[{"$f":"IF(D6<>\"\",Data!A7,\"\")","v":""},{"$f":"IF(D6<>\"\",Data!B7,\"\")","v":""},"",{"$f":"IF(AND(Data!G7<>\"\",Data!G7 > 0),Data!G7,\"\")","v":""}]
[{"$f":"IF(D7<>\"\",Data!A8,\"\")","v":""},{"$f":"IF(D7<>\"\",Data!B8,\"\")","v":""},"",{"$f":"IF(AND(Data!G8<>\"\",Data!G8 > 0),Data!G8,\"\")","v":""}]
[{"$f":"IF(D8<>\"\",Data!A9,\"\")","v":""},{"$f":"IF(D8<>\"\",Data!B9,\"\")","v":""},"",{"$f":"IF(AND(Data!G9<>\"\",Data!G9 > 0),Data!G9,\"\")","v":""}]
[{"$f":"IF(D9<>\"\",Data!A10,\"\")","v":""},{"$f":"IF(D9<>\"\",Data!B10,\"\")","v":""},"",{"$f":"IF(AND(Data!G10<>\"\",Data!G10 > 0),Data!G10,\"\")","v":""}]
[{"$f":"IF(D10<>\"\",Data!A11,\"\")","v":"Jane Jones"},{"$f":"IF(D10<>\"\",Data!B11,\"\")","v":"2023-05-03"},"Meal Allowance",{"$f":"IF(AND(Data!G11<>\"\",Data!G11 > 0),Data!G11,\"\")","v":1}]
[{"$f":"IF(D11<>\"\",Data!A12,\"\")","v":""},{"$f":"IF(D11<>\"\",Data!B12,\"\")","v":""},"",{"$f":"IF(AND(Data!G12<>\"\",Data!G12 > 0),Data!G12,\"\")","v":""}]
[{"$f":"IF(D12<>\"\",Data!A13,\"\")","v":""},{"$f":"IF(D12<>\"\",Data!B13,\"\")","v":""},"",{"$f":"IF(AND(Data!G13<>\"\",Data!G13 > 0),Data!G13,\"\")","v":""}]
[{"$f":"IF(D13<>\"\",Data!A14,\"\")","v":""},{"$f":"IF(D13<>\"\",Data!B14,\"\")","v":""},"",{"$f":"IF(AND(Data!G14<>\"\",Data!G14 > 0),Data!G14,\"\")","v":""}]
[{"$f":"IF(D14<>\"\",Data!A15,\"\")","v":""},{"$f":"IF(D14<>\"\",Data!B15,\"\")","v":""},"",{"$f":"IF(AND(Data!G15<>\"\",Data!G15 > 0),Data!G15,\"\")","v":""}]
[{"$f":"IF(D15<>\"\",Data!A16,\"\")","v":""},{"$f":"IF(D15<>\"\",Data!B16,\"\")","v":""},"",{"$f":"IF(AND(Data!G16<>\"\",Data!G16 > 0),Data!G16,\"\")","v":""}]
[{"$f":"IF(D16<>\"\",Data!A17,\"\")","v":""},{"$f":"IF(D16<>\"\",Data!B17,\"\")","v":""},"",{"$f":"IF(AND(Data!G17<>\"\",Data!G17 > 0),Data!G17,\"\")","v":""}]
[{"$f":"IF(D17<>\"\",Data!A18,\"\")","v":""},{"$f":"IF(D17<>\"\",Data!B18,\"\")","v":""},"",{"$f":"IF(AND(Data!G18<>\"\",Data!G18 > 0),Data!G18,\"\")","v":""}]
[{"$f":"IF(D18<>\"\",Data!A19,\"\")","v":""},{"$f":"IF(D18<>\"\",Data!B19,\"\")","v":""},"",{"$f":"IF(AND(Data!G19<>\"\",Data!G19 > 0),Data!G19,\"\")","v":""}]
[{"$f":"IF(D19<>\"\",Data!A20,\"\")","v":""},{"$f":"IF(D19<>\"\",Data!B20,\"\")","v":""},"",{"$f":"IF(AND(Data!G20<>\"\",Data!G20 > 0),Data!G20,\"\")","v":""}]
[{"$f":"IF(D20<>\"\",Data!A21,\"\")","v":""},{"$f":"IF(D20<>\"\",Data!B21,\"\")","v":""},"",{"$f":"IF(AND(Data!G21<>\"\",Data!G21 > 0),Data!G21,\"\")","v":""}]
[{"$f":"IF(D21<>\"\",Data!A22,\"\")","v":""},{"$f":"IF(D21<>\"\",Data!B22,\"\")","v":""},"",{"$f":"IF(AND(Data!G22<>\"\",Data!G22 > 0),Data!G22,\"\")","v":""}]
[{"$f":"IF(D22<>\"\",Data!A23,\"\")","v":""},{"$f":"IF(D22<>\"\",Data!B23,\"\")","v":""},"",{"$f":"IF(AND(Data!G23<>\"\",Data!G23 > 0),Data!G23,\"\")","v":""}]
[{"$f":"IF(D23<>\"\",Data!A24,\"\")","v":""},{"$f":"IF(D23<>\"\",Data!B24,\"\")","v":""},"",{"$f":"IF(AND(Data!G24<>\"\",Data!G24 > 0),Data!G24,\"\")","v":""}]
[{"$f":"IF(D24<>\"\",Data!A25,\"\")","v":""},{"$f":"IF(D24<>\"\",Data!B25,\"\")","v":""},"",{"$f":"IF(AND(Data!G25<>\"\",Data!G25 > 0),Data!G25,\"\")","v":""}]
[{"$f":"IF(D25<>\"\",Data!A26,\"\")","v":""},{"$f":"IF(D25<>\"\",Data!B26,\"\")","v":""},"",{"$f":"IF(AND(Data!G26<>\"\",Data!G26 > 0),Data!G26,\"\")","v":""}]
[{"$f":"IF(D26<>\"\",Data!A27,\"\")","v":""},{"$f":"IF(D26<>\"\",Data!B27,\"\")","v":""},"",{"$f":"IF(AND(Data!G27<>\"\",Data!G27 > 0),Data!G27,\"\")","v":""}]
[{"$f":"IF(D27<>\"\",Data!A28,\"\")","v":""},{"$f":"IF(D27<>\"\",Data!B28,\"\")","v":""},"",{"$f":"IF(AND(Data!G28<>\"\",Data!G28 > 0),Data!G28,\"\")","v":""}]
[{"$f":"IF(D28<>\"\",Data!A29,\"\")","v":""},{"$f":"IF(D28<>\"\",Data!B29,\"\")","v":""},"",{"$f":"IF(AND(Data!G29<>\"\",Data!G29 > 0),Data!G29,\"\")","v":""}]
[{"$f":"IF(D29<>\"\",Data!A30,\"\")","v":""},{"$f":"IF(D29<>\"\",Data!B30,\"\")","v":""},"",{"$f":"IF(AND(Data!G30<>\"\",Data!G30 > 0),Data!G30,\"\")","v":""}]
[{"$f":"IF(D30<>\"\",Data!A31,\"\")","v":""},{"$f":"IF(D30<>\"\",Data!B31,\"\")","v":""},"",{"$f":"IF(AND(Data!G31<>\"\",Data!G31 > 0),Data!G31,\"\")","v":""}]
[{"$f":"IF(D31<>\"\",Data!A32,\"\")","v":""},{"$f":"IF(D31<>\"\",Data!B32,\"\")","v":""},"",{"$f":"IF(AND(Data!G32<>\"\",Data!G32 > 0),Data!G32,\"\")","v":""}]
[{"$f":"IF(D32<>\"\",Data!A33,\"\")","v":""},{"$f":"IF(D32<>\"\",Data!B33,\"\")","v":""},"",{"$f":"IF(AND(Data!G33<>\"\",Data!G33 > 0),Data!G33,\"\")","v":""}]
[{"$f":"IF(D33<>\"\",Data!A34,\"\")","v":""},{"$f":"IF(D33<>\"\",Data!B34,\"\")","v":""},"",{"$f":"IF(AND(Data!G34<>\"\",Data!G34 > 0),Data!G34,\"\")","v":""}]
[{"$f":"IF(D34<>\"\",Data!A35,\"\")","v":""},{"$f":"IF(D34<>\"\",Data!B35,\"\")","v":""},"",{"$f":"IF(AND(Data!G35<>\"\",Data!G35 > 0),Data!G35,\"\")","v":""}]
[{"$f":"IF(D35<>\"\",Data!A36,\"\")","v":""},{"$f":"IF(D35<>\"\",Data!B36,\"\")","v":""},"",{"$f":"IF(AND(Data!G36<>\"\",Data!G36 > 0),Data!G36,\"\")","v":""}]
[{"$f":"IF(D36<>\"\",Data!A37,\"\")","v":""},{"$f":"IF(D36<>\"\",Data!B37,\"\")","v":""},"",{"$f":"IF(AND(Data!G37<>\"\",Data!G37 > 0),Data!G37,\"\")","v":""}]
[{"$f":"IF(D37<>\"\",Data!A38,\"\")","v":""},{"$f":"IF(D37<>\"\",Data!B38,\"\")","v":""},"",{"$f":"IF(AND(Data!G38<>\"\",Data!G38 > 0),Data!G38,\"\")","v":""}]
[{"$f":"IF(D38<>\"\",Data!A39,\"\")","v":""},{"$f":"IF(D38<>\"\",Data!B39,\"\")","v":""},"",{"$f":"IF(AND(Data!G39<>\"\",Data!G39 > 0),Data!G39,\"\")","v":""}]
[{"$f":"IF(D39<>\"\",Data!A40,\"\")","v":""},{"$f":"IF(D39<>\"\",Data!B40,\"\")","v":""},"",{"$f":"IF(AND(Data!G40<>\"\",Data!G40 > 0),Data!G40,\"\")","v":""}]
[{"$f":"IF(D40<>\"\",Data!A41,\"\")","v":""},{"$f":"IF(D40<>\"\",Data!B41,\"\")","v":""},"",{"$f":"IF(AND(Data!G41<>\"\",Data!G41 > 0),Data!G41,\"\")","v":""}]
[{"$f":"IF(D41<>\"\",Data!A42,\"\")","v":""},{"$f":"IF(D41<>\"\",Data!B42,\"\")","v":""},"",{"$f":"IF(AND(Data!G42<>\"\",Data!G42 > 0),Data!G42,\"\")","v":""}]
[{"$f":"IF(D42<>\"\",Data!A43,\"\")","v":""},{"$f":"IF(D42<>\"\",Data!B43,\"\")","v":""},"",{"$f":"IF(AND(Data!G43<>\"\",Data!G43 > 0),Data!G43,\"\")","v":""}]
[{"$f":"IF(D43<>\"\",Data!A44,\"\")","v":""},{"$f":"IF(D43<>\"\",Data!B44,\"\")","v":""},"",{"$f":"IF(AND(Data!G44<>\"\",Data!G44 > 0),Data!G44,\"\")","v":""}]
[{"$f":"IF(D44<>\"\",Data!A45,\"\")","v":""},{"$f":"IF(D44<>\"\",Data!B45,\"\")","v":""},"",{"$f":"IF(AND(Data!G45<>\"\",Data!G45 > 0),Data!G45,\"\")","v":""}]
[{"$f":"IF(D45<>\"\",Data!A46,\"\")","v":""},{"$f":"IF(D45<>\"\",Data!B46,\"\")","v":""},"",{"$f":"IF(AND(Data!G46<>\"\",Data!G46 > 0),Data!G46,\"\")","v":""}]
[{"$f":"IF(D46<>\"\",Data!A47,\"\")","v":""},{"$f":"IF(D46<>\"\",Data!B47,\"\")","v":""},"",{"$f":"IF(AND(Data!G47<>\"\",Data!G47 > 0),Data!G47,\"\")","v":""}]
[{"$f":"IF(D47<>\"\",Data!A48,\"\")","v":""},{"$f":"IF(D47<>\"\",Data!B48,\"\")","v":""},"",{"$f":"IF(AND(Data!G48<>\"\",Data!G48 > 0),Data!G48,\"\")","v":""}]
[{"$f":"IF(D48<>\"\",Data!A49,\"\")","v":""},{"$f":"IF(D48<>\"\",Data!B49,\"\")","v":""},"",{"$f":"IF(AND(Data!G49<>\"\",Data!G49 > 0),Data!G49,\"\")","v":""}]
[{"$f":"IF(D49<>\"\",Data!A50,\"\")","v":""},{"$f":"IF(D49<>\"\",Data!B50,\"\")","v":""},"",{"$f":"IF(AND(Data!G50<>\"\",Data!G50 > 0),Data!G50,\"\")","v":""}]
[{"$f":"IF(D50<>\"\",Data!A51,\"\")","v":""},{"$f":"IF(D50<>\"\",Data!B51,\"\")","v":""},"",{"$f":"IF(AND(Data!G51<>\"\",Data!G51 > 0),Data!G51,\"\")","v":""}]
[{"$f":"IF(D51<>\"\",Data!A52,\"\")","v":""},{"$f":"IF(D51<>\"\",Data!B52,\"\")","v":""},"",{"$f":"IF(AND(Data!G52<>\"\",Data!G52 > 0),Data!G52,\"\")","v":""}]
[{"$f":"IF(D52<>\"\",Data!A53,\"\")","v":""},{"$f":"IF(D52<>\"\",Data!B53,\"\")","v":""},"",{"$f":"IF(AND(Data!G53<>\"\",Data!G53 > 0),Data!G53,\"\")","v":""}]
[{"$f":"IF(D53<>\"\",Data!A54,\"\")","v":""},{"$f":"IF(D53<>\"\",Data!B54,\"\")","v":""},"",{"$f":"IF(AND(Data!G54<>\"\",Data!G54 > 0),Data!G54,\"\")","v":""}]
[{"$f":"IF(D54<>\"\",Data!A55,\"\")","v":""},{"$f":"IF(D54<>\"\",Data!B55,\"\")","v":""},"",{"$f":"IF(AND(Data!G55<>\"\",Data!G55 > 0),Data!G55,\"\")","v":""}]
[{"$f":"IF(D55<>\"\",Data!A56,\"\")","v":""},{"$f":"IF(D55<>\"\",Data!B56,\"\")","v":""},"",{"$f":"IF(AND(Data!G56<>\"\",Data!G56 > 0),Data!G56,\"\")","v":""}]
[{"$f":"IF(D56<>\"\",Data!A57,\"\")","v":""},{"$f":"IF(D56<>\"\",Data!B57,\"\")","v":""},"",{"$f":"IF(AND(Data!G57<>\"\",Data!G57 > 0),Data!G57,\"\")","v":""}]
[{"$f":"IF(D57<>\"\",Data!A58,\"\")","v":""},{"$f":"IF(D57<>\"\",Data!B58,\"\")","v":""},"",{"$f":"IF(AND(Data!G58<>\"\",Data!G58 > 0),Data!G58,\"\")","v":""}]
[{"$f":"IF(D58<>\"\",Data!A59,\"\")","v":""},{"$f":"IF(D58<>\"\",Data!B59,\"\")","v":""},"",{"$f":"IF(AND(Data!G59<>\"\",Data!G59 > 0),Data!G59,\"\")","v":""}]
[{"$f":"IF(D59<>\"\",Data!A60,\"\")","v":""},{"$f":"IF(D59<>\"\",Data!B60,\"\")","v":""},"",{"$f":"IF(AND(Data!G60<>\"\",Data!G60 > 0),Data!G60,\"\")","v":""}]
[{"$f":"IF(D60<>\"\",Data!A61,\"\")","v":""},{"$f":"IF(D60<>\"\",Data!B61,\"\")","v":""},"",{"$f":"IF(AND(Data!G61<>\"\",Data!G61 > 0),Data!G61,\"\")","v":""}]
[{"$f":"IF(D61<>\"\",Data!A62,\"\")","v":""},{"$f":"IF(D61<>\"\",Data!B62,\"\")","v":""},"",{"$f":"IF(AND(Data!G62<>\"\",Data!G62 > 0),Data!G62,\"\")","v":""}]
[{"$f":"IF(D62<>\"\",Data!A63,\"\")","v":""},{"$f":"IF(D62<>\"\",Data!B63,\"\")","v":""},"",{"$f":"IF(AND(Data!G63<>\"\",Data!G63 > 0),Data!G63,\"\")","v":""}]
[{"$f":"IF(D63<>\"\",Data!A64,\"\")","v":""},{"$f":"IF(D63<>\"\",Data!B64,\"\")","v":""},"",{"$f":"IF(AND(Data!G64<>\"\",Data!G64 > 0),Data!G64,\"\")","v":""}]
[{"$f":"IF(D64<>\"\",Data!A65,\"\")","v":""},{"$f":"IF(D64<>\"\",Data!B65,\"\")","v":""},"",{"$f":"IF(AND(Data!G65<>\"\",Data!G65 > 0),Data!G65,\"\")","v":""}]
[{"$f":"IF(D65<>\"\",Data!A66,\"\")","v":""},{"$f":"IF(D65<>\"\",Data!B66,\"\")","v":""},"",{"$f":"IF(AND(Data!G66<>\"\",Data!G66 > 0),Data!G66,\"\")","v":""}]
[{"$f":"IF(D66<>\"\",Data!A67,\"\")","v":""},{"$f":"IF(D66<>\"\",Data!B67,\"\")","v":""},{"$f":"IF(D66<>\"\",MID(CELL(\"filename\",B66),FIND(\"]\",CELL(\"filename\",B66))+1,32),\"\")","v":""},{"$f":"IF(AND(Data!G67<>\"\",Data!G67 > 0),Data!G67,\"\")","v":""}]
[{"$f":"IF(D67<>\"\",Data!A68,\"\")","v":""},{"$f":"IF(D67<>\"\",Data!B68,\"\")","v":""},"",{"$f":"IF(AND(Data!G68<>\"\",Data!G68 > 0),Data!G68,\"\")","v":""}]
[{"$f":"IF(D68<>\"\",Data!A69,\"\")","v":""},{"$f":"IF(D68<>\"\",Data!B69,\"\")","v":""},"",{"$f":"IF(AND(Data!G69<>\"\",Data!G69 > 0),Data!G69,\"\")","v":""}]
[{"$f":"IF(D69<>\"\",Data!A70,\"\")","v":""},{"$f":"IF(D69<>\"\",Data!B70,\"\")","v":""},"",{"$f":"IF(AND(Data!G70<>\"\",Data!G70 > 0),Data!G70,\"\")","v":""}]
[{"$f":"IF(D70<>\"\",Data!A71,\"\")","v":""},{"$f":"IF(D70<>\"\",Data!B71,\"\")","v":""},"",{"$f":"IF(AND(Data!G71<>\"\",Data!G71 > 0),Data!G71,\"\")","v":""}]
[{"$f":"IF(D71<>\"\",Data!A72,\"\")","v":""},{"$f":"IF(D71<>\"\",Data!B72,\"\")","v":""},"",{"$f":"IF(AND(Data!G72<>\"\",Data!G72 > 0),Data!G72,\"\")","v":""}]
[{"$f":"IF(D72<>\"\",Data!A73,\"\")","v":""},{"$f":"IF(D72<>\"\",Data!B73,\"\")","v":""},"",{"$f":"IF(AND(Data!G73<>\"\",Data!G73 > 0),Data!G73,\"\")","v":""}]
[{"$f":"IF(D73<>\"\",Data!A74,\"\")","v":""},{"$f":"IF(D73<>\"\",Data!B74,\"\")","v":""},"",{"$f":"IF(AND(Data!G74<>\"\",Data!G74 > 0),Data!G74,\"\")","v":""}]
[{"$f":"IF(D74<>\"\",Data!A75,\"\")","v":""},{"$f":"IF(D74<>\"\",Data!B75,\"\")","v":""},"",{"$f":"IF(AND(Data!G75<>\"\",Data!G75 > 0),Data!G75,\"\")","v":""}]
[{"$f":"IF(D75<>\"\",Data!A76,\"\")","v":""},{"$f":"IF(D75<>\"\",Data!B76,\"\")","v":""},"",{"$f":"IF(AND(Data!G76<>\"\",Data!G76 > 0),Data!G76,\"\")","v":""}]
[{"$f":"IF(D76<>\"\",Data!A77,\"\")","v":""},{"$f":"IF(D76<>\"\",Data!B77,\"\")","v":""},"",{"$f":"IF(AND(Data!G77<>\"\",Data!G77 > 0),Data!G77,\"\")","v":""}]
[{"$f":"IF(D77<>\"\",Data!A78,\"\")","v":""},{"$f":"IF(D77<>\"\",Data!B78,\"\")","v":""},"",{"$f":"IF(AND(Data!G78<>\"\",Data!G78 > 0),Data!G78,\"\")","v":""}]
[{"$f":"IF(D78<>\"\",Data!A79,\"\")","v":""},{"$f":"IF(D78<>\"\",Data!B79,\"\")","v":""},"",{"$f":"IF(AND(Data!G79<>\"\",Data!G79 > 0),Data!G79,\"\")","v":""}]
[{"$f":"IF(D79<>\"\",Data!A80,\"\")","v":""},{"$f":"IF(D79<>\"\",Data!B80,\"\")","v":""},"",{"$f":"IF(AND(Data!G80<>\"\",Data!G80 > 0),Data!G80,\"\")","v":""}]
[{"$f":"IF(D80<>\"\",Data!A81,\"\")","v":""},{"$f":"IF(D80<>\"\",Data!B81,\"\")","v":""},"",{"$f":"IF(AND(Data!G81<>\"\",Data!G81 > 0),Data!G81,\"\")","v":""}]
[{"$f":"IF(D81<>\"\",Data!A82,\"\")","v":""},{"$f":"IF(D81<>\"\",Data!B82,\"\")","v":""},"",{"$f":"IF(AND(Data!G82<>\"\",Data!G82 > 0),Data!G82,\"\")","v":""}]
[{"$f":"IF(D82<>\"\",Data!A83,\"\")","v":""},{"$f":"IF(D82<>\"\",Data!B83,\"\")","v":""},"",{"$f":"IF(AND(Data!G83<>\"\",Data!G83 > 0),Data!G83,\"\")","v":""}]
[{"$f":"IF(D83<>\"\",Data!A84,\"\")","v":""},{"$f":"IF(D83<>\"\",Data!B84,\"\")","v":""},"",{"$f":"IF(AND(Data!G84<>\"\",Data!G84 > 0),Data!G84,\"\")","v":""}]
[{"$f":"IF(D84<>\"\",Data!A85,\"\")","v":""},{"$f":"IF(D84<>\"\",Data!B85,\"\")","v":""},"",{"$f":"IF(AND(Data!G85<>\"\",Data!G85 > 0),Data!G85,\"\")","v":""}]
[{"$f":"IF(D85<>\"\",Data!A86,\"\")","v":""},{"$f":"IF(D85<>\"\",Data!B86,\"\")","v":""},"",{"$f":"IF(AND(Data!G86<>\"\",Data!G86 > 0),Data!G86,\"\")","v":""}]
[{"$f":"IF(D86<>\"\",Data!A87,\"\")","v":""},{"$f":"IF(D86<>\"\",Data!B87,\"\")","v":""},"",{"$f":"IF(AND(Data!G87<>\"\",Data!G87 > 0),Data!G87,\"\")","v":""}]
[{"$f":"IF(D87<>\"\",Data!A88,\"\")","v":""},{"$f":"IF(D87<>\"\",Data!B88,\"\")","v":""},"",{"$f":"IF(AND(Data!G88<>\"\",Data!G88 > 0),Data!G88,\"\")","v":""}]
[{"$f":"IF(D88<>\"\",Data!A89,\"\")","v":""},{"$f":"IF(D88<>\"\",Data!B89,\"\")","v":""},"",{"$f":"IF(AND(Data!G89<>\"\",Data!G89 > 0),Data!G89,\"\")","v":""}]
[{"$f":"IF(D89<>\"\",Data!A90,\"\")","v":""},{"$f":"IF(D89<>\"\",Data!B90,\"\")","v":""},"",{"$f":"IF(AND(Data!G90<>\"\",Data!G90 > 0),Data!G90,\"\")","v":""}]
[{"$f":"IF(D90<>\"\",Data!A91,\"\")","v":""},{"$f":"IF(D90<>\"\",Data!B91,\"\")","v":""},"",{"$f":"IF(AND(Data!G91<>\"\",Data!G91 > 0),Data!G91,\"\")","v":""}]
[{"$f":"IF(D91<>\"\",Data!A92,\"\")","v":""},{"$f":"IF(D91<>\"\",Data!B92,\"\")","v":""},"",{"$f":"IF(AND(Data!G92<>\"\",Data!G92 > 0),Data!G92,\"\")","v":""}]
[{"$f":"IF(D92<>\"\",Data!A93,\"\")","v":""},{"$f":"IF(D92<>\"\",Data!B93,\"\")","v":""},"",{"$f":"IF(AND(Data!G93<>\"\",Data!G93 > 0),Data!G93,\"\")","v":""}]
[{"$f":"IF(D93<>\"\",Data!A94,\"\")","v":""},{"$f":"IF(D93<>\"\",Data!B94,\"\")","v":""},"",{"$f":"IF(AND(Data!G94<>\"\",Data!G94 > 0),Data!G94,\"\")","v":""}]
[{"$f":"IF(D94<>\"\",Data!A95,\"\")","v":""},{"$f":"IF(D94<>\"\",Data!B95,\"\")","v":""},"",{"$f":"IF(AND(Data!G95<>\"\",Data!G95 > 0),Data!G95,\"\")","v":""}]
[{"$f":"IF(D95<>\"\",Data!A96,\"\")","v":""},{"$f":"IF(D95<>\"\",Data!B96,\"\")","v":""},"",{"$f":"IF(AND(Data!G96<>\"\",Data!G96 > 0),Data!G96,\"\")","v":""}]
[{"$f":"IF(D96<>\"\",Data!A97,\"\")","v":""},{"$f":"IF(D96<>\"\",Data!B97,\"\")","v":""},"",{"$f":"IF(AND(Data!G97<>\"\",Data!G97 > 0),Data!G97,\"\")","v":""}]
[{"$f":"IF(D97<>\"\",Data!A98,\"\")","v":""},{"$f":"IF(D97<>\"\",Data!B98,\"\")","v":""},"",{"$f":"IF(AND(Data!G98<>\"\",Data!G98 > 0),Data!G98,\"\")","v":""}]
[{"$f":"IF(D98<>\"\",Data!A99,\"\")","v":""},{"$f":"IF(D98<>\"\",Data!B99,\"\")","v":""},"",{"$f":"IF(AND(Data!G99<>\"\",Data!G99 > 0),Data!G99,\"\")","v":""}]
[{"$f":"IF(D99<>\"\",Data!A100,\"\")","v":""},{"$f":"IF(D99<>\"\",Data!B100,\"\")","v":""},"",{"$f":"IF(AND(Data!G100<>\"\",Data!G100 > 0),Data!G100,\"\")","v":""}]
[{"$f":"IF(D100<>\"\",Data!A101,\"\")","v":""},{"$f":"IF(D100<>\"\",Data!B101,\"\")","v":""},"",{"$f":"IF(AND(Data!G101<>\"\",Data!G101 > 0),Data!G101,\"\")","v":""}]
[{"$f":"IF(D101<>\"\",Data!A102,\"\")","v":""},{"$f":"IF(D101<>\"\",Data!B102,\"\")","v":""},""]
[{"$f":"IF(D102<>\"\",Data!A103,\"\")","v":""},{"$f":"IF(D102<>\"\",Data!B103,\"\")","v":""},""]
[{"$f":"IF(D103<>\"\",Data!A104,\"\")","v":""},{"$f":"IF(D103<>\"\",Data!B104,\"\")","v":""},""]
[{"$f":"IF(D104<>\"\",Data!A105,\"\")","v":""},{"$f":"IF(D104<>\"\",Data!B105,\"\")","v":""},""]
[{"$f":"IF(D105<>\"\",Data!A106,\"\")","v":""},{"$f":"IF(D105<>\"\",Data!B106,\"\")","v":""},""]
[{"$f":"IF(D106<>\"\",Data!A107,\"\")","v":""},{"$f":"IF(D106<>\"\",Data!B107,\"\")","v":""},""]
[{"$f":"IF(D107<>\"\",Data!A108,\"\")","v":""},{"$f":"IF(D107<>\"\",Data!B108,\"\")","v":""},""]
[{"$f":"IF(D108<>\"\",Data!A109,\"\")","v":""},{"$f":"IF(D108<>\"\",Data!B109,\"\")","v":""},""]
[{"$f":"IF(D109<>\"\",Data!A110,\"\")","v":""},{"$f":"IF(D109<>\"\",Data!B110,\"\")","v":""},""]
[{"$f":"IF(D110<>\"\",Data!A111,\"\")","v":""},{"$f":"IF(D110<>\"\",Data!B111,\"\")","v":""},""]
[{"$f":"IF(D111<>\"\",Data!A112,\"\")","v":""},{"$f":"IF(D111<>\"\",Data!B112,\"\")","v":""},""]
[{"$f":"IF(D112<>\"\",Data!A113,\"\")","v":""},{"$f":"IF(D112<>\"\",Data!B113,\"\")","v":""},""]
[{"$f":"IF(D113<>\"\",Data!A114,\"\")","v":""},{"$f":"IF(D113<>\"\",Data!B114,\"\")","v":""},""]
[{"$f":"IF(D114<>\"\",Data!A115,\"\")","v":""},{"$f":"IF(D114<>\"\",Data!B115,\"\")","v":""},""]
[{"$f":"IF(D115<>\"\",Data!A116,\"\")","v":""},{"$f":"IF(D115<>\"\",Data!B116,\"\")","v":""},""]
[{"$f":"IF(D116<>\"\",Data!A117,\"\")","v":""},{"$f":"IF(D116<>\"\",Data!B117,\"\")","v":""},""]
[{"$f":"IF(D117<>\"\",Data!A118,\"\")","v":""},{"$f":"IF(D117<>\"\",Data!B118,\"\")","v":""},""]
[{"$f":"IF(D118<>\"\",Data!A119,\"\")","v":""},{"$f":"IF(D118<>\"\",Data!B119,\"\")","v":""},""]
[{"$f":"IF(D119<>\"\",Data!A120,\"\")","v":""},{"$f":"IF(D119<>\"\",Data!B120,\"\")","v":""},""]
[{"$f":"IF(D120<>\"\",Data!A121,\"\")","v":""},{"$f":"IF(D120<>\"\",Data!B121,\"\")","v":""},""]
[{"$f":"IF(D121<>\"\",Data!A122,\"\")","v":""},{"$f":"IF(D121<>\"\",Data!B122,\"\")","v":""},""]
[{"$f":"IF(D122<>\"\",Data!A123,\"\")","v":""},{"$f":"IF(D122<>\"\",Data!B123,\"\")","v":""},""]
[{"$f":"IF(D123<>\"\",Data!A124,\"\")","v":""},{"$f":"IF(D123<>\"\",Data!B124,\"\")","v":""},""]
[{"$f":"IF(D124<>\"\",Data!A125,\"\")","v":""},{"$f":"IF(D124<>\"\",Data!B125,\"\")","v":""},""]
[{"$f":"IF(D125<>\"\",Data!A126,\"\")","v":""},{"$f":"IF(D125<>\"\",Data!B126,\"\")","v":""},""]
[{"$f":"IF(D126<>\"\",Data!A127,\"\")","v":""},{"$f":"IF(D126<>\"\",Data!B127,\"\")","v":""},""]
[{"$f":"IF(D127<>\"\",Data!A128,\"\")","v":""},{"$f":"IF(D127<>\"\",Data!B128,\"\")","v":""},""]
[{"$f":"IF(D128<>\"\",Data!A129,\"\")","v":""},{"$f":"IF(D128<>\"\",Data!B129,\"\")","v":""},""]
[{"$f":"IF(D129<>\"\",Data!A130,\"\")","v":""},{"$f":"IF(D129<>\"\",Data!B130,\"\")","v":""},""]
[{"$f":"IF(D130<>\"\",Data!A131,\"\")","v":""},{"$f":"IF(D130<>\"\",Data!B131,\"\")","v":""},{"$f":"IF(D130<>\"\",MID(CELL(\"filename\",B130),FIND(\"]\",CELL(\"filename\",B130))+1,32),\"\")","v":""}]
[{"$f":"IF(D131<>\"\",Data!A132,\"\")","v":""},{"$f":"IF(D131<>\"\",Data!B132,\"\")","v":""},""]
[{"$f":"IF(D132<>\"\",Data!A133,\"\")","v":""},{"$f":"IF(D132<>\"\",Data!B133,\"\")","v":""},""]
[{"$f":"IF(D133<>\"\",Data!A134,\"\")","v":""},{"$f":"IF(D133<>\"\",Data!B134,\"\")","v":""},""]
[{"$f":"IF(D134<>\"\",Data!A135,\"\")","v":""},{"$f":"IF(D134<>\"\",Data!B135,\"\")","v":""},""]
[{"$f":"IF(D135<>\"\",Data!A136,\"\")","v":""},{"$f":"IF(D135<>\"\",Data!B136,\"\")","v":""},""]
[{"$f":"IF(D136<>\"\",Data!A137,\"\")","v":""},{"$f":"IF(D136<>\"\",Data!B137,\"\")","v":""},""]
[{"$f":"IF(D137<>\"\",Data!A138,\"\")","v":""},{"$f":"IF(D137<>\"\",Data!B138,\"\")","v":""},""]
[{"$f":"IF(D138<>\"\",Data!A139,\"\")","v":""},{"$f":"IF(D138<>\"\",Data!B139,\"\")","v":""},""]
[{"$f":"IF(D139<>\"\",Data!A140,\"\")","v":""},{"$f":"IF(D139<>\"\",Data!B140,\"\")","v":""},""]
[{"$f":"IF(D140<>\"\",Data!A141,\"\")","v":""},{"$f":"IF(D140<>\"\",Data!B141,\"\")","v":""},""]
[{"$f":"IF(D141<>\"\",Data!A142,\"\")","v":""},{"$f":"IF(D141<>\"\",Data!B142,\"\")","v":""},""]
[{"$f":"IF(D142<>\"\",Data!A143,\"\")","v":""},{"$f":"IF(D142<>\"\",Data!B143,\"\")","v":""},""]
[{"$f":"IF(D143<>\"\",Data!A144,\"\")","v":""},{"$f":"IF(D143<>\"\",Data!B144,\"\")","v":""},""]
[{"$f":"IF(D144<>\"\",Data!A145,\"\")","v":""},{"$f":"IF(D144<>\"\",Data!B145,\"\")","v":""},""]
[{"$f":"IF(D145<>\"\",Data!A146,\"\")","v":""},{"$f":"IF(D145<>\"\",Data!B146,\"\")","v":""},""]
[{"$f":"IF(D146<>\"\",Data!A147,\"\")","v":""},{"$f":"IF(D146<>\"\",Data!B147,\"\")","v":""},""]
[{"$f":"IF(D147<>\"\",Data!A148,\"\")","v":""},{"$f":"IF(D147<>\"\",Data!B148,\"\")","v":""},""]
[{"$f":"IF(D148<>\"\",Data!A149,\"\")","v":""},{"$f":"IF(D148<>\"\",Data!B149,\"\")","v":""},""]
[{"$f":"IF(D149<>\"\",Data!A150,\"\")","v":""},{"$f":"IF(D149<>\"\",Data!B150,\"\")","v":""},""]
[{"$f":"IF(D150<>\"\",Data!A151,\"\")","v":""},{"$f":"IF(D150<>\"\",Data!B151,\"\")","v":""},""]
[{"$f":"IF(D151<>\"\",Data!A152,\"\")","v":""},{"$f":"IF(D151<>\"\",Data!B152,\"\")","v":""},""]
[{"$f":"IF(D152<>\"\",Data!A153,\"\")","v":""},{"$f":"IF(D152<>\"\",Data!B153,\"\")","v":""},""]
[{"$f":"IF(D153<>\"\",Data!A154,\"\")","v":""},{"$f":"IF(D153<>\"\",Data!B154,\"\")","v":""},""]
[{"$f":"IF(D154<>\"\",Data!A155,\"\")","v":""},{"$f":"IF(D154<>\"\",Data!B155,\"\")","v":""},""]
[{"$f":"IF(D155<>\"\",Data!A156,\"\")","v":""},{"$f":"IF(D155<>\"\",Data!B156,\"\")","v":""},""]
[{"$f":"IF(D156<>\"\",Data!A157,\"\")","v":""},{"$f":"IF(D156<>\"\",Data!B157,\"\")","v":""},""]
[{"$f":"IF(D157<>\"\",Data!A158,\"\")","v":""},{"$f":"IF(D157<>\"\",Data!B158,\"\")","v":""},""]
[{"$f":"IF(D158<>\"\",Data!A159,\"\")","v":""},{"$f":"IF(D158<>\"\",Data!B159,\"\")","v":""},""]
[{"$f":"IF(D159<>\"\",Data!A160,\"\")","v":""},{"$f":"IF(D159<>\"\",Data!B160,\"\")","v":""},""]
[{"$f":"IF(D160<>\"\",Data!A161,\"\")","v":""},{"$f":"IF(D160<>\"\",Data!B161,\"\")","v":""},""]
[{"$f":"IF(D161<>\"\",Data!A162,\"\")","v":""},{"$f":"IF(D161<>\"\",Data!B162,\"\")","v":""},""]
[{"$f":"IF(D162<>\"\",Data!A163,\"\")","v":""},{"$f":"IF(D162<>\"\",Data!B163,\"\")","v":""},""]
[{"$f":"IF(D163<>\"\",Data!A164,\"\")","v":""},{"$f":"IF(D163<>\"\",Data!B164,\"\")","v":""},""]
[{"$f":"IF(D164<>\"\",Data!A165,\"\")","v":""},{"$f":"IF(D164<>\"\",Data!B165,\"\")","v":""},""]
[{"$f":"IF(D165<>\"\",Data!A166,\"\")","v":""},{"$f":"IF(D165<>\"\",Data!B166,\"\")","v":""},""]
[{"$f":"IF(D166<>\"\",Data!A167,\"\")","v":""},{"$f":"IF(D166<>\"\",Data!B167,\"\")","v":""},""]
[{"$f":"IF(D167<>\"\",Data!A168,\"\")","v":""},{"$f":"IF(D167<>\"\",Data!B168,\"\")","v":""},""]
[{"$f":"IF(D168<>\"\",Data!A169,\"\")","v":""},{"$f":"IF(D168<>\"\",Data!B169,\"\")","v":""},""]
[{"$f":"IF(D169<>\"\",Data!A170,\"\")","v":""},{"$f":"IF(D169<>\"\",Data!B170,\"\")","v":""},""]
[{"$f":"IF(D170<>\"\",Data!A171,\"\")","v":""},{"$f":"IF(D170<>\"\",Data!B171,\"\")","v":""},""]
[{"$f":"IF(D171<>\"\",Data!A172,\"\")","v":""},{"$f":"IF(D171<>\"\",Data!B172,\"\")","v":""},""]
[{"$f":"IF(D172<>\"\",Data!A173,\"\")","v":""},{"$f":"IF(D172<>\"\",Data!B173,\"\")","v":""},""]
[{"$f":"IF(D173<>\"\",Data!A174,\"\")","v":""},{"$f":"IF(D173<>\"\",Data!B174,\"\")","v":""},""]
[{"$f":"IF(D174<>\"\",Data!A175,\"\")","v":""},{"$f":"IF(D174<>\"\",Data!B175,\"\")","v":""},""]
[{"$f":"IF(D175<>\"\",Data!A176,\"\")","v":""},{"$f":"IF(D175<>\"\",Data!B176,\"\")","v":""},""]
[{"$f":"IF(D176<>\"\",Data!A177,\"\")","v":""},{"$f":"IF(D176<>\"\",Data!B177,\"\")","v":""},""]
[{"$f":"IF(D177<>\"\",Data!A178,\"\")","v":""},{"$f":"IF(D177<>\"\",Data!B178,\"\")","v":""},""]
[{"$f":"IF(D178<>\"\",Data!A179,\"\")","v":""},{"$f":"IF(D178<>\"\",Data!B179,\"\")","v":""},""]
[{"$f":"IF(D179<>\"\",Data!A180,\"\")","v":""},{"$f":"IF(D179<>\"\",Data!B180,\"\")","v":""},""]
[{"$f":"IF(D180<>\"\",Data!A181,\"\")","v":""},{"$f":"IF(D180<>\"\",Data!B181,\"\")","v":""},""]
[{"$f":"IF(D181<>\"\",Data!A182,\"\")","v":""},{"$f":"IF(D181<>\"\",Data!B182,\"\")","v":""},""]
[{"$f":"IF(D182<>\"\",Data!A183,\"\")","v":""},{"$f":"IF(D182<>\"\",Data!B183,\"\")","v":""},""]
[{"$f":"IF(D183<>\"\",Data!A184,\"\")","v":""},{"$f":"IF(D183<>\"\",Data!B184,\"\")","v":""},""]
[{"$f":"IF(D184<>\"\",Data!A185,\"\")","v":""},{"$f":"IF(D184<>\"\",Data!B185,\"\")","v":""},""]
[{"$f":"IF(D185<>\"\",Data!A186,\"\")","v":""},{"$f":"IF(D185<>\"\",Data!B186,\"\")","v":""},""]
[{"$f":"IF(D186<>\"\",Data!A187,\"\")","v":""},{"$f":"IF(D186<>\"\",Data!B187,\"\")","v":""},""]
[{"$f":"IF(D187<>\"\",Data!A188,\"\")","v":""},{"$f":"IF(D187<>\"\",Data!B188,\"\")","v":""},""]
[{"$f":"IF(D188<>\"\",Data!A189,\"\")","v":""},{"$f":"IF(D188<>\"\",Data!B189,\"\")","v":""},""]
[{"$f":"IF(D189<>\"\",Data!A190,\"\")","v":""},{"$f":"IF(D189<>\"\",Data!B190,\"\")","v":""},""]
[{"$f":"IF(D190<>\"\",Data!A191,\"\")","v":""},{"$f":"IF(D190<>\"\",Data!B191,\"\")","v":""},""]
[{"$f":"IF(D191<>\"\",Data!A192,\"\")","v":""},{"$f":"IF(D191<>\"\",Data!B192,\"\")","v":""},""]
[{"$f":"IF(D192<>\"\",Data!A193,\"\")","v":""},{"$f":"IF(D192<>\"\",Data!B193,\"\")","v":""},""]
[{"$f":"IF(D193<>\"\",Data!A194,\"\")","v":""},{"$f":"IF(D193<>\"\",Data!B194,\"\")","v":""},""]
[{"$f":"IF(D194<>\"\",Data!A195,\"\")","v":""},{"$f":"IF(D194<>\"\",Data!B195,\"\")","v":""},{"$f":"IF(D194<>\"\",MID(CELL(\"filename\",B194),FIND(\"]\",CELL(\"filename\",B194))+1,32),\"\")","v":""}]
[{"$f":"IF(D195<>\"\",Data!A196,\"\")","v":""},{"$f":"IF(D195<>\"\",Data!B196,\"\")","v":""},""]
[{"$f":"IF(D196<>\"\",Data!A197,\"\")","v":""},{"$f":"IF(D196<>\"\",Data!B197,\"\")","v":""},""]
[{"$f":"IF(D197<>\"\",Data!A198,\"\")","v":""},{"$f":"IF(D197<>\"\",Data!B198,\"\")","v":""},""]
[{"$f":"IF(D198<>\"\",Data!A199,\"\")","v":""},{"$f":"IF(D198<>\"\",Data!B199,\"\")","v":""},""]
[{"$f":"IF(D199<>\"\",Data!A200,\"\")","v":""},{"$f":"IF(D199<>\"\",Data!B200,\"\")","v":""},""]
[{"$f":"IF(D200<>\"\",Data!A201,\"\")","v":""},{"$f":"IF(D200<>\"\",Data!B201,\"\")","v":""},""]
[{"$f":"IF(D201<>\"\",Data!A202,\"\")","v":""},{"$f":"IF(D201<>\"\",Data!B202,\"\")","v":""},""]
[{"$f":"IF(D202<>\"\",Data!A203,\"\")","v":""},{"$f":"IF(D202<>\"\",Data!B203,\"\")","v":""},""]
[{"$f":"IF(D203<>\"\",Data!A204,\"\")","v":""},{"$f":"IF(D203<>\"\",Data!B204,\"\")","v":""},""]
[{"$f":"IF(D204<>\"\",Data!A205,\"\")","v":""},{"$f":"IF(D204<>\"\",Data!B205,\"\")","v":""},""]
[{"$f":"IF(D205<>\"\",Data!A206,\"\")","v":""},{"$f":"IF(D205<>\"\",Data!B206,\"\")","v":""},""]
[{"$f":"IF(D206<>\"\",Data!A207,\"\")","v":""},{"$f":"IF(D206<>\"\",Data!B207,\"\")","v":""},""]
[{"$f":"IF(D207<>\"\",Data!A208,\"\")","v":""},{"$f":"IF(D207<>\"\",Data!B208,\"\")","v":""},""]
[{"$f":"IF(D208<>\"\",Data!A209,\"\")","v":""},{"$f":"IF(D208<>\"\",Data!B209,\"\")","v":""},""]
[{"$f":"IF(D209<>\"\",Data!A210,\"\")","v":""},{"$f":"IF(D209<>\"\",Data!B210,\"\")","v":""},""]
[{"$f":"IF(D210<>\"\",Data!A211,\"\")","v":""},{"$f":"IF(D210<>\"\",Data!B211,\"\")","v":""},""]
[{"$f":"IF(D211<>\"\",Data!A212,\"\")","v":""},{"$f":"IF(D211<>\"\",Data!B212,\"\")","v":""},""]
[{"$f":"IF(D212<>\"\",Data!A213,\"\")","v":""},{"$f":"IF(D212<>\"\",Data!B213,\"\")","v":""},""]
[{"$f":"IF(D213<>\"\",Data!A214,\"\")","v":""},{"$f":"IF(D213<>\"\",Data!B214,\"\")","v":""},""]
[{"$f":"IF(D214<>\"\",Data!A215,\"\")","v":""},{"$f":"IF(D214<>\"\",Data!B215,\"\")","v":""},""]
[{"$f":"IF(D215<>\"\",Data!A216,\"\")","v":""},{"$f":"IF(D215<>\"\",Data!B216,\"\")","v":""},""]
[{"$f":"IF(D216<>\"\",Data!A217,\"\")","v":""},{"$f":"IF(D216<>\"\",Data!B217,\"\")","v":""},""]
[{"$f":"IF(D217<>\"\",Data!A218,\"\")","v":""},{"$f":"IF(D217<>\"\",Data!B218,\"\")","v":""},""]
[{"$f":"IF(D218<>\"\",Data!A219,\"\")","v":""},{"$f":"IF(D218<>\"\",Data!B219,\"\")","v":""},""]
[{"$f":"IF(D219<>\"\",Data!A220,\"\")","v":""},{"$f":"IF(D219<>\"\",Data!B220,\"\")","v":""},""]
[{"$f":"IF(D220<>\"\",Data!A221,\"\")","v":""},{"$f":"IF(D220<>\"\",Data!B221,\"\")","v":""},""]
[{"$f":"IF(D221<>\"\",Data!A222,\"\")","v":""},{"$f":"IF(D221<>\"\",Data!B222,\"\")","v":""},""]
[{"$f":"IF(D222<>\"\",Data!A223,\"\")","v":""},{"$f":"IF(D222<>\"\",Data!B223,\"\")","v":""},""]
[{"$f":"IF(D223<>\"\",Data!A224,\"\")","v":""},{"$f":"IF(D223<>\"\",Data!B224,\"\")","v":""},""]
[{"$f":"IF(D224<>\"\",Data!A225,\"\")","v":""},{"$f":"IF(D224<>\"\",Data!B225,\"\")","v":""},""]
[{"$f":"IF(D225<>\"\",Data!A226,\"\")","v":""},{"$f":"IF(D225<>\"\",Data!B226,\"\")","v":""},""]
[{"$f":"IF(D226<>\"\",Data!A227,\"\")","v":""},{"$f":"IF(D226<>\"\",Data!B227,\"\")","v":""},""]
[{"$f":"IF(D227<>\"\",Data!A228,\"\")","v":""},{"$f":"IF(D227<>\"\",Data!B228,\"\")","v":""},""]
[{"$f":"IF(D228<>\"\",Data!A229,\"\")","v":""},{"$f":"IF(D228<>\"\",Data!B229,\"\")","v":""},""]
[{"$f":"IF(D229<>\"\",Data!A230,\"\")","v":""},{"$f":"IF(D229<>\"\",Data!B230,\"\")","v":""},""]
[{"$f":"IF(D230<>\"\",Data!A231,\"\")","v":""},{"$f":"IF(D230<>\"\",Data!B231,\"\")","v":""},""]
[{"$f":"IF(D231<>\"\",Data!A232,\"\")","v":""},{"$f":"IF(D231<>\"\",Data!B232,\"\")","v":""},""]
[{"$f":"IF(D232<>\"\",Data!A233,\"\")","v":""},{"$f":"IF(D232<>\"\",Data!B233,\"\")","v":""},""]
[{"$f":"IF(D233<>\"\",Data!A234,\"\")","v":""},{"$f":"IF(D233<>\"\",Data!B234,\"\")","v":""},""]
[{"$f":"IF(D234<>\"\",Data!A235,\"\")","v":""},{"$f":"IF(D234<>\"\",Data!B235,\"\")","v":""},""]
[{"$f":"IF(D235<>\"\",Data!A236,\"\")","v":""},{"$f":"IF(D235<>\"\",Data!B236,\"\")","v":""},""]
[{"$f":"IF(D236<>\"\",Data!A237,\"\")","v":""},{"$f":"IF(D236<>\"\",Data!B237,\"\")","v":""},""]
[{"$f":"IF(D237<>\"\",Data!A238,\"\")","v":""},{"$f":"IF(D237<>\"\",Data!B238,\"\")","v":""},""]
[{"$f":"IF(D238<>\"\",Data!A239,\"\")","v":""},{"$f":"IF(D238<>\"\",Data!B239,\"\")","v":""},""]
[{"$f":"IF(D239<>\"\",Data!A240,\"\")","v":""},{"$f":"IF(D239<>\"\",Data!B240,\"\")","v":""},""]
[{"$f":"IF(D240<>\"\",Data!A241,\"\")","v":""},{"$f":"IF(D240<>\"\",Data!B241,\"\")","v":""},""]
[{"$f":"IF(D241<>\"\",Data!A242,\"\")","v":""},{"$f":"IF(D241<>\"\",Data!B242,\"\")","v":""},""]
[{"$f":"IF(D242<>\"\",Data!A243,\"\")","v":""},{"$f":"IF(D242<>\"\",Data!B243,\"\")","v":""},""]
[{"$f":"IF(D243<>\"\",Data!A244,\"\")","v":""},{"$f":"IF(D243<>\"\",Data!B244,\"\")","v":""},""]
[{"$f":"IF(D244<>\"\",Data!A245,\"\")","v":""},{"$f":"IF(D244<>\"\",Data!B245,\"\")","v":""},""]
[{"$f":"IF(D245<>\"\",Data!A246,\"\")","v":""},{"$f":"IF(D245<>\"\",Data!B246,\"\")","v":""},""]
[{"$f":"IF(D246<>\"\",Data!A247,\"\")","v":""},{"$f":"IF(D246<>\"\",Data!B247,\"\")","v":""},""]
[{"$f":"IF(D247<>\"\",Data!A248,\"\")","v":""},{"$f":"IF(D247<>\"\",Data!B248,\"\")","v":""},""]
[{"$f":"IF(D248<>\"\",Data!A249,\"\")","v":""},{"$f":"IF(D248<>\"\",Data!B249,\"\")","v":""},""]
[{"$f":"IF(D249<>\"\",Data!A250,\"\")","v":""},{"$f":"IF(D249<>\"\",Data!B250,\"\")","v":""},""]
[{"$f":"IF(D250<>\"\",Data!A251,\"\")","v":""},{"$f":"IF(D250<>\"\",Data!B251,\"\")","v":""},""]
[{"$f":"IF(D251<>\"\",Data!A252,\"\")","v":""},{"$f":"IF(D251<>\"\",Data!B252,\"\")","v":""},""]
[{"$f":"IF(D252<>\"\",Data!A253,\"\")","v":""},{"$f":"IF(D252<>\"\",Data!B253,\"\")","v":""},""]
[{"$f":"IF(D253<>\"\",Data!A254,\"\")","v":""},{"$f":"IF(D253<>\"\",Data!B254,\"\")","v":""},""]
[{"$f":"IF(D254<>\"\",Data!A255,\"\")","v":""},{"$f":"IF(D254<>\"\",Data!B255,\"\")","v":""},""]
[{"$f":"IF(D255<>\"\",Data!A256,\"\")","v":""},{"$f":"IF(D255<>\"\",Data!B256,\"\")","v":""},""]
[{"$f":"IF(D256<>\"\",Data!A257,\"\")","v":""},{"$f":"IF(D256<>\"\",Data!B257,\"\")","v":""},""]
[{"$f":"IF(D257<>\"\",Data!A258,\"\")","v":""},{"$f":"IF(D257<>\"\",Data!B258,\"\")","v":""},""]
[{"$f":"IF(D258<>\"\",Data!A259,\"\")","v":""},{"$f":"IF(D258<>\"\",Data!B259,\"\")","v":""},{"$f":"IF(D258<>\"\",MID(CELL(\"filename\",B258),FIND(\"]\",CELL(\"filename\",B258))+1,32),\"\")","v":""}]
[{"$f":"IF(D259<>\"\",Data!A260,\"\")","v":""},{"$f":"IF(D259<>\"\",Data!B260,\"\")","v":""},""]
[{"$f":"IF(D260<>\"\",Data!A261,\"\")","v":""},{"$f":"IF(D260<>\"\",Data!B261,\"\")","v":""},""]
[{"$f":"IF(D261<>\"\",Data!A262,\"\")","v":""},{"$f":"IF(D261<>\"\",Data!B262,\"\")","v":""},""]
[{"$f":"IF(D262<>\"\",Data!A263,\"\")","v":""},{"$f":"IF(D262<>\"\",Data!B263,\"\")","v":""},""]
[{"$f":"IF(D263<>\"\",Data!A264,\"\")","v":""},{"$f":"IF(D263<>\"\",Data!B264,\"\")","v":""},""]
[{"$f":"IF(D264<>\"\",Data!A265,\"\")","v":""},{"$f":"IF(D264<>\"\",Data!B265,\"\")","v":""},""]
[{"$f":"IF(D265<>\"\",Data!A266,\"\")","v":""},{"$f":"IF(D265<>\"\",Data!B266,\"\")","v":""},""]
[{"$f":"IF(D266<>\"\",Data!A267,\"\")","v":""},{"$f":"IF(D266<>\"\",Data!B267,\"\")","v":""},""]
[{"$f":"IF(D267<>\"\",Data!A268,\"\")","v":""},{"$f":"IF(D267<>\"\",Data!B268,\"\")","v":""},""]
[{"$f":"IF(D268<>\"\",Data!A269,\"\")","v":""},{"$f":"IF(D268<>\"\",Data!B269,\"\")","v":""},""]
[{"$f":"IF(D269<>\"\",Data!A270,\"\")","v":""},{"$f":"IF(D269<>\"\",Data!B270,\"\")","v":""},""]
[{"$f":"IF(D270<>\"\",Data!A271,\"\")","v":""},{"$f":"IF(D270<>\"\",Data!B271,\"\")","v":""},""]
[{"$f":"IF(D271<>\"\",Data!A272,\"\")","v":""},{"$f":"IF(D271<>\"\",Data!B272,\"\")","v":""},""]
[{"$f":"IF(D272<>\"\",Data!A273,\"\")","v":""},{"$f":"IF(D272<>\"\",Data!B273,\"\")","v":""},""]
[{"$f":"IF(D273<>\"\",Data!A274,\"\")","v":""},{"$f":"IF(D273<>\"\",Data!B274,\"\")","v":""},""]
[{"$f":"IF(D274<>\"\",Data!A275,\"\")","v":""},{"$f":"IF(D274<>\"\",Data!B275,\"\")","v":""},""]
[{"$f":"IF(D275<>\"\",Data!A276,\"\")","v":""},{"$f":"IF(D275<>\"\",Data!B276,\"\")","v":""},""]
[{"$f":"IF(D276<>\"\",Data!A277,\"\")","v":""},{"$f":"IF(D276<>\"\",Data!B277,\"\")","v":""},""]
[{"$f":"IF(D277<>\"\",Data!A278,\"\")","v":""},{"$f":"IF(D277<>\"\",Data!B278,\"\")","v":""},""]
[{"$f":"IF(D278<>\"\",Data!A279,\"\")","v":""},{"$f":"IF(D278<>\"\",Data!B279,\"\")","v":""},""]
[{"$f":"IF(D279<>\"\",Data!A280,\"\")","v":""},{"$f":"IF(D279<>\"\",Data!B280,\"\")","v":""},""]
[{"$f":"IF(D280<>\"\",Data!A281,\"\")","v":""},{"$f":"IF(D280<>\"\",Data!B281,\"\")","v":""},""]
[{"$f":"IF(D281<>\"\",Data!A282,\"\")","v":""},{"$f":"IF(D281<>\"\",Data!B282,\"\")","v":""},""]
[{"$f":"IF(D282<>\"\",Data!A283,\"\")","v":""},{"$f":"IF(D282<>\"\",Data!B283,\"\")","v":""},""]
[{"$f":"IF(D283<>\"\",Data!A284,\"\")","v":""},{"$f":"IF(D283<>\"\",Data!B284,\"\")","v":""},""]
[{"$f":"IF(D284<>\"\",Data!A285,\"\")","v":""},{"$f":"IF(D284<>\"\",Data!B285,\"\")","v":""},""]
[{"$f":"IF(D285<>\"\",Data!A286,\"\")","v":""},{"$f":"IF(D285<>\"\",Data!B286,\"\")","v":""},""]
[{"$f":"IF(D286<>\"\",Data!A287,\"\")","v":""},{"$f":"IF(D286<>\"\",Data!B287,\"\")","v":""},""]
[{"$f":"IF(D287<>\"\",Data!A288,\"\")","v":""},{"$f":"IF(D287<>\"\",Data!B288,\"\")","v":""},""]
[{"$f":"IF(D288<>\"\",Data!A289,\"\")","v":""},{"$f":"IF(D288<>\"\",Data!B289,\"\")","v":""},""]
[{"$f":"IF(D289<>\"\",Data!A290,\"\")","v":""},{"$f":"IF(D289<>\"\",Data!B290,\"\")","v":""},""]
[{"$f":"IF(D290<>\"\",Data!A291,\"\")","v":""},{"$f":"IF(D290<>\"\",Data!B291,\"\")","v":""},""]
[{"$f":"IF(D291<>\"\",Data!A292,\"\")","v":""},{"$f":"IF(D291<>\"\",Data!B292,\"\")","v":""},""]
[{"$f":"IF(D292<>\"\",Data!A293,\"\")","v":""},{"$f":"IF(D292<>\"\",Data!B293,\"\")","v":""},""]
[{"$f":"IF(D293<>\"\",Data!A294,\"\")","v":""},{"$f":"IF(D293<>\"\",Data!B294,\"\")","v":""},""]
[{"$f":"IF(D294<>\"\",Data!A295,\"\")","v":""},{"$f":"IF(D294<>\"\",Data!B295,\"\")","v":""},""]
[{"$f":"IF(D295<>\"\",Data!A296,\"\")","v":""},{"$f":"IF(D295<>\"\",Data!B296,\"\")","v":""},""]
[{"$f":"IF(D296<>\"\",Data!A297,\"\")","v":""},{"$f":"IF(D296<>\"\",Data!B297,\"\")","v":""},""]
[{"$f":"IF(D297<>\"\",Data!A298,\"\")","v":""},{"$f":"IF(D297<>\"\",Data!B298,\"\")","v":""},""]
[{"$f":"IF(D298<>\"\",Data!A299,\"\")","v":""},{"$f":"IF(D298<>\"\",Data!B299,\"\")","v":""},""]
[{"$f":"IF(D299<>\"\",Data!A300,\"\")","v":""},{"$f":"IF(D299<>\"\",Data!B300,\"\")","v":""},""]
[{"$f":"IF(D300<>\"\",Data!A301,\"\")","v":""},{"$f":"IF(D300<>\"\",Data!B301,\"\")","v":""},""]
[{"$f":"IF(D301<>\"\",Data!A302,\"\")","v":""},{"$f":"IF(D301<>\"\",Data!B302,\"\")","v":""},""]
[{"$f":"IF(D302<>\"\",Data!A303,\"\")","v":""},{"$f":"IF(D302<>\"\",Data!B303,\"\")","v":""},""]
[{"$f":"IF(D303<>\"\",Data!A304,\"\")","v":""},{"$f":"IF(D303<>\"\",Data!B304,\"\")","v":""},""]
[{"$f":"IF(D304<>\"\",Data!A305,\"\")","v":""},{"$f":"IF(D304<>\"\",Data!B305,\"\")","v":""},""]
[{"$f":"IF(D305<>\"\",Data!A306,\"\")","v":""},{"$f":"IF(D305<>\"\",Data!B306,\"\")","v":""},""]
[{"$f":"IF(D306<>\"\",Data!A307,\"\")","v":""},{"$f":"IF(D306<>\"\",Data!B307,\"\")","v":""},""]
[{"$f":"IF(D307<>\"\",Data!A308,\"\")","v":""},{"$f":"IF(D307<>\"\",Data!B308,\"\")","v":""},""]
[{"$f":"IF(D308<>\"\",Data!A309,\"\")","v":""},{"$f":"IF(D308<>\"\",Data!B309,\"\")","v":""},""]
[{"$f":"IF(D309<>\"\",Data!A310,\"\")","v":""},{"$f":"IF(D309<>\"\",Data!B310,\"\")","v":""},""]
[{"$f":"IF(D310<>\"\",Data!A311,\"\")","v":""},{"$f":"IF(D310<>\"\",Data!B311,\"\")","v":""},""]
[{"$f":"IF(D311<>\"\",Data!A312,\"\")","v":""},{"$f":"IF(D311<>\"\",Data!B312,\"\")","v":""},""]
[{"$f":"IF(D312<>\"\",Data!A313,\"\")","v":""},{"$f":"IF(D312<>\"\",Data!B313,\"\")","v":""},""]
[{"$f":"IF(D313<>\"\",Data!A314,\"\")","v":""},{"$f":"IF(D313<>\"\",Data!B314,\"\")","v":""},""]
[{"$f":"IF(D314<>\"\",Data!A315,\"\")","v":""},{"$f":"IF(D314<>\"\",Data!B315,\"\")","v":""},""]
[{"$f":"IF(D315<>\"\",Data!A316,\"\")","v":""},{"$f":"IF(D315<>\"\",Data!B316,\"\")","v":""},""]
[{"$f":"IF(D316<>\"\",Data!A317,\"\")","v":""},{"$f":"IF(D316<>\"\",Data!B317,\"\")","v":""},""]
[{"$f":"IF(D317<>\"\",Data!A318,\"\")","v":""},{"$f":"IF(D317<>\"\",Data!B318,\"\")","v":""},""]
[{"$f":"IF(D318<>\"\",Data!A319,\"\")","v":""},{"$f":"IF(D318<>\"\",Data!B319,\"\")","v":""},""]
[{"$f":"IF(D319<>\"\",Data!A320,\"\")","v":""},{"$f":"IF(D319<>\"\",Data!B320,\"\")","v":""},""]
[{"$f":"IF(D320<>\"\",Data!A321,\"\")","v":""},{"$f":"IF(D320<>\"\",Data!B321,\"\")","v":""},""]
[{"$f":"IF(D321<>\"\",Data!A322,\"\")","v":""},{"$f":"IF(D321<>\"\",Data!B322,\"\")","v":""},""]
[{"$f":"IF(D322<>\"\",Data!A323,\"\")","v":""},{"$f":"IF(D322<>\"\",Data!B323,\"\")","v":""},{"$f":"IF(D322<>\"\",MID(CELL(\"filename\",B322),FIND(\"]\",CELL(\"filename\",B322))+1,32),\"\")","v":""}]
[{"$f":"IF(D323<>\"\",Data!A324,\"\")","v":""},{"$f":"IF(D323<>\"\",Data!B324,\"\")","v":""},""]
[{"$f":"IF(D324<>\"\",Data!A325,\"\")","v":""},{"$f":"IF(D324<>\"\",Data!B325,\"\")","v":""},""]
[{"$f":"IF(D325<>\"\",Data!A326,\"\")","v":""},{"$f":"IF(D325<>\"\",Data!B326,\"\")","v":""},""]
[{"$f":"IF(D326<>\"\",Data!A327,\"\")","v":""},{"$f":"IF(D326<>\"\",Data!B327,\"\")","v":""},""]
[{"$f":"IF(D327<>\"\",Data!A328,\"\")","v":""},{"$f":"IF(D327<>\"\",Data!B328,\"\")","v":""},""]
[{"$f":"IF(D328<>\"\",Data!A329,\"\")","v":""},{"$f":"IF(D328<>\"\",Data!B329,\"\")","v":""},""]
[{"$f":"IF(D329<>\"\",Data!A330,\"\")","v":""},{"$f":"IF(D329<>\"\",Data!B330,\"\")","v":""},""]
[{"$f":"IF(D330<>\"\",Data!A331,\"\")","v":""},{"$f":"IF(D330<>\"\",Data!B331,\"\")","v":""},""]
[{"$f":"IF(D331<>\"\",Data!A332,\"\")","v":""},{"$f":"IF(D331<>\"\",Data!B332,\"\")","v":""},""]
[{"$f":"IF(D332<>\"\",Data!A333,\"\")","v":""},{"$f":"IF(D332<>\"\",Data!B333,\"\")","v":""},""]
[{"$f":"IF(D333<>\"\",Data!A334,\"\")","v":""},{"$f":"IF(D333<>\"\",Data!B334,\"\")","v":""},""]
[{"$f":"IF(D334<>\"\",Data!A335,\"\")","v":""},{"$f":"IF(D334<>\"\",Data!B335,\"\")","v":""},""]
[{"$f":"IF(D335<>\"\",Data!A336,\"\")","v":""},{"$f":"IF(D335<>\"\",Data!B336,\"\")","v":""},""]
[{"$f":"IF(D336<>\"\",Data!A337,\"\")","v":""},{"$f":"IF(D336<>\"\",Data!B337,\"\")","v":""},""]
[{"$f":"IF(D337<>\"\",Data!A338,\"\")","v":""},{"$f":"IF(D337<>\"\",Data!B338,\"\")","v":""},""]
[{"$f":"IF(D338<>\"\",Data!A339,\"\")","v":""},{"$f":"IF(D338<>\"\",Data!B339,\"\")","v":""},""]
[{"$f":"IF(D339<>\"\",Data!A340,\"\")","v":""},{"$f":"IF(D339<>\"\",Data!B340,\"\")","v":""},""]
[{"$f":"IF(D340<>\"\",Data!A341,\"\")","v":""},{"$f":"IF(D340<>\"\",Data!B341,\"\")","v":""},""]
[{"$f":"IF(D341<>\"\",Data!A342,\"\")","v":""},{"$f":"IF(D341<>\"\",Data!B342,\"\")","v":""},""]
[{"$f":"IF(D342<>\"\",Data!A343,\"\")","v":""},{"$f":"IF(D342<>\"\",Data!B343,\"\")","v":""},""]
[{"$f":"IF(D343<>\"\",Data!A344,\"\")","v":""},{"$f":"IF(D343<>\"\",Data!B344,\"\")","v":""},""]
[{"$f":"IF(D344<>\"\",Data!A345,\"\")","v":""},{"$f":"IF(D344<>\"\",Data!B345,\"\")","v":""},""]
[{"$f":"IF(D345<>\"\",Data!A346,\"\")","v":""},{"$f":"IF(D345<>\"\",Data!B346,\"\")","v":""},""]
[{"$f":"IF(D346<>\"\",Data!A347,\"\")","v":""},{"$f":"IF(D346<>\"\",Data!B347,\"\")","v":""},""]
[{"$f":"IF(D347<>\"\",Data!A348,\"\")","v":""},{"$f":"IF(D347<>\"\",Data!B348,\"\")","v":""},""]
[{"$f":"IF(D348<>\"\",Data!A349,\"\")","v":""},{"$f":"IF(D348<>\"\",Data!B349,\"\")","v":""},""]
[{"$f":"IF(D349<>\"\",Data!A350,\"\")","v":""},{"$f":"IF(D349<>\"\",Data!B350,\"\")","v":""},""]
[{"$f":"IF(D350<>\"\",Data!A351,\"\")","v":""},{"$f":"IF(D350<>\"\",Data!B351,\"\")","v":""},""]
[{"$f":"IF(D351<>\"\",Data!A352,\"\")","v":""},{"$f":"IF(D351<>\"\",Data!B352,\"\")","v":""},""]
[{"$f":"IF(D352<>\"\",Data!A353,\"\")","v":""},{"$f":"IF(D352<>\"\",Data!B353,\"\")","v":""},""]
[{"$f":"IF(D353<>\"\",Data!A354,\"\")","v":""},{"$f":"IF(D353<>\"\",Data!B354,\"\")","v":""},""]
[{"$f":"IF(D354<>\"\",Data!A355,\"\")","v":""},{"$f":"IF(D354<>\"\",Data!B355,\"\")","v":""},""]
[{"$f":"IF(D355<>\"\",Data!A356,\"\")","v":""},{"$f":"IF(D355<>\"\",Data!B356,\"\")","v":""},""]
[{"$f":"IF(D356<>\"\",Data!A357,\"\")","v":""},{"$f":"IF(D356<>\"\",Data!B357,\"\")","v":""},""]
[{"$f":"IF(D357<>\"\",Data!A358,\"\")","v":""},{"$f":"IF(D357<>\"\",Data!B358,\"\")","v":""},""]
[{"$f":"IF(D358<>\"\",Data!A359,\"\")","v":""},{"$f":"IF(D358<>\"\",Data!B359,\"\")","v":""},""]
[{"$f":"IF(D359<>\"\",Data!A360,\"\")","v":""},{"$f":"IF(D359<>\"\",Data!B360,\"\")","v":""},""]
[{"$f":"IF(D360<>\"\",Data!A361,\"\")","v":""},{"$f":"IF(D360<>\"\",Data!B361,\"\")","v":""},""]
[{"$f":"IF(D361<>\"\",Data!A362,\"\")","v":""},{"$f":"IF(D361<>\"\",Data!B362,\"\")","v":""},""]
[{"$f":"IF(D362<>\"\",Data!A363,\"\")","v":""},{"$f":"IF(D362<>\"\",Data!B363,\"\")","v":""},""]
[{"$f":"IF(D363<>\"\",Data!A364,\"\")","v":""},{"$f":"IF(D363<>\"\",Data!B364,\"\")","v":""},""]
[{"$f":"IF(D364<>\"\",Data!A365,\"\")","v":""},{"$f":"IF(D364<>\"\",Data!B365,\"\")","v":""},""]
[{"$f":"IF(D365<>\"\",Data!A366,\"\")","v":""},{"$f":"IF(D365<>\"\",Data!B366,\"\")","v":""},""]
[{"$f":"IF(D366<>\"\",Data!A367,\"\")","v":""},{"$f":"IF(D366<>\"\",Data!B367,\"\")","v":""},""]
[{"$f":"IF(D367<>\"\",Data!A368,\"\")","v":""},{"$f":"IF(D367<>\"\",Data!B368,\"\")","v":""},""]
[{"$f":"IF(D368<>\"\",Data!A369,\"\")","v":""},{"$f":"IF(D368<>\"\",Data!B369,\"\")","v":""},""]
[{"$f":"IF(D369<>\"\",Data!A370,\"\")","v":""},{"$f":"IF(D369<>\"\",Data!B370,\"\")","v":""},""]
[{"$f":"IF(D370<>\"\",Data!A371,\"\")","v":""},{"$f":"IF(D370<>\"\",Data!B371,\"\")","v":""},""]
[{"$f":"IF(D371<>\"\",Data!A372,\"\")","v":""},{"$f":"IF(D371<>\"\",Data!B372,\"\")","v":""},""]
[{"$f":"IF(D372<>\"\",Data!A373,\"\")","v":""},{"$f":"IF(D372<>\"\",Data!B373,\"\")","v":""},""]
[{"$f":"IF(D373<>\"\",Data!A374,\"\")","v":""},{"$f":"IF(D373<>\"\",Data!B374,\"\")","v":""},""]
[{"$f":"IF(D374<>\"\",Data!A375,\"\")","v":""},{"$f":"IF(D374<>\"\",Data!B375,\"\")","v":""},""]
[{"$f":"IF(D375<>\"\",Data!A376,\"\")","v":""},{"$f":"IF(D375<>\"\",Data!B376,\"\")","v":""},""]
[{"$f":"IF(D376<>\"\",Data!A377,\"\")","v":""},{"$f":"IF(D376<>\"\",Data!B377,\"\")","v":""},""]
[{"$f":"IF(D377<>\"\",Data!A378,\"\")","v":""},{"$f":"IF(D377<>\"\",Data!B378,\"\")","v":""},""]
[{"$f":"IF(D378<>\"\",Data!A379,\"\")","v":""},{"$f":"IF(D378<>\"\",Data!B379,\"\")","v":""},""]
[{"$f":"IF(D379<>\"\",Data!A380,\"\")","v":""},{"$f":"IF(D379<>\"\",Data!B380,\"\")","v":""},""]
[{"$f":"IF(D380<>\"\",Data!A381,\"\")","v":""},{"$f":"IF(D380<>\"\",Data!B381,\"\")","v":""},""]
[{"$f":"IF(D381<>\"\",Data!A382,\"\")","v":""},{"$f":"IF(D381<>\"\",Data!B382,\"\")","v":""},""]
[{"$f":"IF(D382<>\"\",Data!A383,\"\")","v":""},{"$f":"IF(D382<>\"\",Data!B383,\"\")","v":""},""]
[{"$f":"IF(D383<>\"\",Data!A384,\"\")","v":""},{"$f":"IF(D383<>\"\",Data!B384,\"\")","v":""},""]
[{"$f":"IF(D384<>\"\",Data!A385,\"\")","v":""},{"$f":"IF(D384<>\"\",Data!B385,\"\")","v":""},""]
[{"$f":"IF(D385<>\"\",Data!A386,\"\")","v":""},{"$f":"IF(D385<>\"\",Data!B386,\"\")","v":""},""]
[{"$f":"IF(D386<>\"\",Data!A387,\"\")","v":""},{"$f":"IF(D386<>\"\",Data!B387,\"\")","v":""},{"$f":"IF(D386<>\"\",MID(CELL(\"filename\",B386),FIND(\"]\",CELL(\"filename\",B386))+1,32),\"\")","v":""}]
[{"$f":"IF(D387<>\"\",Data!A388,\"\")","v":""},{"$f":"IF(D387<>\"\",Data!B388,\"\")","v":""},""]
[{"$f":"IF(D388<>\"\",Data!A389,\"\")","v":""},{"$f":"IF(D388<>\"\",Data!B389,\"\")","v":""},""]
[{"$f":"IF(D389<>\"\",Data!A390,\"\")","v":""},{"$f":"IF(D389<>\"\",Data!B390,\"\")","v":""},""]
[{"$f":"IF(D390<>\"\",Data!A391,\"\")","v":""},{"$f":"IF(D390<>\"\",Data!B391,\"\")","v":""},""]
[{"$f":"IF(D391<>\"\",Data!A392,\"\")","v":""},{"$f":"IF(D391<>\"\",Data!B392,\"\")","v":""},""]
[{"$f":"IF(D392<>\"\",Data!A393,\"\")","v":""},{"$f":"IF(D392<>\"\",Data!B393,\"\")","v":""},""]
[{"$f":"IF(D393<>\"\",Data!A394,\"\")","v":""},{"$f":"IF(D393<>\"\",Data!B394,\"\")","v":""},""]
[{"$f":"IF(D394<>\"\",Data!A395,\"\")","v":""},{"$f":"IF(D394<>\"\",Data!B395,\"\")","v":""},""]
[{"$f":"IF(D395<>\"\",Data!A396,\"\")","v":""},{"$f":"IF(D395<>\"\",Data!B396,\"\")","v":""},""]
[{"$f":"IF(D396<>\"\",Data!A397,\"\")","v":""},{"$f":"IF(D396<>\"\",Data!B397,\"\")","v":""},""]
[{"$f":"IF(D397<>\"\",Data!A398,\"\")","v":""},{"$f":"IF(D397<>\"\",Data!B398,\"\")","v":""},""]
[{"$f":"IF(D398<>\"\",Data!A399,\"\")","v":""},{"$f":"IF(D398<>\"\",Data!B399,\"\")","v":""},""]
[{"$f":"IF(D399<>\"\",Data!A400,\"\")","v":""},{"$f":"IF(D399<>\"\",Data!B400,\"\")","v":""},""]
[{"$f":"IF(D400<>\"\",Data!A401,\"\")","v":""},{"$f":"IF(D400<>\"\",Data!B401,\"\")","v":""},""]
[{"$f":"IF(D401<>\"\",Data!A402,\"\")","v":""},{"$f":"IF(D401<>\"\",Data!B402,\"\")","v":""},""]
[{"$f":"IF(D402<>\"\",Data!A403,\"\")","v":""},{"$f":"IF(D402<>\"\",Data!B403,\"\")","v":""},""]
[{"$f":"IF(D403<>\"\",Data!A404,\"\")","v":""},{"$f":"IF(D403<>\"\",Data!B404,\"\")","v":""},""]
[{"$f":"IF(D404<>\"\",Data!A405,\"\")","v":""},{"$f":"IF(D404<>\"\",Data!B405,\"\")","v":""},""]
[{"$f":"IF(D405<>\"\",Data!A406,\"\")","v":""},{"$f":"IF(D405<>\"\",Data!B406,\"\")","v":""},""]
[{"$f":"IF(D406<>\"\",Data!A407,\"\")","v":""},{"$f":"IF(D406<>\"\",Data!B407,\"\")","v":""},""]
[{"$f":"IF(D407<>\"\",Data!A408,\"\")","v":""},{"$f":"IF(D407<>\"\",Data!B408,\"\")","v":""},""]
[{"$f":"IF(D408<>\"\",Data!A409,\"\")","v":""},{"$f":"IF(D408<>\"\",Data!B409,\"\")","v":""},""]
[{"$f":"IF(D409<>\"\",Data!A410,\"\")","v":""},{"$f":"IF(D409<>\"\",Data!B410,\"\")","v":""},""]
[{"$f":"IF(D410<>\"\",Data!A411,\"\")","v":""},{"$f":"IF(D410<>\"\",Data!B411,\"\")","v":""},""]
[{"$f":"IF(D411<>\"\",Data!A412,\"\")","v":""},{"$f":"IF(D411<>\"\",Data!B412,\"\")","v":""},""]
[{"$f":"IF(D412<>\"\",Data!A413,\"\")","v":""},{"$f":"IF(D412<>\"\",Data!B413,\"\")","v":""},""]
[{"$f":"IF(D413<>\"\",Data!A414,\"\")","v":""},{"$f":"IF(D413<>\"\",Data!B414,\"\")","v":""},""]
[{"$f":"IF(D414<>\"\",Data!A415,\"\")","v":""},{"$f":"IF(D414<>\"\",Data!B415,\"\")","v":""},""]
[{"$f":"IF(D415<>\"\",Data!A416,\"\")","v":""},{"$f":"IF(D415<>\"\",Data!B416,\"\")","v":""},""]
[{"$f":"IF(D416<>\"\",Data!A417,\"\")","v":""},{"$f":"IF(D416<>\"\",Data!B417,\"\")","v":""},""]
[{"$f":"IF(D417<>\"\",Data!A418,\"\")","v":""},{"$f":"IF(D417<>\"\",Data!B418,\"\")","v":""},""]
[{"$f":"IF(D418<>\"\",Data!A419,\"\")","v":""},{"$f":"IF(D418<>\"\",Data!B419,\"\")","v":""},""]
[{"$f":"IF(D419<>\"\",Data!A420,\"\")","v":""},{"$f":"IF(D419<>\"\",Data!B420,\"\")","v":""},""]
[{"$f":"IF(D420<>\"\",Data!A421,\"\")","v":""},{"$f":"IF(D420<>\"\",Data!B421,\"\")","v":""},""]
[{"$f":"IF(D421<>\"\",Data!A422,\"\")","v":""},{"$f":"IF(D421<>\"\",Data!B422,\"\")","v":""},""]
[{"$f":"IF(D422<>\"\",Data!A423,\"\")","v":""},{"$f":"IF(D422<>\"\",Data!B423,\"\")","v":""},""]
[{"$f":"IF(D423<>\"\",Data!A424,\"\")","v":""},{"$f":"IF(D423<>\"\",Data!B424,\"\")","v":""},""]
[{"$f":"IF(D424<>\"\",Data!A425,\"\")","v":""},{"$f":"IF(D424<>\"\",Data!B425,\"\")","v":""},""]
[{"$f":"IF(D425<>\"\",Data!A426,\"\")","v":""},{"$f":"IF(D425<>\"\",Data!B426,\"\")","v":""},""]
[{"$f":"IF(D426<>\"\",Data!A427,\"\")","v":""},{"$f":"IF(D426<>\"\",Data!B427,\"\")","v":""},""]
[{"$f":"IF(D427<>\"\",Data!A428,\"\")","v":""},{"$f":"IF(D427<>\"\",Data!B428,\"\")","v":""},""]
[{"$f":"IF(D428<>\"\",Data!A429,\"\")","v":""},{"$f":"IF(D428<>\"\",Data!B429,\"\")","v":""},""]
[{"$f":"IF(D429<>\"\",Data!A430,\"\")","v":""},{"$f":"IF(D429<>\"\",Data!B430,\"\")","v":""},""]
[{"$f":"IF(D430<>\"\",Data!A431,\"\")","v":""},{"$f":"IF(D430<>\"\",Data!B431,\"\")","v":""},""]
[{"$f":"IF(D431<>\"\",Data!A432,\"\")","v":""},{"$f":"IF(D431<>\"\",Data!B432,\"\")","v":""},""]
[{"$f":"IF(D432<>\"\",Data!A433,\"\")","v":""},{"$f":"IF(D432<>\"\",Data!B433,\"\")","v":""},""]
[{"$f":"IF(D433<>\"\",Data!A434,\"\")","v":""},{"$f":"IF(D433<>\"\",Data!B434,\"\")","v":""},""]
[{"$f":"IF(D434<>\"\",Data!A435,\"\")","v":""},{"$f":"IF(D434<>\"\",Data!B435,\"\")","v":""},""]
[{"$f":"IF(D435<>\"\",Data!A436,\"\")","v":""},{"$f":"IF(D435<>\"\",Data!B436,\"\")","v":""},""]
[{"$f":"IF(D436<>\"\",Data!A437,\"\")","v":""},{"$f":"IF(D436<>\"\",Data!B437,\"\")","v":""},""]
[{"$f":"IF(D437<>\"\",Data!A438,\"\")","v":""},{"$f":"IF(D437<>\"\",Data!B438,\"\")","v":""},""]
[{"$f":"IF(D438<>\"\",Data!A439,\"\")","v":""},{"$f":"IF(D438<>\"\",Data!B439,\"\")","v":""},""]
[{"$f":"IF(D439<>\"\",Data!A440,\"\")","v":""},{"$f":"IF(D439<>\"\",Data!B440,\"\")","v":""},""]
[{"$f":"IF(D440<>\"\",Data!A441,\"\")","v":""},{"$f":"IF(D440<>\"\",Data!B441,\"\")","v":""},""]
[{"$f":"IF(D441<>\"\",Data!A442,\"\")","v":""},{"$f":"IF(D441<>\"\",Data!B442,\"\")","v":""},""]
[{"$f":"IF(D442<>\"\",Data!A443,\"\")","v":""},{"$f":"IF(D442<>\"\",Data!B443,\"\")","v":""},""]
[{"$f":"IF(D443<>\"\",Data!A444,\"\")","v":""},{"$f":"IF(D443<>\"\",Data!B444,\"\")","v":""},""]
[{"$f":"IF(D444<>\"\",Data!A445,\"\")","v":""},{"$f":"IF(D444<>\"\",Data!B445,\"\")","v":""},""]
[{"$f":"IF(D445<>\"\",Data!A446,\"\")","v":""},{"$f":"IF(D445<>\"\",Data!B446,\"\")","v":""},""]
[{"$f":"IF(D446<>\"\",Data!A447,\"\")","v":""},{"$f":"IF(D446<>\"\",Data!B447,\"\")","v":""},""]
[{"$f":"IF(D447<>\"\",Data!A448,\"\")","v":""},{"$f":"IF(D447<>\"\",Data!B448,\"\")","v":""},""]
[{"$f":"IF(D448<>\"\",Data!A449,\"\")","v":""},{"$f":"IF(D448<>\"\",Data!B449,\"\")","v":""},""]
[{"$f":"IF(D449<>\"\",Data!A450,\"\")","v":""},{"$f":"IF(D449<>\"\",Data!B450,\"\")","v":""},""]
[{"$f":"IF(D450<>\"\",Data!A451,\"\")","v":""},{"$f":"IF(D450<>\"\",Data!B451,\"\")","v":""},{"$f":"IF(D450<>\"\",MID(CELL(\"filename\",B450),FIND(\"]\",CELL(\"filename\",B450))+1,32),\"\")","v":""}]
[{"$f":"IF(D451<>\"\",Data!A452,\"\")","v":""},{"$f":"IF(D451<>\"\",Data!B452,\"\")","v":""},""]
[{"$f":"IF(D452<>\"\",Data!A453,\"\")","v":""},{"$f":"IF(D452<>\"\",Data!B453,\"\")","v":""},""]
[{"$f":"IF(D453<>\"\",Data!A454,\"\")","v":""},{"$f":"IF(D453<>\"\",Data!B454,\"\")","v":""},""]
[{"$f":"IF(D454<>\"\",Data!A455,\"\")","v":""},{"$f":"IF(D454<>\"\",Data!B455,\"\")","v":""},""]
[{"$f":"IF(D455<>\"\",Data!A456,\"\")","v":""},{"$f":"IF(D455<>\"\",Data!B456,\"\")","v":""},""]
[{"$f":"IF(D456<>\"\",Data!A457,\"\")","v":""},{"$f":"IF(D456<>\"\",Data!B457,\"\")","v":""},""]
[{"$f":"IF(D457<>\"\",Data!A458,\"\")","v":""},{"$f":"IF(D457<>\"\",Data!B458,\"\")","v":""},""]
[{"$f":"IF(D458<>\"\",Data!A459,\"\")","v":""},{"$f":"IF(D458<>\"\",Data!B459,\"\")","v":""},""]
[{"$f":"IF(D459<>\"\",Data!A460,\"\")","v":""},{"$f":"IF(D459<>\"\",Data!B460,\"\")","v":""},""]
[{"$f":"IF(D460<>\"\",Data!A461,\"\")","v":""},{"$f":"IF(D460<>\"\",Data!B461,\"\")","v":""},""]
[{"$f":"IF(D461<>\"\",Data!A462,\"\")","v":""},{"$f":"IF(D461<>\"\",Data!B462,\"\")","v":""},""]
[{"$f":"IF(D462<>\"\",Data!A463,\"\")","v":""},{"$f":"IF(D462<>\"\",Data!B463,\"\")","v":""},""]
[{"$f":"IF(D463<>\"\",Data!A464,\"\")","v":""},{"$f":"IF(D463<>\"\",Data!B464,\"\")","v":""},""]
[{"$f":"IF(D464<>\"\",Data!A465,\"\")","v":""},{"$f":"IF(D464<>\"\",Data!B465,\"\")","v":""},""]
[{"$f":"IF(D465<>\"\",Data!A466,\"\")","v":""},{"$f":"IF(D465<>\"\",Data!B466,\"\")","v":""},""]
[{"$f":"IF(D466<>\"\",Data!A467,\"\")","v":""},{"$f":"IF(D466<>\"\",Data!B467,\"\")","v":""},""]
[{"$f":"IF(D467<>\"\",Data!A468,\"\")","v":""},{"$f":"IF(D467<>\"\",Data!B468,\"\")","v":""},""]
[{"$f":"IF(D468<>\"\",Data!A469,\"\")","v":""},{"$f":"IF(D468<>\"\",Data!B469,\"\")","v":""},""]
[{"$f":"IF(D469<>\"\",Data!A470,\"\")","v":""},{"$f":"IF(D469<>\"\",Data!B470,\"\")","v":""},""]
[{"$f":"IF(D470<>\"\",Data!A471,\"\")","v":""},{"$f":"IF(D470<>\"\",Data!B471,\"\")","v":""},""]
[{"$f":"IF(D471<>\"\",Data!A472,\"\")","v":""},{"$f":"IF(D471<>\"\",Data!B472,\"\")","v":""},""]
[{"$f":"IF(D472<>\"\",Data!A473,\"\")","v":""},{"$f":"IF(D472<>\"\",Data!B473,\"\")","v":""},""]
[{"$f":"IF(D473<>\"\",Data!A474,\"\")","v":""},{"$f":"IF(D473<>\"\",Data!B474,\"\")","v":""},""]
[{"$f":"IF(D474<>\"\",Data!A475,\"\")","v":""},{"$f":"IF(D474<>\"\",Data!B475,\"\")","v":""},""]
[{"$f":"IF(D475<>\"\",Data!A476,\"\")","v":""},{"$f":"IF(D475<>\"\",Data!B476,\"\")","v":""},""]
[{"$f":"IF(D476<>\"\",Data!A477,\"\")","v":""},{"$f":"IF(D476<>\"\",Data!B477,\"\")","v":""},""]
[{"$f":"IF(D477<>\"\",Data!A478,\"\")","v":""},{"$f":"IF(D477<>\"\",Data!B478,\"\")","v":""},""]
[{"$f":"IF(D478<>\"\",Data!A479,\"\")","v":""},{"$f":"IF(D478<>\"\",Data!B479,\"\")","v":""},""]
[{"$f":"IF(D479<>\"\",Data!A480,\"\")","v":""},{"$f":"IF(D479<>\"\",Data!B480,\"\")","v":""},""]
[{"$f":"IF(D480<>\"\",Data!A481,\"\")","v":""},{"$f":"IF(D480<>\"\",Data!B481,\"\")","v":""},""]
[{"$f":"IF(D481<>\"\",Data!A482,\"\")","v":""},{"$f":"IF(D481<>\"\",Data!B482,\"\")","v":""},""]
[{"$f":"IF(D482<>\"\",Data!A483,\"\")","v":""},{"$f":"IF(D482<>\"\",Data!B483,\"\")","v":""},""]
[{"$f":"IF(D483<>\"\",Data!A484,\"\")","v":""},{"$f":"IF(D483<>\"\",Data!B484,\"\")","v":""},""]
[{"$f":"IF(D484<>\"\",Data!A485,\"\")","v":""},{"$f":"IF(D484<>\"\",Data!B485,\"\")","v":""},""]
[{"$f":"IF(D485<>\"\",Data!A486,\"\")","v":""},{"$f":"IF(D485<>\"\",Data!B486,\"\")","v":""},""]
[{"$f":"IF(D486<>\"\",Data!A487,\"\")","v":""},{"$f":"IF(D486<>\"\",Data!B487,\"\")","v":""},""]
[{"$f":"IF(D487<>\"\",Data!A488,\"\")","v":""},{"$f":"IF(D487<>\"\",Data!B488,\"\")","v":""},""]
[{"$f":"IF(D488<>\"\",Data!A489,\"\")","v":""},{"$f":"IF(D488<>\"\",Data!B489,\"\")","v":""},""]
[{"$f":"IF(D489<>\"\",Data!A490,\"\")","v":""},{"$f":"IF(D489<>\"\",Data!B490,\"\")","v":""},""]
[{"$f":"IF(D490<>\"\",Data!A491,\"\")","v":""},{"$f":"IF(D490<>\"\",Data!B491,\"\")","v":""},""]
[{"$f":"IF(D491<>\"\",Data!A492,\"\")","v":""},{"$f":"IF(D491<>\"\",Data!B492,\"\")","v":""},""]
[{"$f":"IF(D492<>\"\",Data!A493,\"\")","v":""},{"$f":"IF(D492<>\"\",Data!B493,\"\")","v":""},""]
[{"$f":"IF(D493<>\"\",Data!A494,\"\")","v":""},{"$f":"IF(D493<>\"\",Data!B494,\"\")","v":""},""]
[{"$f":"IF(D494<>\"\",Data!A495,\"\")","v":""},{"$f":"IF(D494<>\"\",Data!B495,\"\")","v":""},""]
[{"$f":"IF(D495<>\"\",Data!A496,\"\")","v":""},{"$f":"IF(D495<>\"\",Data!B496,\"\")","v":""},""]
[{"$f":"IF(D496<>\"\",Data!A497,\"\")","v":""},{"$f":"IF(D496<>\"\",Data!B497,\"\")","v":""},""]
[{"$f":"IF(D497<>\"\",Data!A498,\"\")","v":""},{"$f":"IF(D497<>\"\",Data!B498,\"\")","v":""},""]
[{"$f":"IF(D498<>\"\",Data!A499,\"\")","v":""},{"$f":"IF(D498<>\"\",Data!B499,\"\")","v":""},""]
[{"$f":"IF(D499<>\"\",Data!A500,\"\")","v":""},{"$f":"IF(D499<>\"\",Data!B500,\"\")","v":""},""]
[{"$f":"IF(D500<>\"\",Data!A501,\"\")","v":""},{"$f":"IF(D500<>\"\",Data!B501,\"\")","v":""},""]
[{"$f":"IF(D501<>\"\",Data!A502,\"\")","v":""},{"$f":"IF(D501<>\"\",Data!B502,\"\")","v":""},""]
[{"$f":"IF(D502<>\"\",Data!A503,\"\")","v":""},{"$f":"IF(D502<>\"\",Data!B503,\"\")","v":""},""]
[{"$f":"IF(D503<>\"\",Data!A504,\"\")","v":""},{"$f":"IF(D503<>\"\",Data!B504,\"\")","v":""},""]
[{"$f":"IF(D504<>\"\",Data!A505,\"\")","v":""},{"$f":"IF(D504<>\"\",Data!B505,\"\")","v":""},""]
[{"$f":"IF(D505<>\"\",Data!A506,\"\")","v":""},{"$f":"IF(D505<>\"\",Data!B506,\"\")","v":""},""]
[{"$f":"IF(D506<>\"\",Data!A507,\"\")","v":""},{"$f":"IF(D506<>\"\",Data!B507,\"\")","v":""},""]
[{"$f":"IF(D507<>\"\",Data!A508,\"\")","v":""},{"$f":"IF(D507<>\"\",Data!B508,\"\")","v":""},""]
[{"$f":"IF(D508<>\"\",Data!A509,\"\")","v":""},{"$f":"IF(D508<>\"\",Data!B509,\"\")","v":""},""]
[{"$f":"IF(D509<>\"\",Data!A510,\"\")","v":""},{"$f":"IF(D509<>\"\",Data!B510,\"\")","v":""},""]
[{"$f":"IF(D510<>\"\",Data!A511,\"\")","v":""},{"$f":"IF(D510<>\"\",Data!B511,\"\")","v":""},""]
[{"$f":"IF(D511<>\"\",Data!A512,\"\")","v":""},{"$f":"IF(D511<>\"\",Data!B512,\"\")","v":""},""]
[{"$f":"IF(D512<>\"\",Data!A513,\"\")","v":""},{"$f":"IF(D512<>\"\",Data!B513,\"\")","v":""},""]
[{"$f":"IF(D513<>\"\",Data!A514,\"\")","v":""},{"$f":"IF(D513<>\"\",Data!B514,\"\")","v":""},""]
[{"$f":"IF(D514<>\"\",Data!A515,\"\")","v":""},{"$f":"IF(D514<>\"\",Data!B515,\"\")","v":""},{"$f":"IF(D514<>\"\",MID(CELL(\"filename\",B514),FIND(\"]\",CELL(\"filename\",B514))+1,32),\"\")","v":""}]
[{"$f":"IF(D515<>\"\",Data!A516,\"\")","v":""},{"$f":"IF(D515<>\"\",Data!B516,\"\")","v":""},""]
[{"$f":"IF(D516<>\"\",Data!A517,\"\")","v":""},{"$f":"IF(D516<>\"\",Data!B517,\"\")","v":""},""]
[{"$f":"IF(D517<>\"\",Data!A518,\"\")","v":""},{"$f":"IF(D517<>\"\",Data!B518,\"\")","v":""},""]
[{"$f":"IF(D518<>\"\",Data!A519,\"\")","v":""},{"$f":"IF(D518<>\"\",Data!B519,\"\")","v":""},""]
[{"$f":"IF(D519<>\"\",Data!A520,\"\")","v":""},{"$f":"IF(D519<>\"\",Data!B520,\"\")","v":""},""]
[{"$f":"IF(D520<>\"\",Data!A521,\"\")","v":""},{"$f":"IF(D520<>\"\",Data!B521,\"\")","v":""},""]
[{"$f":"IF(D521<>\"\",Data!A522,\"\")","v":""},{"$f":"IF(D521<>\"\",Data!B522,\"\")","v":""},""]
[{"$f":"IF(D522<>\"\",Data!A523,\"\")","v":""},{"$f":"IF(D522<>\"\",Data!B523,\"\")","v":""},""]
[{"$f":"IF(D523<>\"\",Data!A524,\"\")","v":""},{"$f":"IF(D523<>\"\",Data!B524,\"\")","v":""},""]
[{"$f":"IF(D524<>\"\",Data!A525,\"\")","v":""},{"$f":"IF(D524<>\"\",Data!B525,\"\")","v":""},""]
[{"$f":"IF(D525<>\"\",Data!A526,\"\")","v":""},{"$f":"IF(D525<>\"\",Data!B526,\"\")","v":""},""]
[{"$f":"IF(D526<>\"\",Data!A527,\"\")","v":""},{"$f":"IF(D526<>\"\",Data!B527,\"\")","v":""},""]
[{"$f":"IF(D527<>\"\",Data!A528,\"\")","v":""},{"$f":"IF(D527<>\"\",Data!B528,\"\")","v":""},""]
[{"$f":"IF(D528<>\"\",Data!A529,\"\")","v":""},{"$f":"IF(D528<>\"\",Data!B529,\"\")","v":""},""]
[{"$f":"IF(D529<>\"\",Data!A530,\"\")","v":""},{"$f":"IF(D529<>\"\",Data!B530,\"\")","v":""},""]
[{"$f":"IF(D530<>\"\",Data!A531,\"\")","v":""},{"$f":"IF(D530<>\"\",Data!B531,\"\")","v":""},""]
[{"$f":"IF(D531<>\"\",Data!A532,\"\")","v":""},{"$f":"IF(D531<>\"\",Data!B532,\"\")","v":""},""]
[{"$f":"IF(D532<>\"\",Data!A533,\"\")","v":""},{"$f":"IF(D532<>\"\",Data!B533,\"\")","v":""},""]
[{"$f":"IF(D533<>\"\",Data!A534,\"\")","v":""},{"$f":"IF(D533<>\"\",Data!B534,\"\")","v":""},""]
[{"$f":"IF(D534<>\"\",Data!A535,\"\")","v":""},{"$f":"IF(D534<>\"\",Data!B535,\"\")","v":""},""]
[{"$f":"IF(D535<>\"\",Data!A536,\"\")","v":""},{"$f":"IF(D535<>\"\",Data!B536,\"\")","v":""},""]
[{"$f":"IF(D536<>\"\",Data!A537,\"\")","v":""},{"$f":"IF(D536<>\"\",Data!B537,\"\")","v":""},""]
[{"$f":"IF(D537<>\"\",Data!A538,\"\")","v":""},{"$f":"IF(D537<>\"\",Data!B538,\"\")","v":""},""]
[{"$f":"IF(D538<>\"\",Data!A539,\"\")","v":""},{"$f":"IF(D538<>\"\",Data!B539,\"\")","v":""},""]
[{"$f":"IF(D539<>\"\",Data!A540,\"\")","v":""},{"$f":"IF(D539<>\"\",Data!B540,\"\")","v":""},""]
[{"$f":"IF(D540<>\"\",Data!A541,\"\")","v":""},{"$f":"IF(D540<>\"\",Data!B541,\"\")","v":""},""]
[{"$f":"IF(D541<>\"\",Data!A542,\"\")","v":""},{"$f":"IF(D541<>\"\",Data!B542,\"\")","v":""},""]
[{"$f":"IF(D542<>\"\",Data!A543,\"\")","v":""},{"$f":"IF(D542<>\"\",Data!B543,\"\")","v":""},""]
[{"$f":"IF(D543<>\"\",Data!A544,\"\")","v":""},{"$f":"IF(D543<>\"\",Data!B544,\"\")","v":""},""]
[{"$f":"IF(D544<>\"\",Data!A545,\"\")","v":""},{"$f":"IF(D544<>\"\",Data!B545,\"\")","v":""},""]
[{"$f":"IF(D545<>\"\",Data!A546,\"\")","v":""},{"$f":"IF(D545<>\"\",Data!B546,\"\")","v":""},""]
[{"$f":"IF(D546<>\"\",Data!A547,\"\")","v":""},{"$f":"IF(D546<>\"\",Data!B547,\"\")","v":""},""]
[{"$f":"IF(D547<>\"\",Data!A548,\"\")","v":""},{"$f":"IF(D547<>\"\",Data!B548,\"\")","v":""},""]
[{"$f":"IF(D548<>\"\",Data!A549,\"\")","v":""},{"$f":"IF(D548<>\"\",Data!B549,\"\")","v":""},""]
[{"$f":"IF(D549<>\"\",Data!A550,\"\")","v":""},{"$f":"IF(D549<>\"\",Data!B550,\"\")","v":""},""]
[{"$f":"IF(D550<>\"\",Data!A551,\"\")","v":""},{"$f":"IF(D550<>\"\",Data!B551,\"\")","v":""},""]
[{"$f":"IF(D551<>\"\",Data!A552,\"\")","v":""},{"$f":"IF(D551<>\"\",Data!B552,\"\")","v":""},""]
[{"$f":"IF(D552<>\"\",Data!A553,\"\")","v":""},{"$f":"IF(D552<>\"\",Data!B553,\"\")","v":""},""]
[{"$f":"IF(D553<>\"\",Data!A554,\"\")","v":""},{"$f":"IF(D553<>\"\",Data!B554,\"\")","v":""},""]
[{"$f":"IF(D554<>\"\",Data!A555,\"\")","v":""},{"$f":"IF(D554<>\"\",Data!B555,\"\")","v":""},""]
[{"$f":"IF(D555<>\"\",Data!A556,\"\")","v":""},{"$f":"IF(D555<>\"\",Data!B556,\"\")","v":""},""]
[{"$f":"IF(D556<>\"\",Data!A557,\"\")","v":""},{"$f":"IF(D556<>\"\",Data!B557,\"\")","v":""},""]
[{"$f":"IF(D557<>\"\",Data!A558,\"\")","v":""},{"$f":"IF(D557<>\"\",Data!B558,\"\")","v":""},""]
[{"$f":"IF(D558<>\"\",Data!A559,\"\")","v":""},{"$f":"IF(D558<>\"\",Data!B559,\"\")","v":""},""]
[{"$f":"IF(D559<>\"\",Data!A560,\"\")","v":""},{"$f":"IF(D559<>\"\",Data!B560,\"\")","v":""},""]
[{"$f":"IF(D560<>\"\",Data!A561,\"\")","v":""},{"$f":"IF(D560<>\"\",Data!B561,\"\")","v":""},""]
[{"$f":"IF(D561<>\"\",Data!A562,\"\")","v":""},{"$f":"IF(D561<>\"\",Data!B562,\"\")","v":""},""]
[{"$f":"IF(D562<>\"\",Data!A563,\"\")","v":""},{"$f":"IF(D562<>\"\",Data!B563,\"\")","v":""},""]
[{"$f":"IF(D563<>\"\",Data!A564,\"\")","v":""},{"$f":"IF(D563<>\"\",Data!B564,\"\")","v":""},""]
[{"$f":"IF(D564<>\"\",Data!A565,\"\")","v":""},{"$f":"IF(D564<>\"\",Data!B565,\"\")","v":""},""]
[{"$f":"IF(D565<>\"\",Data!A566,\"\")","v":""},{"$f":"IF(D565<>\"\",Data!B566,\"\")","v":""},""]
[{"$f":"IF(D566<>\"\",Data!A567,\"\")","v":""},{"$f":"IF(D566<>\"\",Data!B567,\"\")","v":""},""]
[{"$f":"IF(D567<>\"\",Data!A568,\"\")","v":""},{"$f":"IF(D567<>\"\",Data!B568,\"\")","v":""},""]
[{"$f":"IF(D568<>\"\",Data!A569,\"\")","v":""},{"$f":"IF(D568<>\"\",Data!B569,\"\")","v":""},""]
[{"$f":"IF(D569<>\"\",Data!A570,\"\")","v":""},{"$f":"IF(D569<>\"\",Data!B570,\"\")","v":""},""]
[{"$f":"IF(D570<>\"\",Data!A571,\"\")","v":""},{"$f":"IF(D570<>\"\",Data!B571,\"\")","v":""},""]
[{"$f":"IF(D571<>\"\",Data!A572,\"\")","v":""},{"$f":"IF(D571<>\"\",Data!B572,\"\")","v":""},""]
[{"$f":"IF(D572<>\"\",Data!A573,\"\")","v":""},{"$f":"IF(D572<>\"\",Data!B573,\"\")","v":""},""]
[{"$f":"IF(D573<>\"\",Data!A574,\"\")","v":""},{"$f":"IF(D573<>\"\",Data!B574,\"\")","v":""},""]
[{"$f":"IF(D574<>\"\",Data!A575,\"\")","v":""},{"$f":"IF(D574<>\"\",Data!B575,\"\")","v":""},""]
[{"$f":"IF(D575<>\"\",Data!A576,\"\")","v":""},{"$f":"IF(D575<>\"\",Data!B576,\"\")","v":""},""]
[{"$f":"IF(D576<>\"\",Data!A577,\"\")","v":""},{"$f":"IF(D576<>\"\",Data!B577,\"\")","v":""},""]
[{"$f":"IF(D577<>\"\",Data!A578,\"\")","v":""},{"$f":"IF(D577<>\"\",Data!B578,\"\")","v":""},""]
[{"$f":"IF(D578<>\"\",Data!A579,\"\")","v":""},{"$f":"IF(D578<>\"\",Data!B579,\"\")","v":""},{"$f":"IF(D578<>\"\",MID(CELL(\"filename\",B578),FIND(\"]\",CELL(\"filename\",B578))+1,32),\"\")","v":""}]
[{"$f":"IF(D579<>\"\",Data!A580,\"\")","v":""},{"$f":"IF(D579<>\"\",Data!B580,\"\")","v":""},""]
[{"$f":"IF(D580<>\"\",Data!A581,\"\")","v":""},{"$f":"IF(D580<>\"\",Data!B581,\"\")","v":""},""]
[{"$f":"IF(D581<>\"\",Data!A582,\"\")","v":""},{"$f":"IF(D581<>\"\",Data!B582,\"\")","v":""},""]
[{"$f":"IF(D582<>\"\",Data!A583,\"\")","v":""},{"$f":"IF(D582<>\"\",Data!B583,\"\")","v":""},""]
[{"$f":"IF(D583<>\"\",Data!A584,\"\")","v":""},{"$f":"IF(D583<>\"\",Data!B584,\"\")","v":""},""]
[{"$f":"IF(D584<>\"\",Data!A585,\"\")","v":""},{"$f":"IF(D584<>\"\",Data!B585,\"\")","v":""},""]
[{"$f":"IF(D585<>\"\",Data!A586,\"\")","v":""},{"$f":"IF(D585<>\"\",Data!B586,\"\")","v":""},""]
[{"$f":"IF(D586<>\"\",Data!A587,\"\")","v":""},{"$f":"IF(D586<>\"\",Data!B587,\"\")","v":""},""]
[{"$f":"IF(D587<>\"\",Data!A588,\"\")","v":""},{"$f":"IF(D587<>\"\",Data!B588,\"\")","v":""},""]
[{"$f":"IF(D588<>\"\",Data!A589,\"\")","v":""},{"$f":"IF(D588<>\"\",Data!B589,\"\")","v":""},""]
[{"$f":"IF(D589<>\"\",Data!A590,\"\")","v":""},{"$f":"IF(D589<>\"\",Data!B590,\"\")","v":""},""]
[{"$f":"IF(D590<>\"\",Data!A591,\"\")","v":""},{"$f":"IF(D590<>\"\",Data!B591,\"\")","v":""},""]
[{"$f":"IF(D591<>\"\",Data!A592,\"\")","v":""},{"$f":"IF(D591<>\"\",Data!B592,\"\")","v":""},""]
[{"$f":"IF(D592<>\"\",Data!A593,\"\")","v":""},{"$f":"IF(D592<>\"\",Data!B593,\"\")","v":""},""]
[{"$f":"IF(D593<>\"\",Data!A594,\"\")","v":""},{"$f":"IF(D593<>\"\",Data!B594,\"\")","v":""},""]
[{"$f":"IF(D594<>\"\",Data!A595,\"\")","v":""},{"$f":"IF(D594<>\"\",Data!B595,\"\")","v":""},""]
[{"$f":"IF(D595<>\"\",Data!A596,\"\")","v":""},{"$f":"IF(D595<>\"\",Data!B596,\"\")","v":""},""]
[{"$f":"IF(D596<>\"\",Data!A597,\"\")","v":""},{"$f":"IF(D596<>\"\",Data!B597,\"\")","v":""},""]
[{"$f":"IF(D597<>\"\",Data!A598,\"\")","v":""},{"$f":"IF(D597<>\"\",Data!B598,\"\")","v":""},""]
[{"$f":"IF(D598<>\"\",Data!A599,\"\")","v":""},{"$f":"IF(D598<>\"\",Data!B599,\"\")","v":""},""]
[{"$f":"IF(D599<>\"\",Data!A600,\"\")","v":""},{"$f":"IF(D599<>\"\",Data!B600,\"\")","v":""},""]
[{"$f":"IF(D600<>\"\",Data!A601,\"\")","v":""},{"$f":"IF(D600<>\"\",Data!B601,\"\")","v":""},""]
[{"$f":"IF(D601<>\"\",Data!A602,\"\")","v":""},{"$f":"IF(D601<>\"\",Data!B602,\"\")","v":""},""]
[{"$f":"IF(D602<>\"\",Data!A603,\"\")","v":""},{"$f":"IF(D602<>\"\",Data!B603,\"\")","v":""},""]
[{"$f":"IF(D603<>\"\",Data!A604,\"\")","v":""},{"$f":"IF(D603<>\"\",Data!B604,\"\")","v":""},""]
[{"$f":"IF(D604<>\"\",Data!A605,\"\")","v":""},{"$f":"IF(D604<>\"\",Data!B605,\"\")","v":""},""]
[{"$f":"IF(D605<>\"\",Data!A606,\"\")","v":""},{"$f":"IF(D605<>\"\",Data!B606,\"\")","v":""},""]
[{"$f":"IF(D606<>\"\",Data!A607,\"\")","v":""},{"$f":"IF(D606<>\"\",Data!B607,\"\")","v":""},""]
[{"$f":"IF(D607<>\"\",Data!A608,\"\")","v":""},{"$f":"IF(D607<>\"\",Data!B608,\"\")","v":""},""]
[{"$f":"IF(D608<>\"\",Data!A609,\"\")","v":""},{"$f":"IF(D608<>\"\",Data!B609,\"\")","v":""},""]
[{"$f":"IF(D609<>\"\",Data!A610,\"\")","v":""},{"$f":"IF(D609<>\"\",Data!B610,\"\")","v":""},""]
[{"$f":"IF(D610<>\"\",Data!A611,\"\")","v":""},{"$f":"IF(D610<>\"\",Data!B611,\"\")","v":""},""]
[{"$f":"IF(D611<>\"\",Data!A612,\"\")","v":""},{"$f":"IF(D611<>\"\",Data!B612,\"\")","v":""},""]
[{"$f":"IF(D612<>\"\",Data!A613,\"\")","v":""},{"$f":"IF(D612<>\"\",Data!B613,\"\")","v":""},""]
[{"$f":"IF(D613<>\"\",Data!A614,\"\")","v":""},{"$f":"IF(D613<>\"\",Data!B614,\"\")","v":""},""]
[{"$f":"IF(D614<>\"\",Data!A615,\"\")","v":""},{"$f":"IF(D614<>\"\",Data!B615,\"\")","v":""},""]
[{"$f":"IF(D615<>\"\",Data!A616,\"\")","v":""},{"$f":"IF(D615<>\"\",Data!B616,\"\")","v":""},""]
[{"$f":"IF(D616<>\"\",Data!A617,\"\")","v":""},{"$f":"IF(D616<>\"\",Data!B617,\"\")","v":""},""]
[{"$f":"IF(D617<>\"\",Data!A618,\"\")","v":""},{"$f":"IF(D617<>\"\",Data!B618,\"\")","v":""},""]
[{"$f":"IF(D618<>\"\",Data!A619,\"\")","v":""},{"$f":"IF(D618<>\"\",Data!B619,\"\")","v":""},""]
[{"$f":"IF(D619<>\"\",Data!A620,\"\")","v":""},{"$f":"IF(D619<>\"\",Data!B620,\"\")","v":""},""]
[{"$f":"IF(D620<>\"\",Data!A621,\"\")","v":""},{"$f":"IF(D620<>\"\",Data!B621,\"\")","v":""},""]
[{"$f":"IF(D621<>\"\",Data!A622,\"\")","v":""},{"$f":"IF(D621<>\"\",Data!B622,\"\")","v":""},""]
[{"$f":"IF(D622<>\"\",Data!A623,\"\")","v":""},{"$f":"IF(D622<>\"\",Data!B623,\"\")","v":""},""]
[{"$f":"IF(D623<>\"\",Data!A624,\"\")","v":""},{"$f":"IF(D623<>\"\",Data!B624,\"\")","v":""},""]
[{"$f":"IF(D624<>\"\",Data!A625,\"\")","v":""},{"$f":"IF(D624<>\"\",Data!B625,\"\")","v":""},""]
[{"$f":"IF(D625<>\"\",Data!A626,\"\")","v":""},{"$f":"IF(D625<>\"\",Data!B626,\"\")","v":""},""]
[{"$f":"IF(D626<>\"\",Data!A627,\"\")","v":""},{"$f":"IF(D626<>\"\",Data!B627,\"\")","v":""},""]
[{"$f":"IF(D627<>\"\",Data!A628,\"\")","v":""},{"$f":"IF(D627<>\"\",Data!B628,\"\")","v":""},""]
[{"$f":"IF(D628<>\"\",Data!A629,\"\")","v":""},{"$f":"IF(D628<>\"\",Data!B629,\"\")","v":""},""]
[{"$f":"IF(D629<>\"\",Data!A630,\"\")","v":""},{"$f":"IF(D629<>\"\",Data!B630,\"\")","v":""},""]
[{"$f":"IF(D630<>\"\",Data!A631,\"\")","v":""},{"$f":"IF(D630<>\"\",Data!B631,\"\")","v":""},""]
[{"$f":"IF(D631<>\"\",Data!A632,\"\")","v":""},{"$f":"IF(D631<>\"\",Data!B632,\"\")","v":""},""]
[{"$f":"IF(D632<>\"\",Data!A633,\"\")","v":""},{"$f":"IF(D632<>\"\",Data!B633,\"\")","v":""},""]
[{"$f":"IF(D633<>\"\",Data!A634,\"\")","v":""},{"$f":"IF(D633<>\"\",Data!B634,\"\")","v":""},""]
[{"$f":"IF(D634<>\"\",Data!A635,\"\")","v":""},{"$f":"IF(D634<>\"\",Data!B635,\"\")","v":""},""]
[{"$f":"IF(D635<>\"\",Data!A636,\"\")","v":""},{"$f":"IF(D635<>\"\",Data!B636,\"\")","v":""},""]
[{"$f":"IF(D636<>\"\",Data!A637,\"\")","v":""},{"$f":"IF(D636<>\"\",Data!B637,\"\")","v":""},""]
[{"$f":"IF(D637<>\"\",Data!A638,\"\")","v":""},{"$f":"IF(D637<>\"\",Data!B638,\"\")","v":""},""]
[{"$f":"IF(D638<>\"\",Data!A639,\"\")","v":""},{"$f":"IF(D638<>\"\",Data!B639,\"\")","v":""},""]
[{"$f":"IF(D639<>\"\",Data!A640,\"\")","v":""},{"$f":"IF(D639<>\"\",Data!B640,\"\")","v":""},""]
[{"$f":"IF(D640<>\"\",Data!A641,\"\")","v":""},{"$f":"IF(D640<>\"\",Data!B641,\"\")","v":""},""]
[{"$f":"IF(D641<>\"\",Data!A642,\"\")","v":""},{"$f":"IF(D641<>\"\",Data!B642,\"\")","v":""},""]
[{"$f":"IF(D642<>\"\",Data!A643,\"\")","v":""},{"$f":"IF(D642<>\"\",Data!B643,\"\")","v":""},{"$f":"IF(D642<>\"\",MID(CELL(\"filename\",B642),FIND(\"]\",CELL(\"filename\",B642))+1,32),\"\")","v":""}]
[{"$f":"IF(D643<>\"\",Data!A644,\"\")","v":""},{"$f":"IF(D643<>\"\",Data!B644,\"\")","v":""},""]
[{"$f":"IF(D644<>\"\",Data!A645,\"\")","v":""},{"$f":"IF(D644<>\"\",Data!B645,\"\")","v":""},""]
[{"$f":"IF(D645<>\"\",Data!A646,\"\")","v":""},{"$f":"IF(D645<>\"\",Data!B646,\"\")","v":""},""]
[{"$f":"IF(D646<>\"\",Data!A647,\"\")","v":""},{"$f":"IF(D646<>\"\",Data!B647,\"\")","v":""},""]
[{"$f":"IF(D647<>\"\",Data!A648,\"\")","v":""},{"$f":"IF(D647<>\"\",Data!B648,\"\")","v":""},""]
[{"$f":"IF(D648<>\"\",Data!A649,\"\")","v":""},{"$f":"IF(D648<>\"\",Data!B649,\"\")","v":""},""]
[{"$f":"IF(D649<>\"\",Data!A650,\"\")","v":""},{"$f":"IF(D649<>\"\",Data!B650,\"\")","v":""},""]
[{"$f":"IF(D650<>\"\",Data!A651,\"\")","v":""},{"$f":"IF(D650<>\"\",Data!B651,\"\")","v":""},""]
[{"$f":"IF(D651<>\"\",Data!A652,\"\")","v":""},{"$f":"IF(D651<>\"\",Data!B652,\"\")","v":""},""]
[{"$f":"IF(D652<>\"\",Data!A653,\"\")","v":""},{"$f":"IF(D652<>\"\",Data!B653,\"\")","v":""},""]
[{"$f":"IF(D653<>\"\",Data!A654,\"\")","v":""},{"$f":"IF(D653<>\"\",Data!B654,\"\")","v":""},""]
[{"$f":"IF(D654<>\"\",Data!A655,\"\")","v":""},{"$f":"IF(D654<>\"\",Data!B655,\"\")","v":""},""]
[{"$f":"IF(D655<>\"\",Data!A656,\"\")","v":""},{"$f":"IF(D655<>\"\",Data!B656,\"\")","v":""},""]
[{"$f":"IF(D656<>\"\",Data!A657,\"\")","v":""},{"$f":"IF(D656<>\"\",Data!B657,\"\")","v":""},""]
[{"$f":"IF(D657<>\"\",Data!A658,\"\")","v":""},{"$f":"IF(D657<>\"\",Data!B658,\"\")","v":""},""]
[{"$f":"IF(D658<>\"\",Data!A659,\"\")","v":""},{"$f":"IF(D658<>\"\",Data!B659,\"\")","v":""},""]
[{"$f":"IF(D659<>\"\",Data!A660,\"\")","v":""},{"$f":"IF(D659<>\"\",Data!B660,\"\")","v":""},""]
[{"$f":"IF(D660<>\"\",Data!A661,\"\")","v":""},{"$f":"IF(D660<>\"\",Data!B661,\"\")","v":""},""]
[{"$f":"IF(D661<>\"\",Data!A662,\"\")","v":""},{"$f":"IF(D661<>\"\",Data!B662,\"\")","v":""},""]
[{"$f":"IF(D662<>\"\",Data!A663,\"\")","v":""},{"$f":"IF(D662<>\"\",Data!B663,\"\")","v":""},""]
[{"$f":"IF(D663<>\"\",Data!A664,\"\")","v":""},{"$f":"IF(D663<>\"\",Data!B664,\"\")","v":""},""]
[{"$f":"IF(D664<>\"\",Data!A665,\"\")","v":""},{"$f":"IF(D664<>\"\",Data!B665,\"\")","v":""},""]
[{"$f":"IF(D665<>\"\",Data!A666,\"\")","v":""},{"$f":"IF(D665<>\"\",Data!B666,\"\")","v":""},""]
[{"$f":"IF(D666<>\"\",Data!A667,\"\")","v":""},{"$f":"IF(D666<>\"\",Data!B667,\"\")","v":""},""]
[{"$f":"IF(D667<>\"\",Data!A668,\"\")","v":""},{"$f":"IF(D667<>\"\",Data!B668,\"\")","v":""},""]
[{"$f":"IF(D668<>\"\",Data!A669,\"\")","v":""},{"$f":"IF(D668<>\"\",Data!B669,\"\")","v":""},""]
[{"$f":"IF(D669<>\"\",Data!A670,\"\")","v":""},{"$f":"IF(D669<>\"\",Data!B670,\"\")","v":""},""]
[{"$f":"IF(D670<>\"\",Data!A671,\"\")","v":""},{"$f":"IF(D670<>\"\",Data!B671,\"\")","v":""},""]
[{"$f":"IF(D671<>\"\",Data!A672,\"\")","v":""},{"$f":"IF(D671<>\"\",Data!B672,\"\")","v":""},""]
[{"$f":"IF(D672<>\"\",Data!A673,\"\")","v":""},{"$f":"IF(D672<>\"\",Data!B673,\"\")","v":""},""]
[{"$f":"IF(D673<>\"\",Data!A674,\"\")","v":""},{"$f":"IF(D673<>\"\",Data!B674,\"\")","v":""},""]
[{"$f":"IF(D674<>\"\",Data!A675,\"\")","v":""},{"$f":"IF(D674<>\"\",Data!B675,\"\")","v":""},""]
[{"$f":"IF(D675<>\"\",Data!A676,\"\")","v":""},{"$f":"IF(D675<>\"\",Data!B676,\"\")","v":""},""]
[{"$f":"IF(D676<>\"\",Data!A677,\"\")","v":""},{"$f":"IF(D676<>\"\",Data!B677,\"\")","v":""},""]
[{"$f":"IF(D677<>\"\",Data!A678,\"\")","v":""},{"$f":"IF(D677<>\"\",Data!B678,\"\")","v":""},""]
[{"$f":"IF(D678<>\"\",Data!A679,\"\")","v":""},{"$f":"IF(D678<>\"\",Data!B679,\"\")","v":""},""]
[{"$f":"IF(D679<>\"\",Data!A680,\"\")","v":""},{"$f":"IF(D679<>\"\",Data!B680,\"\")","v":""},""]
[{"$f":"IF(D680<>\"\",Data!A681,\"\")","v":""},{"$f":"IF(D680<>\"\",Data!B681,\"\")","v":""},""]
[{"$f":"IF(D681<>\"\",Data!A682,\"\")","v":""},{"$f":"IF(D681<>\"\",Data!B682,\"\")","v":""},""]
[{"$f":"IF(D682<>\"\",Data!A683,\"\")","v":""},{"$f":"IF(D682<>\"\",Data!B683,\"\")","v":""},""]
[{"$f":"IF(D683<>\"\",Data!A684,\"\")","v":""},{"$f":"IF(D683<>\"\",Data!B684,\"\")","v":""},""]
[{"$f":"IF(D684<>\"\",Data!A685,\"\")","v":""},{"$f":"IF(D684<>\"\",Data!B685,\"\")","v":""},""]
[{"$f":"IF(D685<>\"\",Data!A686,\"\")","v":""},{"$f":"IF(D685<>\"\",Data!B686,\"\")","v":""},""]
[{"$f":"IF(D686<>\"\",Data!A687,\"\")","v":""},{"$f":"IF(D686<>\"\",Data!B687,\"\")","v":""},""]
[{"$f":"IF(D687<>\"\",Data!A688,\"\")","v":""},{"$f":"IF(D687<>\"\",Data!B688,\"\")","v":""},""]
[{"$f":"IF(D688<>\"\",Data!A689,\"\")","v":""},{"$f":"IF(D688<>\"\",Data!B689,\"\")","v":""},""]
[{"$f":"IF(D689<>\"\",Data!A690,\"\")","v":""},{"$f":"IF(D689<>\"\",Data!B690,\"\")","v":""},""]
[{"$f":"IF(D690<>\"\",Data!A691,\"\")","v":""},{"$f":"IF(D690<>\"\",Data!B691,\"\")","v":""},""]
[{"$f":"IF(D691<>\"\",Data!A692,\"\")","v":""},{"$f":"IF(D691<>\"\",Data!B692,\"\")","v":""},""]
[{"$f":"IF(D692<>\"\",Data!A693,\"\")","v":""},{"$f":"IF(D692<>\"\",Data!B693,\"\")","v":""},""]
[{"$f":"IF(D693<>\"\",Data!A694,\"\")","v":""},{"$f":"IF(D693<>\"\",Data!B694,\"\")","v":""},""]
[{"$f":"IF(D694<>\"\",Data!A695,\"\")","v":""},{"$f":"IF(D694<>\"\",Data!B695,\"\")","v":""},""]
[{"$f":"IF(D695<>\"\",Data!A696,\"\")","v":""},{"$f":"IF(D695<>\"\",Data!B696,\"\")","v":""},""]
[{"$f":"IF(D696<>\"\",Data!A697,\"\")","v":""},{"$f":"IF(D696<>\"\",Data!B697,\"\")","v":""},""]
[{"$f":"IF(D697<>\"\",Data!A698,\"\")","v":""},{"$f":"IF(D697<>\"\",Data!B698,\"\")","v":""},""]
[{"$f":"IF(D698<>\"\",Data!A699,\"\")","v":""},{"$f":"IF(D698<>\"\",Data!B699,\"\")","v":""},""]
[{"$f":"IF(D699<>\"\",Data!A700,\"\")","v":""},{"$f":"IF(D699<>\"\",Data!B700,\"\")","v":""},""]
[{"$f":"IF(D700<>\"\",Data!A701,\"\")","v":""},{"$f":"IF(D700<>\"\",Data!B701,\"\")","v":""},""]
[{"$f":"IF(D701<>\"\",Data!A702,\"\")","v":""},{"$f":"IF(D701<>\"\",Data!B702,\"\")","v":""},""]
[{"$f":"IF(D702<>\"\",Data!A703,\"\")","v":""},{"$f":"IF(D702<>\"\",Data!B703,\"\")","v":""},""]
[{"$f":"IF(D703<>\"\",Data!A704,\"\")","v":""},{"$f":"IF(D703<>\"\",Data!B704,\"\")","v":""},""]
[{"$f":"IF(D704<>\"\",Data!A705,\"\")","v":""},{"$f":"IF(D704<>\"\",Data!B705,\"\")","v":""},""]
[{"$f":"IF(D705<>\"\",Data!A706,\"\")","v":""},{"$f":"IF(D705<>\"\",Data!B706,\"\")","v":""},""]
[{"$f":"IF(D706<>\"\",Data!A707,\"\")","v":""},{"$f":"IF(D706<>\"\",Data!B707,\"\")","v":""},{"$f":"IF(D706<>\"\",MID(CELL(\"filename\",B706),FIND(\"]\",CELL(\"filename\",B706))+1,32),\"\")","v":""}]
[{"$f":"IF(D707<>\"\",Data!A708,\"\")","v":""},{"$f":"IF(D707<>\"\",Data!B708,\"\")","v":""},""]
[{"$f":"IF(D708<>\"\",Data!A709,\"\")","v":""},{"$f":"IF(D708<>\"\",Data!B709,\"\")","v":""},""]
[{"$f":"IF(D709<>\"\",Data!A710,\"\")","v":""},{"$f":"IF(D709<>\"\",Data!B710,\"\")","v":""},""]
[{"$f":"IF(D710<>\"\",Data!A711,\"\")","v":""},{"$f":"IF(D710<>\"\",Data!B711,\"\")","v":""},""]
[{"$f":"IF(D711<>\"\",Data!A712,\"\")","v":""},{"$f":"IF(D711<>\"\",Data!B712,\"\")","v":""},""]
[{"$f":"IF(D712<>\"\",Data!A713,\"\")","v":""},{"$f":"IF(D712<>\"\",Data!B713,\"\")","v":""},""]
[{"$f":"IF(D713<>\"\",Data!A714,\"\")","v":""},{"$f":"IF(D713<>\"\",Data!B714,\"\")","v":""},""]
[{"$f":"IF(D714<>\"\",Data!A715,\"\")","v":""},{"$f":"IF(D714<>\"\",Data!B715,\"\")","v":""},""]
[{"$f":"IF(D715<>\"\",Data!A716,\"\")","v":""},{"$f":"IF(D715<>\"\",Data!B716,\"\")","v":""},""]
[{"$f":"IF(D716<>\"\",Data!A717,\"\")","v":""},{"$f":"IF(D716<>\"\",Data!B717,\"\")","v":""},""]
[{"$f":"IF(D717<>\"\",Data!A718,\"\")","v":""},{"$f":"IF(D717<>\"\",Data!B718,\"\")","v":""},""]
[{"$f":"IF(D718<>\"\",Data!A719,\"\")","v":""},{"$f":"IF(D718<>\"\",Data!B719,\"\")","v":""},""]
[{"$f":"IF(D719<>\"\",Data!A720,\"\")","v":""},{"$f":"IF(D719<>\"\",Data!B720,\"\")","v":""},""]
[{"$f":"IF(D720<>\"\",Data!A721,\"\")","v":""},{"$f":"IF(D720<>\"\",Data!B721,\"\")","v":""},""]
[{"$f":"IF(D721<>\"\",Data!A722,\"\")","v":""},{"$f":"IF(D721<>\"\",Data!B722,\"\")","v":""},""]
[{"$f":"IF(D722<>\"\",Data!A723,\"\")","v":""},{"$f":"IF(D722<>\"\",Data!B723,\"\")","v":""},""]
[{"$f":"IF(D723<>\"\",Data!A724,\"\")","v":""},{"$f":"IF(D723<>\"\",Data!B724,\"\")","v":""},""]
[{"$f":"IF(D724<>\"\",Data!A725,\"\")","v":""},{"$f":"IF(D724<>\"\",Data!B725,\"\")","v":""},""]
[{"$f":"IF(D725<>\"\",Data!A726,\"\")","v":""},{"$f":"IF(D725<>\"\",Data!B726,\"\")","v":""},""]
[{"$f":"IF(D726<>\"\",Data!A727,\"\")","v":""},{"$f":"IF(D726<>\"\",Data!B727,\"\")","v":""},""]
[{"$f":"IF(D727<>\"\",Data!A728,\"\")","v":""},{"$f":"IF(D727<>\"\",Data!B728,\"\")","v":""},""]
[{"$f":"IF(D728<>\"\",Data!A729,\"\")","v":""},{"$f":"IF(D728<>\"\",Data!B729,\"\")","v":""},""]
[{"$f":"IF(D729<>\"\",Data!A730,\"\")","v":""},{"$f":"IF(D729<>\"\",Data!B730,\"\")","v":""},""]
[{"$f":"IF(D730<>\"\",Data!A731,\"\")","v":""},{"$f":"IF(D730<>\"\",Data!B731,\"\")","v":""},""]
[{"$f":"IF(D731<>\"\",Data!A732,\"\")","v":""},{"$f":"IF(D731<>\"\",Data!B732,\"\")","v":""},""]
[{"$f":"IF(D732<>\"\",Data!A733,\"\")","v":""},{"$f":"IF(D732<>\"\",Data!B733,\"\")","v":""},""]
[{"$f":"IF(D733<>\"\",Data!A734,\"\")","v":""},{"$f":"IF(D733<>\"\",Data!B734,\"\")","v":""},""]
[{"$f":"IF(D734<>\"\",Data!A735,\"\")","v":""},{"$f":"IF(D734<>\"\",Data!B735,\"\")","v":""},""]
[{"$f":"IF(D735<>\"\",Data!A736,\"\")","v":""},{"$f":"IF(D735<>\"\",Data!B736,\"\")","v":""},""]
[{"$f":"IF(D736<>\"\",Data!A737,\"\")","v":""},{"$f":"IF(D736<>\"\",Data!B737,\"\")","v":""},""]
[{"$f":"IF(D737<>\"\",Data!A738,\"\")","v":""},{"$f":"IF(D737<>\"\",Data!B738,\"\")","v":""},""]
[{"$f":"IF(D738<>\"\",Data!A739,\"\")","v":""},{"$f":"IF(D738<>\"\",Data!B739,\"\")","v":""},""]
[{"$f":"IF(D739<>\"\",Data!A740,\"\")","v":""},{"$f":"IF(D739<>\"\",Data!B740,\"\")","v":""},""]
[{"$f":"IF(D740<>\"\",Data!A741,\"\")","v":""},{"$f":"IF(D740<>\"\",Data!B741,\"\")","v":""},""]
[{"$f":"IF(D741<>\"\",Data!A742,\"\")","v":""},{"$f":"IF(D741<>\"\",Data!B742,\"\")","v":""},""]
[{"$f":"IF(D742<>\"\",Data!A743,\"\")","v":""},{"$f":"IF(D742<>\"\",Data!B743,\"\")","v":""},""]
[{"$f":"IF(D743<>\"\",Data!A744,\"\")","v":""},{"$f":"IF(D743<>\"\",Data!B744,\"\")","v":""},""]
[{"$f":"IF(D744<>\"\",Data!A745,\"\")","v":""},{"$f":"IF(D744<>\"\",Data!B745,\"\")","v":""},""]
[{"$f":"IF(D745<>\"\",Data!A746,\"\")","v":""},{"$f":"IF(D745<>\"\",Data!B746,\"\")","v":""},""]
[{"$f":"IF(D746<>\"\",Data!A747,\"\")","v":""},{"$f":"IF(D746<>\"\",Data!B747,\"\")","v":""},""]
[{"$f":"IF(D747<>\"\",Data!A748,\"\")","v":""},{"$f":"IF(D747<>\"\",Data!B748,\"\")","v":""},""]
[{"$f":"IF(D748<>\"\",Data!A749,\"\")","v":""},{"$f":"IF(D748<>\"\",Data!B749,\"\")","v":""},""]
[{"$f":"IF(D749<>\"\",Data!A750,\"\")","v":""},{"$f":"IF(D749<>\"\",Data!B750,\"\")","v":""},""]
[{"$f":"IF(D750<>\"\",Data!A751,\"\")","v":""},{"$f":"IF(D750<>\"\",Data!B751,\"\")","v":""},""]
[{"$f":"IF(D751<>\"\",Data!A752,\"\")","v":""},{"$f":"IF(D751<>\"\",Data!B752,\"\")","v":""},""]
[{"$f":"IF(D752<>\"\",Data!A753,\"\")","v":""},{"$f":"IF(D752<>\"\",Data!B753,\"\")","v":""},""]
[{"$f":"IF(D753<>\"\",Data!A754,\"\")","v":""},{"$f":"IF(D753<>\"\",Data!B754,\"\")","v":""},""]
[{"$f":"IF(D754<>\"\",Data!A755,\"\")","v":""},{"$f":"IF(D754<>\"\",Data!B755,\"\")","v":""},""]
[{"$f":"IF(D755<>\"\",Data!A756,\"\")","v":""},{"$f":"IF(D755<>\"\",Data!B756,\"\")","v":""},""]
[{"$f":"IF(D756<>\"\",Data!A757,\"\")","v":""},{"$f":"IF(D756<>\"\",Data!B757,\"\")","v":""},""]
[{"$f":"IF(D757<>\"\",Data!A758,\"\")","v":""},{"$f":"IF(D757<>\"\",Data!B758,\"\")","v":""},""]
[{"$f":"IF(D758<>\"\",Data!A759,\"\")","v":""},{"$f":"IF(D758<>\"\",Data!B759,\"\")","v":""},""]
[{"$f":"IF(D759<>\"\",Data!A760,\"\")","v":""},{"$f":"IF(D759<>\"\",Data!B760,\"\")","v":""},""]
[{"$f":"IF(D760<>\"\",Data!A761,\"\")","v":""},{"$f":"IF(D760<>\"\",Data!B761,\"\")","v":""},""]
[{"$f":"IF(D761<>\"\",Data!A762,\"\")","v":""},{"$f":"IF(D761<>\"\",Data!B762,\"\")","v":""},""]
[{"$f":"IF(D762<>\"\",Data!A763,\"\")","v":""},{"$f":"IF(D762<>\"\",Data!B763,\"\")","v":""},""]
[{"$f":"IF(D763<>\"\",Data!A764,\"\")","v":""},{"$f":"IF(D763<>\"\",Data!B764,\"\")","v":""},""]
[{"$f":"IF(D764<>\"\",Data!A765,\"\")","v":""},{"$f":"IF(D764<>\"\",Data!B765,\"\")","v":""},""]
[{"$f":"IF(D765<>\"\",Data!A766,\"\")","v":""},{"$f":"IF(D765<>\"\",Data!B766,\"\")","v":""},""]
[{"$f":"IF(D766<>\"\",Data!A767,\"\")","v":""},{"$f":"IF(D766<>\"\",Data!B767,\"\")","v":""},""]
[{"$f":"IF(D767<>\"\",Data!A768,\"\")","v":""},{"$f":"IF(D767<>\"\",Data!B768,\"\")","v":""},""]
[{"$f":"IF(D768<>\"\",Data!A769,\"\")","v":""},{"$f":"IF(D768<>\"\",Data!B769,\"\")","v":""},""]
[{"$f":"IF(D769<>\"\",Data!A770,\"\")","v":""},{"$f":"IF(D769<>\"\",Data!B770,\"\")","v":""},""]
[{"$f":"IF(D770<>\"\",Data!A771,\"\")","v":""},{"$f":"IF(D770<>\"\",Data!B771,\"\")","v":""},{"$f":"IF(D770<>\"\",MID(CELL(\"filename\",B770),FIND(\"]\",CELL(\"filename\",B770))+1,32),\"\")","v":""}]
[{"$f":"IF(D771<>\"\",Data!A772,\"\")","v":""},{"$f":"IF(D771<>\"\",Data!B772,\"\")","v":""},""]
[{"$f":"IF(D772<>\"\",Data!A773,\"\")","v":""},{"$f":"IF(D772<>\"\",Data!B773,\"\")","v":""},""]
[{"$f":"IF(D773<>\"\",Data!A774,\"\")","v":""},{"$f":"IF(D773<>\"\",Data!B774,\"\")","v":""},""]
[{"$f":"IF(D774<>\"\",Data!A775,\"\")","v":""},{"$f":"IF(D774<>\"\",Data!B775,\"\")","v":""},""]
[{"$f":"IF(D775<>\"\",Data!A776,\"\")","v":""},{"$f":"IF(D775<>\"\",Data!B776,\"\")","v":""},""]
[{"$f":"IF(D776<>\"\",Data!A777,\"\")","v":""},{"$f":"IF(D776<>\"\",Data!B777,\"\")","v":""},""]
[{"$f":"IF(D777<>\"\",Data!A778,\"\")","v":""},{"$f":"IF(D777<>\"\",Data!B778,\"\")","v":""},""]
[{"$f":"IF(D778<>\"\",Data!A779,\"\")","v":""},{"$f":"IF(D778<>\"\",Data!B779,\"\")","v":""},""]
[{"$f":"IF(D779<>\"\",Data!A780,\"\")","v":""},{"$f":"IF(D779<>\"\",Data!B780,\"\")","v":""},""]
[{"$f":"IF(D780<>\"\",Data!A781,\"\")","v":""},{"$f":"IF(D780<>\"\",Data!B781,\"\")","v":""},""]
[{"$f":"IF(D781<>\"\",Data!A782,\"\")","v":""},{"$f":"IF(D781<>\"\",Data!B782,\"\")","v":""},""]
[{"$f":"IF(D782<>\"\",Data!A783,\"\")","v":""},{"$f":"IF(D782<>\"\",Data!B783,\"\")","v":""},""]
[{"$f":"IF(D783<>\"\",Data!A784,\"\")","v":""},{"$f":"IF(D783<>\"\",Data!B784,\"\")","v":""},""]
[{"$f":"IF(D784<>\"\",Data!A785,\"\")","v":""},{"$f":"IF(D784<>\"\",Data!B785,\"\")","v":""},""]
[{"$f":"IF(D785<>\"\",Data!A786,\"\")","v":""},{"$f":"IF(D785<>\"\",Data!B786,\"\")","v":""},""]
[{"$f":"IF(D786<>\"\",Data!A787,\"\")","v":""},{"$f":"IF(D786<>\"\",Data!B787,\"\")","v":""},""]
[{"$f":"IF(D787<>\"\",Data!A788,\"\")","v":""},{"$f":"IF(D787<>\"\",Data!B788,\"\")","v":""},""]
[{"$f":"IF(D788<>\"\",Data!A789,\"\")","v":""},{"$f":"IF(D788<>\"\",Data!B789,\"\")","v":""},""]
[{"$f":"IF(D789<>\"\",Data!A790,\"\")","v":""},{"$f":"IF(D789<>\"\",Data!B790,\"\")","v":""},""]
[{"$f":"IF(D790<>\"\",Data!A791,\"\")","v":""},{"$f":"IF(D790<>\"\",Data!B791,\"\")","v":""},""]
[{"$f":"IF(D791<>\"\",Data!A792,\"\")","v":""},{"$f":"IF(D791<>\"\",Data!B792,\"\")","v":""},""]
[{"$f":"IF(D792<>\"\",Data!A793,\"\")","v":""},{"$f":"IF(D792<>\"\",Data!B793,\"\")","v":""},""]
[{"$f":"IF(D793<>\"\",Data!A794,\"\")","v":""},{"$f":"IF(D793<>\"\",Data!B794,\"\")","v":""},""]
[{"$f":"IF(D794<>\"\",Data!A795,\"\")","v":""},{"$f":"IF(D794<>\"\",Data!B795,\"\")","v":""},""]
[{"$f":"IF(D795<>\"\",Data!A796,\"\")","v":""},{"$f":"IF(D795<>\"\",Data!B796,\"\")","v":""},""]
[{"$f":"IF(D796<>\"\",Data!A797,\"\")","v":""},{"$f":"IF(D796<>\"\",Data!B797,\"\")","v":""},""]
[{"$f":"IF(D797<>\"\",Data!A798,\"\")","v":""},{"$f":"IF(D797<>\"\",Data!B798,\"\")","v":""},""]
[{"$f":"IF(D798<>\"\",Data!A799,\"\")","v":""},{"$f":"IF(D798<>\"\",Data!B799,\"\")","v":""},""]
[{"$f":"IF(D799<>\"\",Data!A800,\"\")","v":""},{"$f":"IF(D799<>\"\",Data!B800,\"\")","v":""},""]
[{"$f":"IF(D800<>\"\",Data!A801,\"\")","v":""},{"$f":"IF(D800<>\"\",Data!B801,\"\")","v":""},""]
[{"$f":"IF(D801<>\"\",Data!A802,\"\")","v":""},{"$f":"IF(D801<>\"\",Data!B802,\"\")","v":""},""]
[{"$f":"IF(D802<>\"\",Data!A803,\"\")","v":""},{"$f":"IF(D802<>\"\",Data!B803,\"\")","v":""},""]
[{"$f":"IF(D803<>\"\",Data!A804,\"\")","v":""},{"$f":"IF(D803<>\"\",Data!B804,\"\")","v":""},""]
[{"$f":"IF(D804<>\"\",Data!A805,\"\")","v":""},{"$f":"IF(D804<>\"\",Data!B805,\"\")","v":""},""]
[{"$f":"IF(D805<>\"\",Data!A806,\"\")","v":""},{"$f":"IF(D805<>\"\",Data!B806,\"\")","v":""},""]
[{"$f":"IF(D806<>\"\",Data!A807,\"\")","v":""},{"$f":"IF(D806<>\"\",Data!B807,\"\")","v":""},""]
[{"$f":"IF(D807<>\"\",Data!A808,\"\")","v":""},{"$f":"IF(D807<>\"\",Data!B808,\"\")","v":""},""]
[{"$f":"IF(D808<>\"\",Data!A809,\"\")","v":""},{"$f":"IF(D808<>\"\",Data!B809,\"\")","v":""},""]
[{"$f":"IF(D809<>\"\",Data!A810,\"\")","v":""},{"$f":"IF(D809<>\"\",Data!B810,\"\")","v":""},""]
[{"$f":"IF(D810<>\"\",Data!A811,\"\")","v":""},{"$f":"IF(D810<>\"\",Data!B811,\"\")","v":""},""]
[{"$f":"IF(D811<>\"\",Data!A812,\"\")","v":""},{"$f":"IF(D811<>\"\",Data!B812,\"\")","v":""},""]
[{"$f":"IF(D812<>\"\",Data!A813,\"\")","v":""},{"$f":"IF(D812<>\"\",Data!B813,\"\")","v":""},""]
[{"$f":"IF(D813<>\"\",Data!A814,\"\")","v":""},{"$f":"IF(D813<>\"\",Data!B814,\"\")","v":""},""]
[{"$f":"IF(D814<>\"\",Data!A815,\"\")","v":""},{"$f":"IF(D814<>\"\",Data!B815,\"\")","v":""},""]
[{"$f":"IF(D815<>\"\",Data!A816,\"\")","v":""},{"$f":"IF(D815<>\"\",Data!B816,\"\")","v":""},""]
[{"$f":"IF(D816<>\"\",Data!A817,\"\")","v":""},{"$f":"IF(D816<>\"\",Data!B817,\"\")","v":""},""]
[{"$f":"IF(D817<>\"\",Data!A818,\"\")","v":""},{"$f":"IF(D817<>\"\",Data!B818,\"\")","v":""},""]
[{"$f":"IF(D818<>\"\",Data!A819,\"\")","v":""},{"$f":"IF(D818<>\"\",Data!B819,\"\")","v":""},""]
[{"$f":"IF(D819<>\"\",Data!A820,\"\")","v":""},{"$f":"IF(D819<>\"\",Data!B820,\"\")","v":""},""]
[{"$f":"IF(D820<>\"\",Data!A821,\"\")","v":""},{"$f":"IF(D820<>\"\",Data!B821,\"\")","v":""},""]
[{"$f":"IF(D821<>\"\",Data!A822,\"\")","v":""},{"$f":"IF(D821<>\"\",Data!B822,\"\")","v":""},""]
[{"$f":"IF(D822<>\"\",Data!A823,\"\")","v":""},{"$f":"IF(D822<>\"\",Data!B823,\"\")","v":""},""]
[{"$f":"IF(D823<>\"\",Data!A824,\"\")","v":""},{"$f":"IF(D823<>\"\",Data!B824,\"\")","v":""},""]
[{"$f":"IF(D824<>\"\",Data!A825,\"\")","v":""},{"$f":"IF(D824<>\"\",Data!B825,\"\")","v":""},""]
[{"$f":"IF(D825<>\"\",Data!A826,\"\")","v":""},{"$f":"IF(D825<>\"\",Data!B826,\"\")","v":""},""]
[{"$f":"IF(D826<>\"\",Data!A827,\"\")","v":""},{"$f":"IF(D826<>\"\",Data!B827,\"\")","v":""},""]
[{"$f":"IF(D827<>\"\",Data!A828,\"\")","v":""},{"$f":"IF(D827<>\"\",Data!B828,\"\")","v":""},""]
[{"$f":"IF(D828<>\"\",Data!A829,\"\")","v":""},{"$f":"IF(D828<>\"\",Data!B829,\"\")","v":""},""]
[{"$f":"IF(D829<>\"\",Data!A830,\"\")","v":""},{"$f":"IF(D829<>\"\",Data!B830,\"\")","v":""},""]
[{"$f":"IF(D830<>\"\",Data!A831,\"\")","v":""},{"$f":"IF(D830<>\"\",Data!B831,\"\")","v":""},""]
[{"$f":"IF(D831<>\"\",Data!A832,\"\")","v":""},{"$f":"IF(D831<>\"\",Data!B832,\"\")","v":""},""]
[{"$f":"IF(D832<>\"\",Data!A833,\"\")","v":""},{"$f":"IF(D832<>\"\",Data!B833,\"\")","v":""},""]
[{"$f":"IF(D833<>\"\",Data!A834,\"\")","v":""},{"$f":"IF(D833<>\"\",Data!B834,\"\")","v":""},""]
[{"$f":"IF(D834<>\"\",Data!A835,\"\")","v":""},{"$f":"IF(D834<>\"\",Data!B835,\"\")","v":""},{"$f":"IF(D834<>\"\",MID(CELL(\"filename\",B834),FIND(\"]\",CELL(\"filename\",B834))+1,32),\"\")","v":""}]
[{"$f":"IF(D835<>\"\",Data!A836,\"\")","v":""},{"$f":"IF(D835<>\"\",Data!B836,\"\")","v":""},""]
[{"$f":"IF(D836<>\"\",Data!A837,\"\")","v":""},{"$f":"IF(D836<>\"\",Data!B837,\"\")","v":""},""]
[{"$f":"IF(D837<>\"\",Data!A838,\"\")","v":""},{"$f":"IF(D837<>\"\",Data!B838,\"\")","v":""},""]
[{"$f":"IF(D838<>\"\",Data!A839,\"\")","v":""},{"$f":"IF(D838<>\"\",Data!B839,\"\")","v":""},""]
[{"$f":"IF(D839<>\"\",Data!A840,\"\")","v":""},{"$f":"IF(D839<>\"\",Data!B840,\"\")","v":""},""]
[{"$f":"IF(D840<>\"\",Data!A841,\"\")","v":""},{"$f":"IF(D840<>\"\",Data!B841,\"\")","v":""},""]
[{"$f":"IF(D841<>\"\",Data!A842,\"\")","v":""},{"$f":"IF(D841<>\"\",Data!B842,\"\")","v":""},""]
[{"$f":"IF(D842<>\"\",Data!A843,\"\")","v":""},{"$f":"IF(D842<>\"\",Data!B843,\"\")","v":""},""]
[{"$f":"IF(D843<>\"\",Data!A844,\"\")","v":""},{"$f":"IF(D843<>\"\",Data!B844,\"\")","v":""},""]
[{"$f":"IF(D844<>\"\",Data!A845,\"\")","v":""},{"$f":"IF(D844<>\"\",Data!B845,\"\")","v":""},""]
[{"$f":"IF(D845<>\"\",Data!A846,\"\")","v":""},{"$f":"IF(D845<>\"\",Data!B846,\"\")","v":""},""]
[{"$f":"IF(D846<>\"\",Data!A847,\"\")","v":""},{"$f":"IF(D846<>\"\",Data!B847,\"\")","v":""},""]
[{"$f":"IF(D847<>\"\",Data!A848,\"\")","v":""},{"$f":"IF(D847<>\"\",Data!B848,\"\")","v":""},""]
[{"$f":"IF(D848<>\"\",Data!A849,\"\")","v":""},{"$f":"IF(D848<>\"\",Data!B849,\"\")","v":""},""]
[{"$f":"IF(D849<>\"\",Data!A850,\"\")","v":""},{"$f":"IF(D849<>\"\",Data!B850,\"\")","v":""},""]
[{"$f":"IF(D850<>\"\",Data!A851,\"\")","v":""},{"$f":"IF(D850<>\"\",Data!B851,\"\")","v":""},""]
[{"$f":"IF(D851<>\"\",Data!A852,\"\")","v":""},{"$f":"IF(D851<>\"\",Data!B852,\"\")","v":""},""]
[{"$f":"IF(D852<>\"\",Data!A853,\"\")","v":""},{"$f":"IF(D852<>\"\",Data!B853,\"\")","v":""},""]
[{"$f":"IF(D853<>\"\",Data!A854,\"\")","v":""},{"$f":"IF(D853<>\"\",Data!B854,\"\")","v":""},""]
[{"$f":"IF(D854<>\"\",Data!A855,\"\")","v":""},{"$f":"IF(D854<>\"\",Data!B855,\"\")","v":""},""]
[{"$f":"IF(D855<>\"\",Data!A856,\"\")","v":""},{"$f":"IF(D855<>\"\",Data!B856,\"\")","v":""},""]
[{"$f":"IF(D856<>\"\",Data!A857,\"\")","v":""},{"$f":"IF(D856<>\"\",Data!B857,\"\")","v":""},""]
[{"$f":"IF(D857<>\"\",Data!A858,\"\")","v":""},{"$f":"IF(D857<>\"\",Data!B858,\"\")","v":""},""]
[{"$f":"IF(D858<>\"\",Data!A859,\"\")","v":""},{"$f":"IF(D858<>\"\",Data!B859,\"\")","v":""},""]
[{"$f":"IF(D859<>\"\",Data!A860,\"\")","v":""},{"$f":"IF(D859<>\"\",Data!B860,\"\")","v":""},""]
[{"$f":"IF(D860<>\"\",Data!A861,\"\")","v":""},{"$f":"IF(D860<>\"\",Data!B861,\"\")","v":""},""]
[{"$f":"IF(D861<>\"\",Data!A862,\"\")","v":""},{"$f":"IF(D861<>\"\",Data!B862,\"\")","v":""},""]
[{"$f":"IF(D862<>\"\",Data!A863,\"\")","v":""},{"$f":"IF(D862<>\"\",Data!B863,\"\")","v":""},""]
[{"$f":"IF(D863<>\"\",Data!A864,\"\")","v":""},{"$f":"IF(D863<>\"\",Data!B864,\"\")","v":""},""]
[{"$f":"IF(D864<>\"\",Data!A865,\"\")","v":""},{"$f":"IF(D864<>\"\",Data!B865,\"\")","v":""},""]
[{"$f":"IF(D865<>\"\",Data!A866,\"\")","v":""},{"$f":"IF(D865<>\"\",Data!B866,\"\")","v":""},""]
[{"$f":"IF(D866<>\"\",Data!A867,\"\")","v":""},{"$f":"IF(D866<>\"\",Data!B867,\"\")","v":""},""]
[{"$f":"IF(D867<>\"\",Data!A868,\"\")","v":""},{"$f":"IF(D867<>\"\",Data!B868,\"\")","v":""},""]
[{"$f":"IF(D868<>\"\",Data!A869,\"\")","v":""},{"$f":"IF(D868<>\"\",Data!B869,\"\")","v":""},""]
[{"$f":"IF(D869<>\"\",Data!A870,\"\")","v":""},{"$f":"IF(D869<>\"\",Data!B870,\"\")","v":""},""]
[{"$f":"IF(D870<>\"\",Data!A871,\"\")","v":""},{"$f":"IF(D870<>\"\",Data!B871,\"\")","v":""},""]
[{"$f":"IF(D871<>\"\",Data!A872,\"\")","v":""},{"$f":"IF(D871<>\"\",Data!B872,\"\")","v":""},""]
[{"$f":"IF(D872<>\"\",Data!A873,\"\")","v":""},{"$f":"IF(D872<>\"\",Data!B873,\"\")","v":""},""]
[{"$f":"IF(D873<>\"\",Data!A874,\"\")","v":""},{"$f":"IF(D873<>\"\",Data!B874,\"\")","v":""},""]
[{"$f":"IF(D874<>\"\",Data!A875,\"\")","v":""},{"$f":"IF(D874<>\"\",Data!B875,\"\")","v":""},""]
[{"$f":"IF(D875<>\"\",Data!A876,\"\")","v":""},{"$f":"IF(D875<>\"\",Data!B876,\"\")","v":""},""]
[{"$f":"IF(D876<>\"\",Data!A877,\"\")","v":""},{"$f":"IF(D876<>\"\",Data!B877,\"\")","v":""},""]
[{"$f":"IF(D877<>\"\",Data!A878,\"\")","v":""},{"$f":"IF(D877<>\"\",Data!B878,\"\")","v":""},""]
[{"$f":"IF(D878<>\"\",Data!A879,\"\")","v":""},{"$f":"IF(D878<>\"\",Data!B879,\"\")","v":""},""]
[{"$f":"IF(D879<>\"\",Data!A880,\"\")","v":""},{"$f":"IF(D879<>\"\",Data!B880,\"\")","v":""},""]
[{"$f":"IF(D880<>\"\",Data!A881,\"\")","v":""},{"$f":"IF(D880<>\"\",Data!B881,\"\")","v":""},""]
[{"$f":"IF(D881<>\"\",Data!A882,\"\")","v":""},{"$f":"IF(D881<>\"\",Data!B882,\"\")","v":""},""]
[{"$f":"IF(D882<>\"\",Data!A883,\"\")","v":""},{"$f":"IF(D882<>\"\",Data!B883,\"\")","v":""},""]
[{"$f":"IF(D883<>\"\",Data!A884,\"\")","v":""},{"$f":"IF(D883<>\"\",Data!B884,\"\")","v":""},""]
[{"$f":"IF(D884<>\"\",Data!A885,\"\")","v":""},{"$f":"IF(D884<>\"\",Data!B885,\"\")","v":""},""]
[{"$f":"IF(D885<>\"\",Data!A886,\"\")","v":""},{"$f":"IF(D885<>\"\",Data!B886,\"\")","v":""},""]
[{"$f":"IF(D886<>\"\",Data!A887,\"\")","v":""},{"$f":"IF(D886<>\"\",Data!B887,\"\")","v":""},""]
[{"$f":"IF(D887<>\"\",Data!A888,\"\")","v":""},{"$f":"IF(D887<>\"\",Data!B888,\"\")","v":""},""]
[{"$f":"IF(D888<>\"\",Data!A889,\"\")","v":""},{"$f":"IF(D888<>\"\",Data!B889,\"\")","v":""},""]
[{"$f":"IF(D889<>\"\",Data!A890,\"\")","v":""},{"$f":"IF(D889<>\"\",Data!B890,\"\")","v":""},""]
[{"$f":"IF(D890<>\"\",Data!A891,\"\")","v":""},{"$f":"IF(D890<>\"\",Data!B891,\"\")","v":""},""]
[{"$f":"IF(D891<>\"\",Data!A892,\"\")","v":""},{"$f":"IF(D891<>\"\",Data!B892,\"\")","v":""},""]
[{"$f":"IF(D892<>\"\",Data!A893,\"\")","v":""},{"$f":"IF(D892<>\"\",Data!B893,\"\")","v":""},""]
[{"$f":"IF(D893<>\"\",Data!A894,\"\")","v":""},{"$f":"IF(D893<>\"\",Data!B894,\"\")","v":""},""]
[{"$f":"IF(D894<>\"\",Data!A895,\"\")","v":""},{"$f":"IF(D894<>\"\",Data!B895,\"\")","v":""},""]
[{"$f":"IF(D895<>\"\",Data!A896,\"\")","v":""},{"$f":"IF(D895<>\"\",Data!B896,\"\")","v":""},""]
[{"$f":"IF(D896<>\"\",Data!A897,\"\")","v":""},{"$f":"IF(D896<>\"\",Data!B897,\"\")","v":""},""]
[{"$f":"IF(D897<>\"\",Data!A898,\"\")","v":""},{"$f":"IF(D897<>\"\",Data!B898,\"\")","v":""},""]
[{"$f":"IF(D898<>\"\",Data!A899,\"\")","v":""},{"$f":"IF(D898<>\"\",Data!B899,\"\")","v":""},{"$f":"IF(D898<>\"\",MID(CELL(\"filename\",B898),FIND(\"]\",CELL(\"filename\",B898))+1,32),\"\")","v":""}]
[{"$f":"IF(D899<>\"\",Data!A900,\"\")","v":""},{"$f":"IF(D899<>\"\",Data!B900,\"\")","v":""},""]
[{"$f":"IF(D900<>\"\",Data!A901,\"\")","v":""},{"$f":"IF(D900<>\"\",Data!B901,\"\")","v":""},""]
[{"$f":"IF(D901<>\"\",Data!A902,\"\")","v":""},{"$f":"IF(D901<>\"\",Data!B902,\"\")","v":""},""]
[{"$f":"IF(D902<>\"\",Data!A903,\"\")","v":""},{"$f":"IF(D902<>\"\",Data!B903,\"\")","v":""},""]
[{"$f":"IF(D903<>\"\",Data!A904,\"\")","v":""},{"$f":"IF(D903<>\"\",Data!B904,\"\")","v":""},""]
[{"$f":"IF(D904<>\"\",Data!A905,\"\")","v":""},{"$f":"IF(D904<>\"\",Data!B905,\"\")","v":""},""]
[{"$f":"IF(D905<>\"\",Data!A906,\"\")","v":""},{"$f":"IF(D905<>\"\",Data!B906,\"\")","v":""},""]
[{"$f":"IF(D906<>\"\",Data!A907,\"\")","v":""},{"$f":"IF(D906<>\"\",Data!B907,\"\")","v":""},""]
[{"$f":"IF(D907<>\"\",Data!A908,\"\")","v":""},{"$f":"IF(D907<>\"\",Data!B908,\"\")","v":""},""]
[{"$f":"IF(D908<>\"\",Data!A909,\"\")","v":""},{"$f":"IF(D908<>\"\",Data!B909,\"\")","v":""},""]
[{"$f":"IF(D909<>\"\",Data!A910,\"\")","v":""},{"$f":"IF(D909<>\"\",Data!B910,\"\")","v":""},""]
[{"$f":"IF(D910<>\"\",Data!A911,\"\")","v":""},{"$f":"IF(D910<>\"\",Data!B911,\"\")","v":""},""]
[{"$f":"IF(D911<>\"\",Data!A912,\"\")","v":""},{"$f":"IF(D911<>\"\",Data!B912,\"\")","v":""},""]
[{"$f":"IF(D912<>\"\",Data!A913,\"\")","v":""},{"$f":"IF(D912<>\"\",Data!B913,\"\")","v":""},""]
[{"$f":"IF(D913<>\"\",Data!A914,\"\")","v":""},{"$f":"IF(D913<>\"\",Data!B914,\"\")","v":""},""]
[{"$f":"IF(D914<>\"\",Data!A915,\"\")","v":""},{"$f":"IF(D914<>\"\",Data!B915,\"\")","v":""},""]
[{"$f":"IF(D915<>\"\",Data!A916,\"\")","v":""},{"$f":"IF(D915<>\"\",Data!B916,\"\")","v":""},""]
[{"$f":"IF(D916<>\"\",Data!A917,\"\")","v":""},{"$f":"IF(D916<>\"\",Data!B917,\"\")","v":""},""]
[{"$f":"IF(D917<>\"\",Data!A918,\"\")","v":""},{"$f":"IF(D917<>\"\",Data!B918,\"\")","v":""},""]
[{"$f":"IF(D918<>\"\",Data!A919,\"\")","v":""},{"$f":"IF(D918<>\"\",Data!B919,\"\")","v":""},""]
[{"$f":"IF(D919<>\"\",Data!A920,\"\")","v":""},{"$f":"IF(D919<>\"\",Data!B920,\"\")","v":""},""]
[{"$f":"IF(D920<>\"\",Data!A921,\"\")","v":""},{"$f":"IF(D920<>\"\",Data!B921,\"\")","v":""},""]
[{"$f":"IF(D921<>\"\",Data!A922,\"\")","v":""},{"$f":"IF(D921<>\"\",Data!B922,\"\")","v":""},""]
[{"$f":"IF(D922<>\"\",Data!A923,\"\")","v":""},{"$f":"IF(D922<>\"\",Data!B923,\"\")","v":""},""]
[{"$f":"IF(D923<>\"\",Data!A924,\"\")","v":""},{"$f":"IF(D923<>\"\",Data!B924,\"\")","v":""},""]
[{"$f":"IF(D924<>\"\",Data!A925,\"\")","v":""},{"$f":"IF(D924<>\"\",Data!B925,\"\")","v":""},""]
[{"$f":"IF(D925<>\"\",Data!A926,\"\")","v":""},{"$f":"IF(D925<>\"\",Data!B926,\"\")","v":""},""]
[{"$f":"IF(D926<>\"\",Data!A927,\"\")","v":""},{"$f":"IF(D926<>\"\",Data!B927,\"\")","v":""},""]
[{"$f":"IF(D927<>\"\",Data!A928,\"\")","v":""},{"$f":"IF(D927<>\"\",Data!B928,\"\")","v":""},""]
[{"$f":"IF(D928<>\"\",Data!A929,\"\")","v":""},{"$f":"IF(D928<>\"\",Data!B929,\"\")","v":""},""]
[{"$f":"IF(D929<>\"\",Data!A930,\"\")","v":""},{"$f":"IF(D929<>\"\",Data!B930,\"\")","v":""},""]
[{"$f":"IF(D930<>\"\",Data!A931,\"\")","v":""},{"$f":"IF(D930<>\"\",Data!B931,\"\")","v":""},""]
[{"$f":"IF(D931<>\"\",Data!A932,\"\")","v":""},{"$f":"IF(D931<>\"\",Data!B932,\"\")","v":""},""]
[{"$f":"IF(D932<>\"\",Data!A933,\"\")","v":""},{"$f":"IF(D932<>\"\",Data!B933,\"\")","v":""},""]
[{"$f":"IF(D933<>\"\",Data!A934,\"\")","v":""},{"$f":"IF(D933<>\"\",Data!B934,\"\")","v":""},""]
[{"$f":"IF(D934<>\"\",Data!A935,\"\")","v":""},{"$f":"IF(D934<>\"\",Data!B935,\"\")","v":""},""]
[{"$f":"IF(D935<>\"\",Data!A936,\"\")","v":""},{"$f":"IF(D935<>\"\",Data!B936,\"\")","v":""},""]
[{"$f":"IF(D936<>\"\",Data!A937,\"\")","v":""},{"$f":"IF(D936<>\"\",Data!B937,\"\")","v":""},""]
[{"$f":"IF(D937<>\"\",Data!A938,\"\")","v":""},{"$f":"IF(D937<>\"\",Data!B938,\"\")","v":""},""]
[{"$f":"IF(D938<>\"\",Data!A939,\"\")","v":""},{"$f":"IF(D938<>\"\",Data!B939,\"\")","v":""},""]
[{"$f":"IF(D939<>\"\",Data!A940,\"\")","v":""},{"$f":"IF(D939<>\"\",Data!B940,\"\")","v":""},""]
[{"$f":"IF(D940<>\"\",Data!A941,\"\")","v":""},{"$f":"IF(D940<>\"\",Data!B941,\"\")","v":""},""]
[{"$f":"IF(D941<>\"\",Data!A942,\"\")","v":""},{"$f":"IF(D941<>\"\",Data!B942,\"\")","v":""},""]
[{"$f":"IF(D942<>\"\",Data!A943,\"\")","v":""},{"$f":"IF(D942<>\"\",Data!B943,\"\")","v":""},""]
[{"$f":"IF(D943<>\"\",Data!A944,\"\")","v":""},{"$f":"IF(D943<>\"\",Data!B944,\"\")","v":""},""]
[{"$f":"IF(D944<>\"\",Data!A945,\"\")","v":""},{"$f":"IF(D944<>\"\",Data!B945,\"\")","v":""},""]
[{"$f":"IF(D945<>\"\",Data!A946,\"\")","v":""},{"$f":"IF(D945<>\"\",Data!B946,\"\")","v":""},""]
[{"$f":"IF(D946<>\"\",Data!A947,\"\")","v":""},{"$f":"IF(D946<>\"\",Data!B947,\"\")","v":""},""]
[{"$f":"IF(D947<>\"\",Data!A948,\"\")","v":""},{"$f":"IF(D947<>\"\",Data!B948,\"\")","v":""},""]
[{"$f":"IF(D948<>\"\",Data!A949,\"\")","v":""},{"$f":"IF(D948<>\"\",Data!B949,\"\")","v":""},""]
[{"$f":"IF(D949<>\"\",Data!A950,\"\")","v":""},{"$f":"IF(D949<>\"\",Data!B950,\"\")","v":""},""]
[{"$f":"IF(D950<>\"\",Data!A951,\"\")","v":""},{"$f":"IF(D950<>\"\",Data!B951,\"\")","v":""},""]
[{"$f":"IF(D951<>\"\",Data!A952,\"\")","v":""},{"$f":"IF(D951<>\"\",Data!B952,\"\")","v":""},""]
[{"$f":"IF(D952<>\"\",Data!A953,\"\")","v":""},{"$f":"IF(D952<>\"\",Data!B953,\"\")","v":""},""]
[{"$f":"IF(D953<>\"\",Data!A954,\"\")","v":""},{"$f":"IF(D953<>\"\",Data!B954,\"\")","v":""},""]
[{"$f":"IF(D954<>\"\",Data!A955,\"\")","v":""},{"$f":"IF(D954<>\"\",Data!B955,\"\")","v":""},""]
[{"$f":"IF(D955<>\"\",Data!A956,\"\")","v":""},{"$f":"IF(D955<>\"\",Data!B956,\"\")","v":""},""]
[{"$f":"IF(D956<>\"\",Data!A957,\"\")","v":""},{"$f":"IF(D956<>\"\",Data!B957,\"\")","v":""},""]
[{"$f":"IF(D957<>\"\",Data!A958,\"\")","v":""},{"$f":"IF(D957<>\"\",Data!B958,\"\")","v":""},""]
[{"$f":"IF(D958<>\"\",Data!A959,\"\")","v":""},{"$f":"IF(D958<>\"\",Data!B959,\"\")","v":""},""]
[{"$f":"IF(D959<>\"\",Data!A960,\"\")","v":""},{"$f":"IF(D959<>\"\",Data!B960,\"\")","v":""},""]
[{"$f":"IF(D960<>\"\",Data!A961,\"\")","v":""},{"$f":"IF(D960<>\"\",Data!B961,\"\")","v":""},""]
[{"$f":"IF(D961<>\"\",Data!A962,\"\")","v":""},{"$f":"IF(D961<>\"\",Data!B962,\"\")","v":""},""]
[{"$f":"IF(D962<>\"\",Data!A963,\"\")","v":""},{"$f":"IF(D962<>\"\",Data!B963,\"\")","v":""},{"$f":"IF(D962<>\"\",MID(CELL(\"filename\",B962),FIND(\"]\",CELL(\"filename\",B962))+1,32),\"\")","v":""}]
[{"$f":"IF(D963<>\"\",Data!A964,\"\")","v":""},{"$f":"IF(D963<>\"\",Data!B964,\"\")","v":""},""]
[{"$f":"IF(D964<>\"\",Data!A965,\"\")","v":""},{"$f":"IF(D964<>\"\",Data!B965,\"\")","v":""},""]
[{"$f":"IF(D965<>\"\",Data!A966,\"\")","v":""},{"$f":"IF(D965<>\"\",Data!B966,\"\")","v":""},""]
[{"$f":"IF(D966<>\"\",Data!A967,\"\")","v":""},{"$f":"IF(D966<>\"\",Data!B967,\"\")","v":""},""]
[{"$f":"IF(D967<>\"\",Data!A968,\"\")","v":""},{"$f":"IF(D967<>\"\",Data!B968,\"\")","v":""},""]
[{"$f":"IF(D968<>\"\",Data!A969,\"\")","v":""},{"$f":"IF(D968<>\"\",Data!B969,\"\")","v":""},""]
[{"$f":"IF(D969<>\"\",Data!A970,\"\")","v":""},{"$f":"IF(D969<>\"\",Data!B970,\"\")","v":""},""]
[{"$f":"IF(D970<>\"\",Data!A971,\"\")","v":""},{"$f":"IF(D970<>\"\",Data!B971,\"\")","v":""},""]
[{"$f":"IF(D971<>\"\",Data!A972,\"\")","v":""},{"$f":"IF(D971<>\"\",Data!B972,\"\")","v":""},""]
[{"$f":"IF(D972<>\"\",Data!A973,\"\")","v":""},{"$f":"IF(D972<>\"\",Data!B973,\"\")","v":""},""]
[{"$f":"IF(D973<>\"\",Data!A974,\"\")","v":""},{"$f":"IF(D973<>\"\",Data!B974,\"\")","v":""},""]
[{"$f":"IF(D974<>\"\",Data!A975,\"\")","v":""},{"$f":"IF(D974<>\"\",Data!B975,\"\")","v":""},""]
[{"$f":"IF(D975<>\"\",Data!A976,\"\")","v":""},{"$f":"IF(D975<>\"\",Data!B976,\"\")","v":""},""]
[{"$f":"IF(D976<>\"\",Data!A977,\"\")","v":""},{"$f":"IF(D976<>\"\",Data!B977,\"\")","v":""},""]
[{"$f":"IF(D977<>\"\",Data!A978,\"\")","v":""},{"$f":"IF(D977<>\"\",Data!B978,\"\")","v":""},""]
[{"$f":"IF(D978<>\"\",Data!A979,\"\")","v":""},{"$f":"IF(D978<>\"\",Data!B979,\"\")","v":""},""]
[{"$f":"IF(D979<>\"\",Data!A980,\"\")","v":""},{"$f":"IF(D979<>\"\",Data!B980,\"\")","v":""},""]
[{"$f":"IF(D980<>\"\",Data!A981,\"\")","v":""},{"$f":"IF(D980<>\"\",Data!B981,\"\")","v":""},""]
[{"$f":"IF(D981<>\"\",Data!A982,\"\")","v":""},{"$f":"IF(D981<>\"\",Data!B982,\"\")","v":""},""]
[{"$f":"IF(D982<>\"\",Data!A983,\"\")","v":""},{"$f":"IF(D982<>\"\",Data!B983,\"\")","v":""},""]
[{"$f":"IF(D983<>\"\",Data!A984,\"\")","v":""},{"$f":"IF(D983<>\"\",Data!B984,\"\")","v":""},""]
[{"$f":"IF(D984<>\"\",Data!A985,\"\")","v":""},{"$f":"IF(D984<>\"\",Data!B985,\"\")","v":""},""]
[{"$f":"IF(D985<>\"\",Data!A986,\"\")","v":""},{"$f":"IF(D985<>\"\",Data!B986,\"\")","v":""},""]
[{"$f":"IF(D986<>\"\",Data!A987,\"\")","v":""},{"$f":"IF(D986<>\"\",Data!B987,\"\")","v":""},""]
[{"$f":"IF(D987<>\"\",Data!A988,\"\")","v":""},{"$f":"IF(D987<>\"\",Data!B988,\"\")","v":""},""]
[{"$f":"IF(D988<>\"\",Data!A989,\"\")","v":""},{"$f":"IF(D988<>\"\",Data!B989,\"\")","v":""},""]
[{"$f":"IF(D989<>\"\",Data!A990,\"\")","v":""},{"$f":"IF(D989<>\"\",Data!B990,\"\")","v":""},""]
[{"$f":"IF(D990<>\"\",Data!A991,\"\")","v":""},{"$f":"IF(D990<>\"\",Data!B991,\"\")","v":""},""]
[{"$f":"IF(D991<>\"\",Data!A992,\"\")","v":""},{"$f":"IF(D991<>\"\",Data!B992,\"\")","v":""},""]
[{"$f":"IF(D992<>\"\",Data!A993,\"\")","v":""},{"$f":"IF(D992<>\"\",Data!B993,\"\")","v":""},""]
[{"$f":"IF(D993<>\"\",Data!A994,\"\")","v":""},{"$f":"IF(D993<>\"\",Data!B994,\"\")","v":""},""]
[{"$f":"IF(D994<>\"\",Data!A995,\"\")","v":""},{"$f":"IF(D994<>\"\",Data!B995,\"\")","v":""},""]
[{"$f":"IF(D995<>\"\",Data!A996,\"\")","v":""},{"$f":"IF(D995<>\"\",Data!B996,\"\")","v":""},""]
[{"$f":"IF(D996<>\"\",Data!A997,\"\")","v":""},{"$f":"IF(D996<>\"\",Data!B997,\"\")","v":""},""]
[{"$f":"IF(D997<>\"\",Data!A998,\"\")","v":""},{"$f":"IF(D997<>\"\",Data!B998,\"\")","v":""},""]
[{"$f":"IF(D998<>\"\",Data!A999,\"\")","v":""},{"$f":"IF(D998<>\"\",Data!B999,\"\")","v":""},""]
[{"$f":"IF(D999<>\"\",Data!A1000,\"\")","v":""},{"$f":"IF(D999<>\"\",Data!B1000,\"\")","v":""},""]
[{"$f":"IF(D1000<>\"\",Data!A1001,\"\")","v":""},{"$f":"IF(D1000<>\"\",Data!B1001,\"\")","v":""},""]

{"sheet":"Travel Allowance","index":7,"n_rows":1000,"n_cols":4,"rows_kept":1000,"cut":false,"hidden":false,"merged":[]}
[{"$f":"IF(D1<>\"\",Data!A2,\"\")","v":"John Smith"},{"$f":"IF(D1<>\"\",Data!B2,\"\")","v":"2023-05-01"},{"$f":"IF(D1<>\"\",MID(CELL(\"filename\",B1),FIND(\"]\",CELL(\"filename\",B1))+1,32),\"\")","v":"Travel Allowance"},{"$f":"IF(AND(Data!H2<>\"\",Data!H2 > 0),Data!H2,\"\")","v":1}]
[{"$f":"IF(D2<>\"\",Data!A3,\"\")","v":"John Smith"},{"$f":"IF(D2<>\"\",Data!B3,\"\")","v":"2023-05-02"},{"$f":"IF(D2<>\"\",MID(CELL(\"filename\",B2),FIND(\"]\",CELL(\"filename\",B2))+1,32),\"\")","v":"Travel Allowance"},{"$f":"IF(AND(Data!H3<>\"\",Data!H3 > 0),Data!H3,\"\")","v":1}]
[{"$f":"IF(D3<>\"\",Data!A4,\"\")","v":"John Smith"},{"$f":"IF(D3<>\"\",Data!B4,\"\")","v":"2023-05-03"},"Travel Allowance",{"$f":"IF(AND(Data!H4<>\"\",Data!H4 > 0),Data!H4,\"\")","v":1}]
[{"$f":"IF(D4<>\"\",Data!A5,\"\")","v":"John Smith"},{"$f":"IF(D4<>\"\",Data!B5,\"\")","v":"2023-05-04"},"Travel Allowance",{"$f":"IF(AND(Data!H5<>\"\",Data!H5 > 0),Data!H5,\"\")","v":1}]
[{"$f":"IF(D5<>\"\",Data!A6,\"\")","v":"John Smith"},{"$f":"IF(D5<>\"\",Data!B6,\"\")","v":"2023-05-05"},"Travel Allowance",{"$f":"IF(AND(Data!H6<>\"\",Data!H6 > 0),Data!H6,\"\")","v":1}]
[{"$f":"IF(D6<>\"\",Data!A7,\"\")","v":"John Smith"},{"$f":"IF(D6<>\"\",Data!B7,\"\")","v":"2023-05-06"},"Travel Allowance",{"$f":"IF(AND(Data!H7<>\"\",Data!H7 > 0),Data!H7,\"\")","v":1}]
[{"$f":"IF(D7<>\"\",Data!A8,\"\")","v":"John Smith"},{"$f":"IF(D7<>\"\",Data!B8,\"\")","v":"2023-05-07"},"Travel Allowance",{"$f":"IF(AND(Data!H8<>\"\",Data!H8 > 0),Data!H8,\"\")","v":1}]
[{"$f":"IF(D8<>\"\",Data!A9,\"\")","v":"Jane Jones"},{"$f":"IF(D8<>\"\",Data!B9,\"\")","v":"2023-05-01"},"Travel Allowance",{"$f":"IF(AND(Data!H9<>\"\",Data!H9 > 0),Data!H9,\"\")","v":1}]
[{"$f":"IF(D9<>\"\",Data!A10,\"\")","v":"Jane Jones"},{"$f":"IF(D9<>\"\",Data!B10,\"\")","v":"2023-05-02"},"Travel Allowance",{"$f":"IF(AND(Data!H10<>\"\",Data!H10 > 0),Data!H10,\"\")","v":1}]
[{"$f":"IF(D10<>\"\",Data!A11,\"\")","v":"Jane Jones"},{"$f":"IF(D10<>\"\",Data!B11,\"\")","v":"2023-05-03"},"Travel Allowance",{"$f":"IF(AND(Data!H11<>\"\",Data!H11 > 0),Data!H11,\"\")","v":1}]
[{"$f":"IF(D11<>\"\",Data!A12,\"\")","v":"Jane Jones"},{"$f":"IF(D11<>\"\",Data!B12,\"\")","v":"2023-05-04"},"Travel Allowance",{"$f":"IF(AND(Data!H12<>\"\",Data!H12 > 0),Data!H12,\"\")","v":1}]
[{"$f":"IF(D12<>\"\",Data!A13,\"\")","v":"Jane Jones"},{"$f":"IF(D12<>\"\",Data!B13,\"\")","v":"2023-05-05"},"Travel Allowance",{"$f":"IF(AND(Data!H13<>\"\",Data!H13 > 0),Data!H13,\"\")","v":1}]
[{"$f":"IF(D13<>\"\",Data!A14,\"\")","v":"Jane Jones"},{"$f":"IF(D13<>\"\",Data!B14,\"\")","v":"2023-05-06"},"Travel Allowance",{"$f":"IF(AND(Data!H14<>\"\",Data!H14 > 0),Data!H14,\"\")","v":1}]
[{"$f":"IF(D14<>\"\",Data!A15,\"\")","v":"Jane Jones"},{"$f":"IF(D14<>\"\",Data!B15,\"\")","v":"2023-05-07"},"Travel Allowance",{"$f":"IF(AND(Data!H15<>\"\",Data!H15 > 0),Data!H15,\"\")","v":1}]
[{"$f":"IF(D15<>\"\",Data!A16,\"\")","v":""},{"$f":"IF(D15<>\"\",Data!B16,\"\")","v":""},"",{"$f":"IF(AND(Data!H16<>\"\",Data!H16 > 0),Data!H16,\"\")","v":""}]
[{"$f":"IF(D16<>\"\",Data!A17,\"\")","v":""},{"$f":"IF(D16<>\"\",Data!B17,\"\")","v":""},"",{"$f":"IF(AND(Data!H17<>\"\",Data!H17 > 0),Data!H17,\"\")","v":""}]
[{"$f":"IF(D17<>\"\",Data!A18,\"\")","v":""},{"$f":"IF(D17<>\"\",Data!B18,\"\")","v":""},"",{"$f":"IF(AND(Data!H18<>\"\",Data!H18 > 0),Data!H18,\"\")","v":""}]
[{"$f":"IF(D18<>\"\",Data!A19,\"\")","v":""},{"$f":"IF(D18<>\"\",Data!B19,\"\")","v":""},"",{"$f":"IF(AND(Data!H19<>\"\",Data!H19 > 0),Data!H19,\"\")","v":""}]
[{"$f":"IF(D19<>\"\",Data!A20,\"\")","v":""},{"$f":"IF(D19<>\"\",Data!B20,\"\")","v":""},"",{"$f":"IF(AND(Data!H20<>\"\",Data!H20 > 0),Data!H20,\"\")","v":""}]
[{"$f":"IF(D20<>\"\",Data!A21,\"\")","v":""},{"$f":"IF(D20<>\"\",Data!B21,\"\")","v":""},"",{"$f":"IF(AND(Data!H21<>\"\",Data!H21 > 0),Data!H21,\"\")","v":""}]
[{"$f":"IF(D21<>\"\",Data!A22,\"\")","v":""},{"$f":"IF(D21<>\"\",Data!B22,\"\")","v":""},"",{"$f":"IF(AND(Data!H22<>\"\",Data!H22 > 0),Data!H22,\"\")","v":""}]
[{"$f":"IF(D22<>\"\",Data!A23,\"\")","v":""},{"$f":"IF(D22<>\"\",Data!B23,\"\")","v":""},"",{"$f":"IF(AND(Data!H23<>\"\",Data!H23 > 0),Data!H23,\"\")","v":""}]
[{"$f":"IF(D23<>\"\",Data!A24,\"\")","v":""},{"$f":"IF(D23<>\"\",Data!B24,\"\")","v":""},"",{"$f":"IF(AND(Data!H24<>\"\",Data!H24 > 0),Data!H24,\"\")","v":""}]
[{"$f":"IF(D24<>\"\",Data!A25,\"\")","v":""},{"$f":"IF(D24<>\"\",Data!B25,\"\")","v":""},"",{"$f":"IF(AND(Data!H25<>\"\",Data!H25 > 0),Data!H25,\"\")","v":""}]
[{"$f":"IF(D25<>\"\",Data!A26,\"\")","v":""},{"$f":"IF(D25<>\"\",Data!B26,\"\")","v":""},"",{"$f":"IF(AND(Data!H26<>\"\",Data!H26 > 0),Data!H26,\"\")","v":""}]
[{"$f":"IF(D26<>\"\",Data!A27,\"\")","v":""},{"$f":"IF(D26<>\"\",Data!B27,\"\")","v":""},"",{"$f":"IF(AND(Data!H27<>\"\",Data!H27 > 0),Data!H27,\"\")","v":""}]
[{"$f":"IF(D27<>\"\",Data!A28,\"\")","v":""},{"$f":"IF(D27<>\"\",Data!B28,\"\")","v":""},"",{"$f":"IF(AND(Data!H28<>\"\",Data!H28 > 0),Data!H28,\"\")","v":""}]
[{"$f":"IF(D28<>\"\",Data!A29,\"\")","v":""},{"$f":"IF(D28<>\"\",Data!B29,\"\")","v":""},"",{"$f":"IF(AND(Data!H29<>\"\",Data!H29 > 0),Data!H29,\"\")","v":""}]
[{"$f":"IF(D29<>\"\",Data!A30,\"\")","v":""},{"$f":"IF(D29<>\"\",Data!B30,\"\")","v":""},"",{"$f":"IF(AND(Data!H30<>\"\",Data!H30 > 0),Data!H30,\"\")","v":""}]
[{"$f":"IF(D30<>\"\",Data!A31,\"\")","v":""},{"$f":"IF(D30<>\"\",Data!B31,\"\")","v":""},"",{"$f":"IF(AND(Data!H31<>\"\",Data!H31 > 0),Data!H31,\"\")","v":""}]
[{"$f":"IF(D31<>\"\",Data!A32,\"\")","v":""},{"$f":"IF(D31<>\"\",Data!B32,\"\")","v":""},"",{"$f":"IF(AND(Data!H32<>\"\",Data!H32 > 0),Data!H32,\"\")","v":""}]
[{"$f":"IF(D32<>\"\",Data!A33,\"\")","v":""},{"$f":"IF(D32<>\"\",Data!B33,\"\")","v":""},"",{"$f":"IF(AND(Data!H33<>\"\",Data!H33 > 0),Data!H33,\"\")","v":""}]
[{"$f":"IF(D33<>\"\",Data!A34,\"\")","v":""},{"$f":"IF(D33<>\"\",Data!B34,\"\")","v":""},"",{"$f":"IF(AND(Data!H34<>\"\",Data!H34 > 0),Data!H34,\"\")","v":""}]
[{"$f":"IF(D34<>\"\",Data!A35,\"\")","v":""},{"$f":"IF(D34<>\"\",Data!B35,\"\")","v":""},"",{"$f":"IF(AND(Data!H35<>\"\",Data!H35 > 0),Data!H35,\"\")","v":""}]
[{"$f":"IF(D35<>\"\",Data!A36,\"\")","v":""},{"$f":"IF(D35<>\"\",Data!B36,\"\")","v":""},"",{"$f":"IF(AND(Data!H36<>\"\",Data!H36 > 0),Data!H36,\"\")","v":""}]
[{"$f":"IF(D36<>\"\",Data!A37,\"\")","v":""},{"$f":"IF(D36<>\"\",Data!B37,\"\")","v":""},"",{"$f":"IF(AND(Data!H37<>\"\",Data!H37 > 0),Data!H37,\"\")","v":""}]
[{"$f":"IF(D37<>\"\",Data!A38,\"\")","v":""},{"$f":"IF(D37<>\"\",Data!B38,\"\")","v":""},"",{"$f":"IF(AND(Data!H38<>\"\",Data!H38 > 0),Data!H38,\"\")","v":""}]
[{"$f":"IF(D38<>\"\",Data!A39,\"\")","v":""},{"$f":"IF(D38<>\"\",Data!B39,\"\")","v":""},"",{"$f":"IF(AND(Data!H39<>\"\",Data!H39 > 0),Data!H39,\"\")","v":""}]
[{"$f":"IF(D39<>\"\",Data!A40,\"\")","v":""},{"$f":"IF(D39<>\"\",Data!B40,\"\")","v":""},"",{"$f":"IF(AND(Data!H40<>\"\",Data!H40 > 0),Data!H40,\"\")","v":""}]
[{"$f":"IF(D40<>\"\",Data!A41,\"\")","v":""},{"$f":"IF(D40<>\"\",Data!B41,\"\")","v":""},"",{"$f":"IF(AND(Data!H41<>\"\",Data!H41 > 0),Data!H41,\"\")","v":""}]
[{"$f":"IF(D41<>\"\",Data!A42,\"\")","v":""},{"$f":"IF(D41<>\"\",Data!B42,\"\")","v":""},"",{"$f":"IF(AND(Data!H42<>\"\",Data!H42 > 0),Data!H42,\"\")","v":""}]
[{"$f":"IF(D42<>\"\",Data!A43,\"\")","v":""},{"$f":"IF(D42<>\"\",Data!B43,\"\")","v":""},"",{"$f":"IF(AND(Data!H43<>\"\",Data!H43 > 0),Data!H43,\"\")","v":""}]
[{"$f":"IF(D43<>\"\",Data!A44,\"\")","v":""},{"$f":"IF(D43<>\"\",Data!B44,\"\")","v":""},"",{"$f":"IF(AND(Data!H44<>\"\",Data!H44 > 0),Data!H44,\"\")","v":""}]
[{"$f":"IF(D44<>\"\",Data!A45,\"\")","v":""},{"$f":"IF(D44<>\"\",Data!B45,\"\")","v":""},"",{"$f":"IF(AND(Data!H45<>\"\",Data!H45 > 0),Data!H45,\"\")","v":""}]
[{"$f":"IF(D45<>\"\",Data!A46,\"\")","v":""},{"$f":"IF(D45<>\"\",Data!B46,\"\")","v":""},"",{"$f":"IF(AND(Data!H46<>\"\",Data!H46 > 0),Data!H46,\"\")","v":""}]
[{"$f":"IF(D46<>\"\",Data!A47,\"\")","v":""},{"$f":"IF(D46<>\"\",Data!B47,\"\")","v":""},"",{"$f":"IF(AND(Data!H47<>\"\",Data!H47 > 0),Data!H47,\"\")","v":""}]
[{"$f":"IF(D47<>\"\",Data!A48,\"\")","v":""},{"$f":"IF(D47<>\"\",Data!B48,\"\")","v":""},"",{"$f":"IF(AND(Data!H48<>\"\",Data!H48 > 0),Data!H48,\"\")","v":""}]
[{"$f":"IF(D48<>\"\",Data!A49,\"\")","v":""},{"$f":"IF(D48<>\"\",Data!B49,\"\")","v":""},"",{"$f":"IF(AND(Data!H49<>\"\",Data!H49 > 0),Data!H49,\"\")","v":""}]
[{"$f":"IF(D49<>\"\",Data!A50,\"\")","v":""},{"$f":"IF(D49<>\"\",Data!B50,\"\")","v":""},"",{"$f":"IF(AND(Data!H50<>\"\",Data!H50 > 0),Data!H50,\"\")","v":""}]
[{"$f":"IF(D50<>\"\",Data!A51,\"\")","v":""},{"$f":"IF(D50<>\"\",Data!B51,\"\")","v":""},"",{"$f":"IF(AND(Data!H51<>\"\",Data!H51 > 0),Data!H51,\"\")","v":""}]
[{"$f":"IF(D51<>\"\",Data!A52,\"\")","v":""},{"$f":"IF(D51<>\"\",Data!B52,\"\")","v":""},"",{"$f":"IF(AND(Data!H52<>\"\",Data!H52 > 0),Data!H52,\"\")","v":""}]
[{"$f":"IF(D52<>\"\",Data!A53,\"\")","v":""},{"$f":"IF(D52<>\"\",Data!B53,\"\")","v":""},"",{"$f":"IF(AND(Data!H53<>\"\",Data!H53 > 0),Data!H53,\"\")","v":""}]
[{"$f":"IF(D53<>\"\",Data!A54,\"\")","v":""},{"$f":"IF(D53<>\"\",Data!B54,\"\")","v":""},"",{"$f":"IF(AND(Data!H54<>\"\",Data!H54 > 0),Data!H54,\"\")","v":""}]
[{"$f":"IF(D54<>\"\",Data!A55,\"\")","v":""},{"$f":"IF(D54<>\"\",Data!B55,\"\")","v":""},"",{"$f":"IF(AND(Data!H55<>\"\",Data!H55 > 0),Data!H55,\"\")","v":""}]
[{"$f":"IF(D55<>\"\",Data!A56,\"\")","v":""},{"$f":"IF(D55<>\"\",Data!B56,\"\")","v":""},"",{"$f":"IF(AND(Data!H56<>\"\",Data!H56 > 0),Data!H56,\"\")","v":""}]
[{"$f":"IF(D56<>\"\",Data!A57,\"\")","v":""},{"$f":"IF(D56<>\"\",Data!B57,\"\")","v":""},"",{"$f":"IF(AND(Data!H57<>\"\",Data!H57 > 0),Data!H57,\"\")","v":""}]
[{"$f":"IF(D57<>\"\",Data!A58,\"\")","v":""},{"$f":"IF(D57<>\"\",Data!B58,\"\")","v":""},"",{"$f":"IF(AND(Data!H58<>\"\",Data!H58 > 0),Data!H58,\"\")","v":""}]
[{"$f":"IF(D58<>\"\",Data!A59,\"\")","v":""},{"$f":"IF(D58<>\"\",Data!B59,\"\")","v":""},"",{"$f":"IF(AND(Data!H59<>\"\",Data!H59 > 0),Data!H59,\"\")","v":""}]
[{"$f":"IF(D59<>\"\",Data!A60,\"\")","v":""},{"$f":"IF(D59<>\"\",Data!B60,\"\")","v":""},"",{"$f":"IF(AND(Data!H60<>\"\",Data!H60 > 0),Data!H60,\"\")","v":""}]
[{"$f":"IF(D60<>\"\",Data!A61,\"\")","v":""},{"$f":"IF(D60<>\"\",Data!B61,\"\")","v":""},"",{"$f":"IF(AND(Data!H61<>\"\",Data!H61 > 0),Data!H61,\"\")","v":""}]
[{"$f":"IF(D61<>\"\",Data!A62,\"\")","v":""},{"$f":"IF(D61<>\"\",Data!B62,\"\")","v":""},"",{"$f":"IF(AND(Data!H62<>\"\",Data!H62 > 0),Data!H62,\"\")","v":""}]
[{"$f":"IF(D62<>\"\",Data!A63,\"\")","v":""},{"$f":"IF(D62<>\"\",Data!B63,\"\")","v":""},"",{"$f":"IF(AND(Data!H63<>\"\",Data!H63 > 0),Data!H63,\"\")","v":""}]
[{"$f":"IF(D63<>\"\",Data!A64,\"\")","v":""},{"$f":"IF(D63<>\"\",Data!B64,\"\")","v":""},"",{"$f":"IF(AND(Data!H64<>\"\",Data!H64 > 0),Data!H64,\"\")","v":""}]
[{"$f":"IF(D64<>\"\",Data!A65,\"\")","v":""},{"$f":"IF(D64<>\"\",Data!B65,\"\")","v":""},"",{"$f":"IF(AND(Data!H65<>\"\",Data!H65 > 0),Data!H65,\"\")","v":""}]
[{"$f":"IF(D65<>\"\",Data!A66,\"\")","v":""},{"$f":"IF(D65<>\"\",Data!B66,\"\")","v":""},"",{"$f":"IF(AND(Data!H66<>\"\",Data!H66 > 0),Data!H66,\"\")","v":""}]
[{"$f":"IF(D66<>\"\",Data!A67,\"\")","v":""},{"$f":"IF(D66<>\"\",Data!B67,\"\")","v":""},{"$f":"IF(D66<>\"\",MID(CELL(\"filename\",B66),FIND(\"]\",CELL(\"filename\",B66))+1,32),\"\")","v":""},{"$f":"IF(AND(Data!H67<>\"\",Data!H67 > 0),Data!H67,\"\")","v":""}]
[{"$f":"IF(D67<>\"\",Data!A68,\"\")","v":""},{"$f":"IF(D67<>\"\",Data!B68,\"\")","v":""},"",{"$f":"IF(AND(Data!H68<>\"\",Data!H68 > 0),Data!H68,\"\")","v":""}]
[{"$f":"IF(D68<>\"\",Data!A69,\"\")","v":""},{"$f":"IF(D68<>\"\",Data!B69,\"\")","v":""},"",{"$f":"IF(AND(Data!H69<>\"\",Data!H69 > 0),Data!H69,\"\")","v":""}]
[{"$f":"IF(D69<>\"\",Data!A70,\"\")","v":""},{"$f":"IF(D69<>\"\",Data!B70,\"\")","v":""},"",{"$f":"IF(AND(Data!H70<>\"\",Data!H70 > 0),Data!H70,\"\")","v":""}]
[{"$f":"IF(D70<>\"\",Data!A71,\"\")","v":""},{"$f":"IF(D70<>\"\",Data!B71,\"\")","v":""},"",{"$f":"IF(AND(Data!H71<>\"\",Data!H71 > 0),Data!H71,\"\")","v":""}]
[{"$f":"IF(D71<>\"\",Data!A72,\"\")","v":""},{"$f":"IF(D71<>\"\",Data!B72,\"\")","v":""},"",{"$f":"IF(AND(Data!H72<>\"\",Data!H72 > 0),Data!H72,\"\")","v":""}]
[{"$f":"IF(D72<>\"\",Data!A73,\"\")","v":""},{"$f":"IF(D72<>\"\",Data!B73,\"\")","v":""},"",{"$f":"IF(AND(Data!H73<>\"\",Data!H73 > 0),Data!H73,\"\")","v":""}]
[{"$f":"IF(D73<>\"\",Data!A74,\"\")","v":""},{"$f":"IF(D73<>\"\",Data!B74,\"\")","v":""},"",{"$f":"IF(AND(Data!H74<>\"\",Data!H74 > 0),Data!H74,\"\")","v":""}]
[{"$f":"IF(D74<>\"\",Data!A75,\"\")","v":""},{"$f":"IF(D74<>\"\",Data!B75,\"\")","v":""},"",{"$f":"IF(AND(Data!H75<>\"\",Data!H75 > 0),Data!H75,\"\")","v":""}]
[{"$f":"IF(D75<>\"\",Data!A76,\"\")","v":""},{"$f":"IF(D75<>\"\",Data!B76,\"\")","v":""},"",{"$f":"IF(AND(Data!H76<>\"\",Data!H76 > 0),Data!H76,\"\")","v":""}]
[{"$f":"IF(D76<>\"\",Data!A77,\"\")","v":""},{"$f":"IF(D76<>\"\",Data!B77,\"\")","v":""},"",{"$f":"IF(AND(Data!H77<>\"\",Data!H77 > 0),Data!H77,\"\")","v":""}]
[{"$f":"IF(D77<>\"\",Data!A78,\"\")","v":""},{"$f":"IF(D77<>\"\",Data!B78,\"\")","v":""},"",{"$f":"IF(AND(Data!H78<>\"\",Data!H78 > 0),Data!H78,\"\")","v":""}]
[{"$f":"IF(D78<>\"\",Data!A79,\"\")","v":""},{"$f":"IF(D78<>\"\",Data!B79,\"\")","v":""},"",{"$f":"IF(AND(Data!H79<>\"\",Data!H79 > 0),Data!H79,\"\")","v":""}]
[{"$f":"IF(D79<>\"\",Data!A80,\"\")","v":""},{"$f":"IF(D79<>\"\",Data!B80,\"\")","v":""},"",{"$f":"IF(AND(Data!H80<>\"\",Data!H80 > 0),Data!H80,\"\")","v":""}]
[{"$f":"IF(D80<>\"\",Data!A81,\"\")","v":""},{"$f":"IF(D80<>\"\",Data!B81,\"\")","v":""},"",{"$f":"IF(AND(Data!H81<>\"\",Data!H81 > 0),Data!H81,\"\")","v":""}]
[{"$f":"IF(D81<>\"\",Data!A82,\"\")","v":""},{"$f":"IF(D81<>\"\",Data!B82,\"\")","v":""},"",{"$f":"IF(AND(Data!H82<>\"\",Data!H82 > 0),Data!H82,\"\")","v":""}]
[{"$f":"IF(D82<>\"\",Data!A83,\"\")","v":""},{"$f":"IF(D82<>\"\",Data!B83,\"\")","v":""},"",{"$f":"IF(AND(Data!H83<>\"\",Data!H83 > 0),Data!H83,\"\")","v":""}]
[{"$f":"IF(D83<>\"\",Data!A84,\"\")","v":""},{"$f":"IF(D83<>\"\",Data!B84,\"\")","v":""},"",{"$f":"IF(AND(Data!H84<>\"\",Data!H84 > 0),Data!H84,\"\")","v":""}]
[{"$f":"IF(D84<>\"\",Data!A85,\"\")","v":""},{"$f":"IF(D84<>\"\",Data!B85,\"\")","v":""},"",{"$f":"IF(AND(Data!H85<>\"\",Data!H85 > 0),Data!H85,\"\")","v":""}]
[{"$f":"IF(D85<>\"\",Data!A86,\"\")","v":""},{"$f":"IF(D85<>\"\",Data!B86,\"\")","v":""},"",{"$f":"IF(AND(Data!H86<>\"\",Data!H86 > 0),Data!H86,\"\")","v":""}]
[{"$f":"IF(D86<>\"\",Data!A87,\"\")","v":""},{"$f":"IF(D86<>\"\",Data!B87,\"\")","v":""},"",{"$f":"IF(AND(Data!H87<>\"\",Data!H87 > 0),Data!H87,\"\")","v":""}]
[{"$f":"IF(D87<>\"\",Data!A88,\"\")","v":""},{"$f":"IF(D87<>\"\",Data!B88,\"\")","v":""},"",{"$f":"IF(AND(Data!H88<>\"\",Data!H88 > 0),Data!H88,\"\")","v":""}]
[{"$f":"IF(D88<>\"\",Data!A89,\"\")","v":""},{"$f":"IF(D88<>\"\",Data!B89,\"\")","v":""},"",{"$f":"IF(AND(Data!H89<>\"\",Data!H89 > 0),Data!H89,\"\")","v":""}]
[{"$f":"IF(D89<>\"\",Data!A90,\"\")","v":""},{"$f":"IF(D89<>\"\",Data!B90,\"\")","v":""},"",{"$f":"IF(AND(Data!H90<>\"\",Data!H90 > 0),Data!H90,\"\")","v":""}]
[{"$f":"IF(D90<>\"\",Data!A91,\"\")","v":""},{"$f":"IF(D90<>\"\",Data!B91,\"\")","v":""},"",{"$f":"IF(AND(Data!H91<>\"\",Data!H91 > 0),Data!H91,\"\")","v":""}]
[{"$f":"IF(D91<>\"\",Data!A92,\"\")","v":""},{"$f":"IF(D91<>\"\",Data!B92,\"\")","v":""},"",{"$f":"IF(AND(Data!H92<>\"\",Data!H92 > 0),Data!H92,\"\")","v":""}]
[{"$f":"IF(D92<>\"\",Data!A93,\"\")","v":""},{"$f":"IF(D92<>\"\",Data!B93,\"\")","v":""},"",{"$f":"IF(AND(Data!H93<>\"\",Data!H93 > 0),Data!H93,\"\")","v":""}]
[{"$f":"IF(D93<>\"\",Data!A94,\"\")","v":""},{"$f":"IF(D93<>\"\",Data!B94,\"\")","v":""},"",{"$f":"IF(AND(Data!H94<>\"\",Data!H94 > 0),Data!H94,\"\")","v":""}]
[{"$f":"IF(D94<>\"\",Data!A95,\"\")","v":""},{"$f":"IF(D94<>\"\",Data!B95,\"\")","v":""},"",{"$f":"IF(AND(Data!H95<>\"\",Data!H95 > 0),Data!H95,\"\")","v":""}]
[{"$f":"IF(D95<>\"\",Data!A96,\"\")","v":""},{"$f":"IF(D95<>\"\",Data!B96,\"\")","v":""},"",{"$f":"IF(AND(Data!H96<>\"\",Data!H96 > 0),Data!H96,\"\")","v":""}]
[{"$f":"IF(D96<>\"\",Data!A97,\"\")","v":""},{"$f":"IF(D96<>\"\",Data!B97,\"\")","v":""},"",{"$f":"IF(AND(Data!H97<>\"\",Data!H97 > 0),Data!H97,\"\")","v":""}]
[{"$f":"IF(D97<>\"\",Data!A98,\"\")","v":""},{"$f":"IF(D97<>\"\",Data!B98,\"\")","v":""},"",{"$f":"IF(AND(Data!H98<>\"\",Data!H98 > 0),Data!H98,\"\")","v":""}]
[{"$f":"IF(D98<>\"\",Data!A99,\"\")","v":""},{"$f":"IF(D98<>\"\",Data!B99,\"\")","v":""},"",{"$f":"IF(AND(Data!H99<>\"\",Data!H99 > 0),Data!H99,\"\")","v":""}]
[{"$f":"IF(D99<>\"\",Data!A100,\"\")","v":""},{"$f":"IF(D99<>\"\",Data!B100,\"\")","v":""},"",{"$f":"IF(AND(Data!H100<>\"\",Data!H100 > 0),Data!H100,\"\")","v":""}]
[{"$f":"IF(D100<>\"\",Data!A101,\"\")","v":""},{"$f":"IF(D100<>\"\",Data!B101,\"\")","v":""},"",{"$f":"IF(AND(Data!H101<>\"\",Data!H101 > 0),Data!H101,\"\")","v":""}]
[{"$f":"IF(D101<>\"\",Data!A102,\"\")","v":""},{"$f":"IF(D101<>\"\",Data!B102,\"\")","v":""},"",{"$f":"IF(AND(Data!H102<>\"\",Data!H102 > 0),Data!H102,\"\")","v":""}]
[{"$f":"IF(D102<>\"\",Data!A103,\"\")","v":""},{"$f":"IF(D102<>\"\",Data!B103,\"\")","v":""},"",{"$f":"IF(AND(Data!H103<>\"\",Data!H103 > 0),Data!H103,\"\")","v":""}]
[{"$f":"IF(D103<>\"\",Data!A104,\"\")","v":""},{"$f":"IF(D103<>\"\",Data!B104,\"\")","v":""},"",{"$f":"IF(AND(Data!H104<>\"\",Data!H104 > 0),Data!H104,\"\")","v":""}]
[{"$f":"IF(D104<>\"\",Data!A105,\"\")","v":""},{"$f":"IF(D104<>\"\",Data!B105,\"\")","v":""},"",{"$f":"IF(AND(Data!H105<>\"\",Data!H105 > 0),Data!H105,\"\")","v":""}]
[{"$f":"IF(D105<>\"\",Data!A106,\"\")","v":""},{"$f":"IF(D105<>\"\",Data!B106,\"\")","v":""},"",{"$f":"IF(AND(Data!H106<>\"\",Data!H106 > 0),Data!H106,\"\")","v":""}]
[{"$f":"IF(D106<>\"\",Data!A107,\"\")","v":""},{"$f":"IF(D106<>\"\",Data!B107,\"\")","v":""},"",{"$f":"IF(AND(Data!H107<>\"\",Data!H107 > 0),Data!H107,\"\")","v":""}]
[{"$f":"IF(D107<>\"\",Data!A108,\"\")","v":""},{"$f":"IF(D107<>\"\",Data!B108,\"\")","v":""},"",{"$f":"IF(AND(Data!H108<>\"\",Data!H108 > 0),Data!H108,\"\")","v":""}]
[{"$f":"IF(D108<>\"\",Data!A109,\"\")","v":""},{"$f":"IF(D108<>\"\",Data!B109,\"\")","v":""},"",{"$f":"IF(AND(Data!H109<>\"\",Data!H109 > 0),Data!H109,\"\")","v":""}]
[{"$f":"IF(D109<>\"\",Data!A110,\"\")","v":""},{"$f":"IF(D109<>\"\",Data!B110,\"\")","v":""},"",{"$f":"IF(AND(Data!H110<>\"\",Data!H110 > 0),Data!H110,\"\")","v":""}]
[{"$f":"IF(D110<>\"\",Data!A111,\"\")","v":""},{"$f":"IF(D110<>\"\",Data!B111,\"\")","v":""},"",{"$f":"IF(AND(Data!H111<>\"\",Data!H111 > 0),Data!H111,\"\")","v":""}]
[{"$f":"IF(D111<>\"\",Data!A112,\"\")","v":""},{"$f":"IF(D111<>\"\",Data!B112,\"\")","v":""},"",{"$f":"IF(AND(Data!H112<>\"\",Data!H112 > 0),Data!H112,\"\")","v":""}]
[{"$f":"IF(D112<>\"\",Data!A113,\"\")","v":""},{"$f":"IF(D112<>\"\",Data!B113,\"\")","v":""},"",{"$f":"IF(AND(Data!H113<>\"\",Data!H113 > 0),Data!H113,\"\")","v":""}]
[{"$f":"IF(D113<>\"\",Data!A114,\"\")","v":""},{"$f":"IF(D113<>\"\",Data!B114,\"\")","v":""},"",{"$f":"IF(AND(Data!H114<>\"\",Data!H114 > 0),Data!H114,\"\")","v":""}]
[{"$f":"IF(D114<>\"\",Data!A115,\"\")","v":""},{"$f":"IF(D114<>\"\",Data!B115,\"\")","v":""},"",{"$f":"IF(AND(Data!H115<>\"\",Data!H115 > 0),Data!H115,\"\")","v":""}]
[{"$f":"IF(D115<>\"\",Data!A116,\"\")","v":""},{"$f":"IF(D115<>\"\",Data!B116,\"\")","v":""},"",{"$f":"IF(AND(Data!H116<>\"\",Data!H116 > 0),Data!H116,\"\")","v":""}]
[{"$f":"IF(D116<>\"\",Data!A117,\"\")","v":""},{"$f":"IF(D116<>\"\",Data!B117,\"\")","v":""},"",{"$f":"IF(AND(Data!H117<>\"\",Data!H117 > 0),Data!H117,\"\")","v":""}]
[{"$f":"IF(D117<>\"\",Data!A118,\"\")","v":""},{"$f":"IF(D117<>\"\",Data!B118,\"\")","v":""},"",{"$f":"IF(AND(Data!H118<>\"\",Data!H118 > 0),Data!H118,\"\")","v":""}]
[{"$f":"IF(D118<>\"\",Data!A119,\"\")","v":""},{"$f":"IF(D118<>\"\",Data!B119,\"\")","v":""},"",{"$f":"IF(AND(Data!H119<>\"\",Data!H119 > 0),Data!H119,\"\")","v":""}]
[{"$f":"IF(D119<>\"\",Data!A120,\"\")","v":""},{"$f":"IF(D119<>\"\",Data!B120,\"\")","v":""},"",{"$f":"IF(AND(Data!H120<>\"\",Data!H120 > 0),Data!H120,\"\")","v":""}]
[{"$f":"IF(D120<>\"\",Data!A121,\"\")","v":""},{"$f":"IF(D120<>\"\",Data!B121,\"\")","v":""},"",{"$f":"IF(AND(Data!H121<>\"\",Data!H121 > 0),Data!H121,\"\")","v":""}]
[{"$f":"IF(D121<>\"\",Data!A122,\"\")","v":""},{"$f":"IF(D121<>\"\",Data!B122,\"\")","v":""},"",{"$f":"IF(AND(Data!H122<>\"\",Data!H122 > 0),Data!H122,\"\")","v":""}]
[{"$f":"IF(D122<>\"\",Data!A123,\"\")","v":""},{"$f":"IF(D122<>\"\",Data!B123,\"\")","v":""},"",{"$f":"IF(AND(Data!H123<>\"\",Data!H123 > 0),Data!H123,\"\")","v":""}]
[{"$f":"IF(D123<>\"\",Data!A124,\"\")","v":""},{"$f":"IF(D123<>\"\",Data!B124,\"\")","v":""},"",{"$f":"IF(AND(Data!H124<>\"\",Data!H124 > 0),Data!H124,\"\")","v":""}]
[{"$f":"IF(D124<>\"\",Data!A125,\"\")","v":""},{"$f":"IF(D124<>\"\",Data!B125,\"\")","v":""},"",{"$f":"IF(AND(Data!H125<>\"\",Data!H125 > 0),Data!H125,\"\")","v":""}]
[{"$f":"IF(D125<>\"\",Data!A126,\"\")","v":""},{"$f":"IF(D125<>\"\",Data!B126,\"\")","v":""},"",{"$f":"IF(AND(Data!H126<>\"\",Data!H126 > 0),Data!H126,\"\")","v":""}]
[{"$f":"IF(D126<>\"\",Data!A127,\"\")","v":""},{"$f":"IF(D126<>\"\",Data!B127,\"\")","v":""},"",{"$f":"IF(AND(Data!H127<>\"\",Data!H127 > 0),Data!H127,\"\")","v":""}]
[{"$f":"IF(D127<>\"\",Data!A128,\"\")","v":""},{"$f":"IF(D127<>\"\",Data!B128,\"\")","v":""},"",{"$f":"IF(AND(Data!H128<>\"\",Data!H128 > 0),Data!H128,\"\")","v":""}]
[{"$f":"IF(D128<>\"\",Data!A129,\"\")","v":""},{"$f":"IF(D128<>\"\",Data!B129,\"\")","v":""},"",{"$f":"IF(AND(Data!H129<>\"\",Data!H129 > 0),Data!H129,\"\")","v":""}]
[{"$f":"IF(D129<>\"\",Data!A130,\"\")","v":""},{"$f":"IF(D129<>\"\",Data!B130,\"\")","v":""},"",{"$f":"IF(AND(Data!H130<>\"\",Data!H130 > 0),Data!H130,\"\")","v":""}]
[{"$f":"IF(D130<>\"\",Data!A131,\"\")","v":""},{"$f":"IF(D130<>\"\",Data!B131,\"\")","v":""},{"$f":"IF(D130<>\"\",MID(CELL(\"filename\",B130),FIND(\"]\",CELL(\"filename\",B130))+1,32),\"\")","v":""},{"$f":"IF(AND(Data!H131<>\"\",Data!H131 > 0),Data!H131,\"\")","v":""}]
[{"$f":"IF(D131<>\"\",Data!A132,\"\")","v":""},{"$f":"IF(D131<>\"\",Data!B132,\"\")","v":""},"",{"$f":"IF(AND(Data!H132<>\"\",Data!H132 > 0),Data!H132,\"\")","v":""}]
[{"$f":"IF(D132<>\"\",Data!A133,\"\")","v":""},{"$f":"IF(D132<>\"\",Data!B133,\"\")","v":""},"",{"$f":"IF(AND(Data!H133<>\"\",Data!H133 > 0),Data!H133,\"\")","v":""}]
[{"$f":"IF(D133<>\"\",Data!A134,\"\")","v":""},{"$f":"IF(D133<>\"\",Data!B134,\"\")","v":""},"",{"$f":"IF(AND(Data!H134<>\"\",Data!H134 > 0),Data!H134,\"\")","v":""}]
[{"$f":"IF(D134<>\"\",Data!A135,\"\")","v":""},{"$f":"IF(D134<>\"\",Data!B135,\"\")","v":""},"",{"$f":"IF(AND(Data!H135<>\"\",Data!H135 > 0),Data!H135,\"\")","v":""}]
[{"$f":"IF(D135<>\"\",Data!A136,\"\")","v":""},{"$f":"IF(D135<>\"\",Data!B136,\"\")","v":""},"",{"$f":"IF(AND(Data!H136<>\"\",Data!H136 > 0),Data!H136,\"\")","v":""}]
[{"$f":"IF(D136<>\"\",Data!A137,\"\")","v":""},{"$f":"IF(D136<>\"\",Data!B137,\"\")","v":""},"",{"$f":"IF(AND(Data!H137<>\"\",Data!H137 > 0),Data!H137,\"\")","v":""}]
[{"$f":"IF(D137<>\"\",Data!A138,\"\")","v":""},{"$f":"IF(D137<>\"\",Data!B138,\"\")","v":""},"",{"$f":"IF(AND(Data!H138<>\"\",Data!H138 > 0),Data!H138,\"\")","v":""}]
[{"$f":"IF(D138<>\"\",Data!A139,\"\")","v":""},{"$f":"IF(D138<>\"\",Data!B139,\"\")","v":""},"",{"$f":"IF(AND(Data!H139<>\"\",Data!H139 > 0),Data!H139,\"\")","v":""}]
[{"$f":"IF(D139<>\"\",Data!A140,\"\")","v":""},{"$f":"IF(D139<>\"\",Data!B140,\"\")","v":""},"",{"$f":"IF(AND(Data!H140<>\"\",Data!H140 > 0),Data!H140,\"\")","v":""}]
[{"$f":"IF(D140<>\"\",Data!A141,\"\")","v":""},{"$f":"IF(D140<>\"\",Data!B141,\"\")","v":""},"",{"$f":"IF(AND(Data!H141<>\"\",Data!H141 > 0),Data!H141,\"\")","v":""}]
[{"$f":"IF(D141<>\"\",Data!A142,\"\")","v":""},{"$f":"IF(D141<>\"\",Data!B142,\"\")","v":""},"",{"$f":"IF(AND(Data!H142<>\"\",Data!H142 > 0),Data!H142,\"\")","v":""}]
[{"$f":"IF(D142<>\"\",Data!A143,\"\")","v":""},{"$f":"IF(D142<>\"\",Data!B143,\"\")","v":""},"",{"$f":"IF(AND(Data!H143<>\"\",Data!H143 > 0),Data!H143,\"\")","v":""}]
[{"$f":"IF(D143<>\"\",Data!A144,\"\")","v":""},{"$f":"IF(D143<>\"\",Data!B144,\"\")","v":""},"",{"$f":"IF(AND(Data!H144<>\"\",Data!H144 > 0),Data!H144,\"\")","v":""}]
[{"$f":"IF(D144<>\"\",Data!A145,\"\")","v":""},{"$f":"IF(D144<>\"\",Data!B145,\"\")","v":""},"",{"$f":"IF(AND(Data!H145<>\"\",Data!H145 > 0),Data!H145,\"\")","v":""}]
[{"$f":"IF(D145<>\"\",Data!A146,\"\")","v":""},{"$f":"IF(D145<>\"\",Data!B146,\"\")","v":""},"",{"$f":"IF(AND(Data!H146<>\"\",Data!H146 > 0),Data!H146,\"\")","v":""}]
[{"$f":"IF(D146<>\"\",Data!A147,\"\")","v":""},{"$f":"IF(D146<>\"\",Data!B147,\"\")","v":""},"",{"$f":"IF(AND(Data!H147<>\"\",Data!H147 > 0),Data!H147,\"\")","v":""}]
[{"$f":"IF(D147<>\"\",Data!A148,\"\")","v":""},{"$f":"IF(D147<>\"\",Data!B148,\"\")","v":""},"",{"$f":"IF(AND(Data!H148<>\"\",Data!H148 > 0),Data!H148,\"\")","v":""}]
[{"$f":"IF(D148<>\"\",Data!A149,\"\")","v":""},{"$f":"IF(D148<>\"\",Data!B149,\"\")","v":""},"",{"$f":"IF(AND(Data!H149<>\"\",Data!H149 > 0),Data!H149,\"\")","v":""}]
[{"$f":"IF(D149<>\"\",Data!A150,\"\")","v":""},{"$f":"IF(D149<>\"\",Data!B150,\"\")","v":""},"",{"$f":"IF(AND(Data!H150<>\"\",Data!H150 > 0),Data!H150,\"\")","v":""}]
[{"$f":"IF(D150<>\"\",Data!A151,\"\")","v":""},{"$f":"IF(D150<>\"\",Data!B151,\"\")","v":""},"",{"$f":"IF(AND(Data!H151<>\"\",Data!H151 > 0),Data!H151,\"\")","v":""}]
[{"$f":"IF(D151<>\"\",Data!A152,\"\")","v":""},{"$f":"IF(D151<>\"\",Data!B152,\"\")","v":""},"",{"$f":"IF(AND(Data!H152<>\"\",Data!H152 > 0),Data!H152,\"\")","v":""}]
[{"$f":"IF(D152<>\"\",Data!A153,\"\")","v":""},{"$f":"IF(D152<>\"\",Data!B153,\"\")","v":""},"",{"$f":"IF(AND(Data!H153<>\"\",Data!H153 > 0),Data!H153,\"\")","v":""}]
[{"$f":"IF(D153<>\"\",Data!A154,\"\")","v":""},{"$f":"IF(D153<>\"\",Data!B154,\"\")","v":""},"",{"$f":"IF(AND(Data!H154<>\"\",Data!H154 > 0),Data!H154,\"\")","v":""}]
[{"$f":"IF(D154<>\"\",Data!A155,\"\")","v":""},{"$f":"IF(D154<>\"\",Data!B155,\"\")","v":""},"",{"$f":"IF(AND(Data!H155<>\"\",Data!H155 > 0),Data!H155,\"\")","v":""}]
[{"$f":"IF(D155<>\"\",Data!A156,\"\")","v":""},{"$f":"IF(D155<>\"\",Data!B156,\"\")","v":""},"",{"$f":"IF(AND(Data!H156<>\"\",Data!H156 > 0),Data!H156,\"\")","v":""}]
[{"$f":"IF(D156<>\"\",Data!A157,\"\")","v":""},{"$f":"IF(D156<>\"\",Data!B157,\"\")","v":""},"",{"$f":"IF(AND(Data!H157<>\"\",Data!H157 > 0),Data!H157,\"\")","v":""}]
[{"$f":"IF(D157<>\"\",Data!A158,\"\")","v":""},{"$f":"IF(D157<>\"\",Data!B158,\"\")","v":""},"",{"$f":"IF(AND(Data!H158<>\"\",Data!H158 > 0),Data!H158,\"\")","v":""}]
[{"$f":"IF(D158<>\"\",Data!A159,\"\")","v":""},{"$f":"IF(D158<>\"\",Data!B159,\"\")","v":""},"",{"$f":"IF(AND(Data!H159<>\"\",Data!H159 > 0),Data!H159,\"\")","v":""}]
[{"$f":"IF(D159<>\"\",Data!A160,\"\")","v":""},{"$f":"IF(D159<>\"\",Data!B160,\"\")","v":""},"",{"$f":"IF(AND(Data!H160<>\"\",Data!H160 > 0),Data!H160,\"\")","v":""}]
[{"$f":"IF(D160<>\"\",Data!A161,\"\")","v":""},{"$f":"IF(D160<>\"\",Data!B161,\"\")","v":""},"",{"$f":"IF(AND(Data!H161<>\"\",Data!H161 > 0),Data!H161,\"\")","v":""}]
[{"$f":"IF(D161<>\"\",Data!A162,\"\")","v":""},{"$f":"IF(D161<>\"\",Data!B162,\"\")","v":""},"",{"$f":"IF(AND(Data!H162<>\"\",Data!H162 > 0),Data!H162,\"\")","v":""}]
[{"$f":"IF(D162<>\"\",Data!A163,\"\")","v":""},{"$f":"IF(D162<>\"\",Data!B163,\"\")","v":""},"",{"$f":"IF(AND(Data!H163<>\"\",Data!H163 > 0),Data!H163,\"\")","v":""}]
[{"$f":"IF(D163<>\"\",Data!A164,\"\")","v":""},{"$f":"IF(D163<>\"\",Data!B164,\"\")","v":""},"",{"$f":"IF(AND(Data!H164<>\"\",Data!H164 > 0),Data!H164,\"\")","v":""}]
[{"$f":"IF(D164<>\"\",Data!A165,\"\")","v":""},{"$f":"IF(D164<>\"\",Data!B165,\"\")","v":""},"",{"$f":"IF(AND(Data!H165<>\"\",Data!H165 > 0),Data!H165,\"\")","v":""}]
[{"$f":"IF(D165<>\"\",Data!A166,\"\")","v":""},{"$f":"IF(D165<>\"\",Data!B166,\"\")","v":""},"",{"$f":"IF(AND(Data!H166<>\"\",Data!H166 > 0),Data!H166,\"\")","v":""}]
[{"$f":"IF(D166<>\"\",Data!A167,\"\")","v":""},{"$f":"IF(D166<>\"\",Data!B167,\"\")","v":""},"",{"$f":"IF(AND(Data!H167<>\"\",Data!H167 > 0),Data!H167,\"\")","v":""}]
[{"$f":"IF(D167<>\"\",Data!A168,\"\")","v":""},{"$f":"IF(D167<>\"\",Data!B168,\"\")","v":""},"",{"$f":"IF(AND(Data!H168<>\"\",Data!H168 > 0),Data!H168,\"\")","v":""}]
[{"$f":"IF(D168<>\"\",Data!A169,\"\")","v":""},{"$f":"IF(D168<>\"\",Data!B169,\"\")","v":""},"",{"$f":"IF(AND(Data!H169<>\"\",Data!H169 > 0),Data!H169,\"\")","v":""}]
[{"$f":"IF(D169<>\"\",Data!A170,\"\")","v":""},{"$f":"IF(D169<>\"\",Data!B170,\"\")","v":""},"",{"$f":"IF(AND(Data!H170<>\"\",Data!H170 > 0),Data!H170,\"\")","v":""}]
[{"$f":"IF(D170<>\"\",Data!A171,\"\")","v":""},{"$f":"IF(D170<>\"\",Data!B171,\"\")","v":""},"",{"$f":"IF(AND(Data!H171<>\"\",Data!H171 > 0),Data!H171,\"\")","v":""}]
[{"$f":"IF(D171<>\"\",Data!A172,\"\")","v":""},{"$f":"IF(D171<>\"\",Data!B172,\"\")","v":""},"",{"$f":"IF(AND(Data!H172<>\"\",Data!H172 > 0),Data!H172,\"\")","v":""}]
[{"$f":"IF(D172<>\"\",Data!A173,\"\")","v":""},{"$f":"IF(D172<>\"\",Data!B173,\"\")","v":""},"",{"$f":"IF(AND(Data!H173<>\"\",Data!H173 > 0),Data!H173,\"\")","v":""}]
[{"$f":"IF(D173<>\"\",Data!A174,\"\")","v":""},{"$f":"IF(D173<>\"\",Data!B174,\"\")","v":""},"",{"$f":"IF(AND(Data!H174<>\"\",Data!H174 > 0),Data!H174,\"\")","v":""}]
[{"$f":"IF(D174<>\"\",Data!A175,\"\")","v":""},{"$f":"IF(D174<>\"\",Data!B175,\"\")","v":""},"",{"$f":"IF(AND(Data!H175<>\"\",Data!H175 > 0),Data!H175,\"\")","v":""}]
[{"$f":"IF(D175<>\"\",Data!A176,\"\")","v":""},{"$f":"IF(D175<>\"\",Data!B176,\"\")","v":""},"",{"$f":"IF(AND(Data!H176<>\"\",Data!H176 > 0),Data!H176,\"\")","v":""}]
[{"$f":"IF(D176<>\"\",Data!A177,\"\")","v":""},{"$f":"IF(D176<>\"\",Data!B177,\"\")","v":""},"",{"$f":"IF(AND(Data!H177<>\"\",Data!H177 > 0),Data!H177,\"\")","v":""}]
[{"$f":"IF(D177<>\"\",Data!A178,\"\")","v":""},{"$f":"IF(D177<>\"\",Data!B178,\"\")","v":""},"",{"$f":"IF(AND(Data!H178<>\"\",Data!H178 > 0),Data!H178,\"\")","v":""}]
[{"$f":"IF(D178<>\"\",Data!A179,\"\")","v":""},{"$f":"IF(D178<>\"\",Data!B179,\"\")","v":""},"",{"$f":"IF(AND(Data!H179<>\"\",Data!H179 > 0),Data!H179,\"\")","v":""}]
[{"$f":"IF(D179<>\"\",Data!A180,\"\")","v":""},{"$f":"IF(D179<>\"\",Data!B180,\"\")","v":""},"",{"$f":"IF(AND(Data!H180<>\"\",Data!H180 > 0),Data!H180,\"\")","v":""}]
[{"$f":"IF(D180<>\"\",Data!A181,\"\")","v":""},{"$f":"IF(D180<>\"\",Data!B181,\"\")","v":""},"",{"$f":"IF(AND(Data!H181<>\"\",Data!H181 > 0),Data!H181,\"\")","v":""}]
[{"$f":"IF(D181<>\"\",Data!A182,\"\")","v":""},{"$f":"IF(D181<>\"\",Data!B182,\"\")","v":""},"",{"$f":"IF(AND(Data!H182<>\"\",Data!H182 > 0),Data!H182,\"\")","v":""}]
[{"$f":"IF(D182<>\"\",Data!A183,\"\")","v":""},{"$f":"IF(D182<>\"\",Data!B183,\"\")","v":""},"",{"$f":"IF(AND(Data!H183<>\"\",Data!H183 > 0),Data!H183,\"\")","v":""}]
[{"$f":"IF(D183<>\"\",Data!A184,\"\")","v":""},{"$f":"IF(D183<>\"\",Data!B184,\"\")","v":""},"",{"$f":"IF(AND(Data!H184<>\"\",Data!H184 > 0),Data!H184,\"\")","v":""}]
[{"$f":"IF(D184<>\"\",Data!A185,\"\")","v":""},{"$f":"IF(D184<>\"\",Data!B185,\"\")","v":""},"",{"$f":"IF(AND(Data!H185<>\"\",Data!H185 > 0),Data!H185,\"\")","v":""}]
[{"$f":"IF(D185<>\"\",Data!A186,\"\")","v":""},{"$f":"IF(D185<>\"\",Data!B186,\"\")","v":""},"",{"$f":"IF(AND(Data!H186<>\"\",Data!H186 > 0),Data!H186,\"\")","v":""}]
[{"$f":"IF(D186<>\"\",Data!A187,\"\")","v":""},{"$f":"IF(D186<>\"\",Data!B187,\"\")","v":""},"",{"$f":"IF(AND(Data!H187<>\"\",Data!H187 > 0),Data!H187,\"\")","v":""}]
[{"$f":"IF(D187<>\"\",Data!A188,\"\")","v":""},{"$f":"IF(D187<>\"\",Data!B188,\"\")","v":""},"",{"$f":"IF(AND(Data!H188<>\"\",Data!H188 > 0),Data!H188,\"\")","v":""}]
[{"$f":"IF(D188<>\"\",Data!A189,\"\")","v":""},{"$f":"IF(D188<>\"\",Data!B189,\"\")","v":""},"",{"$f":"IF(AND(Data!H189<>\"\",Data!H189 > 0),Data!H189,\"\")","v":""}]
[{"$f":"IF(D189<>\"\",Data!A190,\"\")","v":""},{"$f":"IF(D189<>\"\",Data!B190,\"\")","v":""},"",{"$f":"IF(AND(Data!H190<>\"\",Data!H190 > 0),Data!H190,\"\")","v":""}]
[{"$f":"IF(D190<>\"\",Data!A191,\"\")","v":""},{"$f":"IF(D190<>\"\",Data!B191,\"\")","v":""},"",{"$f":"IF(AND(Data!H191<>\"\",Data!H191 > 0),Data!H191,\"\")","v":""}]
[{"$f":"IF(D191<>\"\",Data!A192,\"\")","v":""},{"$f":"IF(D191<>\"\",Data!B192,\"\")","v":""},"",{"$f":"IF(AND(Data!H192<>\"\",Data!H192 > 0),Data!H192,\"\")","v":""}]
[{"$f":"IF(D192<>\"\",Data!A193,\"\")","v":""},{"$f":"IF(D192<>\"\",Data!B193,\"\")","v":""},"",{"$f":"IF(AND(Data!H193<>\"\",Data!H193 > 0),Data!H193,\"\")","v":""}]
[{"$f":"IF(D193<>\"\",Data!A194,\"\")","v":""},{"$f":"IF(D193<>\"\",Data!B194,\"\")","v":""},"",{"$f":"IF(AND(Data!H194<>\"\",Data!H194 > 0),Data!H194,\"\")","v":""}]
[{"$f":"IF(D194<>\"\",Data!A195,\"\")","v":""},{"$f":"IF(D194<>\"\",Data!B195,\"\")","v":""},{"$f":"IF(D194<>\"\",MID(CELL(\"filename\",B194),FIND(\"]\",CELL(\"filename\",B194))+1,32),\"\")","v":""},{"$f":"IF(AND(Data!H195<>\"\",Data!H195 > 0),Data!H195,\"\")","v":""}]
[{"$f":"IF(D195<>\"\",Data!A196,\"\")","v":""},{"$f":"IF(D195<>\"\",Data!B196,\"\")","v":""},"",{"$f":"IF(AND(Data!H196<>\"\",Data!H196 > 0),Data!H196,\"\")","v":""}]
[{"$f":"IF(D196<>\"\",Data!A197,\"\")","v":""},{"$f":"IF(D196<>\"\",Data!B197,\"\")","v":""},"",{"$f":"IF(AND(Data!H197<>\"\",Data!H197 > 0),Data!H197,\"\")","v":""}]
[{"$f":"IF(D197<>\"\",Data!A198,\"\")","v":""},{"$f":"IF(D197<>\"\",Data!B198,\"\")","v":""},"",{"$f":"IF(AND(Data!H198<>\"\",Data!H198 > 0),Data!H198,\"\")","v":""}]
[{"$f":"IF(D198<>\"\",Data!A199,\"\")","v":""},{"$f":"IF(D198<>\"\",Data!B199,\"\")","v":""},"",{"$f":"IF(AND(Data!H199<>\"\",Data!H199 > 0),Data!H199,\"\")","v":""}]
[{"$f":"IF(D199<>\"\",Data!A200,\"\")","v":""},{"$f":"IF(D199<>\"\",Data!B200,\"\")","v":""},"",{"$f":"IF(AND(Data!H200<>\"\",Data!H200 > 0),Data!H200,\"\")","v":""}]
[{"$f":"IF(D200<>\"\",Data!A201,\"\")","v":""},{"$f":"IF(D200<>\"\",Data!B201,\"\")","v":""},"",{"$f":"IF(AND(Data!H201<>\"\",Data!H201 > 0),Data!H201,\"\")","v":""}]
[{"$f":"IF(D201<>\"\",Data!A202,\"\")","v":""},{"$f":"IF(D201<>\"\",Data!B202,\"\")","v":""},"",{"$f":"IF(AND(Data!H202<>\"\",Data!H202 > 0),Data!H202,\"\")","v":""}]
[{"$f":"IF(D202<>\"\",Data!A203,\"\")","v":""},{"$f":"IF(D202<>\"\",Data!B203,\"\")","v":""},"",{"$f":"IF(AND(Data!H203<>\"\",Data!H203 > 0),Data!H203,\"\")","v":""}]
[{"$f":"IF(D203<>\"\",Data!A204,\"\")","v":""},{"$f":"IF(D203<>\"\",Data!B204,\"\")","v":""},"",{"$f":"IF(AND(Data!H204<>\"\",Data!H204 > 0),Data!H204,\"\")","v":""}]
[{"$f":"IF(D204<>\"\",Data!A205,\"\")","v":""},{"$f":"IF(D204<>\"\",Data!B205,\"\")","v":""},"",{"$f":"IF(AND(Data!H205<>\"\",Data!H205 > 0),Data!H205,\"\")","v":""}]
[{"$f":"IF(D205<>\"\",Data!A206,\"\")","v":""},{"$f":"IF(D205<>\"\",Data!B206,\"\")","v":""},"",{"$f":"IF(AND(Data!H206<>\"\",Data!H206 > 0),Data!H206,\"\")","v":""}]
[{"$f":"IF(D206<>\"\",Data!A207,\"\")","v":""},{"$f":"IF(D206<>\"\",Data!B207,\"\")","v":""},"",{"$f":"IF(AND(Data!H207<>\"\",Data!H207 > 0),Data!H207,\"\")","v":""}]
[{"$f":"IF(D207<>\"\",Data!A208,\"\")","v":""},{"$f":"IF(D207<>\"\",Data!B208,\"\")","v":""},"",{"$f":"IF(AND(Data!H208<>\"\",Data!H208 > 0),Data!H208,\"\")","v":""}]
[{"$f":"IF(D208<>\"\",Data!A209,\"\")","v":""},{"$f":"IF(D208<>\"\",Data!B209,\"\")","v":""},"",{"$f":"IF(AND(Data!H209<>\"\",Data!H209 > 0),Data!H209,\"\")","v":""}]
[{"$f":"IF(D209<>\"\",Data!A210,\"\")","v":""},{"$f":"IF(D209<>\"\",Data!B210,\"\")","v":""},"",{"$f":"IF(AND(Data!H210<>\"\",Data!H210 > 0),Data!H210,\"\")","v":""}]
[{"$f":"IF(D210<>\"\",Data!A211,\"\")","v":""},{"$f":"IF(D210<>\"\",Data!B211,\"\")","v":""},"",{"$f":"IF(AND(Data!H211<>\"\",Data!H211 > 0),Data!H211,\"\")","v":""}]
[{"$f":"IF(D211<>\"\",Data!A212,\"\")","v":""},{"$f":"IF(D211<>\"\",Data!B212,\"\")","v":""},"",{"$f":"IF(AND(Data!H212<>\"\",Data!H212 > 0),Data!H212,\"\")","v":""}]
[{"$f":"IF(D212<>\"\",Data!A213,\"\")","v":""},{"$f":"IF(D212<>\"\",Data!B213,\"\")","v":""},"",{"$f":"IF(AND(Data!H213<>\"\",Data!H213 > 0),Data!H213,\"\")","v":""}]
[{"$f":"IF(D213<>\"\",Data!A214,\"\")","v":""},{"$f":"IF(D213<>\"\",Data!B214,\"\")","v":""},"",{"$f":"IF(AND(Data!H214<>\"\",Data!H214 > 0),Data!H214,\"\")","v":""}]
[{"$f":"IF(D214<>\"\",Data!A215,\"\")","v":""},{"$f":"IF(D214<>\"\",Data!B215,\"\")","v":""},"",{"$f":"IF(AND(Data!H215<>\"\",Data!H215 > 0),Data!H215,\"\")","v":""}]
[{"$f":"IF(D215<>\"\",Data!A216,\"\")","v":""},{"$f":"IF(D215<>\"\",Data!B216,\"\")","v":""},"",{"$f":"IF(AND(Data!H216<>\"\",Data!H216 > 0),Data!H216,\"\")","v":""}]
[{"$f":"IF(D216<>\"\",Data!A217,\"\")","v":""},{"$f":"IF(D216<>\"\",Data!B217,\"\")","v":""},"",{"$f":"IF(AND(Data!H217<>\"\",Data!H217 > 0),Data!H217,\"\")","v":""}]
[{"$f":"IF(D217<>\"\",Data!A218,\"\")","v":""},{"$f":"IF(D217<>\"\",Data!B218,\"\")","v":""},"",{"$f":"IF(AND(Data!H218<>\"\",Data!H218 > 0),Data!H218,\"\")","v":""}]
[{"$f":"IF(D218<>\"\",Data!A219,\"\")","v":""},{"$f":"IF(D218<>\"\",Data!B219,\"\")","v":""},"",{"$f":"IF(AND(Data!H219<>\"\",Data!H219 > 0),Data!H219,\"\")","v":""}]
[{"$f":"IF(D219<>\"\",Data!A220,\"\")","v":""},{"$f":"IF(D219<>\"\",Data!B220,\"\")","v":""},"",{"$f":"IF(AND(Data!H220<>\"\",Data!H220 > 0),Data!H220,\"\")","v":""}]
[{"$f":"IF(D220<>\"\",Data!A221,\"\")","v":""},{"$f":"IF(D220<>\"\",Data!B221,\"\")","v":""},"",{"$f":"IF(AND(Data!H221<>\"\",Data!H221 > 0),Data!H221,\"\")","v":""}]
[{"$f":"IF(D221<>\"\",Data!A222,\"\")","v":""},{"$f":"IF(D221<>\"\",Data!B222,\"\")","v":""},"",{"$f":"IF(AND(Data!H222<>\"\",Data!H222 > 0),Data!H222,\"\")","v":""}]
[{"$f":"IF(D222<>\"\",Data!A223,\"\")","v":""},{"$f":"IF(D222<>\"\",Data!B223,\"\")","v":""},"",{"$f":"IF(AND(Data!H223<>\"\",Data!H223 > 0),Data!H223,\"\")","v":""}]
[{"$f":"IF(D223<>\"\",Data!A224,\"\")","v":""},{"$f":"IF(D223<>\"\",Data!B224,\"\")","v":""},"",{"$f":"IF(AND(Data!H224<>\"\",Data!H224 > 0),Data!H224,\"\")","v":""}]
[{"$f":"IF(D224<>\"\",Data!A225,\"\")","v":""},{"$f":"IF(D224<>\"\",Data!B225,\"\")","v":""},"",{"$f":"IF(AND(Data!H225<>\"\",Data!H225 > 0),Data!H225,\"\")","v":""}]
[{"$f":"IF(D225<>\"\",Data!A226,\"\")","v":""},{"$f":"IF(D225<>\"\",Data!B226,\"\")","v":""},"",{"$f":"IF(AND(Data!H226<>\"\",Data!H226 > 0),Data!H226,\"\")","v":""}]
[{"$f":"IF(D226<>\"\",Data!A227,\"\")","v":""},{"$f":"IF(D226<>\"\",Data!B227,\"\")","v":""},"",{"$f":"IF(AND(Data!H227<>\"\",Data!H227 > 0),Data!H227,\"\")","v":""}]
[{"$f":"IF(D227<>\"\",Data!A228,\"\")","v":""},{"$f":"IF(D227<>\"\",Data!B228,\"\")","v":""},"",{"$f":"IF(AND(Data!H228<>\"\",Data!H228 > 0),Data!H228,\"\")","v":""}]
[{"$f":"IF(D228<>\"\",Data!A229,\"\")","v":""},{"$f":"IF(D228<>\"\",Data!B229,\"\")","v":""},"",{"$f":"IF(AND(Data!H229<>\"\",Data!H229 > 0),Data!H229,\"\")","v":""}]
[{"$f":"IF(D229<>\"\",Data!A230,\"\")","v":""},{"$f":"IF(D229<>\"\",Data!B230,\"\")","v":""},"",{"$f":"IF(AND(Data!H230<>\"\",Data!H230 > 0),Data!H230,\"\")","v":""}]
[{"$f":"IF(D230<>\"\",Data!A231,\"\")","v":""},{"$f":"IF(D230<>\"\",Data!B231,\"\")","v":""},"",{"$f":"IF(AND(Data!H231<>\"\",Data!H231 > 0),Data!H231,\"\")","v":""}]
[{"$f":"IF(D231<>\"\",Data!A232,\"\")","v":""},{"$f":"IF(D231<>\"\",Data!B232,\"\")","v":""},"",{"$f":"IF(AND(Data!H232<>\"\",Data!H232 > 0),Data!H232,\"\")","v":""}]
[{"$f":"IF(D232<>\"\",Data!A233,\"\")","v":""},{"$f":"IF(D232<>\"\",Data!B233,\"\")","v":""},"",{"$f":"IF(AND(Data!H233<>\"\",Data!H233 > 0),Data!H233,\"\")","v":""}]
[{"$f":"IF(D233<>\"\",Data!A234,\"\")","v":""},{"$f":"IF(D233<>\"\",Data!B234,\"\")","v":""},"",{"$f":"IF(AND(Data!H234<>\"\",Data!H234 > 0),Data!H234,\"\")","v":""}]
[{"$f":"IF(D234<>\"\",Data!A235,\"\")","v":""},{"$f":"IF(D234<>\"\",Data!B235,\"\")","v":""},"",{"$f":"IF(AND(Data!H235<>\"\",Data!H235 > 0),Data!H235,\"\")","v":""}]
[{"$f":"IF(D235<>\"\",Data!A236,\"\")","v":""},{"$f":"IF(D235<>\"\",Data!B236,\"\")","v":""},"",{"$f":"IF(AND(Data!H236<>\"\",Data!H236 > 0),Data!H236,\"\")","v":""}]
[{"$f":"IF(D236<>\"\",Data!A237,\"\")","v":""},{"$f":"IF(D236<>\"\",Data!B237,\"\")","v":""},"",{"$f":"IF(AND(Data!H237<>\"\",Data!H237 > 0),Data!H237,\"\")","v":""}]
[{"$f":"IF(D237<>\"\",Data!A238,\"\")","v":""},{"$f":"IF(D237<>\"\",Data!B238,\"\")","v":""},"",{"$f":"IF(AND(Data!H238<>\"\",Data!H238 > 0),Data!H238,\"\")","v":""}]
[{"$f":"IF(D238<>\"\",Data!A239,\"\")","v":""},{"$f":"IF(D238<>\"\",Data!B239,\"\")","v":""},"",{"$f":"IF(AND(Data!H239<>\"\",Data!H239 > 0),Data!H239,\"\")","v":""}]
[{"$f":"IF(D239<>\"\",Data!A240,\"\")","v":""},{"$f":"IF(D239<>\"\",Data!B240,\"\")","v":""},"",{"$f":"IF(AND(Data!H240<>\"\",Data!H240 > 0),Data!H240,\"\")","v":""}]
[{"$f":"IF(D240<>\"\",Data!A241,\"\")","v":""},{"$f":"IF(D240<>\"\",Data!B241,\"\")","v":""},"",{"$f":"IF(AND(Data!H241<>\"\",Data!H241 > 0),Data!H241,\"\")","v":""}]
[{"$f":"IF(D241<>\"\",Data!A242,\"\")","v":""},{"$f":"IF(D241<>\"\",Data!B242,\"\")","v":""},"",{"$f":"IF(AND(Data!H242<>\"\",Data!H242 > 0),Data!H242,\"\")","v":""}]
[{"$f":"IF(D242<>\"\",Data!A243,\"\")","v":""},{"$f":"IF(D242<>\"\",Data!B243,\"\")","v":""},"",{"$f":"IF(AND(Data!H243<>\"\",Data!H243 > 0),Data!H243,\"\")","v":""}]
[{"$f":"IF(D243<>\"\",Data!A244,\"\")","v":""},{"$f":"IF(D243<>\"\",Data!B244,\"\")","v":""},"",{"$f":"IF(AND(Data!H244<>\"\",Data!H244 > 0),Data!H244,\"\")","v":""}]
[{"$f":"IF(D244<>\"\",Data!A245,\"\")","v":""},{"$f":"IF(D244<>\"\",Data!B245,\"\")","v":""},"",{"$f":"IF(AND(Data!H245<>\"\",Data!H245 > 0),Data!H245,\"\")","v":""}]
[{"$f":"IF(D245<>\"\",Data!A246,\"\")","v":""},{"$f":"IF(D245<>\"\",Data!B246,\"\")","v":""},"",{"$f":"IF(AND(Data!H246<>\"\",Data!H246 > 0),Data!H246,\"\")","v":""}]
[{"$f":"IF(D246<>\"\",Data!A247,\"\")","v":""},{"$f":"IF(D246<>\"\",Data!B247,\"\")","v":""},"",{"$f":"IF(AND(Data!H247<>\"\",Data!H247 > 0),Data!H247,\"\")","v":""}]
[{"$f":"IF(D247<>\"\",Data!A248,\"\")","v":""},{"$f":"IF(D247<>\"\",Data!B248,\"\")","v":""},"",{"$f":"IF(AND(Data!H248<>\"\",Data!H248 > 0),Data!H248,\"\")","v":""}]
[{"$f":"IF(D248<>\"\",Data!A249,\"\")","v":""},{"$f":"IF(D248<>\"\",Data!B249,\"\")","v":""},"",{"$f":"IF(AND(Data!H249<>\"\",Data!H249 > 0),Data!H249,\"\")","v":""}]
[{"$f":"IF(D249<>\"\",Data!A250,\"\")","v":""},{"$f":"IF(D249<>\"\",Data!B250,\"\")","v":""},"",{"$f":"IF(AND(Data!H250<>\"\",Data!H250 > 0),Data!H250,\"\")","v":""}]
[{"$f":"IF(D250<>\"\",Data!A251,\"\")","v":""},{"$f":"IF(D250<>\"\",Data!B251,\"\")","v":""},"",{"$f":"IF(AND(Data!H251<>\"\",Data!H251 > 0),Data!H251,\"\")","v":""}]
[{"$f":"IF(D251<>\"\",Data!A252,\"\")","v":""},{"$f":"IF(D251<>\"\",Data!B252,\"\")","v":""},"",{"$f":"IF(AND(Data!H252<>\"\",Data!H252 > 0),Data!H252,\"\")","v":""}]
[{"$f":"IF(D252<>\"\",Data!A253,\"\")","v":""},{"$f":"IF(D252<>\"\",Data!B253,\"\")","v":""},"",{"$f":"IF(AND(Data!H253<>\"\",Data!H253 > 0),Data!H253,\"\")","v":""}]
[{"$f":"IF(D253<>\"\",Data!A254,\"\")","v":""},{"$f":"IF(D253<>\"\",Data!B254,\"\")","v":""},"",{"$f":"IF(AND(Data!H254<>\"\",Data!H254 > 0),Data!H254,\"\")","v":""}]
[{"$f":"IF(D254<>\"\",Data!A255,\"\")","v":""},{"$f":"IF(D254<>\"\",Data!B255,\"\")","v":""},"",{"$f":"IF(AND(Data!H255<>\"\",Data!H255 > 0),Data!H255,\"\")","v":""}]
[{"$f":"IF(D255<>\"\",Data!A256,\"\")","v":""},{"$f":"IF(D255<>\"\",Data!B256,\"\")","v":""},"",{"$f":"IF(AND(Data!H256<>\"\",Data!H256 > 0),Data!H256,\"\")","v":""}]
[{"$f":"IF(D256<>\"\",Data!A257,\"\")","v":""},{"$f":"IF(D256<>\"\",Data!B257,\"\")","v":""},"",{"$f":"IF(AND(Data!H257<>\"\",Data!H257 > 0),Data!H257,\"\")","v":""}]
[{"$f":"IF(D257<>\"\",Data!A258,\"\")","v":""},{"$f":"IF(D257<>\"\",Data!B258,\"\")","v":""},"",{"$f":"IF(AND(Data!H258<>\"\",Data!H258 > 0),Data!H258,\"\")","v":""}]
[{"$f":"IF(D258<>\"\",Data!A259,\"\")","v":""},{"$f":"IF(D258<>\"\",Data!B259,\"\")","v":""},{"$f":"IF(D258<>\"\",MID(CELL(\"filename\",B258),FIND(\"]\",CELL(\"filename\",B258))+1,32),\"\")","v":""},{"$f":"IF(AND(Data!H259<>\"\",Data!H259 > 0),Data!H259,\"\")","v":""}]
[{"$f":"IF(D259<>\"\",Data!A260,\"\")","v":""},{"$f":"IF(D259<>\"\",Data!B260,\"\")","v":""},"",{"$f":"IF(AND(Data!H260<>\"\",Data!H260 > 0),Data!H260,\"\")","v":""}]
[{"$f":"IF(D260<>\"\",Data!A261,\"\")","v":""},{"$f":"IF(D260<>\"\",Data!B261,\"\")","v":""},"",{"$f":"IF(AND(Data!H261<>\"\",Data!H261 > 0),Data!H261,\"\")","v":""}]
[{"$f":"IF(D261<>\"\",Data!A262,\"\")","v":""},{"$f":"IF(D261<>\"\",Data!B262,\"\")","v":""},"",{"$f":"IF(AND(Data!H262<>\"\",Data!H262 > 0),Data!H262,\"\")","v":""}]
[{"$f":"IF(D262<>\"\",Data!A263,\"\")","v":""},{"$f":"IF(D262<>\"\",Data!B263,\"\")","v":""},"",{"$f":"IF(AND(Data!H263<>\"\",Data!H263 > 0),Data!H263,\"\")","v":""}]
[{"$f":"IF(D263<>\"\",Data!A264,\"\")","v":""},{"$f":"IF(D263<>\"\",Data!B264,\"\")","v":""},"",{"$f":"IF(AND(Data!H264<>\"\",Data!H264 > 0),Data!H264,\"\")","v":""}]
[{"$f":"IF(D264<>\"\",Data!A265,\"\")","v":""},{"$f":"IF(D264<>\"\",Data!B265,\"\")","v":""},"",{"$f":"IF(AND(Data!H265<>\"\",Data!H265 > 0),Data!H265,\"\")","v":""}]
[{"$f":"IF(D265<>\"\",Data!A266,\"\")","v":""},{"$f":"IF(D265<>\"\",Data!B266,\"\")","v":""},"",{"$f":"IF(AND(Data!H266<>\"\",Data!H266 > 0),Data!H266,\"\")","v":""}]
[{"$f":"IF(D266<>\"\",Data!A267,\"\")","v":""},{"$f":"IF(D266<>\"\",Data!B267,\"\")","v":""},"",{"$f":"IF(AND(Data!H267<>\"\",Data!H267 > 0),Data!H267,\"\")","v":""}]
[{"$f":"IF(D267<>\"\",Data!A268,\"\")","v":""},{"$f":"IF(D267<>\"\",Data!B268,\"\")","v":""},"",{"$f":"IF(AND(Data!H268<>\"\",Data!H268 > 0),Data!H268,\"\")","v":""}]
[{"$f":"IF(D268<>\"\",Data!A269,\"\")","v":""},{"$f":"IF(D268<>\"\",Data!B269,\"\")","v":""},"",{"$f":"IF(AND(Data!H269<>\"\",Data!H269 > 0),Data!H269,\"\")","v":""}]
[{"$f":"IF(D269<>\"\",Data!A270,\"\")","v":""},{"$f":"IF(D269<>\"\",Data!B270,\"\")","v":""},"",{"$f":"IF(AND(Data!H270<>\"\",Data!H270 > 0),Data!H270,\"\")","v":""}]
[{"$f":"IF(D270<>\"\",Data!A271,\"\")","v":""},{"$f":"IF(D270<>\"\",Data!B271,\"\")","v":""},"",{"$f":"IF(AND(Data!H271<>\"\",Data!H271 > 0),Data!H271,\"\")","v":""}]
[{"$f":"IF(D271<>\"\",Data!A272,\"\")","v":""},{"$f":"IF(D271<>\"\",Data!B272,\"\")","v":""},"",{"$f":"IF(AND(Data!H272<>\"\",Data!H272 > 0),Data!H272,\"\")","v":""}]
[{"$f":"IF(D272<>\"\",Data!A273,\"\")","v":""},{"$f":"IF(D272<>\"\",Data!B273,\"\")","v":""},"",{"$f":"IF(AND(Data!H273<>\"\",Data!H273 > 0),Data!H273,\"\")","v":""}]
[{"$f":"IF(D273<>\"\",Data!A274,\"\")","v":""},{"$f":"IF(D273<>\"\",Data!B274,\"\")","v":""},"",{"$f":"IF(AND(Data!H274<>\"\",Data!H274 > 0),Data!H274,\"\")","v":""}]
[{"$f":"IF(D274<>\"\",Data!A275,\"\")","v":""},{"$f":"IF(D274<>\"\",Data!B275,\"\")","v":""},"",{"$f":"IF(AND(Data!H275<>\"\",Data!H275 > 0),Data!H275,\"\")","v":""}]
[{"$f":"IF(D275<>\"\",Data!A276,\"\")","v":""},{"$f":"IF(D275<>\"\",Data!B276,\"\")","v":""},"",{"$f":"IF(AND(Data!H276<>\"\",Data!H276 > 0),Data!H276,\"\")","v":""}]
[{"$f":"IF(D276<>\"\",Data!A277,\"\")","v":""},{"$f":"IF(D276<>\"\",Data!B277,\"\")","v":""},"",{"$f":"IF(AND(Data!H277<>\"\",Data!H277 > 0),Data!H277,\"\")","v":""}]
[{"$f":"IF(D277<>\"\",Data!A278,\"\")","v":""},{"$f":"IF(D277<>\"\",Data!B278,\"\")","v":""},"",{"$f":"IF(AND(Data!H278<>\"\",Data!H278 > 0),Data!H278,\"\")","v":""}]
[{"$f":"IF(D278<>\"\",Data!A279,\"\")","v":""},{"$f":"IF(D278<>\"\",Data!B279,\"\")","v":""},"",{"$f":"IF(AND(Data!H279<>\"\",Data!H279 > 0),Data!H279,\"\")","v":""}]
[{"$f":"IF(D279<>\"\",Data!A280,\"\")","v":""},{"$f":"IF(D279<>\"\",Data!B280,\"\")","v":""},"",{"$f":"IF(AND(Data!H280<>\"\",Data!H280 > 0),Data!H280,\"\")","v":""}]
[{"$f":"IF(D280<>\"\",Data!A281,\"\")","v":""},{"$f":"IF(D280<>\"\",Data!B281,\"\")","v":""},"",{"$f":"IF(AND(Data!H281<>\"\",Data!H281 > 0),Data!H281,\"\")","v":""}]
[{"$f":"IF(D281<>\"\",Data!A282,\"\")","v":""},{"$f":"IF(D281<>\"\",Data!B282,\"\")","v":""},"",{"$f":"IF(AND(Data!H282<>\"\",Data!H282 > 0),Data!H282,\"\")","v":""}]
[{"$f":"IF(D282<>\"\",Data!A283,\"\")","v":""},{"$f":"IF(D282<>\"\",Data!B283,\"\")","v":""},"",{"$f":"IF(AND(Data!H283<>\"\",Data!H283 > 0),Data!H283,\"\")","v":""}]
[{"$f":"IF(D283<>\"\",Data!A284,\"\")","v":""},{"$f":"IF(D283<>\"\",Data!B284,\"\")","v":""},"",{"$f":"IF(AND(Data!H284<>\"\",Data!H284 > 0),Data!H284,\"\")","v":""}]
[{"$f":"IF(D284<>\"\",Data!A285,\"\")","v":""},{"$f":"IF(D284<>\"\",Data!B285,\"\")","v":""},"",{"$f":"IF(AND(Data!H285<>\"\",Data!H285 > 0),Data!H285,\"\")","v":""}]
[{"$f":"IF(D285<>\"\",Data!A286,\"\")","v":""},{"$f":"IF(D285<>\"\",Data!B286,\"\")","v":""},"",{"$f":"IF(AND(Data!H286<>\"\",Data!H286 > 0),Data!H286,\"\")","v":""}]
[{"$f":"IF(D286<>\"\",Data!A287,\"\")","v":""},{"$f":"IF(D286<>\"\",Data!B287,\"\")","v":""},"",{"$f":"IF(AND(Data!H287<>\"\",Data!H287 > 0),Data!H287,\"\")","v":""}]
[{"$f":"IF(D287<>\"\",Data!A288,\"\")","v":""},{"$f":"IF(D287<>\"\",Data!B288,\"\")","v":""},"",{"$f":"IF(AND(Data!H288<>\"\",Data!H288 > 0),Data!H288,\"\")","v":""}]
[{"$f":"IF(D288<>\"\",Data!A289,\"\")","v":""},{"$f":"IF(D288<>\"\",Data!B289,\"\")","v":""},"",{"$f":"IF(AND(Data!H289<>\"\",Data!H289 > 0),Data!H289,\"\")","v":""}]
[{"$f":"IF(D289<>\"\",Data!A290,\"\")","v":""},{"$f":"IF(D289<>\"\",Data!B290,\"\")","v":""},"",{"$f":"IF(AND(Data!H290<>\"\",Data!H290 > 0),Data!H290,\"\")","v":""}]
[{"$f":"IF(D290<>\"\",Data!A291,\"\")","v":""},{"$f":"IF(D290<>\"\",Data!B291,\"\")","v":""},"",{"$f":"IF(AND(Data!H291<>\"\",Data!H291 > 0),Data!H291,\"\")","v":""}]
[{"$f":"IF(D291<>\"\",Data!A292,\"\")","v":""},{"$f":"IF(D291<>\"\",Data!B292,\"\")","v":""},"",{"$f":"IF(AND(Data!H292<>\"\",Data!H292 > 0),Data!H292,\"\")","v":""}]
[{"$f":"IF(D292<>\"\",Data!A293,\"\")","v":""},{"$f":"IF(D292<>\"\",Data!B293,\"\")","v":""},"",{"$f":"IF(AND(Data!H293<>\"\",Data!H293 > 0),Data!H293,\"\")","v":""}]
[{"$f":"IF(D293<>\"\",Data!A294,\"\")","v":""},{"$f":"IF(D293<>\"\",Data!B294,\"\")","v":""},"",{"$f":"IF(AND(Data!H294<>\"\",Data!H294 > 0),Data!H294,\"\")","v":""}]
[{"$f":"IF(D294<>\"\",Data!A295,\"\")","v":""},{"$f":"IF(D294<>\"\",Data!B295,\"\")","v":""},"",{"$f":"IF(AND(Data!H295<>\"\",Data!H295 > 0),Data!H295,\"\")","v":""}]
[{"$f":"IF(D295<>\"\",Data!A296,\"\")","v":""},{"$f":"IF(D295<>\"\",Data!B296,\"\")","v":""},"",{"$f":"IF(AND(Data!H296<>\"\",Data!H296 > 0),Data!H296,\"\")","v":""}]
[{"$f":"IF(D296<>\"\",Data!A297,\"\")","v":""},{"$f":"IF(D296<>\"\",Data!B297,\"\")","v":""},"",{"$f":"IF(AND(Data!H297<>\"\",Data!H297 > 0),Data!H297,\"\")","v":""}]
[{"$f":"IF(D297<>\"\",Data!A298,\"\")","v":""},{"$f":"IF(D297<>\"\",Data!B298,\"\")","v":""},"",{"$f":"IF(AND(Data!H298<>\"\",Data!H298 > 0),Data!H298,\"\")","v":""}]
[{"$f":"IF(D298<>\"\",Data!A299,\"\")","v":""},{"$f":"IF(D298<>\"\",Data!B299,\"\")","v":""},"",{"$f":"IF(AND(Data!H299<>\"\",Data!H299 > 0),Data!H299,\"\")","v":""}]
[{"$f":"IF(D299<>\"\",Data!A300,\"\")","v":""},{"$f":"IF(D299<>\"\",Data!B300,\"\")","v":""},"",{"$f":"IF(AND(Data!H300<>\"\",Data!H300 > 0),Data!H300,\"\")","v":""}]
[{"$f":"IF(D300<>\"\",Data!A301,\"\")","v":""},{"$f":"IF(D300<>\"\",Data!B301,\"\")","v":""},"",{"$f":"IF(AND(Data!H301<>\"\",Data!H301 > 0),Data!H301,\"\")","v":""}]
[{"$f":"IF(D301<>\"\",Data!A302,\"\")","v":""},{"$f":"IF(D301<>\"\",Data!B302,\"\")","v":""},"",{"$f":"IF(AND(Data!H302<>\"\",Data!H302 > 0),Data!H302,\"\")","v":""}]
[{"$f":"IF(D302<>\"\",Data!A303,\"\")","v":""},{"$f":"IF(D302<>\"\",Data!B303,\"\")","v":""},"",{"$f":"IF(AND(Data!H303<>\"\",Data!H303 > 0),Data!H303,\"\")","v":""}]
[{"$f":"IF(D303<>\"\",Data!A304,\"\")","v":""},{"$f":"IF(D303<>\"\",Data!B304,\"\")","v":""},"",{"$f":"IF(AND(Data!H304<>\"\",Data!H304 > 0),Data!H304,\"\")","v":""}]
[{"$f":"IF(D304<>\"\",Data!A305,\"\")","v":""},{"$f":"IF(D304<>\"\",Data!B305,\"\")","v":""},"",{"$f":"IF(AND(Data!H305<>\"\",Data!H305 > 0),Data!H305,\"\")","v":""}]
[{"$f":"IF(D305<>\"\",Data!A306,\"\")","v":""},{"$f":"IF(D305<>\"\",Data!B306,\"\")","v":""},"",{"$f":"IF(AND(Data!H306<>\"\",Data!H306 > 0),Data!H306,\"\")","v":""}]
[{"$f":"IF(D306<>\"\",Data!A307,\"\")","v":""},{"$f":"IF(D306<>\"\",Data!B307,\"\")","v":""},"",{"$f":"IF(AND(Data!H307<>\"\",Data!H307 > 0),Data!H307,\"\")","v":""}]
[{"$f":"IF(D307<>\"\",Data!A308,\"\")","v":""},{"$f":"IF(D307<>\"\",Data!B308,\"\")","v":""},"",{"$f":"IF(AND(Data!H308<>\"\",Data!H308 > 0),Data!H308,\"\")","v":""}]
[{"$f":"IF(D308<>\"\",Data!A309,\"\")","v":""},{"$f":"IF(D308<>\"\",Data!B309,\"\")","v":""},"",{"$f":"IF(AND(Data!H309<>\"\",Data!H309 > 0),Data!H309,\"\")","v":""}]
[{"$f":"IF(D309<>\"\",Data!A310,\"\")","v":""},{"$f":"IF(D309<>\"\",Data!B310,\"\")","v":""},"",{"$f":"IF(AND(Data!H310<>\"\",Data!H310 > 0),Data!H310,\"\")","v":""}]
[{"$f":"IF(D310<>\"\",Data!A311,\"\")","v":""},{"$f":"IF(D310<>\"\",Data!B311,\"\")","v":""},"",{"$f":"IF(AND(Data!H311<>\"\",Data!H311 > 0),Data!H311,\"\")","v":""}]
[{"$f":"IF(D311<>\"\",Data!A312,\"\")","v":""},{"$f":"IF(D311<>\"\",Data!B312,\"\")","v":""},"",{"$f":"IF(AND(Data!H312<>\"\",Data!H312 > 0),Data!H312,\"\")","v":""}]
[{"$f":"IF(D312<>\"\",Data!A313,\"\")","v":""},{"$f":"IF(D312<>\"\",Data!B313,\"\")","v":""},"",{"$f":"IF(AND(Data!H313<>\"\",Data!H313 > 0),Data!H313,\"\")","v":""}]
[{"$f":"IF(D313<>\"\",Data!A314,\"\")","v":""},{"$f":"IF(D313<>\"\",Data!B314,\"\")","v":""},"",{"$f":"IF(AND(Data!H314<>\"\",Data!H314 > 0),Data!H314,\"\")","v":""}]
[{"$f":"IF(D314<>\"\",Data!A315,\"\")","v":""},{"$f":"IF(D314<>\"\",Data!B315,\"\")","v":""},"",{"$f":"IF(AND(Data!H315<>\"\",Data!H315 > 0),Data!H315,\"\")","v":""}]
[{"$f":"IF(D315<>\"\",Data!A316,\"\")","v":""},{"$f":"IF(D315<>\"\",Data!B316,\"\")","v":""},"",{"$f":"IF(AND(Data!H316<>\"\",Data!H316 > 0),Data!H316,\"\")","v":""}]
[{"$f":"IF(D316<>\"\",Data!A317,\"\")","v":""},{"$f":"IF(D316<>\"\",Data!B317,\"\")","v":""},"",{"$f":"IF(AND(Data!H317<>\"\",Data!H317 > 0),Data!H317,\"\")","v":""}]
[{"$f":"IF(D317<>\"\",Data!A318,\"\")","v":""},{"$f":"IF(D317<>\"\",Data!B318,\"\")","v":""},"",{"$f":"IF(AND(Data!H318<>\"\",Data!H318 > 0),Data!H318,\"\")","v":""}]
[{"$f":"IF(D318<>\"\",Data!A319,\"\")","v":""},{"$f":"IF(D318<>\"\",Data!B319,\"\")","v":""},"",{"$f":"IF(AND(Data!H319<>\"\",Data!H319 > 0),Data!H319,\"\")","v":""}]
[{"$f":"IF(D319<>\"\",Data!A320,\"\")","v":""},{"$f":"IF(D319<>\"\",Data!B320,\"\")","v":""},"",{"$f":"IF(AND(Data!H320<>\"\",Data!H320 > 0),Data!H320,\"\")","v":""}]
[{"$f":"IF(D320<>\"\",Data!A321,\"\")","v":""},{"$f":"IF(D320<>\"\",Data!B321,\"\")","v":""},"",{"$f":"IF(AND(Data!H321<>\"\",Data!H321 > 0),Data!H321,\"\")","v":""}]
[{"$f":"IF(D321<>\"\",Data!A322,\"\")","v":""},{"$f":"IF(D321<>\"\",Data!B322,\"\")","v":""},"",{"$f":"IF(AND(Data!H322<>\"\",Data!H322 > 0),Data!H322,\"\")","v":""}]
[{"$f":"IF(D322<>\"\",Data!A323,\"\")","v":""},{"$f":"IF(D322<>\"\",Data!B323,\"\")","v":""},{"$f":"IF(D322<>\"\",MID(CELL(\"filename\",B322),FIND(\"]\",CELL(\"filename\",B322))+1,32),\"\")","v":""},{"$f":"IF(AND(Data!H323<>\"\",Data!H323 > 0),Data!H323,\"\")","v":""}]
[{"$f":"IF(D323<>\"\",Data!A324,\"\")","v":""},{"$f":"IF(D323<>\"\",Data!B324,\"\")","v":""},"",{"$f":"IF(AND(Data!H324<>\"\",Data!H324 > 0),Data!H324,\"\")","v":""}]
[{"$f":"IF(D324<>\"\",Data!A325,\"\")","v":""},{"$f":"IF(D324<>\"\",Data!B325,\"\")","v":""},"",{"$f":"IF(AND(Data!H325<>\"\",Data!H325 > 0),Data!H325,\"\")","v":""}]
[{"$f":"IF(D325<>\"\",Data!A326,\"\")","v":""},{"$f":"IF(D325<>\"\",Data!B326,\"\")","v":""},"",{"$f":"IF(AND(Data!H326<>\"\",Data!H326 > 0),Data!H326,\"\")","v":""}]
[{"$f":"IF(D326<>\"\",Data!A327,\"\")","v":""},{"$f":"IF(D326<>\"\",Data!B327,\"\")","v":""},"",{"$f":"IF(AND(Data!H327<>\"\",Data!H327 > 0),Data!H327,\"\")","v":""}]
[{"$f":"IF(D327<>\"\",Data!A328,\"\")","v":""},{"$f":"IF(D327<>\"\",Data!B328,\"\")","v":""},"",{"$f":"IF(AND(Data!H328<>\"\",Data!H328 > 0),Data!H328,\"\")","v":""}]
[{"$f":"IF(D328<>\"\",Data!A329,\"\")","v":""},{"$f":"IF(D328<>\"\",Data!B329,\"\")","v":""},"",{"$f":"IF(AND(Data!H329<>\"\",Data!H329 > 0),Data!H329,\"\")","v":""}]
[{"$f":"IF(D329<>\"\",Data!A330,\"\")","v":""},{"$f":"IF(D329<>\"\",Data!B330,\"\")","v":""},"",{"$f":"IF(AND(Data!H330<>\"\",Data!H330 > 0),Data!H330,\"\")","v":""}]
[{"$f":"IF(D330<>\"\",Data!A331,\"\")","v":""},{"$f":"IF(D330<>\"\",Data!B331,\"\")","v":""},"",{"$f":"IF(AND(Data!H331<>\"\",Data!H331 > 0),Data!H331,\"\")","v":""}]
[{"$f":"IF(D331<>\"\",Data!A332,\"\")","v":""},{"$f":"IF(D331<>\"\",Data!B332,\"\")","v":""},"",{"$f":"IF(AND(Data!H332<>\"\",Data!H332 > 0),Data!H332,\"\")","v":""}]
[{"$f":"IF(D332<>\"\",Data!A333,\"\")","v":""},{"$f":"IF(D332<>\"\",Data!B333,\"\")","v":""},"",{"$f":"IF(AND(Data!H333<>\"\",Data!H333 > 0),Data!H333,\"\")","v":""}]
[{"$f":"IF(D333<>\"\",Data!A334,\"\")","v":""},{"$f":"IF(D333<>\"\",Data!B334,\"\")","v":""},"",{"$f":"IF(AND(Data!H334<>\"\",Data!H334 > 0),Data!H334,\"\")","v":""}]
[{"$f":"IF(D334<>\"\",Data!A335,\"\")","v":""},{"$f":"IF(D334<>\"\",Data!B335,\"\")","v":""},"",{"$f":"IF(AND(Data!H335<>\"\",Data!H335 > 0),Data!H335,\"\")","v":""}]
[{"$f":"IF(D335<>\"\",Data!A336,\"\")","v":""},{"$f":"IF(D335<>\"\",Data!B336,\"\")","v":""},"",{"$f":"IF(AND(Data!H336<>\"\",Data!H336 > 0),Data!H336,\"\")","v":""}]
[{"$f":"IF(D336<>\"\",Data!A337,\"\")","v":""},{"$f":"IF(D336<>\"\",Data!B337,\"\")","v":""},"",{"$f":"IF(AND(Data!H337<>\"\",Data!H337 > 0),Data!H337,\"\")","v":""}]
[{"$f":"IF(D337<>\"\",Data!A338,\"\")","v":""},{"$f":"IF(D337<>\"\",Data!B338,\"\")","v":""},"",{"$f":"IF(AND(Data!H338<>\"\",Data!H338 > 0),Data!H338,\"\")","v":""}]
[{"$f":"IF(D338<>\"\",Data!A339,\"\")","v":""},{"$f":"IF(D338<>\"\",Data!B339,\"\")","v":""},"",{"$f":"IF(AND(Data!H339<>\"\",Data!H339 > 0),Data!H339,\"\")","v":""}]
[{"$f":"IF(D339<>\"\",Data!A340,\"\")","v":""},{"$f":"IF(D339<>\"\",Data!B340,\"\")","v":""},"",{"$f":"IF(AND(Data!H340<>\"\",Data!H340 > 0),Data!H340,\"\")","v":""}]
[{"$f":"IF(D340<>\"\",Data!A341,\"\")","v":""},{"$f":"IF(D340<>\"\",Data!B341,\"\")","v":""},"",{"$f":"IF(AND(Data!H341<>\"\",Data!H341 > 0),Data!H341,\"\")","v":""}]
[{"$f":"IF(D341<>\"\",Data!A342,\"\")","v":""},{"$f":"IF(D341<>\"\",Data!B342,\"\")","v":""},"",{"$f":"IF(AND(Data!H342<>\"\",Data!H342 > 0),Data!H342,\"\")","v":""}]
[{"$f":"IF(D342<>\"\",Data!A343,\"\")","v":""},{"$f":"IF(D342<>\"\",Data!B343,\"\")","v":""},"",{"$f":"IF(AND(Data!H343<>\"\",Data!H343 > 0),Data!H343,\"\")","v":""}]
[{"$f":"IF(D343<>\"\",Data!A344,\"\")","v":""},{"$f":"IF(D343<>\"\",Data!B344,\"\")","v":""},"",{"$f":"IF(AND(Data!H344<>\"\",Data!H344 > 0),Data!H344,\"\")","v":""}]
[{"$f":"IF(D344<>\"\",Data!A345,\"\")","v":""},{"$f":"IF(D344<>\"\",Data!B345,\"\")","v":""},"",{"$f":"IF(AND(Data!H345<>\"\",Data!H345 > 0),Data!H345,\"\")","v":""}]
[{"$f":"IF(D345<>\"\",Data!A346,\"\")","v":""},{"$f":"IF(D345<>\"\",Data!B346,\"\")","v":""},"",{"$f":"IF(AND(Data!H346<>\"\",Data!H346 > 0),Data!H346,\"\")","v":""}]
[{"$f":"IF(D346<>\"\",Data!A347,\"\")","v":""},{"$f":"IF(D346<>\"\",Data!B347,\"\")","v":""},"",{"$f":"IF(AND(Data!H347<>\"\",Data!H347 > 0),Data!H347,\"\")","v":""}]
[{"$f":"IF(D347<>\"\",Data!A348,\"\")","v":""},{"$f":"IF(D347<>\"\",Data!B348,\"\")","v":""},"",{"$f":"IF(AND(Data!H348<>\"\",Data!H348 > 0),Data!H348,\"\")","v":""}]
[{"$f":"IF(D348<>\"\",Data!A349,\"\")","v":""},{"$f":"IF(D348<>\"\",Data!B349,\"\")","v":""},"",{"$f":"IF(AND(Data!H349<>\"\",Data!H349 > 0),Data!H349,\"\")","v":""}]
[{"$f":"IF(D349<>\"\",Data!A350,\"\")","v":""},{"$f":"IF(D349<>\"\",Data!B350,\"\")","v":""},"",{"$f":"IF(AND(Data!H350<>\"\",Data!H350 > 0),Data!H350,\"\")","v":""}]
[{"$f":"IF(D350<>\"\",Data!A351,\"\")","v":""},{"$f":"IF(D350<>\"\",Data!B351,\"\")","v":""},"",{"$f":"IF(AND(Data!H351<>\"\",Data!H351 > 0),Data!H351,\"\")","v":""}]
[{"$f":"IF(D351<>\"\",Data!A352,\"\")","v":""},{"$f":"IF(D351<>\"\",Data!B352,\"\")","v":""},"",{"$f":"IF(AND(Data!H352<>\"\",Data!H352 > 0),Data!H352,\"\")","v":""}]
[{"$f":"IF(D352<>\"\",Data!A353,\"\")","v":""},{"$f":"IF(D352<>\"\",Data!B353,\"\")","v":""},"",{"$f":"IF(AND(Data!H353<>\"\",Data!H353 > 0),Data!H353,\"\")","v":""}]
[{"$f":"IF(D353<>\"\",Data!A354,\"\")","v":""},{"$f":"IF(D353<>\"\",Data!B354,\"\")","v":""},"",{"$f":"IF(AND(Data!H354<>\"\",Data!H354 > 0),Data!H354,\"\")","v":""}]
[{"$f":"IF(D354<>\"\",Data!A355,\"\")","v":""},{"$f":"IF(D354<>\"\",Data!B355,\"\")","v":""},"",{"$f":"IF(AND(Data!H355<>\"\",Data!H355 > 0),Data!H355,\"\")","v":""}]
[{"$f":"IF(D355<>\"\",Data!A356,\"\")","v":""},{"$f":"IF(D355<>\"\",Data!B356,\"\")","v":""},"",{"$f":"IF(AND(Data!H356<>\"\",Data!H356 > 0),Data!H356,\"\")","v":""}]
[{"$f":"IF(D356<>\"\",Data!A357,\"\")","v":""},{"$f":"IF(D356<>\"\",Data!B357,\"\")","v":""},"",{"$f":"IF(AND(Data!H357<>\"\",Data!H357 > 0),Data!H357,\"\")","v":""}]
[{"$f":"IF(D357<>\"\",Data!A358,\"\")","v":""},{"$f":"IF(D357<>\"\",Data!B358,\"\")","v":""},"",{"$f":"IF(AND(Data!H358<>\"\",Data!H358 > 0),Data!H358,\"\")","v":""}]
[{"$f":"IF(D358<>\"\",Data!A359,\"\")","v":""},{"$f":"IF(D358<>\"\",Data!B359,\"\")","v":""},"",{"$f":"IF(AND(Data!H359<>\"\",Data!H359 > 0),Data!H359,\"\")","v":""}]
[{"$f":"IF(D359<>\"\",Data!A360,\"\")","v":""},{"$f":"IF(D359<>\"\",Data!B360,\"\")","v":""},"",{"$f":"IF(AND(Data!H360<>\"\",Data!H360 > 0),Data!H360,\"\")","v":""}]
[{"$f":"IF(D360<>\"\",Data!A361,\"\")","v":""},{"$f":"IF(D360<>\"\",Data!B361,\"\")","v":""},"",{"$f":"IF(AND(Data!H361<>\"\",Data!H361 > 0),Data!H361,\"\")","v":""}]
[{"$f":"IF(D361<>\"\",Data!A362,\"\")","v":""},{"$f":"IF(D361<>\"\",Data!B362,\"\")","v":""},"",{"$f":"IF(AND(Data!H362<>\"\",Data!H362 > 0),Data!H362,\"\")","v":""}]
[{"$f":"IF(D362<>\"\",Data!A363,\"\")","v":""},{"$f":"IF(D362<>\"\",Data!B363,\"\")","v":""},"",{"$f":"IF(AND(Data!H363<>\"\",Data!H363 > 0),Data!H363,\"\")","v":""}]
[{"$f":"IF(D363<>\"\",Data!A364,\"\")","v":""},{"$f":"IF(D363<>\"\",Data!B364,\"\")","v":""},"",{"$f":"IF(AND(Data!H364<>\"\",Data!H364 > 0),Data!H364,\"\")","v":""}]
[{"$f":"IF(D364<>\"\",Data!A365,\"\")","v":""},{"$f":"IF(D364<>\"\",Data!B365,\"\")","v":""},"",{"$f":"IF(AND(Data!H365<>\"\",Data!H365 > 0),Data!H365,\"\")","v":""}]
[{"$f":"IF(D365<>\"\",Data!A366,\"\")","v":""},{"$f":"IF(D365<>\"\",Data!B366,\"\")","v":""},"",{"$f":"IF(AND(Data!H366<>\"\",Data!H366 > 0),Data!H366,\"\")","v":""}]
[{"$f":"IF(D366<>\"\",Data!A367,\"\")","v":""},{"$f":"IF(D366<>\"\",Data!B367,\"\")","v":""},"",{"$f":"IF(AND(Data!H367<>\"\",Data!H367 > 0),Data!H367,\"\")","v":""}]
[{"$f":"IF(D367<>\"\",Data!A368,\"\")","v":""},{"$f":"IF(D367<>\"\",Data!B368,\"\")","v":""},"",{"$f":"IF(AND(Data!H368<>\"\",Data!H368 > 0),Data!H368,\"\")","v":""}]
[{"$f":"IF(D368<>\"\",Data!A369,\"\")","v":""},{"$f":"IF(D368<>\"\",Data!B369,\"\")","v":""},"",{"$f":"IF(AND(Data!H369<>\"\",Data!H369 > 0),Data!H369,\"\")","v":""}]
[{"$f":"IF(D369<>\"\",Data!A370,\"\")","v":""},{"$f":"IF(D369<>\"\",Data!B370,\"\")","v":""},"",{"$f":"IF(AND(Data!H370<>\"\",Data!H370 > 0),Data!H370,\"\")","v":""}]
[{"$f":"IF(D370<>\"\",Data!A371,\"\")","v":""},{"$f":"IF(D370<>\"\",Data!B371,\"\")","v":""},"",{"$f":"IF(AND(Data!H371<>\"\",Data!H371 > 0),Data!H371,\"\")","v":""}]
[{"$f":"IF(D371<>\"\",Data!A372,\"\")","v":""},{"$f":"IF(D371<>\"\",Data!B372,\"\")","v":""},"",{"$f":"IF(AND(Data!H372<>\"\",Data!H372 > 0),Data!H372,\"\")","v":""}]
[{"$f":"IF(D372<>\"\",Data!A373,\"\")","v":""},{"$f":"IF(D372<>\"\",Data!B373,\"\")","v":""},"",{"$f":"IF(AND(Data!H373<>\"\",Data!H373 > 0),Data!H373,\"\")","v":""}]
[{"$f":"IF(D373<>\"\",Data!A374,\"\")","v":""},{"$f":"IF(D373<>\"\",Data!B374,\"\")","v":""},"",{"$f":"IF(AND(Data!H374<>\"\",Data!H374 > 0),Data!H374,\"\")","v":""}]
[{"$f":"IF(D374<>\"\",Data!A375,\"\")","v":""},{"$f":"IF(D374<>\"\",Data!B375,\"\")","v":""},"",{"$f":"IF(AND(Data!H375<>\"\",Data!H375 > 0),Data!H375,\"\")","v":""}]
[{"$f":"IF(D375<>\"\",Data!A376,\"\")","v":""},{"$f":"IF(D375<>\"\",Data!B376,\"\")","v":""},"",{"$f":"IF(AND(Data!H376<>\"\",Data!H376 > 0),Data!H376,\"\")","v":""}]
[{"$f":"IF(D376<>\"\",Data!A377,\"\")","v":""},{"$f":"IF(D376<>\"\",Data!B377,\"\")","v":""},"",{"$f":"IF(AND(Data!H377<>\"\",Data!H377 > 0),Data!H377,\"\")","v":""}]
[{"$f":"IF(D377<>\"\",Data!A378,\"\")","v":""},{"$f":"IF(D377<>\"\",Data!B378,\"\")","v":""},"",{"$f":"IF(AND(Data!H378<>\"\",Data!H378 > 0),Data!H378,\"\")","v":""}]
[{"$f":"IF(D378<>\"\",Data!A379,\"\")","v":""},{"$f":"IF(D378<>\"\",Data!B379,\"\")","v":""},"",{"$f":"IF(AND(Data!H379<>\"\",Data!H379 > 0),Data!H379,\"\")","v":""}]
[{"$f":"IF(D379<>\"\",Data!A380,\"\")","v":""},{"$f":"IF(D379<>\"\",Data!B380,\"\")","v":""},"",{"$f":"IF(AND(Data!H380<>\"\",Data!H380 > 0),Data!H380,\"\")","v":""}]
[{"$f":"IF(D380<>\"\",Data!A381,\"\")","v":""},{"$f":"IF(D380<>\"\",Data!B381,\"\")","v":""},"",{"$f":"IF(AND(Data!H381<>\"\",Data!H381 > 0),Data!H381,\"\")","v":""}]
[{"$f":"IF(D381<>\"\",Data!A382,\"\")","v":""},{"$f":"IF(D381<>\"\",Data!B382,\"\")","v":""},"",{"$f":"IF(AND(Data!H382<>\"\",Data!H382 > 0),Data!H382,\"\")","v":""}]
[{"$f":"IF(D382<>\"\",Data!A383,\"\")","v":""},{"$f":"IF(D382<>\"\",Data!B383,\"\")","v":""},"",{"$f":"IF(AND(Data!H383<>\"\",Data!H383 > 0),Data!H383,\"\")","v":""}]
[{"$f":"IF(D383<>\"\",Data!A384,\"\")","v":""},{"$f":"IF(D383<>\"\",Data!B384,\"\")","v":""},"",{"$f":"IF(AND(Data!H384<>\"\",Data!H384 > 0),Data!H384,\"\")","v":""}]
[{"$f":"IF(D384<>\"\",Data!A385,\"\")","v":""},{"$f":"IF(D384<>\"\",Data!B385,\"\")","v":""},"",{"$f":"IF(AND(Data!H385<>\"\",Data!H385 > 0),Data!H385,\"\")","v":""}]
[{"$f":"IF(D385<>\"\",Data!A386,\"\")","v":""},{"$f":"IF(D385<>\"\",Data!B386,\"\")","v":""},"",{"$f":"IF(AND(Data!H386<>\"\",Data!H386 > 0),Data!H386,\"\")","v":""}]
[{"$f":"IF(D386<>\"\",Data!A387,\"\")","v":""},{"$f":"IF(D386<>\"\",Data!B387,\"\")","v":""},{"$f":"IF(D386<>\"\",MID(CELL(\"filename\",B386),FIND(\"]\",CELL(\"filename\",B386))+1,32),\"\")","v":""},{"$f":"IF(AND(Data!H387<>\"\",Data!H387 > 0),Data!H387,\"\")","v":""}]
[{"$f":"IF(D387<>\"\",Data!A388,\"\")","v":""},{"$f":"IF(D387<>\"\",Data!B388,\"\")","v":""},"",{"$f":"IF(AND(Data!H388<>\"\",Data!H388 > 0),Data!H388,\"\")","v":""}]
[{"$f":"IF(D388<>\"\",Data!A389,\"\")","v":""},{"$f":"IF(D388<>\"\",Data!B389,\"\")","v":""},"",{"$f":"IF(AND(Data!H389<>\"\",Data!H389 > 0),Data!H389,\"\")","v":""}]
[{"$f":"IF(D389<>\"\",Data!A390,\"\")","v":""},{"$f":"IF(D389<>\"\",Data!B390,\"\")","v":""},"",{"$f":"IF(AND(Data!H390<>\"\",Data!H390 > 0),Data!H390,\"\")","v":""}]
[{"$f":"IF(D390<>\"\",Data!A391,\"\")","v":""},{"$f":"IF(D390<>\"\",Data!B391,\"\")","v":""},"",{"$f":"IF(AND(Data!H391<>\"\",Data!H391 > 0),Data!H391,\"\")","v":""}]
[{"$f":"IF(D391<>\"\",Data!A392,\"\")","v":""},{"$f":"IF(D391<>\"\",Data!B392,\"\")","v":""},"",{"$f":"IF(AND(Data!H392<>\"\",Data!H392 > 0),Data!H392,\"\")","v":""}]
[{"$f":"IF(D392<>\"\",Data!A393,\"\")","v":""},{"$f":"IF(D392<>\"\",Data!B393,\"\")","v":""},"",{"$f":"IF(AND(Data!H393<>\"\",Data!H393 > 0),Data!H393,\"\")","v":""}]
[{"$f":"IF(D393<>\"\",Data!A394,\"\")","v":""},{"$f":"IF(D393<>\"\",Data!B394,\"\")","v":""},"",{"$f":"IF(AND(Data!H394<>\"\",Data!H394 > 0),Data!H394,\"\")","v":""}]
[{"$f":"IF(D394<>\"\",Data!A395,\"\")","v":""},{"$f":"IF(D394<>\"\",Data!B395,\"\")","v":""},"",{"$f":"IF(AND(Data!H395<>\"\",Data!H395 > 0),Data!H395,\"\")","v":""}]
[{"$f":"IF(D395<>\"\",Data!A396,\"\")","v":""},{"$f":"IF(D395<>\"\",Data!B396,\"\")","v":""},"",{"$f":"IF(AND(Data!H396<>\"\",Data!H396 > 0),Data!H396,\"\")","v":""}]
[{"$f":"IF(D396<>\"\",Data!A397,\"\")","v":""},{"$f":"IF(D396<>\"\",Data!B397,\"\")","v":""},"",{"$f":"IF(AND(Data!H397<>\"\",Data!H397 > 0),Data!H397,\"\")","v":""}]
[{"$f":"IF(D397<>\"\",Data!A398,\"\")","v":""},{"$f":"IF(D397<>\"\",Data!B398,\"\")","v":""},"",{"$f":"IF(AND(Data!H398<>\"\",Data!H398 > 0),Data!H398,\"\")","v":""}]
[{"$f":"IF(D398<>\"\",Data!A399,\"\")","v":""},{"$f":"IF(D398<>\"\",Data!B399,\"\")","v":""},"",{"$f":"IF(AND(Data!H399<>\"\",Data!H399 > 0),Data!H399,\"\")","v":""}]
[{"$f":"IF(D399<>\"\",Data!A400,\"\")","v":""},{"$f":"IF(D399<>\"\",Data!B400,\"\")","v":""},"",{"$f":"IF(AND(Data!H400<>\"\",Data!H400 > 0),Data!H400,\"\")","v":""}]
[{"$f":"IF(D400<>\"\",Data!A401,\"\")","v":""},{"$f":"IF(D400<>\"\",Data!B401,\"\")","v":""},"",{"$f":"IF(AND(Data!H401<>\"\",Data!H401 > 0),Data!H401,\"\")","v":""}]
[{"$f":"IF(D401<>\"\",Data!A402,\"\")","v":""},{"$f":"IF(D401<>\"\",Data!B402,\"\")","v":""},"",{"$f":"IF(AND(Data!H402<>\"\",Data!H402 > 0),Data!H402,\"\")","v":""}]
[{"$f":"IF(D402<>\"\",Data!A403,\"\")","v":""},{"$f":"IF(D402<>\"\",Data!B403,\"\")","v":""},"",{"$f":"IF(AND(Data!H403<>\"\",Data!H403 > 0),Data!H403,\"\")","v":""}]
[{"$f":"IF(D403<>\"\",Data!A404,\"\")","v":""},{"$f":"IF(D403<>\"\",Data!B404,\"\")","v":""},"",{"$f":"IF(AND(Data!H404<>\"\",Data!H404 > 0),Data!H404,\"\")","v":""}]
[{"$f":"IF(D404<>\"\",Data!A405,\"\")","v":""},{"$f":"IF(D404<>\"\",Data!B405,\"\")","v":""},"",{"$f":"IF(AND(Data!H405<>\"\",Data!H405 > 0),Data!H405,\"\")","v":""}]
[{"$f":"IF(D405<>\"\",Data!A406,\"\")","v":""},{"$f":"IF(D405<>\"\",Data!B406,\"\")","v":""},"",{"$f":"IF(AND(Data!H406<>\"\",Data!H406 > 0),Data!H406,\"\")","v":""}]
[{"$f":"IF(D406<>\"\",Data!A407,\"\")","v":""},{"$f":"IF(D406<>\"\",Data!B407,\"\")","v":""},"",{"$f":"IF(AND(Data!H407<>\"\",Data!H407 > 0),Data!H407,\"\")","v":""}]
[{"$f":"IF(D407<>\"\",Data!A408,\"\")","v":""},{"$f":"IF(D407<>\"\",Data!B408,\"\")","v":""},"",{"$f":"IF(AND(Data!H408<>\"\",Data!H408 > 0),Data!H408,\"\")","v":""}]
[{"$f":"IF(D408<>\"\",Data!A409,\"\")","v":""},{"$f":"IF(D408<>\"\",Data!B409,\"\")","v":""},"",{"$f":"IF(AND(Data!H409<>\"\",Data!H409 > 0),Data!H409,\"\")","v":""}]
[{"$f":"IF(D409<>\"\",Data!A410,\"\")","v":""},{"$f":"IF(D409<>\"\",Data!B410,\"\")","v":""},"",{"$f":"IF(AND(Data!H410<>\"\",Data!H410 > 0),Data!H410,\"\")","v":""}]
[{"$f":"IF(D410<>\"\",Data!A411,\"\")","v":""},{"$f":"IF(D410<>\"\",Data!B411,\"\")","v":""},"",{"$f":"IF(AND(Data!H411<>\"\",Data!H411 > 0),Data!H411,\"\")","v":""}]
[{"$f":"IF(D411<>\"\",Data!A412,\"\")","v":""},{"$f":"IF(D411<>\"\",Data!B412,\"\")","v":""},"",{"$f":"IF(AND(Data!H412<>\"\",Data!H412 > 0),Data!H412,\"\")","v":""}]
[{"$f":"IF(D412<>\"\",Data!A413,\"\")","v":""},{"$f":"IF(D412<>\"\",Data!B413,\"\")","v":""},"",{"$f":"IF(AND(Data!H413<>\"\",Data!H413 > 0),Data!H413,\"\")","v":""}]
[{"$f":"IF(D413<>\"\",Data!A414,\"\")","v":""},{"$f":"IF(D413<>\"\",Data!B414,\"\")","v":""},"",{"$f":"IF(AND(Data!H414<>\"\",Data!H414 > 0),Data!H414,\"\")","v":""}]
[{"$f":"IF(D414<>\"\",Data!A415,\"\")","v":""},{"$f":"IF(D414<>\"\",Data!B415,\"\")","v":""},"",{"$f":"IF(AND(Data!H415<>\"\",Data!H415 > 0),Data!H415,\"\")","v":""}]
[{"$f":"IF(D415<>\"\",Data!A416,\"\")","v":""},{"$f":"IF(D415<>\"\",Data!B416,\"\")","v":""},"",{"$f":"IF(AND(Data!H416<>\"\",Data!H416 > 0),Data!H416,\"\")","v":""}]
[{"$f":"IF(D416<>\"\",Data!A417,\"\")","v":""},{"$f":"IF(D416<>\"\",Data!B417,\"\")","v":""},"",{"$f":"IF(AND(Data!H417<>\"\",Data!H417 > 0),Data!H417,\"\")","v":""}]
[{"$f":"IF(D417<>\"\",Data!A418,\"\")","v":""},{"$f":"IF(D417<>\"\",Data!B418,\"\")","v":""},"",{"$f":"IF(AND(Data!H418<>\"\",Data!H418 > 0),Data!H418,\"\")","v":""}]
[{"$f":"IF(D418<>\"\",Data!A419,\"\")","v":""},{"$f":"IF(D418<>\"\",Data!B419,\"\")","v":""},"",{"$f":"IF(AND(Data!H419<>\"\",Data!H419 > 0),Data!H419,\"\")","v":""}]
[{"$f":"IF(D419<>\"\",Data!A420,\"\")","v":""},{"$f":"IF(D419<>\"\",Data!B420,\"\")","v":""},"",{"$f":"IF(AND(Data!H420<>\"\",Data!H420 > 0),Data!H420,\"\")","v":""}]
[{"$f":"IF(D420<>\"\",Data!A421,\"\")","v":""},{"$f":"IF(D420<>\"\",Data!B421,\"\")","v":""},"",{"$f":"IF(AND(Data!H421<>\"\",Data!H421 > 0),Data!H421,\"\")","v":""}]
[{"$f":"IF(D421<>\"\",Data!A422,\"\")","v":""},{"$f":"IF(D421<>\"\",Data!B422,\"\")","v":""},"",{"$f":"IF(AND(Data!H422<>\"\",Data!H422 > 0),Data!H422,\"\")","v":""}]
[{"$f":"IF(D422<>\"\",Data!A423,\"\")","v":""},{"$f":"IF(D422<>\"\",Data!B423,\"\")","v":""},"",{"$f":"IF(AND(Data!H423<>\"\",Data!H423 > 0),Data!H423,\"\")","v":""}]
[{"$f":"IF(D423<>\"\",Data!A424,\"\")","v":""},{"$f":"IF(D423<>\"\",Data!B424,\"\")","v":""},"",{"$f":"IF(AND(Data!H424<>\"\",Data!H424 > 0),Data!H424,\"\")","v":""}]
[{"$f":"IF(D424<>\"\",Data!A425,\"\")","v":""},{"$f":"IF(D424<>\"\",Data!B425,\"\")","v":""},"",{"$f":"IF(AND(Data!H425<>\"\",Data!H425 > 0),Data!H425,\"\")","v":""}]
[{"$f":"IF(D425<>\"\",Data!A426,\"\")","v":""},{"$f":"IF(D425<>\"\",Data!B426,\"\")","v":""},"",{"$f":"IF(AND(Data!H426<>\"\",Data!H426 > 0),Data!H426,\"\")","v":""}]
[{"$f":"IF(D426<>\"\",Data!A427,\"\")","v":""},{"$f":"IF(D426<>\"\",Data!B427,\"\")","v":""},"",{"$f":"IF(AND(Data!H427<>\"\",Data!H427 > 0),Data!H427,\"\")","v":""}]
[{"$f":"IF(D427<>\"\",Data!A428,\"\")","v":""},{"$f":"IF(D427<>\"\",Data!B428,\"\")","v":""},"",{"$f":"IF(AND(Data!H428<>\"\",Data!H428 > 0),Data!H428,\"\")","v":""}]
[{"$f":"IF(D428<>\"\",Data!A429,\"\")","v":""},{"$f":"IF(D428<>\"\",Data!B429,\"\")","v":""},"",{"$f":"IF(AND(Data!H429<>\"\",Data!H429 > 0),Data!H429,\"\")","v":""}]
[{"$f":"IF(D429<>\"\",Data!A430,\"\")","v":""},{"$f":"IF(D429<>\"\",Data!B430,\"\")","v":""},"",{"$f":"IF(AND(Data!H430<>\"\",Data!H430 > 0),Data!H430,\"\")","v":""}]
[{"$f":"IF(D430<>\"\",Data!A431,\"\")","v":""},{"$f":"IF(D430<>\"\",Data!B431,\"\")","v":""},"",{"$f":"IF(AND(Data!H431<>\"\",Data!H431 > 0),Data!H431,\"\")","v":""}]
[{"$f":"IF(D431<>\"\",Data!A432,\"\")","v":""},{"$f":"IF(D431<>\"\",Data!B432,\"\")","v":""},"",{"$f":"IF(AND(Data!H432<>\"\",Data!H432 > 0),Data!H432,\"\")","v":""}]
[{"$f":"IF(D432<>\"\",Data!A433,\"\")","v":""},{"$f":"IF(D432<>\"\",Data!B433,\"\")","v":""},"",{"$f":"IF(AND(Data!H433<>\"\",Data!H433 > 0),Data!H433,\"\")","v":""}]
[{"$f":"IF(D433<>\"\",Data!A434,\"\")","v":""},{"$f":"IF(D433<>\"\",Data!B434,\"\")","v":""},"",{"$f":"IF(AND(Data!H434<>\"\",Data!H434 > 0),Data!H434,\"\")","v":""}]
[{"$f":"IF(D434<>\"\",Data!A435,\"\")","v":""},{"$f":"IF(D434<>\"\",Data!B435,\"\")","v":""},"",{"$f":"IF(AND(Data!H435<>\"\",Data!H435 > 0),Data!H435,\"\")","v":""}]
[{"$f":"IF(D435<>\"\",Data!A436,\"\")","v":""},{"$f":"IF(D435<>\"\",Data!B436,\"\")","v":""},"",{"$f":"IF(AND(Data!H436<>\"\",Data!H436 > 0),Data!H436,\"\")","v":""}]
[{"$f":"IF(D436<>\"\",Data!A437,\"\")","v":""},{"$f":"IF(D436<>\"\",Data!B437,\"\")","v":""},"",{"$f":"IF(AND(Data!H437<>\"\",Data!H437 > 0),Data!H437,\"\")","v":""}]
[{"$f":"IF(D437<>\"\",Data!A438,\"\")","v":""},{"$f":"IF(D437<>\"\",Data!B438,\"\")","v":""},"",{"$f":"IF(AND(Data!H438<>\"\",Data!H438 > 0),Data!H438,\"\")","v":""}]
[{"$f":"IF(D438<>\"\",Data!A439,\"\")","v":""},{"$f":"IF(D438<>\"\",Data!B439,\"\")","v":""},"",{"$f":"IF(AND(Data!H439<>\"\",Data!H439 > 0),Data!H439,\"\")","v":""}]
[{"$f":"IF(D439<>\"\",Data!A440,\"\")","v":""},{"$f":"IF(D439<>\"\",Data!B440,\"\")","v":""},"",{"$f":"IF(AND(Data!H440<>\"\",Data!H440 > 0),Data!H440,\"\")","v":""}]
[{"$f":"IF(D440<>\"\",Data!A441,\"\")","v":""},{"$f":"IF(D440<>\"\",Data!B441,\"\")","v":""},"",{"$f":"IF(AND(Data!H441<>\"\",Data!H441 > 0),Data!H441,\"\")","v":""}]
[{"$f":"IF(D441<>\"\",Data!A442,\"\")","v":""},{"$f":"IF(D441<>\"\",Data!B442,\"\")","v":""},"",{"$f":"IF(AND(Data!H442<>\"\",Data!H442 > 0),Data!H442,\"\")","v":""}]
[{"$f":"IF(D442<>\"\",Data!A443,\"\")","v":""},{"$f":"IF(D442<>\"\",Data!B443,\"\")","v":""},"",{"$f":"IF(AND(Data!H443<>\"\",Data!H443 > 0),Data!H443,\"\")","v":""}]
[{"$f":"IF(D443<>\"\",Data!A444,\"\")","v":""},{"$f":"IF(D443<>\"\",Data!B444,\"\")","v":""},"",{"$f":"IF(AND(Data!H444<>\"\",Data!H444 > 0),Data!H444,\"\")","v":""}]
[{"$f":"IF(D444<>\"\",Data!A445,\"\")","v":""},{"$f":"IF(D444<>\"\",Data!B445,\"\")","v":""},"",{"$f":"IF(AND(Data!H445<>\"\",Data!H445 > 0),Data!H445,\"\")","v":""}]
[{"$f":"IF(D445<>\"\",Data!A446,\"\")","v":""},{"$f":"IF(D445<>\"\",Data!B446,\"\")","v":""},"",{"$f":"IF(AND(Data!H446<>\"\",Data!H446 > 0),Data!H446,\"\")","v":""}]
[{"$f":"IF(D446<>\"\",Data!A447,\"\")","v":""},{"$f":"IF(D446<>\"\",Data!B447,\"\")","v":""},"",{"$f":"IF(AND(Data!H447<>\"\",Data!H447 > 0),Data!H447,\"\")","v":""}]
[{"$f":"IF(D447<>\"\",Data!A448,\"\")","v":""},{"$f":"IF(D447<>\"\",Data!B448,\"\")","v":""},"",{"$f":"IF(AND(Data!H448<>\"\",Data!H448 > 0),Data!H448,\"\")","v":""}]
[{"$f":"IF(D448<>\"\",Data!A449,\"\")","v":""},{"$f":"IF(D448<>\"\",Data!B449,\"\")","v":""},"",{"$f":"IF(AND(Data!H449<>\"\",Data!H449 > 0),Data!H449,\"\")","v":""}]
[{"$f":"IF(D449<>\"\",Data!A450,\"\")","v":""},{"$f":"IF(D449<>\"\",Data!B450,\"\")","v":""},"",{"$f":"IF(AND(Data!H450<>\"\",Data!H450 > 0),Data!H450,\"\")","v":""}]
[{"$f":"IF(D450<>\"\",Data!A451,\"\")","v":""},{"$f":"IF(D450<>\"\",Data!B451,\"\")","v":""},{"$f":"IF(D450<>\"\",MID(CELL(\"filename\",B450),FIND(\"]\",CELL(\"filename\",B450))+1,32),\"\")","v":""},{"$f":"IF(AND(Data!H451<>\"\",Data!H451 > 0),Data!H451,\"\")","v":""}]
[{"$f":"IF(D451<>\"\",Data!A452,\"\")","v":""},{"$f":"IF(D451<>\"\",Data!B452,\"\")","v":""},"",{"$f":"IF(AND(Data!H452<>\"\",Data!H452 > 0),Data!H452,\"\")","v":""}]
[{"$f":"IF(D452<>\"\",Data!A453,\"\")","v":""},{"$f":"IF(D452<>\"\",Data!B453,\"\")","v":""},"",{"$f":"IF(AND(Data!H453<>\"\",Data!H453 > 0),Data!H453,\"\")","v":""}]
[{"$f":"IF(D453<>\"\",Data!A454,\"\")","v":""},{"$f":"IF(D453<>\"\",Data!B454,\"\")","v":""},"",{"$f":"IF(AND(Data!H454<>\"\",Data!H454 > 0),Data!H454,\"\")","v":""}]
[{"$f":"IF(D454<>\"\",Data!A455,\"\")","v":""},{"$f":"IF(D454<>\"\",Data!B455,\"\")","v":""},"",{"$f":"IF(AND(Data!H455<>\"\",Data!H455 > 0),Data!H455,\"\")","v":""}]
[{"$f":"IF(D455<>\"\",Data!A456,\"\")","v":""},{"$f":"IF(D455<>\"\",Data!B456,\"\")","v":""},"",{"$f":"IF(AND(Data!H456<>\"\",Data!H456 > 0),Data!H456,\"\")","v":""}]
[{"$f":"IF(D456<>\"\",Data!A457,\"\")","v":""},{"$f":"IF(D456<>\"\",Data!B457,\"\")","v":""},"",{"$f":"IF(AND(Data!H457<>\"\",Data!H457 > 0),Data!H457,\"\")","v":""}]
[{"$f":"IF(D457<>\"\",Data!A458,\"\")","v":""},{"$f":"IF(D457<>\"\",Data!B458,\"\")","v":""},"",{"$f":"IF(AND(Data!H458<>\"\",Data!H458 > 0),Data!H458,\"\")","v":""}]
[{"$f":"IF(D458<>\"\",Data!A459,\"\")","v":""},{"$f":"IF(D458<>\"\",Data!B459,\"\")","v":""},"",{"$f":"IF(AND(Data!H459<>\"\",Data!H459 > 0),Data!H459,\"\")","v":""}]
[{"$f":"IF(D459<>\"\",Data!A460,\"\")","v":""},{"$f":"IF(D459<>\"\",Data!B460,\"\")","v":""},"",{"$f":"IF(AND(Data!H460<>\"\",Data!H460 > 0),Data!H460,\"\")","v":""}]
[{"$f":"IF(D460<>\"\",Data!A461,\"\")","v":""},{"$f":"IF(D460<>\"\",Data!B461,\"\")","v":""},"",{"$f":"IF(AND(Data!H461<>\"\",Data!H461 > 0),Data!H461,\"\")","v":""}]
[{"$f":"IF(D461<>\"\",Data!A462,\"\")","v":""},{"$f":"IF(D461<>\"\",Data!B462,\"\")","v":""},"",{"$f":"IF(AND(Data!H462<>\"\",Data!H462 > 0),Data!H462,\"\")","v":""}]
[{"$f":"IF(D462<>\"\",Data!A463,\"\")","v":""},{"$f":"IF(D462<>\"\",Data!B463,\"\")","v":""},"",{"$f":"IF(AND(Data!H463<>\"\",Data!H463 > 0),Data!H463,\"\")","v":""}]
[{"$f":"IF(D463<>\"\",Data!A464,\"\")","v":""},{"$f":"IF(D463<>\"\",Data!B464,\"\")","v":""},"",{"$f":"IF(AND(Data!H464<>\"\",Data!H464 > 0),Data!H464,\"\")","v":""}]
[{"$f":"IF(D464<>\"\",Data!A465,\"\")","v":""},{"$f":"IF(D464<>\"\",Data!B465,\"\")","v":""},"",{"$f":"IF(AND(Data!H465<>\"\",Data!H465 > 0),Data!H465,\"\")","v":""}]
[{"$f":"IF(D465<>\"\",Data!A466,\"\")","v":""},{"$f":"IF(D465<>\"\",Data!B466,\"\")","v":""},"",{"$f":"IF(AND(Data!H466<>\"\",Data!H466 > 0),Data!H466,\"\")","v":""}]
[{"$f":"IF(D466<>\"\",Data!A467,\"\")","v":""},{"$f":"IF(D466<>\"\",Data!B467,\"\")","v":""},"",{"$f":"IF(AND(Data!H467<>\"\",Data!H467 > 0),Data!H467,\"\")","v":""}]
[{"$f":"IF(D467<>\"\",Data!A468,\"\")","v":""},{"$f":"IF(D467<>\"\",Data!B468,\"\")","v":""},"",{"$f":"IF(AND(Data!H468<>\"\",Data!H468 > 0),Data!H468,\"\")","v":""}]
[{"$f":"IF(D468<>\"\",Data!A469,\"\")","v":""},{"$f":"IF(D468<>\"\",Data!B469,\"\")","v":""},"",{"$f":"IF(AND(Data!H469<>\"\",Data!H469 > 0),Data!H469,\"\")","v":""}]
[{"$f":"IF(D469<>\"\",Data!A470,\"\")","v":""},{"$f":"IF(D469<>\"\",Data!B470,\"\")","v":""},"",{"$f":"IF(AND(Data!H470<>\"\",Data!H470 > 0),Data!H470,\"\")","v":""}]
[{"$f":"IF(D470<>\"\",Data!A471,\"\")","v":""},{"$f":"IF(D470<>\"\",Data!B471,\"\")","v":""},"",{"$f":"IF(AND(Data!H471<>\"\",Data!H471 > 0),Data!H471,\"\")","v":""}]
[{"$f":"IF(D471<>\"\",Data!A472,\"\")","v":""},{"$f":"IF(D471<>\"\",Data!B472,\"\")","v":""},"",{"$f":"IF(AND(Data!H472<>\"\",Data!H472 > 0),Data!H472,\"\")","v":""}]
[{"$f":"IF(D472<>\"\",Data!A473,\"\")","v":""},{"$f":"IF(D472<>\"\",Data!B473,\"\")","v":""},"",{"$f":"IF(AND(Data!H473<>\"\",Data!H473 > 0),Data!H473,\"\")","v":""}]
[{"$f":"IF(D473<>\"\",Data!A474,\"\")","v":""},{"$f":"IF(D473<>\"\",Data!B474,\"\")","v":""},"",{"$f":"IF(AND(Data!H474<>\"\",Data!H474 > 0),Data!H474,\"\")","v":""}]
[{"$f":"IF(D474<>\"\",Data!A475,\"\")","v":""},{"$f":"IF(D474<>\"\",Data!B475,\"\")","v":""},"",{"$f":"IF(AND(Data!H475<>\"\",Data!H475 > 0),Data!H475,\"\")","v":""}]
[{"$f":"IF(D475<>\"\",Data!A476,\"\")","v":""},{"$f":"IF(D475<>\"\",Data!B476,\"\")","v":""},"",{"$f":"IF(AND(Data!H476<>\"\",Data!H476 > 0),Data!H476,\"\")","v":""}]
[{"$f":"IF(D476<>\"\",Data!A477,\"\")","v":""},{"$f":"IF(D476<>\"\",Data!B477,\"\")","v":""},"",{"$f":"IF(AND(Data!H477<>\"\",Data!H477 > 0),Data!H477,\"\")","v":""}]
[{"$f":"IF(D477<>\"\",Data!A478,\"\")","v":""},{"$f":"IF(D477<>\"\",Data!B478,\"\")","v":""},"",{"$f":"IF(AND(Data!H478<>\"\",Data!H478 > 0),Data!H478,\"\")","v":""}]
[{"$f":"IF(D478<>\"\",Data!A479,\"\")","v":""},{"$f":"IF(D478<>\"\",Data!B479,\"\")","v":""},"",{"$f":"IF(AND(Data!H479<>\"\",Data!H479 > 0),Data!H479,\"\")","v":""}]
[{"$f":"IF(D479<>\"\",Data!A480,\"\")","v":""},{"$f":"IF(D479<>\"\",Data!B480,\"\")","v":""},"",{"$f":"IF(AND(Data!H480<>\"\",Data!H480 > 0),Data!H480,\"\")","v":""}]
[{"$f":"IF(D480<>\"\",Data!A481,\"\")","v":""},{"$f":"IF(D480<>\"\",Data!B481,\"\")","v":""},"",{"$f":"IF(AND(Data!H481<>\"\",Data!H481 > 0),Data!H481,\"\")","v":""}]
[{"$f":"IF(D481<>\"\",Data!A482,\"\")","v":""},{"$f":"IF(D481<>\"\",Data!B482,\"\")","v":""},"",{"$f":"IF(AND(Data!H482<>\"\",Data!H482 > 0),Data!H482,\"\")","v":""}]
[{"$f":"IF(D482<>\"\",Data!A483,\"\")","v":""},{"$f":"IF(D482<>\"\",Data!B483,\"\")","v":""},"",{"$f":"IF(AND(Data!H483<>\"\",Data!H483 > 0),Data!H483,\"\")","v":""}]
[{"$f":"IF(D483<>\"\",Data!A484,\"\")","v":""},{"$f":"IF(D483<>\"\",Data!B484,\"\")","v":""},"",{"$f":"IF(AND(Data!H484<>\"\",Data!H484 > 0),Data!H484,\"\")","v":""}]
[{"$f":"IF(D484<>\"\",Data!A485,\"\")","v":""},{"$f":"IF(D484<>\"\",Data!B485,\"\")","v":""},"",{"$f":"IF(AND(Data!H485<>\"\",Data!H485 > 0),Data!H485,\"\")","v":""}]
[{"$f":"IF(D485<>\"\",Data!A486,\"\")","v":""},{"$f":"IF(D485<>\"\",Data!B486,\"\")","v":""},"",{"$f":"IF(AND(Data!H486<>\"\",Data!H486 > 0),Data!H486,\"\")","v":""}]
[{"$f":"IF(D486<>\"\",Data!A487,\"\")","v":""},{"$f":"IF(D486<>\"\",Data!B487,\"\")","v":""},"",{"$f":"IF(AND(Data!H487<>\"\",Data!H487 > 0),Data!H487,\"\")","v":""}]
[{"$f":"IF(D487<>\"\",Data!A488,\"\")","v":""},{"$f":"IF(D487<>\"\",Data!B488,\"\")","v":""},"",{"$f":"IF(AND(Data!H488<>\"\",Data!H488 > 0),Data!H488,\"\")","v":""}]
[{"$f":"IF(D488<>\"\",Data!A489,\"\")","v":""},{"$f":"IF(D488<>\"\",Data!B489,\"\")","v":""},"",{"$f":"IF(AND(Data!H489<>\"\",Data!H489 > 0),Data!H489,\"\")","v":""}]
[{"$f":"IF(D489<>\"\",Data!A490,\"\")","v":""},{"$f":"IF(D489<>\"\",Data!B490,\"\")","v":""},"",{"$f":"IF(AND(Data!H490<>\"\",Data!H490 > 0),Data!H490,\"\")","v":""}]
[{"$f":"IF(D490<>\"\",Data!A491,\"\")","v":""},{"$f":"IF(D490<>\"\",Data!B491,\"\")","v":""},"",{"$f":"IF(AND(Data!H491<>\"\",Data!H491 > 0),Data!H491,\"\")","v":""}]
[{"$f":"IF(D491<>\"\",Data!A492,\"\")","v":""},{"$f":"IF(D491<>\"\",Data!B492,\"\")","v":""},"",{"$f":"IF(AND(Data!H492<>\"\",Data!H492 > 0),Data!H492,\"\")","v":""}]
[{"$f":"IF(D492<>\"\",Data!A493,\"\")","v":""},{"$f":"IF(D492<>\"\",Data!B493,\"\")","v":""},"",{"$f":"IF(AND(Data!H493<>\"\",Data!H493 > 0),Data!H493,\"\")","v":""}]
[{"$f":"IF(D493<>\"\",Data!A494,\"\")","v":""},{"$f":"IF(D493<>\"\",Data!B494,\"\")","v":""},"",{"$f":"IF(AND(Data!H494<>\"\",Data!H494 > 0),Data!H494,\"\")","v":""}]
[{"$f":"IF(D494<>\"\",Data!A495,\"\")","v":""},{"$f":"IF(D494<>\"\",Data!B495,\"\")","v":""},"",{"$f":"IF(AND(Data!H495<>\"\",Data!H495 > 0),Data!H495,\"\")","v":""}]
[{"$f":"IF(D495<>\"\",Data!A496,\"\")","v":""},{"$f":"IF(D495<>\"\",Data!B496,\"\")","v":""},"",{"$f":"IF(AND(Data!H496<>\"\",Data!H496 > 0),Data!H496,\"\")","v":""}]
[{"$f":"IF(D496<>\"\",Data!A497,\"\")","v":""},{"$f":"IF(D496<>\"\",Data!B497,\"\")","v":""},"",{"$f":"IF(AND(Data!H497<>\"\",Data!H497 > 0),Data!H497,\"\")","v":""}]
[{"$f":"IF(D497<>\"\",Data!A498,\"\")","v":""},{"$f":"IF(D497<>\"\",Data!B498,\"\")","v":""},"",{"$f":"IF(AND(Data!H498<>\"\",Data!H498 > 0),Data!H498,\"\")","v":""}]
[{"$f":"IF(D498<>\"\",Data!A499,\"\")","v":""},{"$f":"IF(D498<>\"\",Data!B499,\"\")","v":""},"",{"$f":"IF(AND(Data!H499<>\"\",Data!H499 > 0),Data!H499,\"\")","v":""}]
[{"$f":"IF(D499<>\"\",Data!A500,\"\")","v":""},{"$f":"IF(D499<>\"\",Data!B500,\"\")","v":""},"",{"$f":"IF(AND(Data!H500<>\"\",Data!H500 > 0),Data!H500,\"\")","v":""}]
[{"$f":"IF(D500<>\"\",Data!A501,\"\")","v":""},{"$f":"IF(D500<>\"\",Data!B501,\"\")","v":""},"",{"$f":"IF(AND(Data!H501<>\"\",Data!H501 > 0),Data!H501,\"\")","v":""}]
[{"$f":"IF(D501<>\"\",Data!A502,\"\")","v":""},{"$f":"IF(D501<>\"\",Data!B502,\"\")","v":""},"",{"$f":"IF(AND(Data!H502<>\"\",Data!H502 > 0),Data!H502,\"\")","v":""}]
[{"$f":"IF(D502<>\"\",Data!A503,\"\")","v":""},{"$f":"IF(D502<>\"\",Data!B503,\"\")","v":""},"",{"$f":"IF(AND(Data!H503<>\"\",Data!H503 > 0),Data!H503,\"\")","v":""}]
[{"$f":"IF(D503<>\"\",Data!A504,\"\")","v":""},{"$f":"IF(D503<>\"\",Data!B504,\"\")","v":""},"",{"$f":"IF(AND(Data!H504<>\"\",Data!H504 > 0),Data!H504,\"\")","v":""}]
[{"$f":"IF(D504<>\"\",Data!A505,\"\")","v":""},{"$f":"IF(D504<>\"\",Data!B505,\"\")","v":""},"",{"$f":"IF(AND(Data!H505<>\"\",Data!H505 > 0),Data!H505,\"\")","v":""}]
[{"$f":"IF(D505<>\"\",Data!A506,\"\")","v":""},{"$f":"IF(D505<>\"\",Data!B506,\"\")","v":""},"",{"$f":"IF(AND(Data!H506<>\"\",Data!H506 > 0),Data!H506,\"\")","v":""}]
[{"$f":"IF(D506<>\"\",Data!A507,\"\")","v":""},{"$f":"IF(D506<>\"\",Data!B507,\"\")","v":""},"",{"$f":"IF(AND(Data!H507<>\"\",Data!H507 > 0),Data!H507,\"\")","v":""}]
[{"$f":"IF(D507<>\"\",Data!A508,\"\")","v":""},{"$f":"IF(D507<>\"\",Data!B508,\"\")","v":""},"",{"$f":"IF(AND(Data!H508<>\"\",Data!H508 > 0),Data!H508,\"\")","v":""}]
[{"$f":"IF(D508<>\"\",Data!A509,\"\")","v":""},{"$f":"IF(D508<>\"\",Data!B509,\"\")","v":""},"",{"$f":"IF(AND(Data!H509<>\"\",Data!H509 > 0),Data!H509,\"\")","v":""}]
[{"$f":"IF(D509<>\"\",Data!A510,\"\")","v":""},{"$f":"IF(D509<>\"\",Data!B510,\"\")","v":""},"",{"$f":"IF(AND(Data!H510<>\"\",Data!H510 > 0),Data!H510,\"\")","v":""}]
[{"$f":"IF(D510<>\"\",Data!A511,\"\")","v":""},{"$f":"IF(D510<>\"\",Data!B511,\"\")","v":""},"",{"$f":"IF(AND(Data!H511<>\"\",Data!H511 > 0),Data!H511,\"\")","v":""}]
[{"$f":"IF(D511<>\"\",Data!A512,\"\")","v":""},{"$f":"IF(D511<>\"\",Data!B512,\"\")","v":""},"",{"$f":"IF(AND(Data!H512<>\"\",Data!H512 > 0),Data!H512,\"\")","v":""}]
[{"$f":"IF(D512<>\"\",Data!A513,\"\")","v":""},{"$f":"IF(D512<>\"\",Data!B513,\"\")","v":""},"",{"$f":"IF(AND(Data!H513<>\"\",Data!H513 > 0),Data!H513,\"\")","v":""}]
[{"$f":"IF(D513<>\"\",Data!A514,\"\")","v":""},{"$f":"IF(D513<>\"\",Data!B514,\"\")","v":""},"",{"$f":"IF(AND(Data!H514<>\"\",Data!H514 > 0),Data!H514,\"\")","v":""}]
[{"$f":"IF(D514<>\"\",Data!A515,\"\")","v":""},{"$f":"IF(D514<>\"\",Data!B515,\"\")","v":""},{"$f":"IF(D514<>\"\",MID(CELL(\"filename\",B514),FIND(\"]\",CELL(\"filename\",B514))+1,32),\"\")","v":""},{"$f":"IF(AND(Data!H515<>\"\",Data!H515 > 0),Data!H515,\"\")","v":""}]
[{"$f":"IF(D515<>\"\",Data!A516,\"\")","v":""},{"$f":"IF(D515<>\"\",Data!B516,\"\")","v":""},"",{"$f":"IF(AND(Data!H516<>\"\",Data!H516 > 0),Data!H516,\"\")","v":""}]
[{"$f":"IF(D516<>\"\",Data!A517,\"\")","v":""},{"$f":"IF(D516<>\"\",Data!B517,\"\")","v":""},"",{"$f":"IF(AND(Data!H517<>\"\",Data!H517 > 0),Data!H517,\"\")","v":""}]
[{"$f":"IF(D517<>\"\",Data!A518,\"\")","v":""},{"$f":"IF(D517<>\"\",Data!B518,\"\")","v":""},"",{"$f":"IF(AND(Data!H518<>\"\",Data!H518 > 0),Data!H518,\"\")","v":""}]
[{"$f":"IF(D518<>\"\",Data!A519,\"\")","v":""},{"$f":"IF(D518<>\"\",Data!B519,\"\")","v":""},"",{"$f":"IF(AND(Data!H519<>\"\",Data!H519 > 0),Data!H519,\"\")","v":""}]
[{"$f":"IF(D519<>\"\",Data!A520,\"\")","v":""},{"$f":"IF(D519<>\"\",Data!B520,\"\")","v":""},"",{"$f":"IF(AND(Data!H520<>\"\",Data!H520 > 0),Data!H520,\"\")","v":""}]
[{"$f":"IF(D520<>\"\",Data!A521,\"\")","v":""},{"$f":"IF(D520<>\"\",Data!B521,\"\")","v":""},"",{"$f":"IF(AND(Data!H521<>\"\",Data!H521 > 0),Data!H521,\"\")","v":""}]
[{"$f":"IF(D521<>\"\",Data!A522,\"\")","v":""},{"$f":"IF(D521<>\"\",Data!B522,\"\")","v":""},"",{"$f":"IF(AND(Data!H522<>\"\",Data!H522 > 0),Data!H522,\"\")","v":""}]
[{"$f":"IF(D522<>\"\",Data!A523,\"\")","v":""},{"$f":"IF(D522<>\"\",Data!B523,\"\")","v":""},"",{"$f":"IF(AND(Data!H523<>\"\",Data!H523 > 0),Data!H523,\"\")","v":""}]
[{"$f":"IF(D523<>\"\",Data!A524,\"\")","v":""},{"$f":"IF(D523<>\"\",Data!B524,\"\")","v":""},"",{"$f":"IF(AND(Data!H524<>\"\",Data!H524 > 0),Data!H524,\"\")","v":""}]
[{"$f":"IF(D524<>\"\",Data!A525,\"\")","v":""},{"$f":"IF(D524<>\"\",Data!B525,\"\")","v":""},"",{"$f":"IF(AND(Data!H525<>\"\",Data!H525 > 0),Data!H525,\"\")","v":""}]
[{"$f":"IF(D525<>\"\",Data!A526,\"\")","v":""},{"$f":"IF(D525<>\"\",Data!B526,\"\")","v":""},"",{"$f":"IF(AND(Data!H526<>\"\",Data!H526 > 0),Data!H526,\"\")","v":""}]
[{"$f":"IF(D526<>\"\",Data!A527,\"\")","v":""},{"$f":"IF(D526<>\"\",Data!B527,\"\")","v":""},"",{"$f":"IF(AND(Data!H527<>\"\",Data!H527 > 0),Data!H527,\"\")","v":""}]
[{"$f":"IF(D527<>\"\",Data!A528,\"\")","v":""},{"$f":"IF(D527<>\"\",Data!B528,\"\")","v":""},"",{"$f":"IF(AND(Data!H528<>\"\",Data!H528 > 0),Data!H528,\"\")","v":""}]
[{"$f":"IF(D528<>\"\",Data!A529,\"\")","v":""},{"$f":"IF(D528<>\"\",Data!B529,\"\")","v":""},"",{"$f":"IF(AND(Data!H529<>\"\",Data!H529 > 0),Data!H529,\"\")","v":""}]
[{"$f":"IF(D529<>\"\",Data!A530,\"\")","v":""},{"$f":"IF(D529<>\"\",Data!B530,\"\")","v":""},"",{"$f":"IF(AND(Data!H530<>\"\",Data!H530 > 0),Data!H530,\"\")","v":""}]
[{"$f":"IF(D530<>\"\",Data!A531,\"\")","v":""},{"$f":"IF(D530<>\"\",Data!B531,\"\")","v":""},"",{"$f":"IF(AND(Data!H531<>\"\",Data!H531 > 0),Data!H531,\"\")","v":""}]
[{"$f":"IF(D531<>\"\",Data!A532,\"\")","v":""},{"$f":"IF(D531<>\"\",Data!B532,\"\")","v":""},"",{"$f":"IF(AND(Data!H532<>\"\",Data!H532 > 0),Data!H532,\"\")","v":""}]
[{"$f":"IF(D532<>\"\",Data!A533,\"\")","v":""},{"$f":"IF(D532<>\"\",Data!B533,\"\")","v":""},"",{"$f":"IF(AND(Data!H533<>\"\",Data!H533 > 0),Data!H533,\"\")","v":""}]
[{"$f":"IF(D533<>\"\",Data!A534,\"\")","v":""},{"$f":"IF(D533<>\"\",Data!B534,\"\")","v":""},"",{"$f":"IF(AND(Data!H534<>\"\",Data!H534 > 0),Data!H534,\"\")","v":""}]
[{"$f":"IF(D534<>\"\",Data!A535,\"\")","v":""},{"$f":"IF(D534<>\"\",Data!B535,\"\")","v":""},"",{"$f":"IF(AND(Data!H535<>\"\",Data!H535 > 0),Data!H535,\"\")","v":""}]
[{"$f":"IF(D535<>\"\",Data!A536,\"\")","v":""},{"$f":"IF(D535<>\"\",Data!B536,\"\")","v":""},"",{"$f":"IF(AND(Data!H536<>\"\",Data!H536 > 0),Data!H536,\"\")","v":""}]
[{"$f":"IF(D536<>\"\",Data!A537,\"\")","v":""},{"$f":"IF(D536<>\"\",Data!B537,\"\")","v":""},"",{"$f":"IF(AND(Data!H537<>\"\",Data!H537 > 0),Data!H537,\"\")","v":""}]
[{"$f":"IF(D537<>\"\",Data!A538,\"\")","v":""},{"$f":"IF(D537<>\"\",Data!B538,\"\")","v":""},"",{"$f":"IF(AND(Data!H538<>\"\",Data!H538 > 0),Data!H538,\"\")","v":""}]
[{"$f":"IF(D538<>\"\",Data!A539,\"\")","v":""},{"$f":"IF(D538<>\"\",Data!B539,\"\")","v":""},"",{"$f":"IF(AND(Data!H539<>\"\",Data!H539 > 0),Data!H539,\"\")","v":""}]
[{"$f":"IF(D539<>\"\",Data!A540,\"\")","v":""},{"$f":"IF(D539<>\"\",Data!B540,\"\")","v":""},"",{"$f":"IF(AND(Data!H540<>\"\",Data!H540 > 0),Data!H540,\"\")","v":""}]
[{"$f":"IF(D540<>\"\",Data!A541,\"\")","v":""},{"$f":"IF(D540<>\"\",Data!B541,\"\")","v":""},"",{"$f":"IF(AND(Data!H541<>\"\",Data!H541 > 0),Data!H541,\"\")","v":""}]
[{"$f":"IF(D541<>\"\",Data!A542,\"\")","v":""},{"$f":"IF(D541<>\"\",Data!B542,\"\")","v":""},"",{"$f":"IF(AND(Data!H542<>\"\",Data!H542 > 0),Data!H542,\"\")","v":""}]
[{"$f":"IF(D542<>\"\",Data!A543,\"\")","v":""},{"$f":"IF(D542<>\"\",Data!B543,\"\")","v":""},"",{"$f":"IF(AND(Data!H543<>\"\",Data!H543 > 0),Data!H543,\"\")","v":""}]
[{"$f":"IF(D543<>\"\",Data!A544,\"\")","v":""},{"$f":"IF(D543<>\"\",Data!B544,\"\")","v":""},"",{"$f":"IF(AND(Data!H544<>\"\",Data!H544 > 0),Data!H544,\"\")","v":""}]
[{"$f":"IF(D544<>\"\",Data!A545,\"\")","v":""},{"$f":"IF(D544<>\"\",Data!B545,\"\")","v":""},"",{"$f":"IF(AND(Data!H545<>\"\",Data!H545 > 0),Data!H545,\"\")","v":""}]
[{"$f":"IF(D545<>\"\",Data!A546,\"\")","v":""},{"$f":"IF(D545<>\"\",Data!B546,\"\")","v":""},"",{"$f":"IF(AND(Data!H546<>\"\",Data!H546 > 0),Data!H546,\"\")","v":""}]
[{"$f":"IF(D546<>\"\",Data!A547,\"\")","v":""},{"$f":"IF(D546<>\"\",Data!B547,\"\")","v":""},"",{"$f":"IF(AND(Data!H547<>\"\",Data!H547 > 0),Data!H547,\"\")","v":""}]
[{"$f":"IF(D547<>\"\",Data!A548,\"\")","v":""},{"$f":"IF(D547<>\"\",Data!B548,\"\")","v":""},"",{"$f":"IF(AND(Data!H548<>\"\",Data!H548 > 0),Data!H548,\"\")","v":""}]
[{"$f":"IF(D548<>\"\",Data!A549,\"\")","v":""},{"$f":"IF(D548<>\"\",Data!B549,\"\")","v":""},"",{"$f":"IF(AND(Data!H549<>\"\",Data!H549 > 0),Data!H549,\"\")","v":""}]
[{"$f":"IF(D549<>\"\",Data!A550,\"\")","v":""},{"$f":"IF(D549<>\"\",Data!B550,\"\")","v":""},"",{"$f":"IF(AND(Data!H550<>\"\",Data!H550 > 0),Data!H550,\"\")","v":""}]
[{"$f":"IF(D550<>\"\",Data!A551,\"\")","v":""},{"$f":"IF(D550<>\"\",Data!B551,\"\")","v":""},"",{"$f":"IF(AND(Data!H551<>\"\",Data!H551 > 0),Data!H551,\"\")","v":""}]
[{"$f":"IF(D551<>\"\",Data!A552,\"\")","v":""},{"$f":"IF(D551<>\"\",Data!B552,\"\")","v":""},"",{"$f":"IF(AND(Data!H552<>\"\",Data!H552 > 0),Data!H552,\"\")","v":""}]
[{"$f":"IF(D552<>\"\",Data!A553,\"\")","v":""},{"$f":"IF(D552<>\"\",Data!B553,\"\")","v":""},"",{"$f":"IF(AND(Data!H553<>\"\",Data!H553 > 0),Data!H553,\"\")","v":""}]
[{"$f":"IF(D553<>\"\",Data!A554,\"\")","v":""},{"$f":"IF(D553<>\"\",Data!B554,\"\")","v":""},"",{"$f":"IF(AND(Data!H554<>\"\",Data!H554 > 0),Data!H554,\"\")","v":""}]
[{"$f":"IF(D554<>\"\",Data!A555,\"\")","v":""},{"$f":"IF(D554<>\"\",Data!B555,\"\")","v":""},"",{"$f":"IF(AND(Data!H555<>\"\",Data!H555 > 0),Data!H555,\"\")","v":""}]
[{"$f":"IF(D555<>\"\",Data!A556,\"\")","v":""},{"$f":"IF(D555<>\"\",Data!B556,\"\")","v":""},"",{"$f":"IF(AND(Data!H556<>\"\",Data!H556 > 0),Data!H556,\"\")","v":""}]
[{"$f":"IF(D556<>\"\",Data!A557,\"\")","v":""},{"$f":"IF(D556<>\"\",Data!B557,\"\")","v":""},"",{"$f":"IF(AND(Data!H557<>\"\",Data!H557 > 0),Data!H557,\"\")","v":""}]
[{"$f":"IF(D557<>\"\",Data!A558,\"\")","v":""},{"$f":"IF(D557<>\"\",Data!B558,\"\")","v":""},"",{"$f":"IF(AND(Data!H558<>\"\",Data!H558 > 0),Data!H558,\"\")","v":""}]
[{"$f":"IF(D558<>\"\",Data!A559,\"\")","v":""},{"$f":"IF(D558<>\"\",Data!B559,\"\")","v":""},"",{"$f":"IF(AND(Data!H559<>\"\",Data!H559 > 0),Data!H559,\"\")","v":""}]
[{"$f":"IF(D559<>\"\",Data!A560,\"\")","v":""},{"$f":"IF(D559<>\"\",Data!B560,\"\")","v":""},"",{"$f":"IF(AND(Data!H560<>\"\",Data!H560 > 0),Data!H560,\"\")","v":""}]
[{"$f":"IF(D560<>\"\",Data!A561,\"\")","v":""},{"$f":"IF(D560<>\"\",Data!B561,\"\")","v":""},"",{"$f":"IF(AND(Data!H561<>\"\",Data!H561 > 0),Data!H561,\"\")","v":""}]
[{"$f":"IF(D561<>\"\",Data!A562,\"\")","v":""},{"$f":"IF(D561<>\"\",Data!B562,\"\")","v":""},"",{"$f":"IF(AND(Data!H562<>\"\",Data!H562 > 0),Data!H562,\"\")","v":""}]
[{"$f":"IF(D562<>\"\",Data!A563,\"\")","v":""},{"$f":"IF(D562<>\"\",Data!B563,\"\")","v":""},"",{"$f":"IF(AND(Data!H563<>\"\",Data!H563 > 0),Data!H563,\"\")","v":""}]
[{"$f":"IF(D563<>\"\",Data!A564,\"\")","v":""},{"$f":"IF(D563<>\"\",Data!B564,\"\")","v":""},"",{"$f":"IF(AND(Data!H564<>\"\",Data!H564 > 0),Data!H564,\"\")","v":""}]
[{"$f":"IF(D564<>\"\",Data!A565,\"\")","v":""},{"$f":"IF(D564<>\"\",Data!B565,\"\")","v":""},"",{"$f":"IF(AND(Data!H565<>\"\",Data!H565 > 0),Data!H565,\"\")","v":""}]
[{"$f":"IF(D565<>\"\",Data!A566,\"\")","v":""},{"$f":"IF(D565<>\"\",Data!B566,\"\")","v":""},"",{"$f":"IF(AND(Data!H566<>\"\",Data!H566 > 0),Data!H566,\"\")","v":""}]
[{"$f":"IF(D566<>\"\",Data!A567,\"\")","v":""},{"$f":"IF(D566<>\"\",Data!B567,\"\")","v":""},"",{"$f":"IF(AND(Data!H567<>\"\",Data!H567 > 0),Data!H567,\"\")","v":""}]
[{"$f":"IF(D567<>\"\",Data!A568,\"\")","v":""},{"$f":"IF(D567<>\"\",Data!B568,\"\")","v":""},"",{"$f":"IF(AND(Data!H568<>\"\",Data!H568 > 0),Data!H568,\"\")","v":""}]
[{"$f":"IF(D568<>\"\",Data!A569,\"\")","v":""},{"$f":"IF(D568<>\"\",Data!B569,\"\")","v":""},"",{"$f":"IF(AND(Data!H569<>\"\",Data!H569 > 0),Data!H569,\"\")","v":""}]
[{"$f":"IF(D569<>\"\",Data!A570,\"\")","v":""},{"$f":"IF(D569<>\"\",Data!B570,\"\")","v":""},"",{"$f":"IF(AND(Data!H570<>\"\",Data!H570 > 0),Data!H570,\"\")","v":""}]
[{"$f":"IF(D570<>\"\",Data!A571,\"\")","v":""},{"$f":"IF(D570<>\"\",Data!B571,\"\")","v":""},"",{"$f":"IF(AND(Data!H571<>\"\",Data!H571 > 0),Data!H571,\"\")","v":""}]
[{"$f":"IF(D571<>\"\",Data!A572,\"\")","v":""},{"$f":"IF(D571<>\"\",Data!B572,\"\")","v":""},"",{"$f":"IF(AND(Data!H572<>\"\",Data!H572 > 0),Data!H572,\"\")","v":""}]
[{"$f":"IF(D572<>\"\",Data!A573,\"\")","v":""},{"$f":"IF(D572<>\"\",Data!B573,\"\")","v":""},"",{"$f":"IF(AND(Data!H573<>\"\",Data!H573 > 0),Data!H573,\"\")","v":""}]
[{"$f":"IF(D573<>\"\",Data!A574,\"\")","v":""},{"$f":"IF(D573<>\"\",Data!B574,\"\")","v":""},"",{"$f":"IF(AND(Data!H574<>\"\",Data!H574 > 0),Data!H574,\"\")","v":""}]
[{"$f":"IF(D574<>\"\",Data!A575,\"\")","v":""},{"$f":"IF(D574<>\"\",Data!B575,\"\")","v":""},"",{"$f":"IF(AND(Data!H575<>\"\",Data!H575 > 0),Data!H575,\"\")","v":""}]
[{"$f":"IF(D575<>\"\",Data!A576,\"\")","v":""},{"$f":"IF(D575<>\"\",Data!B576,\"\")","v":""},"",{"$f":"IF(AND(Data!H576<>\"\",Data!H576 > 0),Data!H576,\"\")","v":""}]
[{"$f":"IF(D576<>\"\",Data!A577,\"\")","v":""},{"$f":"IF(D576<>\"\",Data!B577,\"\")","v":""},"",{"$f":"IF(AND(Data!H577<>\"\",Data!H577 > 0),Data!H577,\"\")","v":""}]
[{"$f":"IF(D577<>\"\",Data!A578,\"\")","v":""},{"$f":"IF(D577<>\"\",Data!B578,\"\")","v":""},"",{"$f":"IF(AND(Data!H578<>\"\",Data!H578 > 0),Data!H578,\"\")","v":""}]
[{"$f":"IF(D578<>\"\",Data!A579,\"\")","v":""},{"$f":"IF(D578<>\"\",Data!B579,\"\")","v":""},{"$f":"IF(D578<>\"\",MID(CELL(\"filename\",B578),FIND(\"]\",CELL(\"filename\",B578))+1,32),\"\")","v":""},{"$f":"IF(AND(Data!H579<>\"\",Data!H579 > 0),Data!H579,\"\")","v":""}]
[{"$f":"IF(D579<>\"\",Data!A580,\"\")","v":""},{"$f":"IF(D579<>\"\",Data!B580,\"\")","v":""},"",{"$f":"IF(AND(Data!H580<>\"\",Data!H580 > 0),Data!H580,\"\")","v":""}]
[{"$f":"IF(D580<>\"\",Data!A581,\"\")","v":""},{"$f":"IF(D580<>\"\",Data!B581,\"\")","v":""},"",{"$f":"IF(AND(Data!H581<>\"\",Data!H581 > 0),Data!H581,\"\")","v":""}]
[{"$f":"IF(D581<>\"\",Data!A582,\"\")","v":""},{"$f":"IF(D581<>\"\",Data!B582,\"\")","v":""},"",{"$f":"IF(AND(Data!H582<>\"\",Data!H582 > 0),Data!H582,\"\")","v":""}]
[{"$f":"IF(D582<>\"\",Data!A583,\"\")","v":""},{"$f":"IF(D582<>\"\",Data!B583,\"\")","v":""},"",{"$f":"IF(AND(Data!H583<>\"\",Data!H583 > 0),Data!H583,\"\")","v":""}]
[{"$f":"IF(D583<>\"\",Data!A584,\"\")","v":""},{"$f":"IF(D583<>\"\",Data!B584,\"\")","v":""},"",{"$f":"IF(AND(Data!H584<>\"\",Data!H584 > 0),Data!H584,\"\")","v":""}]
[{"$f":"IF(D584<>\"\",Data!A585,\"\")","v":""},{"$f":"IF(D584<>\"\",Data!B585,\"\")","v":""},"",{"$f":"IF(AND(Data!H585<>\"\",Data!H585 > 0),Data!H585,\"\")","v":""}]
[{"$f":"IF(D585<>\"\",Data!A586,\"\")","v":""},{"$f":"IF(D585<>\"\",Data!B586,\"\")","v":""},"",{"$f":"IF(AND(Data!H586<>\"\",Data!H586 > 0),Data!H586,\"\")","v":""}]
[{"$f":"IF(D586<>\"\",Data!A587,\"\")","v":""},{"$f":"IF(D586<>\"\",Data!B587,\"\")","v":""},"",{"$f":"IF(AND(Data!H587<>\"\",Data!H587 > 0),Data!H587,\"\")","v":""}]
[{"$f":"IF(D587<>\"\",Data!A588,\"\")","v":""},{"$f":"IF(D587<>\"\",Data!B588,\"\")","v":""},"",{"$f":"IF(AND(Data!H588<>\"\",Data!H588 > 0),Data!H588,\"\")","v":""}]
[{"$f":"IF(D588<>\"\",Data!A589,\"\")","v":""},{"$f":"IF(D588<>\"\",Data!B589,\"\")","v":""},"",{"$f":"IF(AND(Data!H589<>\"\",Data!H589 > 0),Data!H589,\"\")","v":""}]
[{"$f":"IF(D589<>\"\",Data!A590,\"\")","v":""},{"$f":"IF(D589<>\"\",Data!B590,\"\")","v":""},"",{"$f":"IF(AND(Data!H590<>\"\",Data!H590 > 0),Data!H590,\"\")","v":""}]
[{"$f":"IF(D590<>\"\",Data!A591,\"\")","v":""},{"$f":"IF(D590<>\"\",Data!B591,\"\")","v":""},"",{"$f":"IF(AND(Data!H591<>\"\",Data!H591 > 0),Data!H591,\"\")","v":""}]
[{"$f":"IF(D591<>\"\",Data!A592,\"\")","v":""},{"$f":"IF(D591<>\"\",Data!B592,\"\")","v":""},"",{"$f":"IF(AND(Data!H592<>\"\",Data!H592 > 0),Data!H592,\"\")","v":""}]
[{"$f":"IF(D592<>\"\",Data!A593,\"\")","v":""},{"$f":"IF(D592<>\"\",Data!B593,\"\")","v":""},"",{"$f":"IF(AND(Data!H593<>\"\",Data!H593 > 0),Data!H593,\"\")","v":""}]
[{"$f":"IF(D593<>\"\",Data!A594,\"\")","v":""},{"$f":"IF(D593<>\"\",Data!B594,\"\")","v":""},"",{"$f":"IF(AND(Data!H594<>\"\",Data!H594 > 0),Data!H594,\"\")","v":""}]
[{"$f":"IF(D594<>\"\",Data!A595,\"\")","v":""},{"$f":"IF(D594<>\"\",Data!B595,\"\")","v":""},"",{"$f":"IF(AND(Data!H595<>\"\",Data!H595 > 0),Data!H595,\"\")","v":""}]
[{"$f":"IF(D595<>\"\",Data!A596,\"\")","v":""},{"$f":"IF(D595<>\"\",Data!B596,\"\")","v":""},"",{"$f":"IF(AND(Data!H596<>\"\",Data!H596 > 0),Data!H596,\"\")","v":""}]
[{"$f":"IF(D596<>\"\",Data!A597,\"\")","v":""},{"$f":"IF(D596<>\"\",Data!B597,\"\")","v":""},"",{"$f":"IF(AND(Data!H597<>\"\",Data!H597 > 0),Data!H597,\"\")","v":""}]
[{"$f":"IF(D597<>\"\",Data!A598,\"\")","v":""},{"$f":"IF(D597<>\"\",Data!B598,\"\")","v":""},"",{"$f":"IF(AND(Data!H598<>\"\",Data!H598 > 0),Data!H598,\"\")","v":""}]
[{"$f":"IF(D598<>\"\",Data!A599,\"\")","v":""},{"$f":"IF(D598<>\"\",Data!B599,\"\")","v":""},"",{"$f":"IF(AND(Data!H599<>\"\",Data!H599 > 0),Data!H599,\"\")","v":""}]
[{"$f":"IF(D599<>\"\",Data!A600,\"\")","v":""},{"$f":"IF(D599<>\"\",Data!B600,\"\")","v":""},"",{"$f":"IF(AND(Data!H600<>\"\",Data!H600 > 0),Data!H600,\"\")","v":""}]
[{"$f":"IF(D600<>\"\",Data!A601,\"\")","v":""},{"$f":"IF(D600<>\"\",Data!B601,\"\")","v":""},"",{"$f":"IF(AND(Data!H601<>\"\",Data!H601 > 0),Data!H601,\"\")","v":""}]
[{"$f":"IF(D601<>\"\",Data!A602,\"\")","v":""},{"$f":"IF(D601<>\"\",Data!B602,\"\")","v":""},"",{"$f":"IF(AND(Data!H602<>\"\",Data!H602 > 0),Data!H602,\"\")","v":""}]
[{"$f":"IF(D602<>\"\",Data!A603,\"\")","v":""},{"$f":"IF(D602<>\"\",Data!B603,\"\")","v":""},"",{"$f":"IF(AND(Data!H603<>\"\",Data!H603 > 0),Data!H603,\"\")","v":""}]
[{"$f":"IF(D603<>\"\",Data!A604,\"\")","v":""},{"$f":"IF(D603<>\"\",Data!B604,\"\")","v":""},"",{"$f":"IF(AND(Data!H604<>\"\",Data!H604 > 0),Data!H604,\"\")","v":""}]
[{"$f":"IF(D604<>\"\",Data!A605,\"\")","v":""},{"$f":"IF(D604<>\"\",Data!B605,\"\")","v":""},"",{"$f":"IF(AND(Data!H605<>\"\",Data!H605 > 0),Data!H605,\"\")","v":""}]
[{"$f":"IF(D605<>\"\",Data!A606,\"\")","v":""},{"$f":"IF(D605<>\"\",Data!B606,\"\")","v":""},"",{"$f":"IF(AND(Data!H606<>\"\",Data!H606 > 0),Data!H606,\"\")","v":""}]
[{"$f":"IF(D606<>\"\",Data!A607,\"\")","v":""},{"$f":"IF(D606<>\"\",Data!B607,\"\")","v":""},"",{"$f":"IF(AND(Data!H607<>\"\",Data!H607 > 0),Data!H607,\"\")","v":""}]
[{"$f":"IF(D607<>\"\",Data!A608,\"\")","v":""},{"$f":"IF(D607<>\"\",Data!B608,\"\")","v":""},"",{"$f":"IF(AND(Data!H608<>\"\",Data!H608 > 0),Data!H608,\"\")","v":""}]
[{"$f":"IF(D608<>\"\",Data!A609,\"\")","v":""},{"$f":"IF(D608<>\"\",Data!B609,\"\")","v":""},"",{"$f":"IF(AND(Data!H609<>\"\",Data!H609 > 0),Data!H609,\"\")","v":""}]
[{"$f":"IF(D609<>\"\",Data!A610,\"\")","v":""},{"$f":"IF(D609<>\"\",Data!B610,\"\")","v":""},"",{"$f":"IF(AND(Data!H610<>\"\",Data!H610 > 0),Data!H610,\"\")","v":""}]
[{"$f":"IF(D610<>\"\",Data!A611,\"\")","v":""},{"$f":"IF(D610<>\"\",Data!B611,\"\")","v":""},"",{"$f":"IF(AND(Data!H611<>\"\",Data!H611 > 0),Data!H611,\"\")","v":""}]
[{"$f":"IF(D611<>\"\",Data!A612,\"\")","v":""},{"$f":"IF(D611<>\"\",Data!B612,\"\")","v":""},"",{"$f":"IF(AND(Data!H612<>\"\",Data!H612 > 0),Data!H612,\"\")","v":""}]
[{"$f":"IF(D612<>\"\",Data!A613,\"\")","v":""},{"$f":"IF(D612<>\"\",Data!B613,\"\")","v":""},"",{"$f":"IF(AND(Data!H613<>\"\",Data!H613 > 0),Data!H613,\"\")","v":""}]
[{"$f":"IF(D613<>\"\",Data!A614,\"\")","v":""},{"$f":"IF(D613<>\"\",Data!B614,\"\")","v":""},"",{"$f":"IF(AND(Data!H614<>\"\",Data!H614 > 0),Data!H614,\"\")","v":""}]
[{"$f":"IF(D614<>\"\",Data!A615,\"\")","v":""},{"$f":"IF(D614<>\"\",Data!B615,\"\")","v":""},"",{"$f":"IF(AND(Data!H615<>\"\",Data!H615 > 0),Data!H615,\"\")","v":""}]
[{"$f":"IF(D615<>\"\",Data!A616,\"\")","v":""},{"$f":"IF(D615<>\"\",Data!B616,\"\")","v":""},"",{"$f":"IF(AND(Data!H616<>\"\",Data!H616 > 0),Data!H616,\"\")","v":""}]
[{"$f":"IF(D616<>\"\",Data!A617,\"\")","v":""},{"$f":"IF(D616<>\"\",Data!B617,\"\")","v":""},"",{"$f":"IF(AND(Data!H617<>\"\",Data!H617 > 0),Data!H617,\"\")","v":""}]
[{"$f":"IF(D617<>\"\",Data!A618,\"\")","v":""},{"$f":"IF(D617<>\"\",Data!B618,\"\")","v":""},"",{"$f":"IF(AND(Data!H618<>\"\",Data!H618 > 0),Data!H618,\"\")","v":""}]
[{"$f":"IF(D618<>\"\",Data!A619,\"\")","v":""},{"$f":"IF(D618<>\"\",Data!B619,\"\")","v":""},"",{"$f":"IF(AND(Data!H619<>\"\",Data!H619 > 0),Data!H619,\"\")","v":""}]
[{"$f":"IF(D619<>\"\",Data!A620,\"\")","v":""},{"$f":"IF(D619<>\"\",Data!B620,\"\")","v":""},"",{"$f":"IF(AND(Data!H620<>\"\",Data!H620 > 0),Data!H620,\"\")","v":""}]
[{"$f":"IF(D620<>\"\",Data!A621,\"\")","v":""},{"$f":"IF(D620<>\"\",Data!B621,\"\")","v":""},"",{"$f":"IF(AND(Data!H621<>\"\",Data!H621 > 0),Data!H621,\"\")","v":""}]
[{"$f":"IF(D621<>\"\",Data!A622,\"\")","v":""},{"$f":"IF(D621<>\"\",Data!B622,\"\")","v":""},"",{"$f":"IF(AND(Data!H622<>\"\",Data!H622 > 0),Data!H622,\"\")","v":""}]
[{"$f":"IF(D622<>\"\",Data!A623,\"\")","v":""},{"$f":"IF(D622<>\"\",Data!B623,\"\")","v":""},"",{"$f":"IF(AND(Data!H623<>\"\",Data!H623 > 0),Data!H623,\"\")","v":""}]
[{"$f":"IF(D623<>\"\",Data!A624,\"\")","v":""},{"$f":"IF(D623<>\"\",Data!B624,\"\")","v":""},"",{"$f":"IF(AND(Data!H624<>\"\",Data!H624 > 0),Data!H624,\"\")","v":""}]
[{"$f":"IF(D624<>\"\",Data!A625,\"\")","v":""},{"$f":"IF(D624<>\"\",Data!B625,\"\")","v":""},"",{"$f":"IF(AND(Data!H625<>\"\",Data!H625 > 0),Data!H625,\"\")","v":""}]
[{"$f":"IF(D625<>\"\",Data!A626,\"\")","v":""},{"$f":"IF(D625<>\"\",Data!B626,\"\")","v":""},"",{"$f":"IF(AND(Data!H626<>\"\",Data!H626 > 0),Data!H626,\"\")","v":""}]
[{"$f":"IF(D626<>\"\",Data!A627,\"\")","v":""},{"$f":"IF(D626<>\"\",Data!B627,\"\")","v":""},"",{"$f":"IF(AND(Data!H627<>\"\",Data!H627 > 0),Data!H627,\"\")","v":""}]
[{"$f":"IF(D627<>\"\",Data!A628,\"\")","v":""},{"$f":"IF(D627<>\"\",Data!B628,\"\")","v":""},"",{"$f":"IF(AND(Data!H628<>\"\",Data!H628 > 0),Data!H628,\"\")","v":""}]
[{"$f":"IF(D628<>\"\",Data!A629,\"\")","v":""},{"$f":"IF(D628<>\"\",Data!B629,\"\")","v":""},"",{"$f":"IF(AND(Data!H629<>\"\",Data!H629 > 0),Data!H629,\"\")","v":""}]
[{"$f":"IF(D629<>\"\",Data!A630,\"\")","v":""},{"$f":"IF(D629<>\"\",Data!B630,\"\")","v":""},"",{"$f":"IF(AND(Data!H630<>\"\",Data!H630 > 0),Data!H630,\"\")","v":""}]
[{"$f":"IF(D630<>\"\",Data!A631,\"\")","v":""},{"$f":"IF(D630<>\"\",Data!B631,\"\")","v":""},"",{"$f":"IF(AND(Data!H631<>\"\",Data!H631 > 0),Data!H631,\"\")","v":""}]
[{"$f":"IF(D631<>\"\",Data!A632,\"\")","v":""},{"$f":"IF(D631<>\"\",Data!B632,\"\")","v":""},"",{"$f":"IF(AND(Data!H632<>\"\",Data!H632 > 0),Data!H632,\"\")","v":""}]
[{"$f":"IF(D632<>\"\",Data!A633,\"\")","v":""},{"$f":"IF(D632<>\"\",Data!B633,\"\")","v":""},"",{"$f":"IF(AND(Data!H633<>\"\",Data!H633 > 0),Data!H633,\"\")","v":""}]
[{"$f":"IF(D633<>\"\",Data!A634,\"\")","v":""},{"$f":"IF(D633<>\"\",Data!B634,\"\")","v":""},"",{"$f":"IF(AND(Data!H634<>\"\",Data!H634 > 0),Data!H634,\"\")","v":""}]
[{"$f":"IF(D634<>\"\",Data!A635,\"\")","v":""},{"$f":"IF(D634<>\"\",Data!B635,\"\")","v":""},"",{"$f":"IF(AND(Data!H635<>\"\",Data!H635 > 0),Data!H635,\"\")","v":""}]
[{"$f":"IF(D635<>\"\",Data!A636,\"\")","v":""},{"$f":"IF(D635<>\"\",Data!B636,\"\")","v":""},"",{"$f":"IF(AND(Data!H636<>\"\",Data!H636 > 0),Data!H636,\"\")","v":""}]
[{"$f":"IF(D636<>\"\",Data!A637,\"\")","v":""},{"$f":"IF(D636<>\"\",Data!B637,\"\")","v":""},"",{"$f":"IF(AND(Data!H637<>\"\",Data!H637 > 0),Data!H637,\"\")","v":""}]
[{"$f":"IF(D637<>\"\",Data!A638,\"\")","v":""},{"$f":"IF(D637<>\"\",Data!B638,\"\")","v":""},"",{"$f":"IF(AND(Data!H638<>\"\",Data!H638 > 0),Data!H638,\"\")","v":""}]
[{"$f":"IF(D638<>\"\",Data!A639,\"\")","v":""},{"$f":"IF(D638<>\"\",Data!B639,\"\")","v":""},"",{"$f":"IF(AND(Data!H639<>\"\",Data!H639 > 0),Data!H639,\"\")","v":""}]
[{"$f":"IF(D639<>\"\",Data!A640,\"\")","v":""},{"$f":"IF(D639<>\"\",Data!B640,\"\")","v":""},"",{"$f":"IF(AND(Data!H640<>\"\",Data!H640 > 0),Data!H640,\"\")","v":""}]
[{"$f":"IF(D640<>\"\",Data!A641,\"\")","v":""},{"$f":"IF(D640<>\"\",Data!B641,\"\")","v":""},"",{"$f":"IF(AND(Data!H641<>\"\",Data!H641 > 0),Data!H641,\"\")","v":""}]
[{"$f":"IF(D641<>\"\",Data!A642,\"\")","v":""},{"$f":"IF(D641<>\"\",Data!B642,\"\")","v":""},"",{"$f":"IF(AND(Data!H642<>\"\",Data!H642 > 0),Data!H642,\"\")","v":""}]
[{"$f":"IF(D642<>\"\",Data!A643,\"\")","v":""},{"$f":"IF(D642<>\"\",Data!B643,\"\")","v":""},{"$f":"IF(D642<>\"\",MID(CELL(\"filename\",B642),FIND(\"]\",CELL(\"filename\",B642))+1,32),\"\")","v":""},{"$f":"IF(AND(Data!H643<>\"\",Data!H643 > 0),Data!H643,\"\")","v":""}]
[{"$f":"IF(D643<>\"\",Data!A644,\"\")","v":""},{"$f":"IF(D643<>\"\",Data!B644,\"\")","v":""},"",{"$f":"IF(AND(Data!H644<>\"\",Data!H644 > 0),Data!H644,\"\")","v":""}]
[{"$f":"IF(D644<>\"\",Data!A645,\"\")","v":""},{"$f":"IF(D644<>\"\",Data!B645,\"\")","v":""},"",{"$f":"IF(AND(Data!H645<>\"\",Data!H645 > 0),Data!H645,\"\")","v":""}]
[{"$f":"IF(D645<>\"\",Data!A646,\"\")","v":""},{"$f":"IF(D645<>\"\",Data!B646,\"\")","v":""},"",{"$f":"IF(AND(Data!H646<>\"\",Data!H646 > 0),Data!H646,\"\")","v":""}]
[{"$f":"IF(D646<>\"\",Data!A647,\"\")","v":""},{"$f":"IF(D646<>\"\",Data!B647,\"\")","v":""},"",{"$f":"IF(AND(Data!H647<>\"\",Data!H647 > 0),Data!H647,\"\")","v":""}]
[{"$f":"IF(D647<>\"\",Data!A648,\"\")","v":""},{"$f":"IF(D647<>\"\",Data!B648,\"\")","v":""},"",{"$f":"IF(AND(Data!H648<>\"\",Data!H648 > 0),Data!H648,\"\")","v":""}]
[{"$f":"IF(D648<>\"\",Data!A649,\"\")","v":""},{"$f":"IF(D648<>\"\",Data!B649,\"\")","v":""},"",{"$f":"IF(AND(Data!H649<>\"\",Data!H649 > 0),Data!H649,\"\")","v":""}]
[{"$f":"IF(D649<>\"\",Data!A650,\"\")","v":""},{"$f":"IF(D649<>\"\",Data!B650,\"\")","v":""},"",{"$f":"IF(AND(Data!H650<>\"\",Data!H650 > 0),Data!H650,\"\")","v":""}]
[{"$f":"IF(D650<>\"\",Data!A651,\"\")","v":""},{"$f":"IF(D650<>\"\",Data!B651,\"\")","v":""},"",{"$f":"IF(AND(Data!H651<>\"\",Data!H651 > 0),Data!H651,\"\")","v":""}]
[{"$f":"IF(D651<>\"\",Data!A652,\"\")","v":""},{"$f":"IF(D651<>\"\",Data!B652,\"\")","v":""},"",{"$f":"IF(AND(Data!H652<>\"\",Data!H652 > 0),Data!H652,\"\")","v":""}]
[{"$f":"IF(D652<>\"\",Data!A653,\"\")","v":""},{"$f":"IF(D652<>\"\",Data!B653,\"\")","v":""},"",{"$f":"IF(AND(Data!H653<>\"\",Data!H653 > 0),Data!H653,\"\")","v":""}]
[{"$f":"IF(D653<>\"\",Data!A654,\"\")","v":""},{"$f":"IF(D653<>\"\",Data!B654,\"\")","v":""},"",{"$f":"IF(AND(Data!H654<>\"\",Data!H654 > 0),Data!H654,\"\")","v":""}]
[{"$f":"IF(D654<>\"\",Data!A655,\"\")","v":""},{"$f":"IF(D654<>\"\",Data!B655,\"\")","v":""},"",{"$f":"IF(AND(Data!H655<>\"\",Data!H655 > 0),Data!H655,\"\")","v":""}]
[{"$f":"IF(D655<>\"\",Data!A656,\"\")","v":""},{"$f":"IF(D655<>\"\",Data!B656,\"\")","v":""},"",{"$f":"IF(AND(Data!H656<>\"\",Data!H656 > 0),Data!H656,\"\")","v":""}]
[{"$f":"IF(D656<>\"\",Data!A657,\"\")","v":""},{"$f":"IF(D656<>\"\",Data!B657,\"\")","v":""},"",{"$f":"IF(AND(Data!H657<>\"\",Data!H657 > 0),Data!H657,\"\")","v":""}]
[{"$f":"IF(D657<>\"\",Data!A658,\"\")","v":""},{"$f":"IF(D657<>\"\",Data!B658,\"\")","v":""},"",{"$f":"IF(AND(Data!H658<>\"\",Data!H658 > 0),Data!H658,\"\")","v":""}]
[{"$f":"IF(D658<>\"\",Data!A659,\"\")","v":""},{"$f":"IF(D658<>\"\",Data!B659,\"\")","v":""},"",{"$f":"IF(AND(Data!H659<>\"\",Data!H659 > 0),Data!H659,\"\")","v":""}]
[{"$f":"IF(D659<>\"\",Data!A660,\"\")","v":""},{"$f":"IF(D659<>\"\",Data!B660,\"\")","v":""},"",{"$f":"IF(AND(Data!H660<>\"\",Data!H660 > 0),Data!H660,\"\")","v":""}]
[{"$f":"IF(D660<>\"\",Data!A661,\"\")","v":""},{"$f":"IF(D660<>\"\",Data!B661,\"\")","v":""},"",{"$f":"IF(AND(Data!H661<>\"\",Data!H661 > 0),Data!H661,\"\")","v":""}]
[{"$f":"IF(D661<>\"\",Data!A662,\"\")","v":""},{"$f":"IF(D661<>\"\",Data!B662,\"\")","v":""},"",{"$f":"IF(AND(Data!H662<>\"\",Data!H662 > 0),Data!H662,\"\")","v":""}]
[{"$f":"IF(D662<>\"\",Data!A663,\"\")","v":""},{"$f":"IF(D662<>\"\",Data!B663,\"\")","v":""},"",{"$f":"IF(AND(Data!H663<>\"\",Data!H663 > 0),Data!H663,\"\")","v":""}]
[{"$f":"IF(D663<>\"\",Data!A664,\"\")","v":""},{"$f":"IF(D663<>\"\",Data!B664,\"\")","v":""},"",{"$f":"IF(AND(Data!H664<>\"\",Data!H664 > 0),Data!H664,\"\")","v":""}]
[{"$f":"IF(D664<>\"\",Data!A665,\"\")","v":""},{"$f":"IF(D664<>\"\",Data!B665,\"\")","v":""},"",{"$f":"IF(AND(Data!H665<>\"\",Data!H665 > 0),Data!H665,\"\")","v":""}]
[{"$f":"IF(D665<>\"\",Data!A666,\"\")","v":""},{"$f":"IF(D665<>\"\",Data!B666,\"\")","v":""},"",{"$f":"IF(AND(Data!H666<>\"\",Data!H666 > 0),Data!H666,\"\")","v":""}]
[{"$f":"IF(D666<>\"\",Data!A667,\"\")","v":""},{"$f":"IF(D666<>\"\",Data!B667,\"\")","v":""},"",{"$f":"IF(AND(Data!H667<>\"\",Data!H667 > 0),Data!H667,\"\")","v":""}]
[{"$f":"IF(D667<>\"\",Data!A668,\"\")","v":""},{"$f":"IF(D667<>\"\",Data!B668,\"\")","v":""},"",{"$f":"IF(AND(Data!H668<>\"\",Data!H668 > 0),Data!H668,\"\")","v":""}]
[{"$f":"IF(D668<>\"\",Data!A669,\"\")","v":""},{"$f":"IF(D668<>\"\",Data!B669,\"\")","v":""},"",{"$f":"IF(AND(Data!H669<>\"\",Data!H669 > 0),Data!H669,\"\")","v":""}]
[{"$f":"IF(D669<>\"\",Data!A670,\"\")","v":""},{"$f":"IF(D669<>\"\",Data!B670,\"\")","v":""},"",{"$f":"IF(AND(Data!H670<>\"\",Data!H670 > 0),Data!H670,\"\")","v":""}]
[{"$f":"IF(D670<>\"\",Data!A671,\"\")","v":""},{"$f":"IF(D670<>\"\",Data!B671,\"\")","v":""},"",{"$f":"IF(AND(Data!H671<>\"\",Data!H671 > 0),Data!H671,\"\")","v":""}]
[{"$f":"IF(D671<>\"\",Data!A672,\"\")","v":""},{"$f":"IF(D671<>\"\",Data!B672,\"\")","v":""},"",{"$f":"IF(AND(Data!H672<>\"\",Data!H672 > 0),Data!H672,\"\")","v":""}]
[{"$f":"IF(D672<>\"\",Data!A673,\"\")","v":""},{"$f":"IF(D672<>\"\",Data!B673,\"\")","v":""},"",{"$f":"IF(AND(Data!H673<>\"\",Data!H673 > 0),Data!H673,\"\")","v":""}]
[{"$f":"IF(D673<>\"\",Data!A674,\"\")","v":""},{"$f":"IF(D673<>\"\",Data!B674,\"\")","v":""},"",{"$f":"IF(AND(Data!H674<>\"\",Data!H674 > 0),Data!H674,\"\")","v":""}]
[{"$f":"IF(D674<>\"\",Data!A675,\"\")","v":""},{"$f":"IF(D674<>\"\",Data!B675,\"\")","v":""},"",{"$f":"IF(AND(Data!H675<>\"\",Data!H675 > 0),Data!H675,\"\")","v":""}]
[{"$f":"IF(D675<>\"\",Data!A676,\"\")","v":""},{"$f":"IF(D675<>\"\",Data!B676,\"\")","v":""},"",{"$f":"IF(AND(Data!H676<>\"\",Data!H676 > 0),Data!H676,\"\")","v":""}]
[{"$f":"IF(D676<>\"\",Data!A677,\"\")","v":""},{"$f":"IF(D676<>\"\",Data!B677,\"\")","v":""},"",{"$f":"IF(AND(Data!H677<>\"\",Data!H677 > 0),Data!H677,\"\")","v":""}]
[{"$f":"IF(D677<>\"\",Data!A678,\"\")","v":""},{"$f":"IF(D677<>\"\",Data!B678,\"\")","v":""},"",{"$f":"IF(AND(Data!H678<>\"\",Data!H678 > 0),Data!H678,\"\")","v":""}]
[{"$f":"IF(D678<>\"\",Data!A679,\"\")","v":""},{"$f":"IF(D678<>\"\",Data!B679,\"\")","v":""},"",{"$f":"IF(AND(Data!H679<>\"\",Data!H679 > 0),Data!H679,\"\")","v":""}]
[{"$f":"IF(D679<>\"\",Data!A680,\"\")","v":""},{"$f":"IF(D679<>\"\",Data!B680,\"\")","v":""},"",{"$f":"IF(AND(Data!H680<>\"\",Data!H680 > 0),Data!H680,\"\")","v":""}]
[{"$f":"IF(D680<>\"\",Data!A681,\"\")","v":""},{"$f":"IF(D680<>\"\",Data!B681,\"\")","v":""},"",{"$f":"IF(AND(Data!H681<>\"\",Data!H681 > 0),Data!H681,\"\")","v":""}]
[{"$f":"IF(D681<>\"\",Data!A682,\"\")","v":""},{"$f":"IF(D681<>\"\",Data!B682,\"\")","v":""},"",{"$f":"IF(AND(Data!H682<>\"\",Data!H682 > 0),Data!H682,\"\")","v":""}]
[{"$f":"IF(D682<>\"\",Data!A683,\"\")","v":""},{"$f":"IF(D682<>\"\",Data!B683,\"\")","v":""},"",{"$f":"IF(AND(Data!H683<>\"\",Data!H683 > 0),Data!H683,\"\")","v":""}]
[{"$f":"IF(D683<>\"\",Data!A684,\"\")","v":""},{"$f":"IF(D683<>\"\",Data!B684,\"\")","v":""},"",{"$f":"IF(AND(Data!H684<>\"\",Data!H684 > 0),Data!H684,\"\")","v":""}]
[{"$f":"IF(D684<>\"\",Data!A685,\"\")","v":""},{"$f":"IF(D684<>\"\",Data!B685,\"\")","v":""},"",{"$f":"IF(AND(Data!H685<>\"\",Data!H685 > 0),Data!H685,\"\")","v":""}]
[{"$f":"IF(D685<>\"\",Data!A686,\"\")","v":""},{"$f":"IF(D685<>\"\",Data!B686,\"\")","v":""},"",{"$f":"IF(AND(Data!H686<>\"\",Data!H686 > 0),Data!H686,\"\")","v":""}]
[{"$f":"IF(D686<>\"\",Data!A687,\"\")","v":""},{"$f":"IF(D686<>\"\",Data!B687,\"\")","v":""},"",{"$f":"IF(AND(Data!H687<>\"\",Data!H687 > 0),Data!H687,\"\")","v":""}]
[{"$f":"IF(D687<>\"\",Data!A688,\"\")","v":""},{"$f":"IF(D687<>\"\",Data!B688,\"\")","v":""},"",{"$f":"IF(AND(Data!H688<>\"\",Data!H688 > 0),Data!H688,\"\")","v":""}]
[{"$f":"IF(D688<>\"\",Data!A689,\"\")","v":""},{"$f":"IF(D688<>\"\",Data!B689,\"\")","v":""},"",{"$f":"IF(AND(Data!H689<>\"\",Data!H689 > 0),Data!H689,\"\")","v":""}]
[{"$f":"IF(D689<>\"\",Data!A690,\"\")","v":""},{"$f":"IF(D689<>\"\",Data!B690,\"\")","v":""},"",{"$f":"IF(AND(Data!H690<>\"\",Data!H690 > 0),Data!H690,\"\")","v":""}]
[{"$f":"IF(D690<>\"\",Data!A691,\"\")","v":""},{"$f":"IF(D690<>\"\",Data!B691,\"\")","v":""},"",{"$f":"IF(AND(Data!H691<>\"\",Data!H691 > 0),Data!H691,\"\")","v":""}]
[{"$f":"IF(D691<>\"\",Data!A692,\"\")","v":""},{"$f":"IF(D691<>\"\",Data!B692,\"\")","v":""},"",{"$f":"IF(AND(Data!H692<>\"\",Data!H692 > 0),Data!H692,\"\")","v":""}]
[{"$f":"IF(D692<>\"\",Data!A693,\"\")","v":""},{"$f":"IF(D692<>\"\",Data!B693,\"\")","v":""},"",{"$f":"IF(AND(Data!H693<>\"\",Data!H693 > 0),Data!H693,\"\")","v":""}]
[{"$f":"IF(D693<>\"\",Data!A694,\"\")","v":""},{"$f":"IF(D693<>\"\",Data!B694,\"\")","v":""},"",{"$f":"IF(AND(Data!H694<>\"\",Data!H694 > 0),Data!H694,\"\")","v":""}]
[{"$f":"IF(D694<>\"\",Data!A695,\"\")","v":""},{"$f":"IF(D694<>\"\",Data!B695,\"\")","v":""},"",{"$f":"IF(AND(Data!H695<>\"\",Data!H695 > 0),Data!H695,\"\")","v":""}]
[{"$f":"IF(D695<>\"\",Data!A696,\"\")","v":""},{"$f":"IF(D695<>\"\",Data!B696,\"\")","v":""},"",{"$f":"IF(AND(Data!H696<>\"\",Data!H696 > 0),Data!H696,\"\")","v":""}]
[{"$f":"IF(D696<>\"\",Data!A697,\"\")","v":""},{"$f":"IF(D696<>\"\",Data!B697,\"\")","v":""},"",{"$f":"IF(AND(Data!H697<>\"\",Data!H697 > 0),Data!H697,\"\")","v":""}]
[{"$f":"IF(D697<>\"\",Data!A698,\"\")","v":""},{"$f":"IF(D697<>\"\",Data!B698,\"\")","v":""},"",{"$f":"IF(AND(Data!H698<>\"\",Data!H698 > 0),Data!H698,\"\")","v":""}]
[{"$f":"IF(D698<>\"\",Data!A699,\"\")","v":""},{"$f":"IF(D698<>\"\",Data!B699,\"\")","v":""},"",{"$f":"IF(AND(Data!H699<>\"\",Data!H699 > 0),Data!H699,\"\")","v":""}]
[{"$f":"IF(D699<>\"\",Data!A700,\"\")","v":""},{"$f":"IF(D699<>\"\",Data!B700,\"\")","v":""},"",{"$f":"IF(AND(Data!H700<>\"\",Data!H700 > 0),Data!H700,\"\")","v":""}]
[{"$f":"IF(D700<>\"\",Data!A701,\"\")","v":""},{"$f":"IF(D700<>\"\",Data!B701,\"\")","v":""},"",{"$f":"IF(AND(Data!H701<>\"\",Data!H701 > 0),Data!H701,\"\")","v":""}]
[{"$f":"IF(D701<>\"\",Data!A702,\"\")","v":""},{"$f":"IF(D701<>\"\",Data!B702,\"\")","v":""},"",{"$f":"IF(AND(Data!H702<>\"\",Data!H702 > 0),Data!H702,\"\")","v":""}]
[{"$f":"IF(D702<>\"\",Data!A703,\"\")","v":""},{"$f":"IF(D702<>\"\",Data!B703,\"\")","v":""},"",{"$f":"IF(AND(Data!H703<>\"\",Data!H703 > 0),Data!H703,\"\")","v":""}]
[{"$f":"IF(D703<>\"\",Data!A704,\"\")","v":""},{"$f":"IF(D703<>\"\",Data!B704,\"\")","v":""},"",{"$f":"IF(AND(Data!H704<>\"\",Data!H704 > 0),Data!H704,\"\")","v":""}]
[{"$f":"IF(D704<>\"\",Data!A705,\"\")","v":""},{"$f":"IF(D704<>\"\",Data!B705,\"\")","v":""},"",{"$f":"IF(AND(Data!H705<>\"\",Data!H705 > 0),Data!H705,\"\")","v":""}]
[{"$f":"IF(D705<>\"\",Data!A706,\"\")","v":""},{"$f":"IF(D705<>\"\",Data!B706,\"\")","v":""},"",{"$f":"IF(AND(Data!H706<>\"\",Data!H706 > 0),Data!H706,\"\")","v":""}]
[{"$f":"IF(D706<>\"\",Data!A707,\"\")","v":""},{"$f":"IF(D706<>\"\",Data!B707,\"\")","v":""},{"$f":"IF(D706<>\"\",MID(CELL(\"filename\",B706),FIND(\"]\",CELL(\"filename\",B706))+1,32),\"\")","v":""},{"$f":"IF(AND(Data!H707<>\"\",Data!H707 > 0),Data!H707,\"\")","v":""}]
[{"$f":"IF(D707<>\"\",Data!A708,\"\")","v":""},{"$f":"IF(D707<>\"\",Data!B708,\"\")","v":""},"",{"$f":"IF(AND(Data!H708<>\"\",Data!H708 > 0),Data!H708,\"\")","v":""}]
[{"$f":"IF(D708<>\"\",Data!A709,\"\")","v":""},{"$f":"IF(D708<>\"\",Data!B709,\"\")","v":""},"",{"$f":"IF(AND(Data!H709<>\"\",Data!H709 > 0),Data!H709,\"\")","v":""}]
[{"$f":"IF(D709<>\"\",Data!A710,\"\")","v":""},{"$f":"IF(D709<>\"\",Data!B710,\"\")","v":""},"",{"$f":"IF(AND(Data!H710<>\"\",Data!H710 > 0),Data!H710,\"\")","v":""}]
[{"$f":"IF(D710<>\"\",Data!A711,\"\")","v":""},{"$f":"IF(D710<>\"\",Data!B711,\"\")","v":""},"",{"$f":"IF(AND(Data!H711<>\"\",Data!H711 > 0),Data!H711,\"\")","v":""}]
[{"$f":"IF(D711<>\"\",Data!A712,\"\")","v":""},{"$f":"IF(D711<>\"\",Data!B712,\"\")","v":""},"",{"$f":"IF(AND(Data!H712<>\"\",Data!H712 > 0),Data!H712,\"\")","v":""}]
[{"$f":"IF(D712<>\"\",Data!A713,\"\")","v":""},{"$f":"IF(D712<>\"\",Data!B713,\"\")","v":""},"",{"$f":"IF(AND(Data!H713<>\"\",Data!H713 > 0),Data!H713,\"\")","v":""}]
[{"$f":"IF(D713<>\"\",Data!A714,\"\")","v":""},{"$f":"IF(D713<>\"\",Data!B714,\"\")","v":""},"",{"$f":"IF(AND(Data!H714<>\"\",Data!H714 > 0),Data!H714,\"\")","v":""}]
[{"$f":"IF(D714<>\"\",Data!A715,\"\")","v":""},{"$f":"IF(D714<>\"\",Data!B715,\"\")","v":""},"",{"$f":"IF(AND(Data!H715<>\"\",Data!H715 > 0),Data!H715,\"\")","v":""}]
[{"$f":"IF(D715<>\"\",Data!A716,\"\")","v":""},{"$f":"IF(D715<>\"\",Data!B716,\"\")","v":""},"",{"$f":"IF(AND(Data!H716<>\"\",Data!H716 > 0),Data!H716,\"\")","v":""}]
[{"$f":"IF(D716<>\"\",Data!A717,\"\")","v":""},{"$f":"IF(D716<>\"\",Data!B717,\"\")","v":""},"",{"$f":"IF(AND(Data!H717<>\"\",Data!H717 > 0),Data!H717,\"\")","v":""}]
[{"$f":"IF(D717<>\"\",Data!A718,\"\")","v":""},{"$f":"IF(D717<>\"\",Data!B718,\"\")","v":""},"",{"$f":"IF(AND(Data!H718<>\"\",Data!H718 > 0),Data!H718,\"\")","v":""}]
[{"$f":"IF(D718<>\"\",Data!A719,\"\")","v":""},{"$f":"IF(D718<>\"\",Data!B719,\"\")","v":""},"",{"$f":"IF(AND(Data!H719<>\"\",Data!H719 > 0),Data!H719,\"\")","v":""}]
[{"$f":"IF(D719<>\"\",Data!A720,\"\")","v":""},{"$f":"IF(D719<>\"\",Data!B720,\"\")","v":""},"",{"$f":"IF(AND(Data!H720<>\"\",Data!H720 > 0),Data!H720,\"\")","v":""}]
[{"$f":"IF(D720<>\"\",Data!A721,\"\")","v":""},{"$f":"IF(D720<>\"\",Data!B721,\"\")","v":""},"",{"$f":"IF(AND(Data!H721<>\"\",Data!H721 > 0),Data!H721,\"\")","v":""}]
[{"$f":"IF(D721<>\"\",Data!A722,\"\")","v":""},{"$f":"IF(D721<>\"\",Data!B722,\"\")","v":""},"",{"$f":"IF(AND(Data!H722<>\"\",Data!H722 > 0),Data!H722,\"\")","v":""}]
[{"$f":"IF(D722<>\"\",Data!A723,\"\")","v":""},{"$f":"IF(D722<>\"\",Data!B723,\"\")","v":""},"",{"$f":"IF(AND(Data!H723<>\"\",Data!H723 > 0),Data!H723,\"\")","v":""}]
[{"$f":"IF(D723<>\"\",Data!A724,\"\")","v":""},{"$f":"IF(D723<>\"\",Data!B724,\"\")","v":""},"",{"$f":"IF(AND(Data!H724<>\"\",Data!H724 > 0),Data!H724,\"\")","v":""}]
[{"$f":"IF(D724<>\"\",Data!A725,\"\")","v":""},{"$f":"IF(D724<>\"\",Data!B725,\"\")","v":""},"",{"$f":"IF(AND(Data!H725<>\"\",Data!H725 > 0),Data!H725,\"\")","v":""}]
[{"$f":"IF(D725<>\"\",Data!A726,\"\")","v":""},{"$f":"IF(D725<>\"\",Data!B726,\"\")","v":""},"",{"$f":"IF(AND(Data!H726<>\"\",Data!H726 > 0),Data!H726,\"\")","v":""}]
[{"$f":"IF(D726<>\"\",Data!A727,\"\")","v":""},{"$f":"IF(D726<>\"\",Data!B727,\"\")","v":""},"",{"$f":"IF(AND(Data!H727<>\"\",Data!H727 > 0),Data!H727,\"\")","v":""}]
[{"$f":"IF(D727<>\"\",Data!A728,\"\")","v":""},{"$f":"IF(D727<>\"\",Data!B728,\"\")","v":""},"",{"$f":"IF(AND(Data!H728<>\"\",Data!H728 > 0),Data!H728,\"\")","v":""}]
[{"$f":"IF(D728<>\"\",Data!A729,\"\")","v":""},{"$f":"IF(D728<>\"\",Data!B729,\"\")","v":""},"",{"$f":"IF(AND(Data!H729<>\"\",Data!H729 > 0),Data!H729,\"\")","v":""}]
[{"$f":"IF(D729<>\"\",Data!A730,\"\")","v":""},{"$f":"IF(D729<>\"\",Data!B730,\"\")","v":""},"",{"$f":"IF(AND(Data!H730<>\"\",Data!H730 > 0),Data!H730,\"\")","v":""}]
[{"$f":"IF(D730<>\"\",Data!A731,\"\")","v":""},{"$f":"IF(D730<>\"\",Data!B731,\"\")","v":""},"",{"$f":"IF(AND(Data!H731<>\"\",Data!H731 > 0),Data!H731,\"\")","v":""}]
[{"$f":"IF(D731<>\"\",Data!A732,\"\")","v":""},{"$f":"IF(D731<>\"\",Data!B732,\"\")","v":""},"",{"$f":"IF(AND(Data!H732<>\"\",Data!H732 > 0),Data!H732,\"\")","v":""}]
[{"$f":"IF(D732<>\"\",Data!A733,\"\")","v":""},{"$f":"IF(D732<>\"\",Data!B733,\"\")","v":""},"",{"$f":"IF(AND(Data!H733<>\"\",Data!H733 > 0),Data!H733,\"\")","v":""}]
[{"$f":"IF(D733<>\"\",Data!A734,\"\")","v":""},{"$f":"IF(D733<>\"\",Data!B734,\"\")","v":""},"",{"$f":"IF(AND(Data!H734<>\"\",Data!H734 > 0),Data!H734,\"\")","v":""}]
[{"$f":"IF(D734<>\"\",Data!A735,\"\")","v":""},{"$f":"IF(D734<>\"\",Data!B735,\"\")","v":""},"",{"$f":"IF(AND(Data!H735<>\"\",Data!H735 > 0),Data!H735,\"\")","v":""}]
[{"$f":"IF(D735<>\"\",Data!A736,\"\")","v":""},{"$f":"IF(D735<>\"\",Data!B736,\"\")","v":""},"",{"$f":"IF(AND(Data!H736<>\"\",Data!H736 > 0),Data!H736,\"\")","v":""}]
[{"$f":"IF(D736<>\"\",Data!A737,\"\")","v":""},{"$f":"IF(D736<>\"\",Data!B737,\"\")","v":""},"",{"$f":"IF(AND(Data!H737<>\"\",Data!H737 > 0),Data!H737,\"\")","v":""}]
[{"$f":"IF(D737<>\"\",Data!A738,\"\")","v":""},{"$f":"IF(D737<>\"\",Data!B738,\"\")","v":""},"",{"$f":"IF(AND(Data!H738<>\"\",Data!H738 > 0),Data!H738,\"\")","v":""}]
[{"$f":"IF(D738<>\"\",Data!A739,\"\")","v":""},{"$f":"IF(D738<>\"\",Data!B739,\"\")","v":""},"",{"$f":"IF(AND(Data!H739<>\"\",Data!H739 > 0),Data!H739,\"\")","v":""}]
[{"$f":"IF(D739<>\"\",Data!A740,\"\")","v":""},{"$f":"IF(D739<>\"\",Data!B740,\"\")","v":""},"",{"$f":"IF(AND(Data!H740<>\"\",Data!H740 > 0),Data!H740,\"\")","v":""}]
[{"$f":"IF(D740<>\"\",Data!A741,\"\")","v":""},{"$f":"IF(D740<>\"\",Data!B741,\"\")","v":""},"",{"$f":"IF(AND(Data!H741<>\"\",Data!H741 > 0),Data!H741,\"\")","v":""}]
[{"$f":"IF(D741<>\"\",Data!A742,\"\")","v":""},{"$f":"IF(D741<>\"\",Data!B742,\"\")","v":""},"",{"$f":"IF(AND(Data!H742<>\"\",Data!H742 > 0),Data!H742,\"\")","v":""}]
[{"$f":"IF(D742<>\"\",Data!A743,\"\")","v":""},{"$f":"IF(D742<>\"\",Data!B743,\"\")","v":""},"",{"$f":"IF(AND(Data!H743<>\"\",Data!H743 > 0),Data!H743,\"\")","v":""}]
[{"$f":"IF(D743<>\"\",Data!A744,\"\")","v":""},{"$f":"IF(D743<>\"\",Data!B744,\"\")","v":""},"",{"$f":"IF(AND(Data!H744<>\"\",Data!H744 > 0),Data!H744,\"\")","v":""}]
[{"$f":"IF(D744<>\"\",Data!A745,\"\")","v":""},{"$f":"IF(D744<>\"\",Data!B745,\"\")","v":""},"",{"$f":"IF(AND(Data!H745<>\"\",Data!H745 > 0),Data!H745,\"\")","v":""}]
[{"$f":"IF(D745<>\"\",Data!A746,\"\")","v":""},{"$f":"IF(D745<>\"\",Data!B746,\"\")","v":""},"",{"$f":"IF(AND(Data!H746<>\"\",Data!H746 > 0),Data!H746,\"\")","v":""}]
[{"$f":"IF(D746<>\"\",Data!A747,\"\")","v":""},{"$f":"IF(D746<>\"\",Data!B747,\"\")","v":""},"",{"$f":"IF(AND(Data!H747<>\"\",Data!H747 > 0),Data!H747,\"\")","v":""}]
[{"$f":"IF(D747<>\"\",Data!A748,\"\")","v":""},{"$f":"IF(D747<>\"\",Data!B748,\"\")","v":""},"",{"$f":"IF(AND(Data!H748<>\"\",Data!H748 > 0),Data!H748,\"\")","v":""}]
[{"$f":"IF(D748<>\"\",Data!A749,\"\")","v":""},{"$f":"IF(D748<>\"\",Data!B749,\"\")","v":""},"",{"$f":"IF(AND(Data!H749<>\"\",Data!H749 > 0),Data!H749,\"\")","v":""}]
[{"$f":"IF(D749<>\"\",Data!A750,\"\")","v":""},{"$f":"IF(D749<>\"\",Data!B750,\"\")","v":""},"",{"$f":"IF(AND(Data!H750<>\"\",Data!H750 > 0),Data!H750,\"\")","v":""}]
[{"$f":"IF(D750<>\"\",Data!A751,\"\")","v":""},{"$f":"IF(D750<>\"\",Data!B751,\"\")","v":""},"",{"$f":"IF(AND(Data!H751<>\"\",Data!H751 > 0),Data!H751,\"\")","v":""}]
[{"$f":"IF(D751<>\"\",Data!A752,\"\")","v":""},{"$f":"IF(D751<>\"\",Data!B752,\"\")","v":""},"",{"$f":"IF(AND(Data!H752<>\"\",Data!H752 > 0),Data!H752,\"\")","v":""}]
[{"$f":"IF(D752<>\"\",Data!A753,\"\")","v":""},{"$f":"IF(D752<>\"\",Data!B753,\"\")","v":""},"",{"$f":"IF(AND(Data!H753<>\"\",Data!H753 > 0),Data!H753,\"\")","v":""}]
[{"$f":"IF(D753<>\"\",Data!A754,\"\")","v":""},{"$f":"IF(D753<>\"\",Data!B754,\"\")","v":""},"",{"$f":"IF(AND(Data!H754<>\"\",Data!H754 > 0),Data!H754,\"\")","v":""}]
[{"$f":"IF(D754<>\"\",Data!A755,\"\")","v":""},{"$f":"IF(D754<>\"\",Data!B755,\"\")","v":""},"",{"$f":"IF(AND(Data!H755<>\"\",Data!H755 > 0),Data!H755,\"\")","v":""}]
[{"$f":"IF(D755<>\"\",Data!A756,\"\")","v":""},{"$f":"IF(D755<>\"\",Data!B756,\"\")","v":""},"",{"$f":"IF(AND(Data!H756<>\"\",Data!H756 > 0),Data!H756,\"\")","v":""}]
[{"$f":"IF(D756<>\"\",Data!A757,\"\")","v":""},{"$f":"IF(D756<>\"\",Data!B757,\"\")","v":""},"",{"$f":"IF(AND(Data!H757<>\"\",Data!H757 > 0),Data!H757,\"\")","v":""}]
[{"$f":"IF(D757<>\"\",Data!A758,\"\")","v":""},{"$f":"IF(D757<>\"\",Data!B758,\"\")","v":""},"",{"$f":"IF(AND(Data!H758<>\"\",Data!H758 > 0),Data!H758,\"\")","v":""}]
[{"$f":"IF(D758<>\"\",Data!A759,\"\")","v":""},{"$f":"IF(D758<>\"\",Data!B759,\"\")","v":""},"",{"$f":"IF(AND(Data!H759<>\"\",Data!H759 > 0),Data!H759,\"\")","v":""}]
[{"$f":"IF(D759<>\"\",Data!A760,\"\")","v":""},{"$f":"IF(D759<>\"\",Data!B760,\"\")","v":""},"",{"$f":"IF(AND(Data!H760<>\"\",Data!H760 > 0),Data!H760,\"\")","v":""}]
[{"$f":"IF(D760<>\"\",Data!A761,\"\")","v":""},{"$f":"IF(D760<>\"\",Data!B761,\"\")","v":""},"",{"$f":"IF(AND(Data!H761<>\"\",Data!H761 > 0),Data!H761,\"\")","v":""}]
[{"$f":"IF(D761<>\"\",Data!A762,\"\")","v":""},{"$f":"IF(D761<>\"\",Data!B762,\"\")","v":""},"",{"$f":"IF(AND(Data!H762<>\"\",Data!H762 > 0),Data!H762,\"\")","v":""}]
[{"$f":"IF(D762<>\"\",Data!A763,\"\")","v":""},{"$f":"IF(D762<>\"\",Data!B763,\"\")","v":""},"",{"$f":"IF(AND(Data!H763<>\"\",Data!H763 > 0),Data!H763,\"\")","v":""}]
[{"$f":"IF(D763<>\"\",Data!A764,\"\")","v":""},{"$f":"IF(D763<>\"\",Data!B764,\"\")","v":""},"",{"$f":"IF(AND(Data!H764<>\"\",Data!H764 > 0),Data!H764,\"\")","v":""}]
[{"$f":"IF(D764<>\"\",Data!A765,\"\")","v":""},{"$f":"IF(D764<>\"\",Data!B765,\"\")","v":""},"",{"$f":"IF(AND(Data!H765<>\"\",Data!H765 > 0),Data!H765,\"\")","v":""}]
[{"$f":"IF(D765<>\"\",Data!A766,\"\")","v":""},{"$f":"IF(D765<>\"\",Data!B766,\"\")","v":""},"",{"$f":"IF(AND(Data!H766<>\"\",Data!H766 > 0),Data!H766,\"\")","v":""}]
[{"$f":"IF(D766<>\"\",Data!A767,\"\")","v":""},{"$f":"IF(D766<>\"\",Data!B767,\"\")","v":""},"",{"$f":"IF(AND(Data!H767<>\"\",Data!H767 > 0),Data!H767,\"\")","v":""}]
[{"$f":"IF(D767<>\"\",Data!A768,\"\")","v":""},{"$f":"IF(D767<>\"\",Data!B768,\"\")","v":""},"",{"$f":"IF(AND(Data!H768<>\"\",Data!H768 > 0),Data!H768,\"\")","v":""}]
[{"$f":"IF(D768<>\"\",Data!A769,\"\")","v":""},{"$f":"IF(D768<>\"\",Data!B769,\"\")","v":""},"",{"$f":"IF(AND(Data!H769<>\"\",Data!H769 > 0),Data!H769,\"\")","v":""}]
[{"$f":"IF(D769<>\"\",Data!A770,\"\")","v":""},{"$f":"IF(D769<>\"\",Data!B770,\"\")","v":""},"",{"$f":"IF(AND(Data!H770<>\"\",Data!H770 > 0),Data!H770,\"\")","v":""}]
[{"$f":"IF(D770<>\"\",Data!A771,\"\")","v":""},{"$f":"IF(D770<>\"\",Data!B771,\"\")","v":""},{"$f":"IF(D770<>\"\",MID(CELL(\"filename\",B770),FIND(\"]\",CELL(\"filename\",B770))+1,32),\"\")","v":""},{"$f":"IF(AND(Data!H771<>\"\",Data!H771 > 0),Data!H771,\"\")","v":""}]
[{"$f":"IF(D771<>\"\",Data!A772,\"\")","v":""},{"$f":"IF(D771<>\"\",Data!B772,\"\")","v":""},"",{"$f":"IF(AND(Data!H772<>\"\",Data!H772 > 0),Data!H772,\"\")","v":""}]
[{"$f":"IF(D772<>\"\",Data!A773,\"\")","v":""},{"$f":"IF(D772<>\"\",Data!B773,\"\")","v":""},"",{"$f":"IF(AND(Data!H773<>\"\",Data!H773 > 0),Data!H773,\"\")","v":""}]
[{"$f":"IF(D773<>\"\",Data!A774,\"\")","v":""},{"$f":"IF(D773<>\"\",Data!B774,\"\")","v":""},"",{"$f":"IF(AND(Data!H774<>\"\",Data!H774 > 0),Data!H774,\"\")","v":""}]
[{"$f":"IF(D774<>\"\",Data!A775,\"\")","v":""},{"$f":"IF(D774<>\"\",Data!B775,\"\")","v":""},"",{"$f":"IF(AND(Data!H775<>\"\",Data!H775 > 0),Data!H775,\"\")","v":""}]
[{"$f":"IF(D775<>\"\",Data!A776,\"\")","v":""},{"$f":"IF(D775<>\"\",Data!B776,\"\")","v":""},"",{"$f":"IF(AND(Data!H776<>\"\",Data!H776 > 0),Data!H776,\"\")","v":""}]
[{"$f":"IF(D776<>\"\",Data!A777,\"\")","v":""},{"$f":"IF(D776<>\"\",Data!B777,\"\")","v":""},"",{"$f":"IF(AND(Data!H777<>\"\",Data!H777 > 0),Data!H777,\"\")","v":""}]
[{"$f":"IF(D777<>\"\",Data!A778,\"\")","v":""},{"$f":"IF(D777<>\"\",Data!B778,\"\")","v":""},"",{"$f":"IF(AND(Data!H778<>\"\",Data!H778 > 0),Data!H778,\"\")","v":""}]
[{"$f":"IF(D778<>\"\",Data!A779,\"\")","v":""},{"$f":"IF(D778<>\"\",Data!B779,\"\")","v":""},"",{"$f":"IF(AND(Data!H779<>\"\",Data!H779 > 0),Data!H779,\"\")","v":""}]
[{"$f":"IF(D779<>\"\",Data!A780,\"\")","v":""},{"$f":"IF(D779<>\"\",Data!B780,\"\")","v":""},"",{"$f":"IF(AND(Data!H780<>\"\",Data!H780 > 0),Data!H780,\"\")","v":""}]
[{"$f":"IF(D780<>\"\",Data!A781,\"\")","v":""},{"$f":"IF(D780<>\"\",Data!B781,\"\")","v":""},"",{"$f":"IF(AND(Data!H781<>\"\",Data!H781 > 0),Data!H781,\"\")","v":""}]
[{"$f":"IF(D781<>\"\",Data!A782,\"\")","v":""},{"$f":"IF(D781<>\"\",Data!B782,\"\")","v":""},"",{"$f":"IF(AND(Data!H782<>\"\",Data!H782 > 0),Data!H782,\"\")","v":""}]
[{"$f":"IF(D782<>\"\",Data!A783,\"\")","v":""},{"$f":"IF(D782<>\"\",Data!B783,\"\")","v":""},"",{"$f":"IF(AND(Data!H783<>\"\",Data!H783 > 0),Data!H783,\"\")","v":""}]
[{"$f":"IF(D783<>\"\",Data!A784,\"\")","v":""},{"$f":"IF(D783<>\"\",Data!B784,\"\")","v":""},"",{"$f":"IF(AND(Data!H784<>\"\",Data!H784 > 0),Data!H784,\"\")","v":""}]
[{"$f":"IF(D784<>\"\",Data!A785,\"\")","v":""},{"$f":"IF(D784<>\"\",Data!B785,\"\")","v":""},"",{"$f":"IF(AND(Data!H785<>\"\",Data!H785 > 0),Data!H785,\"\")","v":""}]
[{"$f":"IF(D785<>\"\",Data!A786,\"\")","v":""},{"$f":"IF(D785<>\"\",Data!B786,\"\")","v":""},"",{"$f":"IF(AND(Data!H786<>\"\",Data!H786 > 0),Data!H786,\"\")","v":""}]
[{"$f":"IF(D786<>\"\",Data!A787,\"\")","v":""},{"$f":"IF(D786<>\"\",Data!B787,\"\")","v":""},"",{"$f":"IF(AND(Data!H787<>\"\",Data!H787 > 0),Data!H787,\"\")","v":""}]
[{"$f":"IF(D787<>\"\",Data!A788,\"\")","v":""},{"$f":"IF(D787<>\"\",Data!B788,\"\")","v":""},"",{"$f":"IF(AND(Data!H788<>\"\",Data!H788 > 0),Data!H788,\"\")","v":""}]
[{"$f":"IF(D788<>\"\",Data!A789,\"\")","v":""},{"$f":"IF(D788<>\"\",Data!B789,\"\")","v":""},"",{"$f":"IF(AND(Data!H789<>\"\",Data!H789 > 0),Data!H789,\"\")","v":""}]
[{"$f":"IF(D789<>\"\",Data!A790,\"\")","v":""},{"$f":"IF(D789<>\"\",Data!B790,\"\")","v":""},"",{"$f":"IF(AND(Data!H790<>\"\",Data!H790 > 0),Data!H790,\"\")","v":""}]
[{"$f":"IF(D790<>\"\",Data!A791,\"\")","v":""},{"$f":"IF(D790<>\"\",Data!B791,\"\")","v":""},"",{"$f":"IF(AND(Data!H791<>\"\",Data!H791 > 0),Data!H791,\"\")","v":""}]
[{"$f":"IF(D791<>\"\",Data!A792,\"\")","v":""},{"$f":"IF(D791<>\"\",Data!B792,\"\")","v":""},"",{"$f":"IF(AND(Data!H792<>\"\",Data!H792 > 0),Data!H792,\"\")","v":""}]
[{"$f":"IF(D792<>\"\",Data!A793,\"\")","v":""},{"$f":"IF(D792<>\"\",Data!B793,\"\")","v":""},"",{"$f":"IF(AND(Data!H793<>\"\",Data!H793 > 0),Data!H793,\"\")","v":""}]
[{"$f":"IF(D793<>\"\",Data!A794,\"\")","v":""},{"$f":"IF(D793<>\"\",Data!B794,\"\")","v":""},"",{"$f":"IF(AND(Data!H794<>\"\",Data!H794 > 0),Data!H794,\"\")","v":""}]
[{"$f":"IF(D794<>\"\",Data!A795,\"\")","v":""},{"$f":"IF(D794<>\"\",Data!B795,\"\")","v":""},"",{"$f":"IF(AND(Data!H795<>\"\",Data!H795 > 0),Data!H795,\"\")","v":""}]
[{"$f":"IF(D795<>\"\",Data!A796,\"\")","v":""},{"$f":"IF(D795<>\"\",Data!B796,\"\")","v":""},"",{"$f":"IF(AND(Data!H796<>\"\",Data!H796 > 0),Data!H796,\"\")","v":""}]
[{"$f":"IF(D796<>\"\",Data!A797,\"\")","v":""},{"$f":"IF(D796<>\"\",Data!B797,\"\")","v":""},"",{"$f":"IF(AND(Data!H797<>\"\",Data!H797 > 0),Data!H797,\"\")","v":""}]
[{"$f":"IF(D797<>\"\",Data!A798,\"\")","v":""},{"$f":"IF(D797<>\"\",Data!B798,\"\")","v":""},"",{"$f":"IF(AND(Data!H798<>\"\",Data!H798 > 0),Data!H798,\"\")","v":""}]
[{"$f":"IF(D798<>\"\",Data!A799,\"\")","v":""},{"$f":"IF(D798<>\"\",Data!B799,\"\")","v":""},"",{"$f":"IF(AND(Data!H799<>\"\",Data!H799 > 0),Data!H799,\"\")","v":""}]
[{"$f":"IF(D799<>\"\",Data!A800,\"\")","v":""},{"$f":"IF(D799<>\"\",Data!B800,\"\")","v":""},"",{"$f":"IF(AND(Data!H800<>\"\",Data!H800 > 0),Data!H800,\"\")","v":""}]
[{"$f":"IF(D800<>\"\",Data!A801,\"\")","v":""},{"$f":"IF(D800<>\"\",Data!B801,\"\")","v":""},"",{"$f":"IF(AND(Data!H801<>\"\",Data!H801 > 0),Data!H801,\"\")","v":""}]
[{"$f":"IF(D801<>\"\",Data!A802,\"\")","v":""},{"$f":"IF(D801<>\"\",Data!B802,\"\")","v":""},"",{"$f":"IF(AND(Data!H802<>\"\",Data!H802 > 0),Data!H802,\"\")","v":""}]
[{"$f":"IF(D802<>\"\",Data!A803,\"\")","v":""},{"$f":"IF(D802<>\"\",Data!B803,\"\")","v":""},"",{"$f":"IF(AND(Data!H803<>\"\",Data!H803 > 0),Data!H803,\"\")","v":""}]
[{"$f":"IF(D803<>\"\",Data!A804,\"\")","v":""},{"$f":"IF(D803<>\"\",Data!B804,\"\")","v":""},"",{"$f":"IF(AND(Data!H804<>\"\",Data!H804 > 0),Data!H804,\"\")","v":""}]
[{"$f":"IF(D804<>\"\",Data!A805,\"\")","v":""},{"$f":"IF(D804<>\"\",Data!B805,\"\")","v":""},"",{"$f":"IF(AND(Data!H805<>\"\",Data!H805 > 0),Data!H805,\"\")","v":""}]
[{"$f":"IF(D805<>\"\",Data!A806,\"\")","v":""},{"$f":"IF(D805<>\"\",Data!B806,\"\")","v":""},"",{"$f":"IF(AND(Data!H806<>\"\",Data!H806 > 0),Data!H806,\"\")","v":""}]
[{"$f":"IF(D806<>\"\",Data!A807,\"\")","v":""},{"$f":"IF(D806<>\"\",Data!B807,\"\")","v":""},"",{"$f":"IF(AND(Data!H807<>\"\",Data!H807 > 0),Data!H807,\"\")","v":""}]
[{"$f":"IF(D807<>\"\",Data!A808,\"\")","v":""},{"$f":"IF(D807<>\"\",Data!B808,\"\")","v":""},"",{"$f":"IF(AND(Data!H808<>\"\",Data!H808 > 0),Data!H808,\"\")","v":""}]
[{"$f":"IF(D808<>\"\",Data!A809,\"\")","v":""},{"$f":"IF(D808<>\"\",Data!B809,\"\")","v":""},"",{"$f":"IF(AND(Data!H809<>\"\",Data!H809 > 0),Data!H809,\"\")","v":""}]
[{"$f":"IF(D809<>\"\",Data!A810,\"\")","v":""},{"$f":"IF(D809<>\"\",Data!B810,\"\")","v":""},"",{"$f":"IF(AND(Data!H810<>\"\",Data!H810 > 0),Data!H810,\"\")","v":""}]
[{"$f":"IF(D810<>\"\",Data!A811,\"\")","v":""},{"$f":"IF(D810<>\"\",Data!B811,\"\")","v":""},"",{"$f":"IF(AND(Data!H811<>\"\",Data!H811 > 0),Data!H811,\"\")","v":""}]
[{"$f":"IF(D811<>\"\",Data!A812,\"\")","v":""},{"$f":"IF(D811<>\"\",Data!B812,\"\")","v":""},"",{"$f":"IF(AND(Data!H812<>\"\",Data!H812 > 0),Data!H812,\"\")","v":""}]
[{"$f":"IF(D812<>\"\",Data!A813,\"\")","v":""},{"$f":"IF(D812<>\"\",Data!B813,\"\")","v":""},"",{"$f":"IF(AND(Data!H813<>\"\",Data!H813 > 0),Data!H813,\"\")","v":""}]
[{"$f":"IF(D813<>\"\",Data!A814,\"\")","v":""},{"$f":"IF(D813<>\"\",Data!B814,\"\")","v":""},"",{"$f":"IF(AND(Data!H814<>\"\",Data!H814 > 0),Data!H814,\"\")","v":""}]
[{"$f":"IF(D814<>\"\",Data!A815,\"\")","v":""},{"$f":"IF(D814<>\"\",Data!B815,\"\")","v":""},"",{"$f":"IF(AND(Data!H815<>\"\",Data!H815 > 0),Data!H815,\"\")","v":""}]
[{"$f":"IF(D815<>\"\",Data!A816,\"\")","v":""},{"$f":"IF(D815<>\"\",Data!B816,\"\")","v":""},"",{"$f":"IF(AND(Data!H816<>\"\",Data!H816 > 0),Data!H816,\"\")","v":""}]
[{"$f":"IF(D816<>\"\",Data!A817,\"\")","v":""},{"$f":"IF(D816<>\"\",Data!B817,\"\")","v":""},"",{"$f":"IF(AND(Data!H817<>\"\",Data!H817 > 0),Data!H817,\"\")","v":""}]
[{"$f":"IF(D817<>\"\",Data!A818,\"\")","v":""},{"$f":"IF(D817<>\"\",Data!B818,\"\")","v":""},"",{"$f":"IF(AND(Data!H818<>\"\",Data!H818 > 0),Data!H818,\"\")","v":""}]
[{"$f":"IF(D818<>\"\",Data!A819,\"\")","v":""},{"$f":"IF(D818<>\"\",Data!B819,\"\")","v":""},"",{"$f":"IF(AND(Data!H819<>\"\",Data!H819 > 0),Data!H819,\"\")","v":""}]
[{"$f":"IF(D819<>\"\",Data!A820,\"\")","v":""},{"$f":"IF(D819<>\"\",Data!B820,\"\")","v":""},"",{"$f":"IF(AND(Data!H820<>\"\",Data!H820 > 0),Data!H820,\"\")","v":""}]
[{"$f":"IF(D820<>\"\",Data!A821,\"\")","v":""},{"$f":"IF(D820<>\"\",Data!B821,\"\")","v":""},"",{"$f":"IF(AND(Data!H821<>\"\",Data!H821 > 0),Data!H821,\"\")","v":""}]
[{"$f":"IF(D821<>\"\",Data!A822,\"\")","v":""},{"$f":"IF(D821<>\"\",Data!B822,\"\")","v":""},"",{"$f":"IF(AND(Data!H822<>\"\",Data!H822 > 0),Data!H822,\"\")","v":""}]
[{"$f":"IF(D822<>\"\",Data!A823,\"\")","v":""},{"$f":"IF(D822<>\"\",Data!B823,\"\")","v":""},"",{"$f":"IF(AND(Data!H823<>\"\",Data!H823 > 0),Data!H823,\"\")","v":""}]
[{"$f":"IF(D823<>\"\",Data!A824,\"\")","v":""},{"$f":"IF(D823<>\"\",Data!B824,\"\")","v":""},"",{"$f":"IF(AND(Data!H824<>\"\",Data!H824 > 0),Data!H824,\"\")","v":""}]
[{"$f":"IF(D824<>\"\",Data!A825,\"\")","v":""},{"$f":"IF(D824<>\"\",Data!B825,\"\")","v":""},"",{"$f":"IF(AND(Data!H825<>\"\",Data!H825 > 0),Data!H825,\"\")","v":""}]
[{"$f":"IF(D825<>\"\",Data!A826,\"\")","v":""},{"$f":"IF(D825<>\"\",Data!B826,\"\")","v":""},"",{"$f":"IF(AND(Data!H826<>\"\",Data!H826 > 0),Data!H826,\"\")","v":""}]
[{"$f":"IF(D826<>\"\",Data!A827,\"\")","v":""},{"$f":"IF(D826<>\"\",Data!B827,\"\")","v":""},"",{"$f":"IF(AND(Data!H827<>\"\",Data!H827 > 0),Data!H827,\"\")","v":""}]
[{"$f":"IF(D827<>\"\",Data!A828,\"\")","v":""},{"$f":"IF(D827<>\"\",Data!B828,\"\")","v":""},"",{"$f":"IF(AND(Data!H828<>\"\",Data!H828 > 0),Data!H828,\"\")","v":""}]
[{"$f":"IF(D828<>\"\",Data!A829,\"\")","v":""},{"$f":"IF(D828<>\"\",Data!B829,\"\")","v":""},"",{"$f":"IF(AND(Data!H829<>\"\",Data!H829 > 0),Data!H829,\"\")","v":""}]
[{"$f":"IF(D829<>\"\",Data!A830,\"\")","v":""},{"$f":"IF(D829<>\"\",Data!B830,\"\")","v":""},"",{"$f":"IF(AND(Data!H830<>\"\",Data!H830 > 0),Data!H830,\"\")","v":""}]
[{"$f":"IF(D830<>\"\",Data!A831,\"\")","v":""},{"$f":"IF(D830<>\"\",Data!B831,\"\")","v":""},"",{"$f":"IF(AND(Data!H831<>\"\",Data!H831 > 0),Data!H831,\"\")","v":""}]
[{"$f":"IF(D831<>\"\",Data!A832,\"\")","v":""},{"$f":"IF(D831<>\"\",Data!B832,\"\")","v":""},"",{"$f":"IF(AND(Data!H832<>\"\",Data!H832 > 0),Data!H832,\"\")","v":""}]
[{"$f":"IF(D832<>\"\",Data!A833,\"\")","v":""},{"$f":"IF(D832<>\"\",Data!B833,\"\")","v":""},"",{"$f":"IF(AND(Data!H833<>\"\",Data!H833 > 0),Data!H833,\"\")","v":""}]
[{"$f":"IF(D833<>\"\",Data!A834,\"\")","v":""},{"$f":"IF(D833<>\"\",Data!B834,\"\")","v":""},"",{"$f":"IF(AND(Data!H834<>\"\",Data!H834 > 0),Data!H834,\"\")","v":""}]
[{"$f":"IF(D834<>\"\",Data!A835,\"\")","v":""},{"$f":"IF(D834<>\"\",Data!B835,\"\")","v":""},{"$f":"IF(D834<>\"\",MID(CELL(\"filename\",B834),FIND(\"]\",CELL(\"filename\",B834))+1,32),\"\")","v":""},{"$f":"IF(AND(Data!H835<>\"\",Data!H835 > 0),Data!H835,\"\")","v":""}]
[{"$f":"IF(D835<>\"\",Data!A836,\"\")","v":""},{"$f":"IF(D835<>\"\",Data!B836,\"\")","v":""},"",{"$f":"IF(AND(Data!H836<>\"\",Data!H836 > 0),Data!H836,\"\")","v":""}]
[{"$f":"IF(D836<>\"\",Data!A837,\"\")","v":""},{"$f":"IF(D836<>\"\",Data!B837,\"\")","v":""},"",{"$f":"IF(AND(Data!H837<>\"\",Data!H837 > 0),Data!H837,\"\")","v":""}]
[{"$f":"IF(D837<>\"\",Data!A838,\"\")","v":""},{"$f":"IF(D837<>\"\",Data!B838,\"\")","v":""},"",{"$f":"IF(AND(Data!H838<>\"\",Data!H838 > 0),Data!H838,\"\")","v":""}]
[{"$f":"IF(D838<>\"\",Data!A839,\"\")","v":""},{"$f":"IF(D838<>\"\",Data!B839,\"\")","v":""},"",{"$f":"IF(AND(Data!H839<>\"\",Data!H839 > 0),Data!H839,\"\")","v":""}]
[{"$f":"IF(D839<>\"\",Data!A840,\"\")","v":""},{"$f":"IF(D839<>\"\",Data!B840,\"\")","v":""},"",{"$f":"IF(AND(Data!H840<>\"\",Data!H840 > 0),Data!H840,\"\")","v":""}]
[{"$f":"IF(D840<>\"\",Data!A841,\"\")","v":""},{"$f":"IF(D840<>\"\",Data!B841,\"\")","v":""},"",{"$f":"IF(AND(Data!H841<>\"\",Data!H841 > 0),Data!H841,\"\")","v":""}]
[{"$f":"IF(D841<>\"\",Data!A842,\"\")","v":""},{"$f":"IF(D841<>\"\",Data!B842,\"\")","v":""},"",{"$f":"IF(AND(Data!H842<>\"\",Data!H842 > 0),Data!H842,\"\")","v":""}]
[{"$f":"IF(D842<>\"\",Data!A843,\"\")","v":""},{"$f":"IF(D842<>\"\",Data!B843,\"\")","v":""},"",{"$f":"IF(AND(Data!H843<>\"\",Data!H843 > 0),Data!H843,\"\")","v":""}]
[{"$f":"IF(D843<>\"\",Data!A844,\"\")","v":""},{"$f":"IF(D843<>\"\",Data!B844,\"\")","v":""},"",{"$f":"IF(AND(Data!H844<>\"\",Data!H844 > 0),Data!H844,\"\")","v":""}]
[{"$f":"IF(D844<>\"\",Data!A845,\"\")","v":""},{"$f":"IF(D844<>\"\",Data!B845,\"\")","v":""},"",{"$f":"IF(AND(Data!H845<>\"\",Data!H845 > 0),Data!H845,\"\")","v":""}]
[{"$f":"IF(D845<>\"\",Data!A846,\"\")","v":""},{"$f":"IF(D845<>\"\",Data!B846,\"\")","v":""},"",{"$f":"IF(AND(Data!H846<>\"\",Data!H846 > 0),Data!H846,\"\")","v":""}]
[{"$f":"IF(D846<>\"\",Data!A847,\"\")","v":""},{"$f":"IF(D846<>\"\",Data!B847,\"\")","v":""},"",{"$f":"IF(AND(Data!H847<>\"\",Data!H847 > 0),Data!H847,\"\")","v":""}]
[{"$f":"IF(D847<>\"\",Data!A848,\"\")","v":""},{"$f":"IF(D847<>\"\",Data!B848,\"\")","v":""},"",{"$f":"IF(AND(Data!H848<>\"\",Data!H848 > 0),Data!H848,\"\")","v":""}]
[{"$f":"IF(D848<>\"\",Data!A849,\"\")","v":""},{"$f":"IF(D848<>\"\",Data!B849,\"\")","v":""},"",{"$f":"IF(AND(Data!H849<>\"\",Data!H849 > 0),Data!H849,\"\")","v":""}]
[{"$f":"IF(D849<>\"\",Data!A850,\"\")","v":""},{"$f":"IF(D849<>\"\",Data!B850,\"\")","v":""},"",{"$f":"IF(AND(Data!H850<>\"\",Data!H850 > 0),Data!H850,\"\")","v":""}]
[{"$f":"IF(D850<>\"\",Data!A851,\"\")","v":""},{"$f":"IF(D850<>\"\",Data!B851,\"\")","v":""},"",{"$f":"IF(AND(Data!H851<>\"\",Data!H851 > 0),Data!H851,\"\")","v":""}]
[{"$f":"IF(D851<>\"\",Data!A852,\"\")","v":""},{"$f":"IF(D851<>\"\",Data!B852,\"\")","v":""},"",{"$f":"IF(AND(Data!H852<>\"\",Data!H852 > 0),Data!H852,\"\")","v":""}]
[{"$f":"IF(D852<>\"\",Data!A853,\"\")","v":""},{"$f":"IF(D852<>\"\",Data!B853,\"\")","v":""},"",{"$f":"IF(AND(Data!H853<>\"\",Data!H853 > 0),Data!H853,\"\")","v":""}]
[{"$f":"IF(D853<>\"\",Data!A854,\"\")","v":""},{"$f":"IF(D853<>\"\",Data!B854,\"\")","v":""},"",{"$f":"IF(AND(Data!H854<>\"\",Data!H854 > 0),Data!H854,\"\")","v":""}]
[{"$f":"IF(D854<>\"\",Data!A855,\"\")","v":""},{"$f":"IF(D854<>\"\",Data!B855,\"\")","v":""},"",{"$f":"IF(AND(Data!H855<>\"\",Data!H855 > 0),Data!H855,\"\")","v":""}]
[{"$f":"IF(D855<>\"\",Data!A856,\"\")","v":""},{"$f":"IF(D855<>\"\",Data!B856,\"\")","v":""},"",{"$f":"IF(AND(Data!H856<>\"\",Data!H856 > 0),Data!H856,\"\")","v":""}]
[{"$f":"IF(D856<>\"\",Data!A857,\"\")","v":""},{"$f":"IF(D856<>\"\",Data!B857,\"\")","v":""},"",{"$f":"IF(AND(Data!H857<>\"\",Data!H857 > 0),Data!H857,\"\")","v":""}]
[{"$f":"IF(D857<>\"\",Data!A858,\"\")","v":""},{"$f":"IF(D857<>\"\",Data!B858,\"\")","v":""},"",{"$f":"IF(AND(Data!H858<>\"\",Data!H858 > 0),Data!H858,\"\")","v":""}]
[{"$f":"IF(D858<>\"\",Data!A859,\"\")","v":""},{"$f":"IF(D858<>\"\",Data!B859,\"\")","v":""},"",{"$f":"IF(AND(Data!H859<>\"\",Data!H859 > 0),Data!H859,\"\")","v":""}]
[{"$f":"IF(D859<>\"\",Data!A860,\"\")","v":""},{"$f":"IF(D859<>\"\",Data!B860,\"\")","v":""},"",{"$f":"IF(AND(Data!H860<>\"\",Data!H860 > 0),Data!H860,\"\")","v":""}]
[{"$f":"IF(D860<>\"\",Data!A861,\"\")","v":""},{"$f":"IF(D860<>\"\",Data!B861,\"\")","v":""},"",{"$f":"IF(AND(Data!H861<>\"\",Data!H861 > 0),Data!H861,\"\")","v":""}]
[{"$f":"IF(D861<>\"\",Data!A862,\"\")","v":""},{"$f":"IF(D861<>\"\",Data!B862,\"\")","v":""},"",{"$f":"IF(AND(Data!H862<>\"\",Data!H862 > 0),Data!H862,\"\")","v":""}]
[{"$f":"IF(D862<>\"\",Data!A863,\"\")","v":""},{"$f":"IF(D862<>\"\",Data!B863,\"\")","v":""},"",{"$f":"IF(AND(Data!H863<>\"\",Data!H863 > 0),Data!H863,\"\")","v":""}]
[{"$f":"IF(D863<>\"\",Data!A864,\"\")","v":""},{"$f":"IF(D863<>\"\",Data!B864,\"\")","v":""},"",{"$f":"IF(AND(Data!H864<>\"\",Data!H864 > 0),Data!H864,\"\")","v":""}]
[{"$f":"IF(D864<>\"\",Data!A865,\"\")","v":""},{"$f":"IF(D864<>\"\",Data!B865,\"\")","v":""},"",{"$f":"IF(AND(Data!H865<>\"\",Data!H865 > 0),Data!H865,\"\")","v":""}]
[{"$f":"IF(D865<>\"\",Data!A866,\"\")","v":""},{"$f":"IF(D865<>\"\",Data!B866,\"\")","v":""},"",{"$f":"IF(AND(Data!H866<>\"\",Data!H866 > 0),Data!H866,\"\")","v":""}]
[{"$f":"IF(D866<>\"\",Data!A867,\"\")","v":""},{"$f":"IF(D866<>\"\",Data!B867,\"\")","v":""},"",{"$f":"IF(AND(Data!H867<>\"\",Data!H867 > 0),Data!H867,\"\")","v":""}]
[{"$f":"IF(D867<>\"\",Data!A868,\"\")","v":""},{"$f":"IF(D867<>\"\",Data!B868,\"\")","v":""},"",{"$f":"IF(AND(Data!H868<>\"\",Data!H868 > 0),Data!H868,\"\")","v":""}]
[{"$f":"IF(D868<>\"\",Data!A869,\"\")","v":""},{"$f":"IF(D868<>\"\",Data!B869,\"\")","v":""},"",{"$f":"IF(AND(Data!H869<>\"\",Data!H869 > 0),Data!H869,\"\")","v":""}]
[{"$f":"IF(D869<>\"\",Data!A870,\"\")","v":""},{"$f":"IF(D869<>\"\",Data!B870,\"\")","v":""},"",{"$f":"IF(AND(Data!H870<>\"\",Data!H870 > 0),Data!H870,\"\")","v":""}]
[{"$f":"IF(D870<>\"\",Data!A871,\"\")","v":""},{"$f":"IF(D870<>\"\",Data!B871,\"\")","v":""},"",{"$f":"IF(AND(Data!H871<>\"\",Data!H871 > 0),Data!H871,\"\")","v":""}]
[{"$f":"IF(D871<>\"\",Data!A872,\"\")","v":""},{"$f":"IF(D871<>\"\",Data!B872,\"\")","v":""},"",{"$f":"IF(AND(Data!H872<>\"\",Data!H872 > 0),Data!H872,\"\")","v":""}]
[{"$f":"IF(D872<>\"\",Data!A873,\"\")","v":""},{"$f":"IF(D872<>\"\",Data!B873,\"\")","v":""},"",{"$f":"IF(AND(Data!H873<>\"\",Data!H873 > 0),Data!H873,\"\")","v":""}]
[{"$f":"IF(D873<>\"\",Data!A874,\"\")","v":""},{"$f":"IF(D873<>\"\",Data!B874,\"\")","v":""},"",{"$f":"IF(AND(Data!H874<>\"\",Data!H874 > 0),Data!H874,\"\")","v":""}]
[{"$f":"IF(D874<>\"\",Data!A875,\"\")","v":""},{"$f":"IF(D874<>\"\",Data!B875,\"\")","v":""},"",{"$f":"IF(AND(Data!H875<>\"\",Data!H875 > 0),Data!H875,\"\")","v":""}]
[{"$f":"IF(D875<>\"\",Data!A876,\"\")","v":""},{"$f":"IF(D875<>\"\",Data!B876,\"\")","v":""},"",{"$f":"IF(AND(Data!H876<>\"\",Data!H876 > 0),Data!H876,\"\")","v":""}]
[{"$f":"IF(D876<>\"\",Data!A877,\"\")","v":""},{"$f":"IF(D876<>\"\",Data!B877,\"\")","v":""},"",{"$f":"IF(AND(Data!H877<>\"\",Data!H877 > 0),Data!H877,\"\")","v":""}]
[{"$f":"IF(D877<>\"\",Data!A878,\"\")","v":""},{"$f":"IF(D877<>\"\",Data!B878,\"\")","v":""},"",{"$f":"IF(AND(Data!H878<>\"\",Data!H878 > 0),Data!H878,\"\")","v":""}]
[{"$f":"IF(D878<>\"\",Data!A879,\"\")","v":""},{"$f":"IF(D878<>\"\",Data!B879,\"\")","v":""},"",{"$f":"IF(AND(Data!H879<>\"\",Data!H879 > 0),Data!H879,\"\")","v":""}]
[{"$f":"IF(D879<>\"\",Data!A880,\"\")","v":""},{"$f":"IF(D879<>\"\",Data!B880,\"\")","v":""},"",{"$f":"IF(AND(Data!H880<>\"\",Data!H880 > 0),Data!H880,\"\")","v":""}]
[{"$f":"IF(D880<>\"\",Data!A881,\"\")","v":""},{"$f":"IF(D880<>\"\",Data!B881,\"\")","v":""},"",{"$f":"IF(AND(Data!H881<>\"\",Data!H881 > 0),Data!H881,\"\")","v":""}]
[{"$f":"IF(D881<>\"\",Data!A882,\"\")","v":""},{"$f":"IF(D881<>\"\",Data!B882,\"\")","v":""},"",{"$f":"IF(AND(Data!H882<>\"\",Data!H882 > 0),Data!H882,\"\")","v":""}]
[{"$f":"IF(D882<>\"\",Data!A883,\"\")","v":""},{"$f":"IF(D882<>\"\",Data!B883,\"\")","v":""},"",{"$f":"IF(AND(Data!H883<>\"\",Data!H883 > 0),Data!H883,\"\")","v":""}]
[{"$f":"IF(D883<>\"\",Data!A884,\"\")","v":""},{"$f":"IF(D883<>\"\",Data!B884,\"\")","v":""},"",{"$f":"IF(AND(Data!H884<>\"\",Data!H884 > 0),Data!H884,\"\")","v":""}]
[{"$f":"IF(D884<>\"\",Data!A885,\"\")","v":""},{"$f":"IF(D884<>\"\",Data!B885,\"\")","v":""},"",{"$f":"IF(AND(Data!H885<>\"\",Data!H885 > 0),Data!H885,\"\")","v":""}]
[{"$f":"IF(D885<>\"\",Data!A886,\"\")","v":""},{"$f":"IF(D885<>\"\",Data!B886,\"\")","v":""},"",{"$f":"IF(AND(Data!H886<>\"\",Data!H886 > 0),Data!H886,\"\")","v":""}]
[{"$f":"IF(D886<>\"\",Data!A887,\"\")","v":""},{"$f":"IF(D886<>\"\",Data!B887,\"\")","v":""},"",{"$f":"IF(AND(Data!H887<>\"\",Data!H887 > 0),Data!H887,\"\")","v":""}]
[{"$f":"IF(D887<>\"\",Data!A888,\"\")","v":""},{"$f":"IF(D887<>\"\",Data!B888,\"\")","v":""},"",{"$f":"IF(AND(Data!H888<>\"\",Data!H888 > 0),Data!H888,\"\")","v":""}]
[{"$f":"IF(D888<>\"\",Data!A889,\"\")","v":""},{"$f":"IF(D888<>\"\",Data!B889,\"\")","v":""},"",{"$f":"IF(AND(Data!H889<>\"\",Data!H889 > 0),Data!H889,\"\")","v":""}]
[{"$f":"IF(D889<>\"\",Data!A890,\"\")","v":""},{"$f":"IF(D889<>\"\",Data!B890,\"\")","v":""},"",{"$f":"IF(AND(Data!H890<>\"\",Data!H890 > 0),Data!H890,\"\")","v":""}]
[{"$f":"IF(D890<>\"\",Data!A891,\"\")","v":""},{"$f":"IF(D890<>\"\",Data!B891,\"\")","v":""},"",{"$f":"IF(AND(Data!H891<>\"\",Data!H891 > 0),Data!H891,\"\")","v":""}]
[{"$f":"IF(D891<>\"\",Data!A892,\"\")","v":""},{"$f":"IF(D891<>\"\",Data!B892,\"\")","v":""},"",{"$f":"IF(AND(Data!H892<>\"\",Data!H892 > 0),Data!H892,\"\")","v":""}]
[{"$f":"IF(D892<>\"\",Data!A893,\"\")","v":""},{"$f":"IF(D892<>\"\",Data!B893,\"\")","v":""},"",{"$f":"IF(AND(Data!H893<>\"\",Data!H893 > 0),Data!H893,\"\")","v":""}]
[{"$f":"IF(D893<>\"\",Data!A894,\"\")","v":""},{"$f":"IF(D893<>\"\",Data!B894,\"\")","v":""},"",{"$f":"IF(AND(Data!H894<>\"\",Data!H894 > 0),Data!H894,\"\")","v":""}]
[{"$f":"IF(D894<>\"\",Data!A895,\"\")","v":""},{"$f":"IF(D894<>\"\",Data!B895,\"\")","v":""},"",{"$f":"IF(AND(Data!H895<>\"\",Data!H895 > 0),Data!H895,\"\")","v":""}]
[{"$f":"IF(D895<>\"\",Data!A896,\"\")","v":""},{"$f":"IF(D895<>\"\",Data!B896,\"\")","v":""},"",{"$f":"IF(AND(Data!H896<>\"\",Data!H896 > 0),Data!H896,\"\")","v":""}]
[{"$f":"IF(D896<>\"\",Data!A897,\"\")","v":""},{"$f":"IF(D896<>\"\",Data!B897,\"\")","v":""},"",{"$f":"IF(AND(Data!H897<>\"\",Data!H897 > 0),Data!H897,\"\")","v":""}]
[{"$f":"IF(D897<>\"\",Data!A898,\"\")","v":""},{"$f":"IF(D897<>\"\",Data!B898,\"\")","v":""},"",{"$f":"IF(AND(Data!H898<>\"\",Data!H898 > 0),Data!H898,\"\")","v":""}]
[{"$f":"IF(D898<>\"\",Data!A899,\"\")","v":""},{"$f":"IF(D898<>\"\",Data!B899,\"\")","v":""},{"$f":"IF(D898<>\"\",MID(CELL(\"filename\",B898),FIND(\"]\",CELL(\"filename\",B898))+1,32),\"\")","v":""},{"$f":"IF(AND(Data!H899<>\"\",Data!H899 > 0),Data!H899,\"\")","v":""}]
[{"$f":"IF(D899<>\"\",Data!A900,\"\")","v":""},{"$f":"IF(D899<>\"\",Data!B900,\"\")","v":""},"",{"$f":"IF(AND(Data!H900<>\"\",Data!H900 > 0),Data!H900,\"\")","v":""}]
[{"$f":"IF(D900<>\"\",Data!A901,\"\")","v":""},{"$f":"IF(D900<>\"\",Data!B901,\"\")","v":""},"",{"$f":"IF(AND(Data!H901<>\"\",Data!H901 > 0),Data!H901,\"\")","v":""}]
[{"$f":"IF(D901<>\"\",Data!A902,\"\")","v":""},{"$f":"IF(D901<>\"\",Data!B902,\"\")","v":""},"",{"$f":"IF(AND(Data!H902<>\"\",Data!H902 > 0),Data!H902,\"\")","v":""}]
[{"$f":"IF(D902<>\"\",Data!A903,\"\")","v":""},{"$f":"IF(D902<>\"\",Data!B903,\"\")","v":""},"",{"$f":"IF(AND(Data!H903<>\"\",Data!H903 > 0),Data!H903,\"\")","v":""}]
[{"$f":"IF(D903<>\"\",Data!A904,\"\")","v":""},{"$f":"IF(D903<>\"\",Data!B904,\"\")","v":""},"",{"$f":"IF(AND(Data!H904<>\"\",Data!H904 > 0),Data!H904,\"\")","v":""}]
[{"$f":"IF(D904<>\"\",Data!A905,\"\")","v":""},{"$f":"IF(D904<>\"\",Data!B905,\"\")","v":""},"",{"$f":"IF(AND(Data!H905<>\"\",Data!H905 > 0),Data!H905,\"\")","v":""}]
[{"$f":"IF(D905<>\"\",Data!A906,\"\")","v":""},{"$f":"IF(D905<>\"\",Data!B906,\"\")","v":""},"",{"$f":"IF(AND(Data!H906<>\"\",Data!H906 > 0),Data!H906,\"\")","v":""}]
[{"$f":"IF(D906<>\"\",Data!A907,\"\")","v":""},{"$f":"IF(D906<>\"\",Data!B907,\"\")","v":""},"",{"$f":"IF(AND(Data!H907<>\"\",Data!H907 > 0),Data!H907,\"\")","v":""}]
[{"$f":"IF(D907<>\"\",Data!A908,\"\")","v":""},{"$f":"IF(D907<>\"\",Data!B908,\"\")","v":""},"",{"$f":"IF(AND(Data!H908<>\"\",Data!H908 > 0),Data!H908,\"\")","v":""}]
[{"$f":"IF(D908<>\"\",Data!A909,\"\")","v":""},{"$f":"IF(D908<>\"\",Data!B909,\"\")","v":""},"",{"$f":"IF(AND(Data!H909<>\"\",Data!H909 > 0),Data!H909,\"\")","v":""}]
[{"$f":"IF(D909<>\"\",Data!A910,\"\")","v":""},{"$f":"IF(D909<>\"\",Data!B910,\"\")","v":""},"",{"$f":"IF(AND(Data!H910<>\"\",Data!H910 > 0),Data!H910,\"\")","v":""}]
[{"$f":"IF(D910<>\"\",Data!A911,\"\")","v":""},{"$f":"IF(D910<>\"\",Data!B911,\"\")","v":""},"",{"$f":"IF(AND(Data!H911<>\"\",Data!H911 > 0),Data!H911,\"\")","v":""}]
[{"$f":"IF(D911<>\"\",Data!A912,\"\")","v":""},{"$f":"IF(D911<>\"\",Data!B912,\"\")","v":""},"",{"$f":"IF(AND(Data!H912<>\"\",Data!H912 > 0),Data!H912,\"\")","v":""}]
[{"$f":"IF(D912<>\"\",Data!A913,\"\")","v":""},{"$f":"IF(D912<>\"\",Data!B913,\"\")","v":""},"",{"$f":"IF(AND(Data!H913<>\"\",Data!H913 > 0),Data!H913,\"\")","v":""}]
[{"$f":"IF(D913<>\"\",Data!A914,\"\")","v":""},{"$f":"IF(D913<>\"\",Data!B914,\"\")","v":""},"",{"$f":"IF(AND(Data!H914<>\"\",Data!H914 > 0),Data!H914,\"\")","v":""}]
[{"$f":"IF(D914<>\"\",Data!A915,\"\")","v":""},{"$f":"IF(D914<>\"\",Data!B915,\"\")","v":""},"",{"$f":"IF(AND(Data!H915<>\"\",Data!H915 > 0),Data!H915,\"\")","v":""}]
[{"$f":"IF(D915<>\"\",Data!A916,\"\")","v":""},{"$f":"IF(D915<>\"\",Data!B916,\"\")","v":""},"",{"$f":"IF(AND(Data!H916<>\"\",Data!H916 > 0),Data!H916,\"\")","v":""}]
[{"$f":"IF(D916<>\"\",Data!A917,\"\")","v":""},{"$f":"IF(D916<>\"\",Data!B917,\"\")","v":""},"",{"$f":"IF(AND(Data!H917<>\"\",Data!H917 > 0),Data!H917,\"\")","v":""}]
[{"$f":"IF(D917<>\"\",Data!A918,\"\")","v":""},{"$f":"IF(D917<>\"\",Data!B918,\"\")","v":""},"",{"$f":"IF(AND(Data!H918<>\"\",Data!H918 > 0),Data!H918,\"\")","v":""}]
[{"$f":"IF(D918<>\"\",Data!A919,\"\")","v":""},{"$f":"IF(D918<>\"\",Data!B919,\"\")","v":""},"",{"$f":"IF(AND(Data!H919<>\"\",Data!H919 > 0),Data!H919,\"\")","v":""}]
[{"$f":"IF(D919<>\"\",Data!A920,\"\")","v":""},{"$f":"IF(D919<>\"\",Data!B920,\"\")","v":""},"",{"$f":"IF(AND(Data!H920<>\"\",Data!H920 > 0),Data!H920,\"\")","v":""}]
[{"$f":"IF(D920<>\"\",Data!A921,\"\")","v":""},{"$f":"IF(D920<>\"\",Data!B921,\"\")","v":""},"",{"$f":"IF(AND(Data!H921<>\"\",Data!H921 > 0),Data!H921,\"\")","v":""}]
[{"$f":"IF(D921<>\"\",Data!A922,\"\")","v":""},{"$f":"IF(D921<>\"\",Data!B922,\"\")","v":""},"",{"$f":"IF(AND(Data!H922<>\"\",Data!H922 > 0),Data!H922,\"\")","v":""}]
[{"$f":"IF(D922<>\"\",Data!A923,\"\")","v":""},{"$f":"IF(D922<>\"\",Data!B923,\"\")","v":""},"",{"$f":"IF(AND(Data!H923<>\"\",Data!H923 > 0),Data!H923,\"\")","v":""}]
[{"$f":"IF(D923<>\"\",Data!A924,\"\")","v":""},{"$f":"IF(D923<>\"\",Data!B924,\"\")","v":""},"",{"$f":"IF(AND(Data!H924<>\"\",Data!H924 > 0),Data!H924,\"\")","v":""}]
[{"$f":"IF(D924<>\"\",Data!A925,\"\")","v":""},{"$f":"IF(D924<>\"\",Data!B925,\"\")","v":""},"",{"$f":"IF(AND(Data!H925<>\"\",Data!H925 > 0),Data!H925,\"\")","v":""}]
[{"$f":"IF(D925<>\"\",Data!A926,\"\")","v":""},{"$f":"IF(D925<>\"\",Data!B926,\"\")","v":""},"",{"$f":"IF(AND(Data!H926<>\"\",Data!H926 > 0),Data!H926,\"\")","v":""}]
[{"$f":"IF(D926<>\"\",Data!A927,\"\")","v":""},{"$f":"IF(D926<>\"\",Data!B927,\"\")","v":""},"",{"$f":"IF(AND(Data!H927<>\"\",Data!H927 > 0),Data!H927,\"\")","v":""}]
[{"$f":"IF(D927<>\"\",Data!A928,\"\")","v":""},{"$f":"IF(D927<>\"\",Data!B928,\"\")","v":""},"",{"$f":"IF(AND(Data!H928<>\"\",Data!H928 > 0),Data!H928,\"\")","v":""}]
[{"$f":"IF(D928<>\"\",Data!A929,\"\")","v":""},{"$f":"IF(D928<>\"\",Data!B929,\"\")","v":""},"",{"$f":"IF(AND(Data!H929<>\"\",Data!H929 > 0),Data!H929,\"\")","v":""}]
[{"$f":"IF(D929<>\"\",Data!A930,\"\")","v":""},{"$f":"IF(D929<>\"\",Data!B930,\"\")","v":""},"",{"$f":"IF(AND(Data!H930<>\"\",Data!H930 > 0),Data!H930,\"\")","v":""}]
[{"$f":"IF(D930<>\"\",Data!A931,\"\")","v":""},{"$f":"IF(D930<>\"\",Data!B931,\"\")","v":""},"",{"$f":"IF(AND(Data!H931<>\"\",Data!H931 > 0),Data!H931,\"\")","v":""}]
[{"$f":"IF(D931<>\"\",Data!A932,\"\")","v":""},{"$f":"IF(D931<>\"\",Data!B932,\"\")","v":""},"",{"$f":"IF(AND(Data!H932<>\"\",Data!H932 > 0),Data!H932,\"\")","v":""}]
[{"$f":"IF(D932<>\"\",Data!A933,\"\")","v":""},{"$f":"IF(D932<>\"\",Data!B933,\"\")","v":""},"",{"$f":"IF(AND(Data!H933<>\"\",Data!H933 > 0),Data!H933,\"\")","v":""}]
[{"$f":"IF(D933<>\"\",Data!A934,\"\")","v":""},{"$f":"IF(D933<>\"\",Data!B934,\"\")","v":""},"",{"$f":"IF(AND(Data!H934<>\"\",Data!H934 > 0),Data!H934,\"\")","v":""}]
[{"$f":"IF(D934<>\"\",Data!A935,\"\")","v":""},{"$f":"IF(D934<>\"\",Data!B935,\"\")","v":""},"",{"$f":"IF(AND(Data!H935<>\"\",Data!H935 > 0),Data!H935,\"\")","v":""}]
[{"$f":"IF(D935<>\"\",Data!A936,\"\")","v":""},{"$f":"IF(D935<>\"\",Data!B936,\"\")","v":""},"",{"$f":"IF(AND(Data!H936<>\"\",Data!H936 > 0),Data!H936,\"\")","v":""}]
[{"$f":"IF(D936<>\"\",Data!A937,\"\")","v":""},{"$f":"IF(D936<>\"\",Data!B937,\"\")","v":""},"",{"$f":"IF(AND(Data!H937<>\"\",Data!H937 > 0),Data!H937,\"\")","v":""}]
[{"$f":"IF(D937<>\"\",Data!A938,\"\")","v":""},{"$f":"IF(D937<>\"\",Data!B938,\"\")","v":""},"",{"$f":"IF(AND(Data!H938<>\"\",Data!H938 > 0),Data!H938,\"\")","v":""}]
[{"$f":"IF(D938<>\"\",Data!A939,\"\")","v":""},{"$f":"IF(D938<>\"\",Data!B939,\"\")","v":""},"",{"$f":"IF(AND(Data!H939<>\"\",Data!H939 > 0),Data!H939,\"\")","v":""}]
[{"$f":"IF(D939<>\"\",Data!A940,\"\")","v":""},{"$f":"IF(D939<>\"\",Data!B940,\"\")","v":""},"",{"$f":"IF(AND(Data!H940<>\"\",Data!H940 > 0),Data!H940,\"\")","v":""}]
[{"$f":"IF(D940<>\"\",Data!A941,\"\")","v":""},{"$f":"IF(D940<>\"\",Data!B941,\"\")","v":""},"",{"$f":"IF(AND(Data!H941<>\"\",Data!H941 > 0),Data!H941,\"\")","v":""}]
[{"$f":"IF(D941<>\"\",Data!A942,\"\")","v":""},{"$f":"IF(D941<>\"\",Data!B942,\"\")","v":""},"",{"$f":"IF(AND(Data!H942<>\"\",Data!H942 > 0),Data!H942,\"\")","v":""}]
[{"$f":"IF(D942<>\"\",Data!A943,\"\")","v":""},{"$f":"IF(D942<>\"\",Data!B943,\"\")","v":""},"",{"$f":"IF(AND(Data!H943<>\"\",Data!H943 > 0),Data!H943,\"\")","v":""}]
[{"$f":"IF(D943<>\"\",Data!A944,\"\")","v":""},{"$f":"IF(D943<>\"\",Data!B944,\"\")","v":""},"",{"$f":"IF(AND(Data!H944<>\"\",Data!H944 > 0),Data!H944,\"\")","v":""}]
[{"$f":"IF(D944<>\"\",Data!A945,\"\")","v":""},{"$f":"IF(D944<>\"\",Data!B945,\"\")","v":""},"",{"$f":"IF(AND(Data!H945<>\"\",Data!H945 > 0),Data!H945,\"\")","v":""}]
[{"$f":"IF(D945<>\"\",Data!A946,\"\")","v":""},{"$f":"IF(D945<>\"\",Data!B946,\"\")","v":""},"",{"$f":"IF(AND(Data!H946<>\"\",Data!H946 > 0),Data!H946,\"\")","v":""}]
[{"$f":"IF(D946<>\"\",Data!A947,\"\")","v":""},{"$f":"IF(D946<>\"\",Data!B947,\"\")","v":""},"",{"$f":"IF(AND(Data!H947<>\"\",Data!H947 > 0),Data!H947,\"\")","v":""}]
[{"$f":"IF(D947<>\"\",Data!A948,\"\")","v":""},{"$f":"IF(D947<>\"\",Data!B948,\"\")","v":""},"",{"$f":"IF(AND(Data!H948<>\"\",Data!H948 > 0),Data!H948,\"\")","v":""}]
[{"$f":"IF(D948<>\"\",Data!A949,\"\")","v":""},{"$f":"IF(D948<>\"\",Data!B949,\"\")","v":""},"",{"$f":"IF(AND(Data!H949<>\"\",Data!H949 > 0),Data!H949,\"\")","v":""}]
[{"$f":"IF(D949<>\"\",Data!A950,\"\")","v":""},{"$f":"IF(D949<>\"\",Data!B950,\"\")","v":""},"",{"$f":"IF(AND(Data!H950<>\"\",Data!H950 > 0),Data!H950,\"\")","v":""}]
[{"$f":"IF(D950<>\"\",Data!A951,\"\")","v":""},{"$f":"IF(D950<>\"\",Data!B951,\"\")","v":""},"",{"$f":"IF(AND(Data!H951<>\"\",Data!H951 > 0),Data!H951,\"\")","v":""}]
[{"$f":"IF(D951<>\"\",Data!A952,\"\")","v":""},{"$f":"IF(D951<>\"\",Data!B952,\"\")","v":""},"",{"$f":"IF(AND(Data!H952<>\"\",Data!H952 > 0),Data!H952,\"\")","v":""}]
[{"$f":"IF(D952<>\"\",Data!A953,\"\")","v":""},{"$f":"IF(D952<>\"\",Data!B953,\"\")","v":""},"",{"$f":"IF(AND(Data!H953<>\"\",Data!H953 > 0),Data!H953,\"\")","v":""}]
[{"$f":"IF(D953<>\"\",Data!A954,\"\")","v":""},{"$f":"IF(D953<>\"\",Data!B954,\"\")","v":""},"",{"$f":"IF(AND(Data!H954<>\"\",Data!H954 > 0),Data!H954,\"\")","v":""}]
[{"$f":"IF(D954<>\"\",Data!A955,\"\")","v":""},{"$f":"IF(D954<>\"\",Data!B955,\"\")","v":""},"",{"$f":"IF(AND(Data!H955<>\"\",Data!H955 > 0),Data!H955,\"\")","v":""}]
[{"$f":"IF(D955<>\"\",Data!A956,\"\")","v":""},{"$f":"IF(D955<>\"\",Data!B956,\"\")","v":""},"",{"$f":"IF(AND(Data!H956<>\"\",Data!H956 > 0),Data!H956,\"\")","v":""}]
[{"$f":"IF(D956<>\"\",Data!A957,\"\")","v":""},{"$f":"IF(D956<>\"\",Data!B957,\"\")","v":""},"",{"$f":"IF(AND(Data!H957<>\"\",Data!H957 > 0),Data!H957,\"\")","v":""}]
[{"$f":"IF(D957<>\"\",Data!A958,\"\")","v":""},{"$f":"IF(D957<>\"\",Data!B958,\"\")","v":""},"",{"$f":"IF(AND(Data!H958<>\"\",Data!H958 > 0),Data!H958,\"\")","v":""}]
[{"$f":"IF(D958<>\"\",Data!A959,\"\")","v":""},{"$f":"IF(D958<>\"\",Data!B959,\"\")","v":""},"",{"$f":"IF(AND(Data!H959<>\"\",Data!H959 > 0),Data!H959,\"\")","v":""}]
[{"$f":"IF(D959<>\"\",Data!A960,\"\")","v":""},{"$f":"IF(D959<>\"\",Data!B960,\"\")","v":""},"",{"$f":"IF(AND(Data!H960<>\"\",Data!H960 > 0),Data!H960,\"\")","v":""}]
[{"$f":"IF(D960<>\"\",Data!A961,\"\")","v":""},{"$f":"IF(D960<>\"\",Data!B961,\"\")","v":""},"",{"$f":"IF(AND(Data!H961<>\"\",Data!H961 > 0),Data!H961,\"\")","v":""}]
[{"$f":"IF(D961<>\"\",Data!A962,\"\")","v":""},{"$f":"IF(D961<>\"\",Data!B962,\"\")","v":""},"",{"$f":"IF(AND(Data!H962<>\"\",Data!H962 > 0),Data!H962,\"\")","v":""}]
[{"$f":"IF(D962<>\"\",Data!A963,\"\")","v":""},{"$f":"IF(D962<>\"\",Data!B963,\"\")","v":""},{"$f":"IF(D962<>\"\",MID(CELL(\"filename\",B962),FIND(\"]\",CELL(\"filename\",B962))+1,32),\"\")","v":""},{"$f":"IF(AND(Data!H963<>\"\",Data!H963 > 0),Data!H963,\"\")","v":""}]
[{"$f":"IF(D963<>\"\",Data!A964,\"\")","v":""},{"$f":"IF(D963<>\"\",Data!B964,\"\")","v":""},"",{"$f":"IF(AND(Data!H964<>\"\",Data!H964 > 0),Data!H964,\"\")","v":""}]
[{"$f":"IF(D964<>\"\",Data!A965,\"\")","v":""},{"$f":"IF(D964<>\"\",Data!B965,\"\")","v":""},"",{"$f":"IF(AND(Data!H965<>\"\",Data!H965 > 0),Data!H965,\"\")","v":""}]
[{"$f":"IF(D965<>\"\",Data!A966,\"\")","v":""},{"$f":"IF(D965<>\"\",Data!B966,\"\")","v":""},"",{"$f":"IF(AND(Data!H966<>\"\",Data!H966 > 0),Data!H966,\"\")","v":""}]
[{"$f":"IF(D966<>\"\",Data!A967,\"\")","v":""},{"$f":"IF(D966<>\"\",Data!B967,\"\")","v":""},"",{"$f":"IF(AND(Data!H967<>\"\",Data!H967 > 0),Data!H967,\"\")","v":""}]
[{"$f":"IF(D967<>\"\",Data!A968,\"\")","v":""},{"$f":"IF(D967<>\"\",Data!B968,\"\")","v":""},"",{"$f":"IF(AND(Data!H968<>\"\",Data!H968 > 0),Data!H968,\"\")","v":""}]
[{"$f":"IF(D968<>\"\",Data!A969,\"\")","v":""},{"$f":"IF(D968<>\"\",Data!B969,\"\")","v":""},"",{"$f":"IF(AND(Data!H969<>\"\",Data!H969 > 0),Data!H969,\"\")","v":""}]
[{"$f":"IF(D969<>\"\",Data!A970,\"\")","v":""},{"$f":"IF(D969<>\"\",Data!B970,\"\")","v":""},"",{"$f":"IF(AND(Data!H970<>\"\",Data!H970 > 0),Data!H970,\"\")","v":""}]
[{"$f":"IF(D970<>\"\",Data!A971,\"\")","v":""},{"$f":"IF(D970<>\"\",Data!B971,\"\")","v":""},"",{"$f":"IF(AND(Data!H971<>\"\",Data!H971 > 0),Data!H971,\"\")","v":""}]
[{"$f":"IF(D971<>\"\",Data!A972,\"\")","v":""},{"$f":"IF(D971<>\"\",Data!B972,\"\")","v":""},"",{"$f":"IF(AND(Data!H972<>\"\",Data!H972 > 0),Data!H972,\"\")","v":""}]
[{"$f":"IF(D972<>\"\",Data!A973,\"\")","v":""},{"$f":"IF(D972<>\"\",Data!B973,\"\")","v":""},"",{"$f":"IF(AND(Data!H973<>\"\",Data!H973 > 0),Data!H973,\"\")","v":""}]
[{"$f":"IF(D973<>\"\",Data!A974,\"\")","v":""},{"$f":"IF(D973<>\"\",Data!B974,\"\")","v":""},"",{"$f":"IF(AND(Data!H974<>\"\",Data!H974 > 0),Data!H974,\"\")","v":""}]
[{"$f":"IF(D974<>\"\",Data!A975,\"\")","v":""},{"$f":"IF(D974<>\"\",Data!B975,\"\")","v":""},"",{"$f":"IF(AND(Data!H975<>\"\",Data!H975 > 0),Data!H975,\"\")","v":""}]
[{"$f":"IF(D975<>\"\",Data!A976,\"\")","v":""},{"$f":"IF(D975<>\"\",Data!B976,\"\")","v":""},"",{"$f":"IF(AND(Data!H976<>\"\",Data!H976 > 0),Data!H976,\"\")","v":""}]
[{"$f":"IF(D976<>\"\",Data!A977,\"\")","v":""},{"$f":"IF(D976<>\"\",Data!B977,\"\")","v":""},"",{"$f":"IF(AND(Data!H977<>\"\",Data!H977 > 0),Data!H977,\"\")","v":""}]
[{"$f":"IF(D977<>\"\",Data!A978,\"\")","v":""},{"$f":"IF(D977<>\"\",Data!B978,\"\")","v":""},"",{"$f":"IF(AND(Data!H978<>\"\",Data!H978 > 0),Data!H978,\"\")","v":""}]
[{"$f":"IF(D978<>\"\",Data!A979,\"\")","v":""},{"$f":"IF(D978<>\"\",Data!B979,\"\")","v":""},"",{"$f":"IF(AND(Data!H979<>\"\",Data!H979 > 0),Data!H979,\"\")","v":""}]
[{"$f":"IF(D979<>\"\",Data!A980,\"\")","v":""},{"$f":"IF(D979<>\"\",Data!B980,\"\")","v":""},"",{"$f":"IF(AND(Data!H980<>\"\",Data!H980 > 0),Data!H980,\"\")","v":""}]
[{"$f":"IF(D980<>\"\",Data!A981,\"\")","v":""},{"$f":"IF(D980<>\"\",Data!B981,\"\")","v":""},"",{"$f":"IF(AND(Data!H981<>\"\",Data!H981 > 0),Data!H981,\"\")","v":""}]
[{"$f":"IF(D981<>\"\",Data!A982,\"\")","v":""},{"$f":"IF(D981<>\"\",Data!B982,\"\")","v":""},"",{"$f":"IF(AND(Data!H982<>\"\",Data!H982 > 0),Data!H982,\"\")","v":""}]
[{"$f":"IF(D982<>\"\",Data!A983,\"\")","v":""},{"$f":"IF(D982<>\"\",Data!B983,\"\")","v":""},"",{"$f":"IF(AND(Data!H983<>\"\",Data!H983 > 0),Data!H983,\"\")","v":""}]
[{"$f":"IF(D983<>\"\",Data!A984,\"\")","v":""},{"$f":"IF(D983<>\"\",Data!B984,\"\")","v":""},"",{"$f":"IF(AND(Data!H984<>\"\",Data!H984 > 0),Data!H984,\"\")","v":""}]
[{"$f":"IF(D984<>\"\",Data!A985,\"\")","v":""},{"$f":"IF(D984<>\"\",Data!B985,\"\")","v":""},"",{"$f":"IF(AND(Data!H985<>\"\",Data!H985 > 0),Data!H985,\"\")","v":""}]
[{"$f":"IF(D985<>\"\",Data!A986,\"\")","v":""},{"$f":"IF(D985<>\"\",Data!B986,\"\")","v":""},"",{"$f":"IF(AND(Data!H986<>\"\",Data!H986 > 0),Data!H986,\"\")","v":""}]
[{"$f":"IF(D986<>\"\",Data!A987,\"\")","v":""},{"$f":"IF(D986<>\"\",Data!B987,\"\")","v":""},"",{"$f":"IF(AND(Data!H987<>\"\",Data!H987 > 0),Data!H987,\"\")","v":""}]
[{"$f":"IF(D987<>\"\",Data!A988,\"\")","v":""},{"$f":"IF(D987<>\"\",Data!B988,\"\")","v":""},"",{"$f":"IF(AND(Data!H988<>\"\",Data!H988 > 0),Data!H988,\"\")","v":""}]
[{"$f":"IF(D988<>\"\",Data!A989,\"\")","v":""},{"$f":"IF(D988<>\"\",Data!B989,\"\")","v":""},"",{"$f":"IF(AND(Data!H989<>\"\",Data!H989 > 0),Data!H989,\"\")","v":""}]
[{"$f":"IF(D989<>\"\",Data!A990,\"\")","v":""},{"$f":"IF(D989<>\"\",Data!B990,\"\")","v":""},"",{"$f":"IF(AND(Data!H990<>\"\",Data!H990 > 0),Data!H990,\"\")","v":""}]
[{"$f":"IF(D990<>\"\",Data!A991,\"\")","v":""},{"$f":"IF(D990<>\"\",Data!B991,\"\")","v":""},"",{"$f":"IF(AND(Data!H991<>\"\",Data!H991 > 0),Data!H991,\"\")","v":""}]
[{"$f":"IF(D991<>\"\",Data!A992,\"\")","v":""},{"$f":"IF(D991<>\"\",Data!B992,\"\")","v":""},"",{"$f":"IF(AND(Data!H992<>\"\",Data!H992 > 0),Data!H992,\"\")","v":""}]
[{"$f":"IF(D992<>\"\",Data!A993,\"\")","v":""},{"$f":"IF(D992<>\"\",Data!B993,\"\")","v":""},"",{"$f":"IF(AND(Data!H993<>\"\",Data!H993 > 0),Data!H993,\"\")","v":""}]
[{"$f":"IF(D993<>\"\",Data!A994,\"\")","v":""},{"$f":"IF(D993<>\"\",Data!B994,\"\")","v":""},"",{"$f":"IF(AND(Data!H994<>\"\",Data!H994 > 0),Data!H994,\"\")","v":""}]
[{"$f":"IF(D994<>\"\",Data!A995,\"\")","v":""},{"$f":"IF(D994<>\"\",Data!B995,\"\")","v":""},"",{"$f":"IF(AND(Data!H995<>\"\",Data!H995 > 0),Data!H995,\"\")","v":""}]
[{"$f":"IF(D995<>\"\",Data!A996,\"\")","v":""},{"$f":"IF(D995<>\"\",Data!B996,\"\")","v":""},"",{"$f":"IF(AND(Data!H996<>\"\",Data!H996 > 0),Data!H996,\"\")","v":""}]
[{"$f":"IF(D996<>\"\",Data!A997,\"\")","v":""},{"$f":"IF(D996<>\"\",Data!B997,\"\")","v":""},"",{"$f":"IF(AND(Data!H997<>\"\",Data!H997 > 0),Data!H997,\"\")","v":""}]
[{"$f":"IF(D997<>\"\",Data!A998,\"\")","v":""},{"$f":"IF(D997<>\"\",Data!B998,\"\")","v":""},"",{"$f":"IF(AND(Data!H998<>\"\",Data!H998 > 0),Data!H998,\"\")","v":""}]
[{"$f":"IF(D998<>\"\",Data!A999,\"\")","v":""},{"$f":"IF(D998<>\"\",Data!B999,\"\")","v":""},"",{"$f":"IF(AND(Data!H999<>\"\",Data!H999 > 0),Data!H999,\"\")","v":""}]
[{"$f":"IF(D999<>\"\",Data!A1000,\"\")","v":""},{"$f":"IF(D999<>\"\",Data!B1000,\"\")","v":""},"",{"$f":"IF(AND(Data!H1000<>\"\",Data!H1000 > 0),Data!H1000,\"\")","v":""}]
[{"$f":"IF(D1000<>\"\",Data!A1001,\"\")","v":""},{"$f":"IF(D1000<>\"\",Data!B1001,\"\")","v":""},"",{"$f":"IF(AND(Data!H1001<>\"\",Data!H1001 > 0),Data!H1001,\"\")","v":""}]